{"text_format":"1","workbook":"xlsx","n_sheets":28,"sheets":["NOMBRE","A01","A02","A03","A04","A05","A06","A07","A08","A09","A11","A11a","A19a","A19b","A21","A23","A24","A25","A26","A27","A28","A29","A30","A30AR","A31","A32","Contro","MACROS"],"not_rendered":{"charts":0,"images":0,"macros":1,"external_links":12,"defined_names":4,"comments":0,"pivot_tables":0},"unopened":[],"bounds":{"document_bytes":16777216,"sheet_cells":100000,"rows_first":2000,"rows_last":500,"rows_between":2000,"halvings":0,"cell_chars":16384,"cell_head_chars":4096},"cells_cut":0,"cells_raw":0,"read":"whole","date_system":"1900"}

{"sheet":"NOMBRE","index":0,"n_rows":41,"n_cols":33,"rows_kept":41,"cut":false,"hidden":false,"merged":[[0,2,0,7],[16,1,18,1],[0,0,0,1],[8,0,8,1],[14,0,14,1],[8,6,13,9],[16,6,16,9]]}
["DATOS DEL ESTABLECIMIENTO",null,"CÓDIGOS"]
["NOMBRE DE COMUNA","QUILPUE ",0,5,1,0,6,null,{"$f":"IF(OR(NOMBRE!C2=\"\",NOMBRE!D2=\"\",NOMBRE!E2=\"\",NOMBRE!F2=\"\",NOMBRE!G2=\"\"),\"Falta Cód. Com.\",\"\")","v":""},null,null,null,null,null,null,null,null,null,null,null,null,null,null,null,null,null,null,null,null,null,null,null,{"$f":"IF(I2>\"\",1,0)","v":0}]
["NOMBRE ESTABLECIMIENTO/ESTRATEGIA","CESFAM AVIADOR ACEVEDO",2,0,1,0,8,5,{"$f":"IF(OR(NOMBRE!C3=\"\",NOMBRE!D3=\"\",NOMBRE!E3=\"\",NOMBRE!F3=\"\",NOMBRE!G3=\"\",NOMBRE!H3=\"\"),\"Falta Cód. Est.\",\"\")","v":""},null,null,null,null,null,null,null,null,null,null,null,null,null,null,null,null,null,null,null,null,null,null,null,{"$f":"IF(I3>\"\",1,0)","v":0}]
["TIPO DE ESTABLECIMIENTO/ESTRATEGIA","Consultorio General Rural (CGR) con SAPU/SAR/SUR",null,null,null,null,null,null,{"$f":"IF(OR(NOMBRE!B4=\"\"),\"Falta Tipo. Est.\",\"\")","v":""},null,null,null,null,null,null,null,null,null,null,null,null,null,null,null,null,null,null,null,null,null,null,null,{"$f":"IF(I4>\"\",1,0)","v":0}]
["DEPENDENCIA","MUNICIPAL",null,null,null,null,null,null,{"$f":"IF(OR(NOMBRE!B5=\"\"),\"Falta Dependencia. Est.\",\"\")","v":""},null,null,null,null,null,null,null,null,null,null,null,null,null,null,null,null,null,null,null,null,null,null,null,{"$f":"IF(I5>\"\",1,0)","v":0}]
["MES:","ENERO",0,1,null,null,null,null,{"$f":"IF(OR(NOMBRE!C6=\"\",NOMBRE!D6=\"\"),\"Falta Cód. Mes.\",\"\")","v":""},null,null,null,null,null,null,null,null,null,null,null,null,null,null,null,null,null,null,null,null,null,null,null,{"$f":"IF(I6>\"\",1,0)","v":0}]
["AÑO:",2022,null,null,null,null,null,null,null,null,null,null,null,null,null,null,null,null,null,null,null,null,null,null,null,null,null,null,null,null,null,null,{"$f":"SUM(AG2:AG6)","v":0}]
[]
["Versión 1.1: Febrero 2022 ",null,null,null,null,null,"Para habilitar el contenido de las celdas \"Tipo de Establecimiento\", \"Dependencia\" y \"Mes\", presione el boton \"Verificar Habilitacion de Macros\".                                   Para poder tener un 100% de funcionalidad debe hablitar la opcion Macros en esta planilla."]
[]
["Director Servicio de Salud o Director Establecimiento","LEYLA OLGUIN SEPULVEDA",null,null,null,null,null,null,null,null,null,null,null,null,null,null,null,null,null,null,null,null,null,null,null,null,"ENERO","Establecimiento de Mayor Complejidad (EMAYC)","SERVICIO DE SALUD"]
["Jefe de Estadísticas","PAOLA ARANCIBIA ",null,null,null,null,null,null,null,null,null,null,null,null,null,null,null,null,null,null,null,null,null,null,null,null,"FEBRERO","Establecimiento de Mediana Complejidad (EMEDC)","MUNICIPAL"]
[null,null,null,null,null,null,null,null,null,null,null," ",null,null,null,null,null,null,null,null,null,null,null,null,null,null,"MARZO","Establecimiento de Menor Complejidad (EMENC)","OTRA INSTITUCION (Delegado)"]
[null,null,null,null,null,null,null,null,null,null,null,null,null,null,null,null,null,null,null,null,null,null,null,null,null,null,"ABRIL","Centros de Diagnóstico Terapeutico (CDT)"]
["MINSAL - DEIS",null,null,null,null,null,null,null,null,null,null,null,null,null,null,null,null,null,null,null,null,null,null,null,null,null,"MAYO","Centro de Referencia de Salud (CRS)"]
[null,null,null,null,null,null,null,null,null,null,null,null,null,null,null,null,null,null,null,null,null,null,null,null,null,null,"JUNIO","Consultorio General Urbano (CGU)"]
[null,"SERIE A",null,null,null,null,"ESTADO MACROS:",null,null,null,null,null,null,null,null,null,null,null,null,null,null,null,null,null,null,null,"JULIO","Consultorio General Urbano (CGU) - CESFAM"]
[null,null,null,null,null,null,null,null,"HABILITADO",null,null,null,null,null,null,null,null,null,null,null,null,null,null,null,null,null,"AGOSTO","Consultorio General Urbano(CGU) con SAPU/SUR/SAR"]
[null,null,null,null,null,null,null,null,null,null,null,null,null,null,null,null,null,null,null,null,null,null,null,null,null,null,"SEPTIEMBRE","Consultorio General Urbano (CGU) - CESFAM con SAPU/SAR"]
[null,null,null,null,null,null,null,null,null,null,null,null,null,null,null,null,null,null,null,null,null,null,null,null,null,null,"OCTUBRE","Consultorio General Rural (CGR)"]
[null,null,null,null,null,null,null,null,null,null,null,null,null,null,null,null,null,null,null,null,null,null,null,null,null,null,"NOVIEMBRE","Consultorio General Rural (CGR) - CESFAM"]
[null,null,null,null,null,null,null,null,null,null,null,null,null,null,null,null,null,null,null,null,null,null,null,null,null,null,"DICIEMBRE","Consultorio General Rural (CGR) con SAPU/SAR/SUR"]
[null,null,null,null,null,null,null,null,null,null,null,null,null,null,null,null,null,null,null,null,null,null,null,null,null,null,null,"Consultorio General Rural (CGR) - CESFAM con SAPU/SAR/SUR"]
[null,null,null,null,null,null,null,null,null,null,null,null,null,null,null,null,null,null,null,null,null,null,null,null,null,null,null,"Posta de Salud Rural (PSR)"]
[null,null,null,null,null,null,null,null,null,null,null,null,null,null,null,null,null,null,null,null,null,null,null,null,null,null,null,"Centro Comunitario de Salud Familiar (CECOF)"]
[null,null,null,null,null,null,null,null,null,null,null,null,null,null,null,null,null,null,null,null,null,null,null,null,null,null,null,"Consultorio de Salud Mental (COSAM)"]
[null,null,null,null,null,null,null,null,null,null,null,null,null,null,null,null,null,null,null,null,null,null,null,null,null,null,null,"Programa de Reparación y Atención Integral de Salud (PRAIS)"]
[null,null,null,null,null,null,null,null,null,null,null,null,null,null,null,null,null,null,null,null,null,null,null,null,null,null,null,"Centro de Atención Funcionarios (CAF)"]
[null,null,null,null,null,null,null,null,null,null,null,null,null,null,null,null,null,null,null,null,null,null,null,null,null,null,null,"Unidad de Salud de Funcionarios (USF)"]
[null,null,null,null,null,null,null,null,null,null,null,null,null,null,null,null,null,null,null,null,null,null,null,null,null,null,null,"ClÍnica Dental Móvil (CDM)"]
[null,null,null,null,null,null,null,null,null,null,null,null,null,null,null,null,null,null,null,null,null,null,null,null,null,null,null,"Dirección Servicio de Salud (DSS)"]
[null,null,null,null,null,null,null,null,null,null,null,null,null,null,null,null,null,null,null,null,null,null,null,null,null,null,null,"Servicio de Atención Primaria de Urgencia (SAPU)"]
[null,null,null,null,null,null,null,null,null,null,null,null,null,null,null,null,null,null,null,null,null,null,null,null,null,null,null,"SAPU Alta Resolución (SAR)"]
[null,null,null,null,null,null,null,null,null,null,null,null,null,null,null,null,null,null,null,null,null,null,null,null,null,null,null,"Servicio de Urgencia Rural (SUR)"]
[null,null,null,null,null,null,null,null,null,null,null,null,null,null,null,null,null,null,null,null,null,null,null,null,null,null,null,"Servicio de Alta Resolución SAR"]
[null,null,null,null,null,null,null,null,null,null,null,null,null,null,null,null,null,null,null,null,null,null,null,null,null,null,null,"Laboratorio Clínico o Dental"]
[null,null,null,null,null,null,null,null,null,null,null,null,null,null,null,null,null,null,null,null,null,null,null,null,null,null,null,"Servicio de Atención Primaria de Urgencia Dental (SAPUDENT)"]
[null,null,null,null,null,null,null,null,null,null,null,null,null,null,null,null,null,null,null,null,null,null,null,null,null,null,null,"Centro de Rehabilitación (CR)"]
[null,null,null,null,null,null,null,null,null,null,null,null,null,null,null,null,null,null,null,null,null,null,null,null,null,null,null,"Hospital de Campaña"]
[null,null,null,null,null,null,null,null,null,null,null,null,null,null,null,null,null,null,null,null,null,null,null,null,null,null,null,"Centro Oncologico"]
[null,null,null,null,null,null,null,null,null,null,null,null,null,null,null,null,null,null,null,null,null,null,null,null,null,null,null,"SAMU"]

{"sheet":"A01","index":1,"n_rows":1,"n_cols":88,"rows_kept":1,"cut":false,"hidden":true,"merged":[[91,28,91,29],[91,30,91,31],[91,18,91,19],[91,20,91,21],[91,22,91,23],[91,24,91,25],[91,26,91,27],[91,8,91,9],[91,10,91,11],[91,12,91,13],[91,14,91,15],[91,16,91,17],[34,35,34,36],[34,5,34,33],[34,34,35,34],[90,0,92,0],[90,1,91,3],[90,4,90,31],[90,32,92,32],[83,0,87,0],[76,0,77,0],[76,1,77,1],[76,2,77,2],[72,0,72,1],[90,33,92,33],[90,34,92,34],[91,4,91,5],[91,6,91,7],[9,25,9,27],[11,0,12,0],[13,0,14,0],[15,0,16,0],[9,2,10,2],[9,23,10,23],[9,24,10,24],[9,20,9,21],[9,0,10,0],[9,1,10,1],[9,22,10,22],[73,0,73,1],[78,0,82,0],[74,0,74,1],[41,0,43,0],[41,1,43,1],[48,0,49,0],[44,0,47,0],[50,0,51,0],[52,0,53,0],[70,0,70,1],[68,0,69,1],[71,0,71,1],[57,0,61,0],[62,0,66,0],[54,0,56,0],[76,3,77,3],[76,4,76,5],[41,39,43,39],[34,37,35,37],[42,37,42,38],[42,33,42,34],[42,35,42,36],[68,2,68,4],[68,5,68,7],[42,11,42,12],[42,7,42,8],[42,9,42,10],[41,2,42,4],[41,5,41,38],[42,21,42,22],[42,23,42,24],[34,1,35,1],[19,0,20,0],[42,31,42,32],[42,25,42,26],[42,27,42,28],[42,17,42,18],[42,19,42,20],[42,29,42,30],[5,0,5,15],[6,0,6,11],[36,0,39,0],[42,13,42,14],[42,15,42,16],[9,3,9,19],[42,5,42,6],[17,0,18,0],[23,0,24,0],[25,0,26,0],[21,0,22,0],[27,0,28,0],[31,0,32,0],[34,0,35,0],[29,0,30,0],[34,2,34,4]]}
[null,null,null,null,null,null,null,null,null,null,null,null,null,null,null,null,null,null,null,null,null,null,null,null,null,null,null,null,null,null,null,null,null,null,null,null,null,null,null,null,null,null,null,null,null,null,null,null,null,null,null,null,null,null,null,null,null,null,null,null,null,null,null,null,null,null,null,null,null,null,null,null,null,null,null,null,null,null,null,null,null,null,null,null,null,0,0,0]

{"sheet":"A02","index":2,"n_rows":30,"n_cols":87,"rows_kept":30,"cut":false,"hidden":true,"merged":[[5,0,5,29],[8,0,9,0],[8,1,8,3],[18,0,19,0],[18,1,18,3],[18,4,18,5],[18,6,18,7],[18,8,18,9],[18,10,18,11],[18,12,18,13],[18,26,18,27],[18,28,18,29],[18,30,18,31],[26,0,27,0],[26,1,26,3],[26,4,26,5],[26,6,26,7],[26,8,26,9],[26,10,26,11],[26,12,26,13],[18,14,18,15],[18,16,18,17],[18,18,18,19],[18,20,18,21],[18,22,18,23],[18,24,18,25],[26,26,26,27],[26,28,26,29],[26,30,26,31],[31,0,32,0],[31,1,31,3],[31,4,31,5],[31,6,31,7],[31,8,31,9],[31,10,31,11],[31,12,31,13],[26,14,26,15],[26,16,26,17],[26,18,26,19],[26,20,26,21],[26,22,26,23],[26,24,26,25],[31,26,31,27],[31,28,31,29],[31,30,31,31],[31,14,31,15],[31,16,31,17],[31,18,31,19],[31,20,31,21],[31,22,31,23],[31,24,31,25]]}
[]
[]
[]
[]
[]
[]
[]
[]
[]
[]
[]
[]
[]
[]
[]
[]
[]
[]
[]
[]
[null,null,null,null,null,null,null,null,null,null,null,null,null,null,null,null,null,null,null,null,null,null,null,null,null,null,null,null,null,null,null,null,null,null,null,null,null,null,null,null,null,null,null,null,null,null,null,null,null,null,null,null,null,null,null,null,null,null,null,null,null,null,null,null,null,null,null,null,null,null,null,null,null,null,null,null,null,null,null,null,null,null,null,null,null,null,0]
[]
[]
[]
[]
[]
[]
[]
[null,null,null,null,null,null,null,null,null,null,null,null,null,null,null,null,null,null,null,null,null,null,null,null,null,null,null,null,null,null,null,null,null,null,null,null,null,null,null,null,null,null,null,null,null,null,null,null,null,null,null,null,null,null,null,null,null,null,null,null,null,null,null,null,null,null,null,null,null,null,null,null,null,null,null,null,null,null,null,null,null,null,null,null,0]
[null,null,null,null,null,null,null,null,null,null,null,null,null,null,null,null,null,null,null,null,null,null,null,null,null,null,null,null,null,null,null,null,null,null,null,null,null,null,null,null,null,null,null,null,null,null,null,null,null,null,null,null,null,null,null,null,null,null,null,null,null,null,null,null,null,null,null,null,null,null,null,null,null,null,null,null,null,null,null,null,null,null,null,null,0]

{"sheet":"A03","index":3,"n_rows":204,"n_cols":129,"rows_kept":204,"cut":false,"hidden":true,"merged":[[193,29,194,30],[194,19,194,20],[194,21,194,22],[194,23,194,24],[194,25,194,26],[194,27,194,28],[212,0,214,1],[212,2,212,4],[213,2,214,2],[213,3,213,4],[215,0,215,1],[216,0,216,1],[217,0,217,1],[218,0,218,1],[219,0,219,1],[209,0,209,1],[194,13,194,14],[194,15,194,16],[201,11,201,12],[210,0,210,1],[207,0,207,1],[203,0,203,1],[194,11,194,12],[166,0,168,0],[193,2,194,4],[194,5,194,6],[190,0,190,1],[200,0,202,1],[200,2,201,4],[201,5,201,6],[177,5,177,6],[189,0,189,1],[182,0,182,1],[166,5,166,14],[193,5,193,28],[177,7,177,8],[177,9,177,10],[201,7,201,8],[201,9,201,10],[187,9,187,10],[177,15,177,16],[187,11,187,12],[177,11,177,12],[177,13,177,14],[187,13,187,14],[187,15,187,16],[191,0,191,1],[183,0,183,1],[187,7,187,8],[186,0,188,1],[176,2,177,4],[196,0,197,0],[198,0,198,1],[179,0,179,1],[180,0,180,1],[176,5,176,16],[181,0,181,1],[94,0,94,1],[72,0,72,1],[157,33,157,34],[157,35,157,36],[157,37,157,38],[208,0,208,1],[193,0,195,1],[176,0,178,1],[205,0,206,1],[205,2,205,3],[172,0,174,0],[175,0,175,14],[156,0,158,1],[156,2,157,4],[157,5,157,6],[157,9,157,10],[156,5,156,38],[157,7,157,8],[157,13,157,14],[157,15,157,16],[167,11,167,12],[186,2,187,4],[186,5,186,16],[187,5,187,6],[5,0,5,24],[167,13,167,14],[169,0,171,0],[157,17,157,18],[157,19,157,20],[157,21,157,22],[157,23,157,24],[101,0,101,1],[102,0,102,1],[166,1,168,1],[166,2,167,4],[157,11,157,12],[159,0,161,0],[162,0,164,0],[167,5,167,6],[167,7,167,8],[167,9,167,10],[98,7,98,8],[93,0,93,1],[77,0,77,1],[79,0,79,1],[111,7,111,8],[103,0,103,1],[92,0,92,1],[157,29,157,30],[157,31,157,32],[111,21,111,22],[111,23,111,24],[106,0,108,0],[110,0,112,0],[110,1,112,1],[110,2,111,4],[110,5,110,26],[154,0,154,1],[157,25,157,26],[157,27,157,28],[149,0,153,0],[128,0,132,0],[133,0,137,0],[118,0,122,0],[123,0,127,0],[113,0,117,0],[111,9,111,10],[111,11,111,12],[138,0,142,0],[143,0,143,1],[144,0,148,0],[111,5,111,6],[111,25,111,26],[111,17,111,18],[111,19,111,20],[104,0,104,1],[105,0,105,1],[111,13,111,14],[111,15,111,16],[96,0,96,16],[97,0,99,1],[97,2,98,4],[98,5,98,6],[98,9,98,10],[98,11,98,12],[98,13,98,14],[98,15,98,16],[100,0,100,1],[98,17,98,18],[98,19,98,20],[97,5,97,20],[58,13,58,14],[73,0,73,1],[74,0,74,1],[75,0,75,1],[91,0,91,1],[90,0,90,1],[87,0,88,1],[89,0,89,1],[64,0,64,1],[78,0,78,1],[65,0,65,1],[60,0,60,1],[61,0,61,1],[66,0,66,1],[62,0,62,1],[63,0,63,1],[69,0,70,1],[9,7,9,8],[9,9,9,10],[9,11,9,12],[9,13,9,14],[9,15,9,16],[9,17,9,18],[42,13,42,14],[42,15,42,16],[16,5,16,6],[16,7,16,8],[16,9,16,10],[49,2,50,4],[49,5,49,8],[50,5,50,6],[50,7,50,8],[52,0,52,1],[53,0,53,1],[41,0,43,1],[84,0,85,0],[87,2,87,4],[87,5,87,6],[46,0,46,1],[47,0,47,1],[49,0,51,1],[87,7,87,8],[69,2,70,2],[71,0,71,1],[41,2,42,4],[41,5,41,16],[42,5,42,6],[42,7,42,8],[42,9,42,10],[42,11,42,12],[54,0,54,1],[55,0,55,1],[9,23,9,24],[11,0,11,1],[12,0,13,0],[8,0,10,1],[8,2,9,4],[8,5,8,24],[9,5,9,6],[44,0,44,1],[45,0,45,1],[18,0,18,1],[19,0,22,0],[23,0,34,0],[35,0,36,0],[37,0,39,0],[15,0,17,0],[15,1,17,1],[15,2,16,4],[15,5,15,16],[16,11,16,12],[16,13,16,14],[16,15,16,16],[9,19,9,20],[9,21,9,22],[15,17,17,17],[57,15,59,15],[57,16,59,16],[201,22,202,22],[200,19,200,22],[200,5,200,14],[200,15,201,16],[200,17,201,18],[194,7,194,8],[194,9,194,10],[201,13,201,14],[194,17,194,18],[201,19,202,19],[201,20,202,20],[201,21,202,21],[95,0,95,15],[81,0,81,1],[82,0,83,0],[57,0,59,1],[57,2,58,4],[57,5,57,14],[58,5,58,6],[58,7,58,8],[58,9,58,10],[58,11,58,12]]}
[]
[]
[]
[]
[]
[]
[]
[]
[]
[]
[]
[]
[null,null,null,null,null,null,null,null,null,null,null,null,null,null,null,null,null,null,null,null,null,null,null,null,null,null,null,null,null,null,null,null,null,null,null,null,null,null,null,null,null,null,null,null,null,null,null,null,null,null,null,null,null,null,null,null,null,null,null,null,null,null,null,null,null,null,null,null,null,null,null,null,null,null,null,null,null,null,null,null,null,null,null,null,null,null,null,null,null,null,null,null,null,null,null,null,null,null,null,null,null,null,null,null,null,null,null,null,null,0,0,0,0,0,0,0,0,0,0,0,0,0,0,0,0,0,0,0,0]
[]
[]
[]
[]
[]
[null,null,null,null,null,null,null,null,null,null,null,null,null,null,null,null,null,null,null,null,null,null,null,null,null,null,null,null,null,null,null,null,null,null,null,null,null,null,null,null,null,null,null,null,null,null,null,null,null,null,null,null,null,null,null,null,null,null,null,null,null,null,null,null,null,null,null,null,null,null,null,null,null,null,null,null,null,null,null,null,null,null,null,null,0,0,0,0,0,0,0,0]
[]
[]
[]
[]
[]
[]
[]
[]
[]
[]
[]
[]
[]
[]
[]
[]
[]
[]
[]
[]
[]
[]
[]
[]
[]
[]
[]
[]
[]
[]
[]
[]
[]
[]
[]
[]
[]
[]
[]
[]
[]
[null,null,null,null,null,null,null,null,null,null,null,null,null,null,null,null,null,null,null,null,null,null,null,null,null,null,null,null,null,null,null,null,null,null,null,null,null,null,null,null,null,null,null,null,null,null,null,null,null,null,null,null,null,null,null,null,null,null,null,null,null,null,null,null,null,null,null,null,null,null,null,null,null,null,null,null,null,null,null,null,null,null,null,null,0,0,0,0,0,0,0]
[]
[]
[]
[]
[]
[]
[]
[]
[]
[]
[]
[]
[]
[]
[]
[]
[]
[]
[]
[]
[]
[null,null,null,null,null,null,null,null,null,null,null,null,null,null,null,null,null,null,null,null,null,null,null,null,null,null,null,null,null,null,null,null,null,null,null,null,null,null,null,null,null,null,null,null,null,null,null,null,null,null,null,null,null,null,null,null,null,null,null,null,null,null,null,null,null,null,null,null,null,null,null,null,null,null,null,null,null,null,null,null,null,null,null,null,0]
[null,null,null,null,null,null,null,null,null,null,null,null,null,null,null,null,null,null,null,null,null,null,null,null,null,null,null,null,null,null,null,null,null,null,null,null,null,null,null,null,null,null,null,null,null,null,null,null,null,null,null,null,null,null,null,null,null,null,null,null,null,null,null,null,null,null,null,null,null,null,null,null,null,null,null,null,null,null,null,null,null,null,null,null,0]
[null,null,null,null,null,null,null,null,null,null,null,null,null,null,null,null,null,null,null,null,null,null,null,null,null,null,null,null,null,null,null,null,null,null,null,null,null,null,null,null,null,null,null,null,null,null,null,null,null,null,null,null,null,null,null,null,null,null,null,null,null,null,null,null,null,null,null,null,null,null,null,null,null,null,null,null,null,null,null,null,null,null,null,null,0]
[null,null,null,null,null,null,null,null,null,null,null,null,null,null,null,null,null,null,null,null,null,null,null,null,null,null,null,null,null,null,null,null,null,null,null,null,null,null,null,null,null,null,null,null,null,null,null,null,null,null,null,null,null,null,null,null,null,null,null,null,null,null,null,null,null,null,null,null,null,null,null,null,null,null,null,null,null,null,null,null,null,null,null,null,0]
[]
[]
[]
[]
[]
[]
[]
[]
[]
[]
[]
[]
[]
[]
[]
[]
[]
[]
[]
[]
[]
[]
[]
[]
[]
[]
[]
[]
[]
[]
[]
[]
[]
[]
[]
[]
[]
[]
[]
[]
[]
[]
[]
[]
[]
[]
[]
[]
[]
[]
[]
[]
[]
[]
[]
[]
[]
[]
[]
[]
[]
[]
[]
[]
[]
[]
[]
[]
[]
[]
[]
[]
[]
[]
[]
[]
[]
[]
[]
[]
[]
[]
[]
[null,null,null,null,null,null,null,null,null,null,null,null,null,null,null,null,null,null,null,null,null,null,null,null,null,null,null,null,null,null,null,null,null,null,null,null,null,null,null,null,null,null,null,null,null,null,null,null,null,null,null,null,null,null,null,null,null,null,null,null,null,null,null,null,null,null,null,null,null,null,null,null,null,null,null,null,null,null,null,null,null,null,null,null,0,0]
[null,null,null,null,null,null,null,null,null,null,null,null,null,null,null,null,null,null,null,null,null,null,null,null,null,null,null,null,null,null,null,null,null,null,null,null,null,null,null,null,null,null,null,null,null,null,null,null,null,null,null,null,null,null,null,null,null,null,null,null,null,null,null,null,null,null,null,null,null,null,null,null,null,null,null,null,null,null,null,null,null,null,null,null,0,0]
[null,null,null,null,null,null,null,null,null,null,null,null,null,null,null,null,null,null,null,null,null,null,null,null,null,null,null,null,null,null,null,null,null,null,null,null,null,null,null,null,null,null,null,null,null,null,null,null,null,null,null,null,null,null,null,null,null,null,null,null,null,null,null,null,null,null,null,null,null,null,null,null,null,null,null,null,null,null,null,null,null,null,null,null,0,0]
[null,null,null,null,null,null,null,null,null,null,null,null,null,null,null,null,null,null,null,null,null,null,null,null,null,null,null,null,null,null,null,null,null,null,null,null,null,null,null,null,null,null,null,null,null,null,null,null,null,null,null,null,null,null,null,null,null,null,null,null,null,null,null,null,null,null,null,null,null,null,null,null,null,null,null,null,null,null,null,null,null,null,null,null,0,0]
[null,null,null,null,null,null,null,null,null,null,null,null,null,null,null,null,null,null,null,null,null,null,null,null,null,null,null,null,null,null,null,null,null,null,null,null,null,null,null,null,null,null,null,null,null,null,null,null,null,null,null,null,null,null,null,null,null,null,null,null,null,null,null,null,null,null,null,null,null,null,null,null,null,null,null,null,null,null,null,null,null,null,null,null,0,0]
[]
[]
[]
[]
[]
[]
[]
[]
[]
[]
[]
[]
[]
[]
[]
[]
[]
[]
[]
[]
[]
[]
[null,null,null,null,null,null,null,null,null,null,null,null,null,null,null,null,null,null,null,null,null,null,null,null,null,null,null,null,null,null,null,null,null,null,null,null,null,null,null,null,null,null,null,null,null,null,null,null,null,null,null,null,null,null,null,null,null,null,null,null,null,null,null,null,null,null,null,null,null,null,null,null,null,null,null,null,null,null,null,null,null,null,null,null,0,0,0,0]
[null,null,null,null,null,null,null,null,null,null,null,null,null,null,null,null,null,null,null,null,null,null,null,null,null,null,null,null,null,null,null,null,null,null,null,null,null,null,null,null,null,null,null,null,null,null,null,null,null,null,null,null,null,null,null,null,null,null,null,null,null,null,null,null,null,null,null,null,null,null,null,null,null,null,null,null,null,null,null,null,null,null,null,null,0,0,0,0]
[]
[]
[]
[]
[]
[null,null,null,null,null,null,null,null,null,null,null,null,null,null,null,null,null,null,null,null,null,null,null,null,null,null,null,null,null,null,null,null,null,null,null,null,null,null,null,null,null,null,null,null,null,null,null,null,null,null,null,null,null,null,null,null,null,null,null,null,null,null,null,null,null,null,null,null,null,null,null,null,null,null,null,null,null,null,null,null,null,null,null,null,0,0,0,0,0,0]

{"sheet":"A04","index":4,"n_rows":64,"n_cols":88,"rows_kept":64,"cut":false,"hidden":true,"merged":[[142,0,147,0],[149,0,150,0],[149,1,150,1],[149,19,150,19],[149,20,150,20],[132,31,132,32],[132,33,132,34],[132,35,132,36],[132,37,132,38],[134,0,141,0],[132,13,132,14],[132,15,132,16],[132,17,132,18],[132,19,132,20],[132,21,132,22],[132,23,132,24],[132,25,132,26],[132,27,132,28],[132,29,132,30],[132,5,132,6],[132,7,132,8],[132,9,132,10],[132,11,132,12],[149,2,149,18],[65,1,65,2],[65,3,65,4],[65,0,66,0],[99,12,100,13],[86,4,87,4],[86,5,87,5],[88,0,88,5],[94,0,94,5],[5,0,5,22],[8,0,10,0],[8,1,9,3],[8,4,8,39],[9,4,9,5],[9,6,9,7],[9,8,9,9],[9,10,9,11],[9,12,9,13],[9,14,9,15],[9,16,9,17],[27,0,29,0],[27,1,28,3],[50,22,52,22],[51,4,52,4],[51,5,52,5],[51,6,52,6],[51,7,52,7],[51,8,52,8],[8,40,10,40],[8,41,10,41],[9,18,9,19],[9,20,9,21],[9,22,9,23],[9,24,9,25],[51,20,52,20],[51,21,52,21],[8,42,10,42],[8,43,10,43],[8,44,10,44],[9,38,9,39],[9,26,9,27],[9,28,9,29],[9,30,9,31],[9,32,9,33],[9,34,9,35],[9,36,9,37],[27,42,29,42],[27,43,29,43],[27,44,29,44],[28,4,28,5],[28,6,28,7],[28,8,28,9],[28,10,28,11],[28,12,28,13],[28,14,28,15],[28,16,28,17],[27,4,27,39],[27,40,29,40],[27,41,29,41],[28,18,28,19],[28,20,28,21],[28,22,28,23],[28,24,28,25],[28,38,28,39],[28,34,28,35],[28,36,28,37],[45,0,46,0],[45,1,46,1],[45,2,45,5],[45,6,45,9],[45,11,45,17],[28,26,28,27],[28,28,28,29],[28,30,28,31],[28,32,28,33],[79,33,79,34],[74,0,75,0],[74,1,75,1],[74,2,75,2],[74,3,75,3],[51,16,52,16],[50,0,52,0],[50,1,51,3],[50,4,50,21],[77,0,77,6],[51,10,52,10],[51,11,52,11],[51,12,52,12],[51,13,52,13],[51,14,52,14],[51,15,52,15],[60,0,61,0],[60,1,60,2],[60,3,60,4],[60,5,60,6],[51,9,52,9],[51,17,52,17],[51,18,52,18],[51,19,52,19],[99,9,101,9],[99,10,100,11],[107,0,108,0],[107,1,108,1],[78,36,80,36],[79,5,79,6],[79,7,79,8],[79,9,79,10],[79,11,79,12],[79,13,79,14],[79,15,79,16],[79,17,79,18],[79,19,79,20],[79,21,79,22],[78,0,80,0],[78,1,80,1],[78,2,79,4],[78,5,78,34],[78,35,80,35],[79,23,79,24],[79,25,79,26],[79,27,79,28],[79,29,79,30],[79,31,79,32],[98,0,98,5],[99,0,101,0],[82,0,83,0],[86,0,87,0],[86,1,87,1],[86,2,87,2],[86,3,87,3],[99,1,100,4],[99,5,100,8],[114,30,114,31],[114,32,114,33],[114,34,114,35],[114,36,114,37],[113,0,115,0],[113,1,114,3],[107,2,107,11],[113,40,115,40],[113,41,115,41],[114,4,114,5],[114,6,114,7],[114,8,114,9],[114,10,114,11],[114,12,114,13],[114,14,114,15],[114,16,114,17],[114,18,114,19],[113,4,113,39],[114,20,114,21],[114,22,114,23],[114,24,114,25],[131,5,131,38],[131,39,133,39],[131,40,133,40],[131,4,133,4],[131,3,133,3],[131,2,133,2],[131,1,133,1],[131,0,133,0],[107,12,108,12],[120,15,122,15],[120,16,122,16],[120,5,120,14],[123,0,125,0],[126,0,129,0],[114,38,114,39],[120,0,122,1],[120,2,121,4],[121,5,121,6],[121,7,121,8],[121,9,121,10],[121,11,121,12],[121,13,121,14],[114,26,114,27],[114,28,114,29]]}
[null,null,null,null,null,null,null,null,null,null,null,null,null,null,null,null,null,null,null,null,null,null,null,null,null,null,null,null,null,null,null,null,null,null,null,null,null,null,null,null,null,null,null,null,null,null,null,null,null,null,null,null,null,null,null,null,null,null,null,null,null,null,null,null,null,null,null,null,null,null,null,null,null,null,null,null,null,null,null,null,null,null,null,null,0,0,0,0]
[]
[]
[]
[]
[]
[]
[]
[]
[]
[]
[]
[]
[]
[]
[]
[]
[]
[]
[]
[]
[]
[]
[]
[]
[]
[]
[]
[]
[]
[]
[]
[]
[]
[]
[]
[]
[]
[]
[]
[]
[]
[]
[]
[]
[]
[]
[]
[]
[]
[]
[]
[]
[]
[]
[]
[]
[]
[]
[]
[]
[]
[null,null,null,null,null,null,null,null,null,null,null,null,null,null,null,null,null,null,null,null,null,null,null,null,null,null,null,null,null,null,null,null,null,null,null,null,null,null,null,null,null,null,null,null,null,null,null,null,null,null,null,null,null,null,null,null,null,null,null,null,null,null,null,null,null,null,null,null,null,null,null,null,null,null,null,null,null,null,null,null,null,null,null,null,{"$f":"IF(B63<C63,1,0)","v":0},{"$f":"IF(D63<E63,1,0)","v":0},{"$f":"IF(F63<G63,1,0)","v":0}]
[null,null,null,null,null,null,null,null,null,null,null,null,null,null,null,null,null,null,null,null,null,null,null,null,null,null,null,null,null,null,null,null,null,null,null,null,null,null,null,null,null,null,null,null,null,null,null,null,null,null,null,null,null,null,null,null,null,null,null,null,null,null,null,null,null,null,null,null,null,null,null,null,null,null,null,null,null,null,null,null,null,null,null,null,{"$f":"IF(B64<C64,1,0)","v":0},{"$f":"IF(D64<E64,1,0)","v":0},{"$f":"IF(F64<G64,1,0)","v":0}]

{"sheet":"A05","index":5,"n_rows":230,"n_cols":91,"rows_kept":230,"cut":false,"hidden":true,"merged":[[85,24,86,25],[335,0,337,0],[338,0,340,0],[332,5,332,32],[333,5,333,6],[333,7,333,8],[333,9,333,10],[333,11,333,12],[333,13,333,14],[333,15,333,16],[333,17,333,18],[210,0,210,1],[211,0,211,1],[217,0,217,1],[218,0,218,1],[174,0,175,1],[241,0,244,0],[245,0,250,0],[266,11,266,12],[266,2,266,4],[266,5,266,6],[258,0,262,0],[312,0,312,1],[313,0,317,0],[85,23,87,23],[85,21,85,22],[94,15,94,16],[238,0,240,0],[146,0,146,1],[163,0,166,0],[161,0,162,1],[130,0,130,1],[137,0,139,0],[140,0,140,1],[141,0,144,0],[159,0,159,1],[161,2,161,4],[161,5,161,6],[220,9,220,10],[220,2,220,4],[220,5,220,6],[106,0,108,1],[106,2,107,4],[212,0,216,0],[148,11,148,12],[148,13,148,15],[148,2,148,4],[148,5,148,6],[266,0,267,1],[251,0,253,0],[153,0,153,1],[154,0,157,0],[106,5,106,32],[93,17,93,21],[93,0,95,1],[93,2,94,4],[93,5,93,16],[94,5,94,6],[94,7,94,8],[94,9,94,10],[224,0,225,0],[96,0,96,1],[97,0,97,1],[98,0,98,1],[99,0,99,1],[94,17,94,18],[94,19,95,19],[94,20,94,21],[102,5,102,6],[150,0,152,0],[148,0,149,1],[158,0,158,1],[332,33,334,33],[332,34,334,34],[332,35,334,35],[332,0,334,0],[332,1,334,1],[332,2,333,4],[333,19,333,20],[333,21,333,22],[333,23,333,24],[333,25,333,26],[333,27,333,28],[333,29,333,30],[333,31,333,32],[304,49,306,49],[45,0,46,0],[220,0,221,1],[264,0,264,1],[263,0,263,1],[257,0,257,1],[256,0,256,1],[255,0,255,1],[254,0,254,1],[192,0,194,0],[270,0,271,0],[167,0,170,0],[82,0,82,1],[83,0,83,1],[90,0,90,1],[91,0,91,1],[145,0,145,1],[180,0,180,1],[223,0,223,1],[94,11,94,12],[94,13,94,14],[266,15,266,16],[266,7,266,8],[266,9,266,10],[199,0,204,0],[208,0,208,1],[209,0,209,1],[126,2,127,4],[131,0,132,0],[126,0,128,1],[127,5,127,6],[135,2,135,4],[129,0,129,1],[181,0,182,0],[177,0,177,1],[184,0,191,0],[148,9,148,10],[148,7,148,8],[178,0,179,0],[176,0,176,1],[174,17,174,18],[174,25,174,26],[174,15,174,16],[174,13,174,14],[110,0,114,0],[127,21,127,22],[127,23,127,24],[117,17,117,18],[145,20,145,21],[117,15,117,16],[145,24,145,25],[145,22,145,23],[145,16,145,17],[174,19,174,20],[174,21,174,22],[145,18,145,19],[133,0,133,1],[135,0,136,1],[135,5,135,6],[135,7,135,8],[326,0,328,0],[319,2,320,4],[326,4,326,12],[327,4,327,5],[327,6,327,7],[174,43,175,43],[195,0,198,0],[161,7,161,8],[161,9,161,10],[161,11,161,12],[161,13,161,14],[174,39,175,39],[174,40,175,40],[174,23,174,24],[174,2,174,4],[174,5,174,6],[174,7,174,8],[174,9,174,10],[174,11,174,12],[220,42,221,42],[205,0,207,0],[230,0,237,0],[222,0,222,1],[226,0,226,1],[310,0,310,1],[220,47,221,47],[227,0,228,0],[220,46,221,46],[220,44,220,45],[220,39,220,41],[323,0,323,1],[324,0,324,1],[322,0,322,1],[319,0,321,1],[294,0,302,0],[304,2,305,4],[273,0,275,0],[278,0,279,0],[281,46,283,46],[268,0,269,0],[276,0,277,0],[281,0,283,1],[281,44,283,44],[281,42,282,43],[282,15,282,16],[282,17,282,18],[281,39,281,41],[319,36,321,36],[327,8,327,9],[327,10,327,11],[327,12,327,13],[305,19,305,20],[304,0,306,1],[307,0,308,0],[281,2,282,4],[282,5,282,6],[282,7,282,8],[282,9,282,10],[282,11,282,12],[282,13,282,14],[284,0,284,1],[305,17,305,18],[305,9,305,10],[305,15,305,16],[309,0,309,1],[285,0,293,0],[305,11,305,12],[305,7,305,8],[305,13,305,14],[305,5,305,6],[326,1,327,3],[311,0,311,1],[320,5,320,6],[320,7,320,8],[320,9,320,10],[320,11,320,12],[320,13,320,14],[320,27,320,28],[320,29,320,30],[320,31,320,32],[319,5,319,32],[319,33,320,34],[319,35,321,35],[320,15,320,16],[320,17,320,18],[320,19,320,20],[320,21,320,22],[320,23,320,24],[320,25,320,26],[220,13,220,14],[220,15,220,16],[220,27,220,28],[220,29,220,30],[220,31,220,32],[266,33,266,34],[266,35,266,36],[266,17,266,18],[274,15,274,16],[274,17,274,18],[274,19,274,20],[274,13,274,14],[266,23,266,24],[274,23,274,24],[274,25,274,26],[266,13,266,14],[273,1,275,1],[305,43,305,44],[305,35,305,36],[305,37,305,38],[305,39,305,40],[305,41,305,42],[305,27,305,28],[305,29,305,30],[305,31,305,32],[281,5,281,38],[282,33,282,34],[282,25,282,26],[282,19,282,20],[282,21,282,22],[282,27,282,28],[282,29,282,30],[282,39,283,39],[282,40,283,40],[274,29,274,30],[273,2,274,4],[274,9,274,10],[274,11,274,12],[274,5,274,6],[282,41,283,41],[86,13,86,14],[86,15,86,16],[8,14,9,14],[8,15,9,15],[15,5,16,5],[15,2,16,2],[15,3,16,3],[8,16,9,16],[56,2,57,2],[56,3,56,15],[32,3,32,15],[86,21,86,22],[86,9,86,10],[86,17,86,18],[86,19,86,20],[85,17,85,18],[85,19,85,20],[37,0,42,0],[49,0,50,0],[51,0,52,0],[53,0,53,1],[48,0,48,1],[56,0,57,1],[58,0,58,1],[59,0,59,1],[60,0,60,1],[61,0,66,0],[67,0,68,0],[69,0,70,0],[73,0,74,0],[75,0,76,0],[86,7,86,8],[85,5,85,16],[86,11,86,12],[85,2,86,4],[5,0,5,15],[8,0,9,1],[8,2,9,2],[8,13,9,13],[10,0,10,1],[26,0,26,1],[32,0,33,1],[17,0,17,1],[11,0,11,1],[12,0,12,1],[19,0,19,1],[15,0,16,1],[15,4,16,4],[8,3,8,12],[32,2,33,2],[13,0,13,1],[18,0,18,1],[89,0,89,1],[22,0,22,1],[20,0,20,1],[23,0,23,1],[88,0,88,1],[34,0,34,1],[35,0,35,1],[36,0,36,1],[86,5,86,6],[21,0,21,1],[30,0,30,1],[43,0,44,0],[24,0,24,1],[27,0,27,1],[28,0,28,1],[29,0,29,1],[25,0,25,1],[71,0,71,1],[72,0,72,1],[85,0,87,1],[77,0,77,1],[47,0,47,1],[135,9,135,10],[127,7,127,8],[127,9,127,10],[120,0,124,0],[116,0,118,1],[116,2,117,4],[109,0,109,1],[107,13,107,14],[135,11,135,12],[117,5,117,6],[117,7,117,8],[117,9,117,10],[117,11,117,12],[117,13,117,14],[127,11,127,12],[126,5,126,32],[107,31,107,32],[107,7,107,8],[107,9,107,10],[107,11,107,12],[107,5,107,6],[107,23,107,24],[107,25,107,26],[107,27,107,28],[127,35,128,35],[127,25,127,26],[117,23,117,24],[117,36,118,36],[127,13,127,14],[127,15,127,16],[104,0,104,1],[102,13,102,14],[119,0,119,1],[107,15,107,16],[127,17,127,18],[127,19,127,20],[101,0,103,1],[101,5,101,14],[102,7,102,8],[102,9,102,10],[102,11,102,12],[101,2,102,4],[107,21,107,22],[107,17,107,18],[107,19,107,20],[107,29,107,30],[305,21,305,22],[274,7,274,8],[273,37,275,37],[220,11,220,12],[220,25,220,26],[220,7,220,8],[281,45,283,45],[116,33,116,36],[117,25,117,26],[117,27,117,28],[116,5,116,32],[117,19,117,20],[117,21,117,22],[127,27,127,28],[127,29,127,30],[117,33,118,33],[117,34,118,34],[117,35,118,35],[127,33,128,33],[117,29,117,30],[126,33,126,35],[117,31,117,32],[127,31,127,32],[127,34,128,34],[266,27,266,28],[266,29,266,30],[266,21,266,22],[266,19,266,20],[220,19,220,20],[266,25,266,26],[220,23,220,24],[220,17,220,18],[304,47,306,47],[282,37,282,38],[266,31,266,32],[282,23,282,24],[274,27,274,28],[305,33,305,34],[305,23,305,24],[305,25,305,26],[282,31,282,32],[273,5,273,36],[274,31,274,32],[274,33,274,34],[274,35,274,36],[274,21,274,22],[282,35,282,36],[304,5,304,44],[220,43,221,43],[220,21,220,22],[174,44,175,44],[220,33,220,34],[220,35,220,36],[220,37,220,38],[174,29,174,30],[174,31,174,32],[174,33,174,34],[174,35,174,36],[174,41,174,42],[174,37,174,38],[174,27,174,28],[332,36,332,38],[333,36,334,36],[333,37,334,37],[333,38,334,38],[332,39,334,39],[304,48,306,48],[304,45,304,46],[305,45,306,45],[305,46,306,46]]}
[null,null,null,null,null,null,null,null,null,null,null,null,null,null,null,null,null,null,null,null,null,null,null,null,null,null,null,null,null,null,null,null,null,null,null,null,null,null,null,null,null,null,null,null,null,null,null,null,null,null,null,null,null,null,null,null,null,null,null,null,null,null,null,null,null,null,null,null,null,null,null,null,null,null,null,null,null,null,null,null,null,null,null,null,0,0,0,0]
[]
[]
[]
[]
[]
[]
[]
[]
[]
[]
[]
[]
[]
[]
[]
[]
[]
[]
[]
[]
[]
[]
[]
[]
[]
[]
[]
[]
[]
[]
[]
[]
[]
[]
[]
[]
[]
[]
[]
[]
[]
[]
[]
[]
[]
[]
[]
[]
[]
[]
[]
[]
[]
[]
[]
[]
[]
[]
[]
[]
[]
[]
[]
[]
[]
[]
[]
[]
[]
[]
[]
[]
[]
[]
[]
[]
[]
[]
[]
[]
[]
[]
[]
[]
[]
[]
[]
[]
[]
[]
[]
[]
[]
[]
[]
[]
[]
[]
[]
[]
[]
[]
[]
[]
[]
[]
[]
[]
[]
[]
[]
[]
[]
[]
[]
[]
[]
[]
[]
[]
[]
[]
[]
[]
[]
[]
[]
[]
[]
[]
[]
[]
[]
[]
[]
[]
[]
[]
[]
[]
[]
[]
[]
[]
[]
[]
[]
[]
[]
[]
[]
[]
[null,null,null,null,null,null,null,null,null,null,null,null,null,null,null,null,null,null,null,null,null,null,null,null,null,null,null,null,null,null,null,null,null,null,null,null,null,null,null,null,null,null,null,null,null,null,null,null,null,null,null,null,null,null,null,null,null,null,null,null,null,null,null,null,null,null,null,null,null,null,null,null,null,null,null,null,null,null,null,null,null,null,null,null,0]
[]
[]
[]
[]
[null,null,null,null,null,null,null,null,null,null,null,null,null,null,null,null,null,null,null,null,null,null,null,null,null,null,null,null,null,null,null,null,null,null,null,null,null,null,null,null,null,null,null,null,null,null,null,null,null,null,null,null,null,null,null,null,null,null,null,null,null,null,null,null,null,null,null,null,null,null,null,null,null,null,null,null,null,null,null,null,null,null,null,null,0]
[]
[]
[]
[]
[]
[]
[]
[]
[]
[]
[]
[]
[]
[]
[]
[]
[]
[]
[]
[]
[]
[]
[]
[]
[null,null,null,null,null,null,null,null,null,null,null,null,null,null,null,null,null,null,null,null,null,null,null,null,null,null,null,null,null,null,null,null,null,null,null,null,null,null,null,null,null,null,null,null,null,null,null,null,null,null,null,null,null,null,null,null,null,null,null,null,null,null,null,null,null,null,null,null,null,null,null,null,null,null,null,null,null,null,null,null,null,null,null,null,null,null,null,null,null,null,0]
[]
[]
[]
[]
[]
[]
[]
[]
[]
[]
[]
[]
[]
[]
[]
[]
[]
[]
[]
[]
[]
[]
[]
[]
[]
[]
[]
[]
[]
[]
[]
[]
[]
[]
[]
[]
[]
[]
[]
[]
[]
[]
[]
[]
[]
[null,null,null,null,null,null,null,null,null,null,null,null,null,null,null,null,null,null,null,null,null,null,null,null,null,null,null,null,null,null,null,null,null,null,null,null,null,null,null,null,null,null,null,null,null,null,null,null,null,null,null,null,null,null,null,null,null,null,null,null,null,null,null,null,null,null,null,null,null,null,null,null,null,null,null,null,null,null,null,null,null,null,null,null,null,null,null,null,null,null,0]

{"sheet":"A06","index":6,"n_rows":0,"n_cols":0,"rows_kept":0,"cut":false,"hidden":true,"merged":[[131,43,133,43],[131,44,133,44],[132,9,132,10],[132,11,132,12],[112,34,112,35],[120,1,121,3],[120,4,120,9],[121,4,121,5],[121,6,121,7],[121,8,121,9],[127,4,127,5],[112,6,112,7],[112,8,112,9],[112,10,112,11],[112,12,112,13],[112,14,112,15],[112,16,112,17],[112,18,112,19],[112,20,112,21],[111,1,112,3],[9,41,11,41],[9,42,11,42],[131,0,133,0],[131,1,133,1],[131,2,132,4],[131,5,131,38],[131,39,133,39],[131,40,133,40],[131,41,133,41],[131,42,133,42],[10,5,10,6],[10,7,10,8],[10,9,10,10],[10,11,10,12],[10,13,10,14],[10,15,10,16],[9,39,11,39],[10,21,10,22],[10,23,10,24],[10,25,10,26],[10,27,10,28],[10,37,10,38],[10,29,10,30],[10,31,10,32],[10,33,10,34],[10,35,10,36],[28,31,28,32],[28,33,28,34],[23,0,23,1],[5,0,5,22],[9,0,11,0],[9,1,11,1],[9,2,10,4],[9,5,9,38],[10,17,10,18],[10,19,10,20],[12,0,22,0],[25,0,26,0],[28,0,29,0],[28,4,28,6],[28,7,28,8],[28,9,28,10],[28,39,28,40],[28,23,28,24],[28,25,28,26],[28,27,28,28],[28,29,28,30],[28,11,28,12],[28,13,28,14],[28,15,28,16],[28,17,28,18],[28,19,28,20],[40,0,41,0],[40,1,41,1],[40,2,41,2],[42,0,43,0],[28,35,28,36],[28,37,28,38],[28,21,28,22],[34,0,35,0],[34,1,35,1],[34,2,34,3],[34,4,34,6],[34,7,34,12],[48,37,48,38],[48,9,48,10],[48,11,48,12],[48,13,48,14],[48,35,48,36],[48,23,48,24],[48,25,48,26],[48,27,48,28],[48,29,48,30],[56,0,61,0],[62,0,63,0],[64,0,67,0],[68,0,69,0],[53,0,55,1],[53,2,54,4],[54,37,54,38],[54,31,54,32],[54,33,54,34],[44,0,45,0],[47,0,49,1],[47,2,48,4],[47,5,47,38],[53,5,53,38],[54,23,54,24],[54,25,54,26],[53,39,55,39],[54,5,54,6],[54,7,54,8],[54,9,54,10],[54,11,54,12],[48,33,48,34],[47,39,49,39],[48,15,48,16],[48,17,48,18],[48,19,48,20],[54,29,54,30],[48,31,48,32],[54,19,54,20],[54,21,54,22],[52,0,52,12],[48,7,48,8],[48,21,48,22],[48,5,48,6],[54,35,54,36],[86,3,87,3],[79,4,79,5],[79,6,79,7],[79,8,79,9],[54,13,54,14],[54,15,54,16],[54,17,54,18],[79,2,79,3],[54,27,54,28],[134,0,144,0],[145,0,145,1],[96,1,97,1],[70,0,71,0],[72,0,77,0],[86,1,87,1],[86,2,87,2],[82,0,82,1],[83,0,83,1],[84,0,84,1],[79,0,80,1],[81,0,81,1],[116,0,117,0],[116,1,116,3],[111,0,113,0],[120,0,122,0],[106,10,106,11],[106,12,106,13],[132,37,132,38],[132,25,132,26],[132,27,132,28],[132,29,132,30],[132,31,132,32],[111,38,113,38],[116,4,117,4],[112,36,112,37],[112,22,112,23],[112,24,112,25],[112,26,112,27],[112,28,112,29],[112,30,112,31],[112,32,112,33],[111,4,111,37],[112,4,112,5],[132,13,132,14],[132,15,132,16],[132,17,132,18],[132,19,132,20],[132,21,132,22],[132,23,132,24],[151,0,154,0],[148,0,150,0],[148,1,150,1],[148,2,149,4],[148,5,148,38],[148,39,150,39],[148,40,150,40],[148,41,150,41],[148,42,150,42],[149,5,149,6],[149,7,149,8],[149,9,149,10],[149,11,149,12],[149,13,149,14],[149,15,149,16],[149,17,149,18],[149,19,149,20],[149,33,149,34],[149,27,149,28],[149,29,149,30],[149,31,149,32],[149,35,149,36],[149,37,149,38],[149,21,149,22],[149,23,149,24],[149,25,149,26],[9,43,11,43],[28,2,28,3],[28,1,29,1],[146,0,146,1],[9,40,11,40],[96,0,97,0],[96,2,96,3],[86,0,87,0],[105,0,107,0],[105,1,106,3],[127,6,127,8],[127,2,127,3],[127,1,128,1],[127,0,128,0],[132,33,132,34],[132,35,132,36],[132,5,132,6],[132,7,132,8],[105,4,105,12],[106,4,106,5],[106,6,106,7],[106,8,106,9]]}

{"sheet":"A07","index":7,"n_rows":1,"n_cols":95,"rows_kept":1,"cut":false,"hidden":true,"merged":[[7,48,8,49],[8,19,9,19],[8,20,8,21],[7,1,7,21],[105,42,107,42],[105,43,107,43],[90,42,92,42],[7,39,8,40],[105,40,106,41],[90,41,92,41],[90,40,92,40],[105,44,107,44],[7,34,9,34],[90,39,92,39],[91,21,91,22],[91,23,91,24],[6,44,6,46],[4,41,6,41],[4,42,6,43],[7,42,9,42],[7,45,8,47],[7,41,9,41],[7,43,8,44],[91,25,91,26],[91,27,91,28],[91,29,91,30],[5,0,5,29],[7,0,9,0],[7,22,7,29],[105,39,107,39],[7,37,8,38],[7,30,8,31],[8,22,8,25],[8,1,9,1],[8,2,8,18],[8,26,8,29],[91,13,91,14],[7,35,8,36],[7,32,8,33],[98,0,98,1],[106,25,106,26],[99,0,99,1],[100,0,100,1],[101,0,101,1],[102,0,102,1],[94,0,97,0],[90,0,92,1],[90,2,91,4],[90,5,90,38],[91,37,91,38],[91,31,91,32],[91,33,91,34],[91,35,91,36],[91,15,91,16],[91,17,91,18],[91,19,91,20],[91,5,91,6],[91,7,91,8],[91,9,91,10],[91,11,91,12],[93,0,93,1],[103,0,103,1],[106,31,106,32],[105,2,106,4],[105,5,105,38],[106,17,106,18],[106,19,106,20],[106,33,106,34],[106,5,106,6],[106,7,106,8],[106,9,106,10],[106,11,106,12],[106,13,106,14],[106,29,106,30],[106,21,106,22],[106,23,106,24],[106,35,106,36],[106,37,106,38],[108,0,109,0],[106,27,106,28],[113,0,114,0],[106,15,106,16],[115,0,116,0],[117,0,118,0],[110,0,112,0],[105,0,107,0],[105,1,107,1]]}
[null,null,null,null,null,null,null,null,null,null,null,null,null,null,null,null,null,null,null,null,null,null,null,null,null,null,null,null,null,null,null,null,null,null,null,null,null,null,null,null,null,null,null,null,null,null,null,null,null,null,null,null,null,null,null,null,null,null,null,null,null,null,null,null,null,null,null,null,null,null,null,null,null,null,null,null,null,null,null,null,null,null,null,null,null,null,0,null,null,0,0,null,null,null,0]

{"sheet":"A08","index":8,"n_rows":200,"n_cols":88,"rows_kept":200,"cut":false,"hidden":false,"merged":[[186,4,186,11],[186,12,187,13],[186,14,188,14],[187,4,187,5],[187,6,187,7],[187,8,187,9],[187,10,187,11],[155,0,157,0],[170,0,172,1],[186,0,189,0],[186,1,187,3],[166,0,166,1],[171,13,171,14],[163,7,163,8],[176,3,177,3],[176,1,177,1],[163,5,163,6],[162,5,162,38],[163,37,163,38],[168,0,168,1],[163,33,163,34],[163,35,163,36],[171,7,171,8],[171,31,172,31],[170,27,170,30],[170,25,172,25],[171,30,172,30],[171,29,172,29],[171,27,172,27],[163,21,163,22],[163,23,163,24],[170,26,172,26],[163,11,163,12],[163,15,163,16],[171,5,171,6],[153,3,153,5],[153,7,154,7],[170,24,172,24],[171,32,172,32],[140,10,140,12],[171,15,171,16],[171,19,171,20],[171,9,171,10],[171,28,172,28],[170,21,172,21],[170,23,172,23],[171,17,171,18],[153,6,154,6],[170,2,171,4],[140,7,140,9],[140,3,140,5],[142,1,142,2],[170,31,170,32],[163,9,163,10],[163,31,163,32],[163,13,163,14],[171,11,171,12],[170,22,172,22],[111,24,111,27],[105,29,105,30],[105,5,105,6],[105,25,105,26],[105,31,105,32],[163,17,163,18],[163,19,163,20],[163,29,163,30],[105,21,105,22],[105,17,105,18],[105,19,105,20],[111,21,111,22],[111,23,112,23],[145,0,145,1],[138,1,138,3],[142,0,143,0],[163,25,163,26],[163,27,163,28],[146,0,147,0],[157,1,157,2],[156,1,156,2],[158,1,158,2],[159,1,159,2],[155,1,155,2],[153,0,154,2],[167,0,167,1],[170,5,170,20],[111,15,111,16],[140,6,141,6],[116,0,117,1],[116,2,117,2],[118,0,119,0],[140,0,141,2],[111,17,111,18],[111,19,111,20],[111,9,111,10],[111,7,111,8],[121,0,122,0],[121,1,122,1],[165,0,165,1],[162,2,163,4],[149,0,151,0],[162,0,164,1],[158,0,160,0],[160,1,160,2],[153,8,154,8],[116,3,116,8],[116,9,117,9],[137,0,137,3],[44,38,46,38],[45,32,45,33],[34,38,36,38],[35,30,35,31],[35,32,35,33],[88,31,88,32],[88,11,88,12],[55,34,55,35],[55,26,55,27],[45,34,45,35],[45,36,45,37],[35,36,35,37],[54,38,55,39],[88,23,88,24],[55,16,55,17],[45,26,45,27],[45,28,45,29],[45,30,45,31],[35,26,35,27],[35,28,35,29],[88,15,88,16],[88,17,88,18],[88,25,88,26],[88,27,88,28],[104,39,106,39],[105,35,105,36],[105,33,105,34],[111,34,112,34],[111,30,111,33],[87,39,89,39],[105,37,105,38],[88,29,88,30],[35,34,35,35],[54,4,54,37],[55,12,55,13],[55,14,55,15],[55,36,55,37],[35,20,35,21],[44,4,44,37],[45,4,45,5],[55,18,55,19],[55,20,55,21],[55,22,55,23],[55,30,55,31],[55,28,55,29],[55,6,55,7],[55,32,55,33],[55,24,55,25],[5,0,5,14],[8,0,10,0],[8,1,9,3],[8,4,8,37],[9,30,9,31],[9,32,9,33],[9,22,9,23],[9,4,9,5],[9,6,9,7],[9,16,9,17],[9,18,9,19],[9,20,9,21],[9,28,9,29],[9,34,9,35],[9,8,9,9],[9,10,9,11],[9,12,9,13],[9,14,9,15],[9,24,9,25],[9,26,9,27],[44,0,46,0],[25,8,25,9],[25,10,25,11],[25,12,25,13],[25,30,25,31],[25,4,25,5],[24,1,25,3],[24,4,24,37],[17,6,17,7],[17,8,17,9],[17,10,17,11],[25,6,25,7],[17,32,17,33],[25,32,25,33],[25,24,25,25],[25,28,25,29],[25,26,25,27],[25,34,25,35],[35,14,35,15],[25,16,25,17],[24,0,26,0],[25,22,25,23],[25,36,25,37],[25,14,25,15],[45,6,45,7],[45,8,45,9],[45,10,45,11],[45,12,45,13],[45,14,45,15],[45,16,45,17],[45,18,45,19],[45,20,45,21],[45,24,45,25],[25,18,25,19],[25,20,25,21],[35,16,35,17],[35,18,35,19],[16,0,18,0],[17,4,17,5],[35,22,35,23],[8,38,10,38],[16,1,17,3],[16,4,16,37],[17,20,17,21],[17,22,17,23],[17,24,17,25],[17,16,17,17],[17,18,17,19],[9,36,9,37],[35,12,35,13],[35,6,35,7],[35,8,35,9],[35,10,35,11],[17,12,17,13],[17,36,17,37],[17,14,17,15],[17,34,17,35],[17,26,17,27],[17,28,17,29],[17,30,17,31],[114,0,114,1],[99,0,99,2],[109,0,109,1],[100,0,102,1],[107,0,107,1],[104,0,106,1],[111,0,112,1],[108,0,108,1],[113,0,113,1],[111,13,111,14],[111,5,111,6],[111,11,111,12],[111,2,111,4],[97,0,97,1],[55,8,55,9],[55,10,55,11],[54,1,55,3],[88,7,88,8],[88,9,88,10],[87,2,88,4],[54,0,56,0],[96,0,96,1],[94,0,94,1],[95,0,95,1],[91,0,93,0],[90,0,90,1],[55,4,55,5],[104,5,104,38],[105,15,105,16],[105,23,105,24],[105,7,105,8],[105,9,105,10],[105,11,105,12],[88,5,88,6],[44,1,45,3],[88,21,88,22],[88,13,88,14],[87,0,89,1],[87,5,87,38],[8,44,10,44],[16,39,18,39],[24,39,26,39],[34,39,36,39],[44,39,46,39],[45,22,45,23],[9,40,10,40],[9,41,10,41],[9,42,10,42],[8,43,10,43],[16,38,18,38],[24,38,26,38],[8,39,8,42],[9,39,10,39],[35,24,35,25],[34,0,36,0],[34,1,35,3],[34,4,34,37],[35,4,35,5],[182,16,182,17],[182,18,182,19],[182,20,182,21],[182,8,182,9],[182,10,182,11],[182,12,182,13],[87,40,89,40],[176,0,177,0],[176,2,177,2],[173,0,174,0],[181,0,183,0],[181,1,182,3],[181,4,181,21],[182,4,182,5],[182,6,182,7],[182,14,182,15],[104,2,105,4],[105,13,105,14],[88,19,88,20],[88,37,88,38],[88,33,88,34],[88,35,88,36],[105,27,105,28],[111,28,111,29]]}
["SERVICIO DE SALUD"]
[{"$f":"CONCATENATE(\"COMUNA: \",NOMBRE!B2,\" - \",\"( \",NOMBRE!C2,NOMBRE!D2,NOMBRE!E2,NOMBRE!F2,NOMBRE!G2,\" )\")","v":"COMUNA: QUILPUE  - ( 05106 )"}]
[{"$f":"CONCATENATE(\"ESTABLECIMIENTO/ESTRATEGIA: \",NOMBRE!B3,\" - \",\"( \",NOMBRE!C3,NOMBRE!D3,NOMBRE!E3,NOMBRE!F3,NOMBRE!G3,NOMBRE!H3,\" )\")","v":"ESTABLECIMIENTO/ESTRATEGIA: CESFAM AVIADOR ACEVEDO - ( 201085 )"}]
[{"$f":"CONCATENATE(\"MES: \",NOMBRE!B6,\" - \",\"( \",NOMBRE!C6,NOMBRE!D6,\" )\")","v":"MES: ENERO - ( 01 )"}]
[{"$f":"CONCATENATE(\"AÑO: \",NOMBRE!B7)","v":"AÑO: 2022"}]
["REM-A08.  ATENCIÓN DE URGENCIA"]
["SECCIÓN A: ATENCIONES REALIZADAS EN UNIDADES DE URGENCIA DE LA RED"]
["SECCIÓN A.1: ATENCIONES REALIZADAS EN UNIDADES DE EMERGENCIA HOSPITALARIA DE ALTA Y MEDIANA COMPLEJIDAD (UEH)"]
["TIPO DE ATENCIÓN","TOTAL        ",null,null,"GRUPOS DE EDAD (en años)",null,null,null,null,null,null,null,null,null,null,null,null,null,null,null,null,null,null,null,null,null,null,null,null,null,null,null,null,null,null,null,null,null,"Beneficiarios","ORIGEN DE LA PROCEDENCIA (Sólo pacientes derivados de establecimientos de la Red)",null,null,null,"Establecimientos de otra Red","Demanda de Urgencia"]
[null,null,null,null,"0 - 4",null,"5 - 9",null,"10 - 14",null,"15 - 19",null,"20 - 24",null,"25 - 29",null,"30 - 34",null,"35 - 39",null,"40 - 44",null,"45 - 49",null,"50 - 54",null,"55 - 59",null,"60 - 64",null,"65 - 69",null,"70 - 74",null,"75 - 79",null,"80 y mas",null,null,"SAPU/ SAR / SUR","Hospital Baja Complejidad","Hospital Mediana/Alta Complejidad","Otros Establecimientos de la  Red"]
[null,"Ambos Sexos","Hombres","Mujeres","Hombres","Mujeres","Hombres","Mujeres","Hombres","Mujeres","Hombres","Mujeres","Hombres","Mujeres","Hombres","Mujeres","Hombres","Mujeres","Hombres","Mujeres","Hombres","Mujeres","Hombres","Mujeres","Hombres","Mujeres","Hombres","Mujeres","Hombres","Mujeres","Hombres","Mujeres","Hombres","Mujeres","Hombres","Mujeres","Hombres","Mujeres"]
["ATENCIÓN MÉDICA NIÑO Y ADULTO",{"$f":"SUM(C12+D12)","v":0},{"$f":"SUM(E12+G12+I12+K12+M12+O12+Q12+S12+U12+W12+Y12+AA12+AC12+AE12+AG12+AI12+AK12)","v":0},{"$f":"SUM(F12+H12+J12+L12+N12+P12+R12+T12+V12+X12+Z12+AB12+AD12+AF12+AH12+AJ12+AL12)","v":0},{"$f":"+[1]A08!E12+[2]A08!E12+[3]A08!E12+[4]A08!E12+[5]A08!E12+[6]A08!E12+[7]A08!E12+[8]A08!E12+[9]A08!E12+[10]A08!E12+[10]A08!E12+[11]A08!E12+[12]A08!E12","v":0},{"$f":"+[1]A08!F12+[2]A08!F12+[3]A08!F12+[4]A08!F12+[5]A08!F12+[6]A08!F12+[7]A08!F12+[8]A08!F12+[9]A08!F12+[10]A08!F12+[10]A08!F12+[11]A08!F12+[12]A08!F12","v":0},{"$f":"+[1]A08!G12+[2]A08!G12+[3]A08!G12+[4]A08!G12+[5]A08!G12+[6]A08!G12+[7]A08!G12+[8]A08!G12+[9]A08!G12+[10]A08!G12+[10]A08!G12+[11]A08!G12+[12]A08!G12","v":0},{"$f":"+[1]A08!H12+[2]A08!H12+[3]A08!H12+[4]A08!H12+[5]A08!H12+[6]A08!H12+[7]A08!H12+[8]A08!H12+[9]A08!H12+[10]A08!H12+[10]A08!H12+[11]A08!H12+[12]A08!H12","v":0},{"$f":"+[1]A08!I12+[2]A08!I12+[3]A08!I12+[4]A08!I12+[5]A08!I12+[6]A08!I12+[7]A08!I12+[8]A08!I12+[9]A08!I12+[10]A08!I12+[10]A08!I12+[11]A08!I12+[12]A08!I12","v":0},{"$f":"+[1]A08!J12+[2]A08!J12+[3]A08!J12+[4]A08!J12+[5]A08!J12+[6]A08!J12+[7]A08!J12+[8]A08!J12+[9]A08!J12+[10]A08!J12+[10]A08!J12+[11]A08!J12+[12]A08!J12","v":0},{"$f":"+[1]A08!K12+[2]A08!K12+[3]A08!K12+[4]A08!K12+[5]A08!K12+[6]A08!K12+[7]A08!K12+[8]A08!K12+[9]A08!K12+[10]A08!K12+[10]A08!K12+[11]A08!K12+[12]A08!K12","v":0},{"$f":"+[1]A08!L12+[2]A08!L12+[3]A08!L12+[4]A08!L12+[5]A08!L12+[6]A08!L12+[7]A08!L12+[8]A08!L12+[9]A08!L12+[10]A08!L12+[10]A08!L12+[11]A08!L12+[12]A08!L12","v":0},{"$f":"+[1]A08!M12+[2]A08!M12+[3]A08!M12+[4]A08!M12+[5]A08!M12+[6]A08!M12+[7]A08!M12+[8]A08!M12+[9]A08!M12+[10]A08!M12+[10]A08!M12+[11]A08!M12+[12]A08!M12","v":0},{"$f":"+[1]A08!N12+[2]A08!N12+[3]A08!N12+[4]A08!N12+[5]A08!N12+[6]A08!N12+[7]A08!N12+[8]A08!N12+[9]A08!N12+[10]A08!N12+[10]A08!N12+[11]A08!N12+[12]A08!N12","v":0},{"$f":"+[1]A08!O12+[2]A08!O12+[3]A08!O12+[4]A08!O12+[5]A08!O12+[6]A08!O12+[7]A08!O12+[8]A08!O12+[9]A08!O12+[10]A08!O12+[10]A08!O12+[11]A08!O12+[12]A08!O12","v":0},{"$f":"+[1]A08!P12+[2]A08!P12+[3]A08!P12+[4]A08!P12+[5]A08!P12+[6]A08!P12+[7]A08!P12+[8]A08!P12+[9]A08!P12+[10]A08!P12+[10]A08!P12+[11]A08!P12+[12]A08!P12","v":0},{"$f":"+[1]A08!Q12+[2]A08!Q12+[3]A08!Q12+[4]A08!Q12+[5]A08!Q12+[6]A08!Q12+[7]A08!Q12+[8]A08!Q12+[9]A08!Q12+[10]A08!Q12+[10]A08!Q12+[11]A08!Q12+[12]A08!Q12","v":0},{"$f":"+[1]A08!R12+[2]A08!R12+[3]A08!R12+[4]A08!R12+[5]A08!R12+[6]A08!R12+[7]A08!R12+[8]A08!R12+[9]A08!R12+[10]A08!R12+[10]A08!R12+[11]A08!R12+[12]A08!R12","v":0},{"$f":"+[1]A08!S12+[2]A08!S12+[3]A08!S12+[4]A08!S12+[5]A08!S12+[6]A08!S12+[7]A08!S12+[8]A08!S12+[9]A08!S12+[10]A08!S12+[10]A08!S12+[11]A08!S12+[12]A08!S12","v":0},{"$f":"+[1]A08!T12+[2]A08!T12+[3]A08!T12+[4]A08!T12+[5]A08!T12+[6]A08!T12+[7]A08!T12+[8]A08!T12+[9]A08!T12+[10]A08!T12+[10]A08!T12+[11]A08!T12+[12]A08!T12","v":0},{"$f":"+[1]A08!U12+[2]A08!U12+[3]A08!U12+[4]A08!U12+[5]A08!U12+[6]A08!U12+[7]A08!U12+[8]A08!U12+[9]A08!U12+[10]A08!U12+[10]A08!U12+[11]A08!U12+[12]A08!U12","v":0},{"$f":"+[1]A08!V12+[2]A08!V12+[3]A08!V12+[4]A08!V12+[5]A08!V12+[6]A08!V12+[7]A08!V12+[8]A08!V12+[9]A08!V12+[10]A08!V12+[10]A08!V12+[11]A08!V12+[12]A08!V12","v":0},{"$f":"+[1]A08!W12+[2]A08!W12+[3]A08!W12+[4]A08!W12+[5]A08!W12+[6]A08!W12+[7]A08!W12+[8]A08!W12+[9]A08!W12+[10]A08!W12+[10]A08!W12+[11]A08!W12+[12]A08!W12","v":0},{"$f":"+[1]A08!X12+[2]A08!X12+[3]A08!X12+[4]A08!X12+[5]A08!X12+[6]A08!X12+[7]A08!X12+[8]A08!X12+[9]A08!X12+[10]A08!X12+[10]A08!X12+[11]A08!X12+[12]A08!X12","v":0},{"$f":"+[1]A08!Y12+[2]A08!Y12+[3]A08!Y12+[4]A08!Y12+[5]A08!Y12+[6]A08!Y12+[7]A08!Y12+[8]A08!Y12+[9]A08!Y12+[10]A08!Y12+[10]A08!Y12+[11]A08!Y12+[12]A08!Y12","v":0},{"$f":"+[1]A08!Z12+[2]A08!Z12+[3]A08!Z12+[4]A08!Z12+[5]A08!Z12+[6]A08!Z12+[7]A08!Z12+[8]A08!Z12+[9]A08!Z12+[10]A08!Z12+[10]A08!Z12+[11]A08!Z12+[12]A08!Z12","v":0},{"$f":"+[1]A08!AA12+[2]A08!AA12+[3]A08!AA12+[4]A08!AA12+[5]A08!AA12+[6]A08!AA12+[7]A08!AA12+[8]A08!AA12+[9]A08!AA12+[10]A08!AA12+[10]A08!AA12+[11]A08!AA12+[12]A08!AA12","v":0},{"$f":"+[1]A08!AB12+[2]A08!AB12+[3]A08!AB12+[4]A08!AB12+[5]A08!AB12+[6]A08!AB12+[7]A08!AB12+[8]A08!AB12+[9]A08!AB12+[10]A08!AB12+[10]A08!AB12+[11]A08!AB12+[12]A08!AB12","v":0},{"$f":"+[1]A08!AC12+[2]A08!AC12+[3]A08!AC12+[4]A08!AC12+[5]A08!AC12+[6]A08!AC12+[7]A08!AC12+[8]A08!AC12+[9]A08!AC12+[10]A08!AC12+[10]A08!AC12+[11]A08!AC12+[12]A08!AC12","v":0},{"$f":"+[1]A08!AD12+[2]A08!AD12+[3]A08!AD12+[4]A08!AD12+[5]A08!AD12+[6]A08!AD12+[7]A08!AD12+[8]A08!AD12+[9]A08!AD12+[10]A08!AD12+[10]A08!AD12+[11]A08!AD12+[12]A08!AD12","v":0},{"$f":"+[1]A08!AE12+[2]A08!AE12+[3]A08!AE12+[4]A08!AE12+[5]A08!AE12+[6]A08!AE12+[7]A08!AE12+[8]A08!AE12+[9]A08!AE12+[10]A08!AE12+[10]A08!AE12+[11]A08!AE12+[12]A08!AE12","v":0},{"$f":"+[1]A08!AF12+[2]A08!AF12+[3]A08!AF12+[4]A08!AF12+[5]A08!AF12+[6]A08!AF12+[7]A08!AF12+[8]A08!AF12+[9]A08!AF12+[10]A08!AF12+[10]A08!AF12+[11]A08!AF12+[12]A08!AF12","v":0},{"$f":"+[1]A08!AG12+[2]A08!AG12+[3]A08!AG12+[4]A08!AG12+[5]A08!AG12+[6]A08!AG12+[7]A08!AG12+[8]A08!AG12+[9]A08!AG12+[10]A08!AG12+[10]A08!AG12+[11]A08!AG12+[12]A08!AG12","v":0},{"$f":"+[1]A08!AH12+[2]A08!AH12+[3]A08!AH12+[4]A08!AH12+[5]A08!AH12+[6]A08!AH12+[7]A08!AH12+[8]A08!AH12+[9]A08!AH12+[10]A08!AH12+[10]A08!AH12+[11]A08!AH12+[12]A08!AH12","v":0},{"$f":"+[1]A08!AI12+[2]A08!AI12+[3]A08!AI12+[4]A08!AI12+[5]A08!AI12+[6]A08!AI12+[7]A08!AI12+[8]A08!AI12+[9]A08!AI12+[10]A08!AI12+[10]A08!AI12+[11]A08!AI12+[12]A08!AI12","v":0},{"$f":"+[1]A08!AJ12+[2]A08!AJ12+[3]A08!AJ12+[4]A08!AJ12+[5]A08!AJ12+[6]A08!AJ12+[7]A08!AJ12+[8]A08!AJ12+[9]A08!AJ12+[10]A08!AJ12+[10]A08!AJ12+[11]A08!AJ12+[12]A08!AJ12","v":0},{"$f":"+[1]A08!AK12+[2]A08!AK12+[3]A08!AK12+[4]A08!AK12+[5]A08!AK12+[6]A08!AK12+[7]A08!AK12+[8]A08!AK12+[9]A08!AK12+[10]A08!AK12+[10]A08!AK12+[11]A08!AK12+[12]A08!AK12","v":0},{"$f":"+[1]A08!AL12+[2]A08!AL12+[3]A08!AL12+[4]A08!AL12+[5]A08!AL12+[6]A08!AL12+[7]A08!AL12+[8]A08!AL12+[9]A08!AL12+[10]A08!AL12+[10]A08!AL12+[11]A08!AL12+[12]A08!AL12","v":0},{"$f":"+[1]A08!AM12+[2]A08!AM12+[3]A08!AM12+[4]A08!AM12+[5]A08!AM12+[6]A08!AM12+[7]A08!AM12+[8]A08!AM12+[9]A08!AM12+[10]A08!AM12+[10]A08!AM12+[11]A08!AM12+[12]A08!AM12","v":0},{"$f":"+[1]A08!AN12+[2]A08!AN12+[3]A08!AN12+[4]A08!AN12+[5]A08!AN12+[6]A08!AN12+[7]A08!AN12+[8]A08!AN12+[9]A08!AN12+[10]A08!AN12+[10]A08!AN12+[11]A08!AN12+[12]A08!AN12","v":0},{"$f":"+[1]A08!AO12+[2]A08!AO12+[3]A08!AO12+[4]A08!AO12+[5]A08!AO12+[6]A08!AO12+[7]A08!AO12+[8]A08!AO12+[9]A08!AO12+[10]A08!AO12+[10]A08!AO12+[11]A08!AO12+[12]A08!AO12","v":0},{"$f":"+[1]A08!AP12+[2]A08!AP12+[3]A08!AP12+[4]A08!AP12+[5]A08!AP12+[6]A08!AP12+[7]A08!AP12+[8]A08!AP12+[9]A08!AP12+[10]A08!AP12+[10]A08!AP12+[11]A08!AP12+[12]A08!AP12","v":0},{"$f":"+[1]A08!AQ12+[2]A08!AQ12+[3]A08!AQ12+[4]A08!AQ12+[5]A08!AQ12+[6]A08!AQ12+[7]A08!AQ12+[8]A08!AQ12+[9]A08!AQ12+[10]A08!AQ12+[10]A08!AQ12+[11]A08!AQ12+[12]A08!AQ12","v":0},{"$f":"+[1]A08!AR12+[2]A08!AR12+[3]A08!AR12+[4]A08!AR12+[5]A08!AR12+[6]A08!AR12+[7]A08!AR12+[8]A08!AR12+[9]A08!AR12+[10]A08!AR12+[10]A08!AR12+[11]A08!AR12+[12]A08!AR12","v":0},{"$f":"+[1]A08!AS12+[2]A08!AS12+[3]A08!AS12+[4]A08!AS12+[5]A08!AS12+[6]A08!AS12+[7]A08!AS12+[8]A08!AS12+[9]A08!AS12+[10]A08!AS12+[10]A08!AS12+[11]A08!AS12+[12]A08!AS12","v":0},null,null,null,null,null,null,null,null,null,null,null,null,null,null,null,null,null,null,null,null,null,null,null,null,null,null,null,null,null,null,null,null,null,null,null,null,null,null,null,0,0,0,0]
["ATENCIÓN MÉDICA GINECO-OBSTETRA",{"$f":"SUM(C13+D13)","v":0},0,0,{"$f":"+[1]A08!E13+[2]A08!E13+[3]A08!E13+[4]A08!E13+[5]A08!E13+[6]A08!E13+[7]A08!E13+[8]A08!E13+[9]A08!E13+[10]A08!E13+[10]A08!E13+[11]A08!E13+[12]A08!E13","v":0},{"$f":"+[1]A08!F13+[2]A08!F13+[3]A08!F13+[4]A08!F13+[5]A08!F13+[6]A08!F13+[7]A08!F13+[8]A08!F13+[9]A08!F13+[10]A08!F13+[10]A08!F13+[11]A08!F13+[12]A08!F13","v":0},{"$f":"+[1]A08!G13+[2]A08!G13+[3]A08!G13+[4]A08!G13+[5]A08!G13+[6]A08!G13+[7]A08!G13+[8]A08!G13+[9]A08!G13+[10]A08!G13+[10]A08!G13+[11]A08!G13+[12]A08!G13","v":0},{"$f":"+[1]A08!H13+[2]A08!H13+[3]A08!H13+[4]A08!H13+[5]A08!H13+[6]A08!H13+[7]A08!H13+[8]A08!H13+[9]A08!H13+[10]A08!H13+[10]A08!H13+[11]A08!H13+[12]A08!H13","v":0},{"$f":"+[1]A08!I13+[2]A08!I13+[3]A08!I13+[4]A08!I13+[5]A08!I13+[6]A08!I13+[7]A08!I13+[8]A08!I13+[9]A08!I13+[10]A08!I13+[10]A08!I13+[11]A08!I13+[12]A08!I13","v":0},{"$f":"+[1]A08!J13+[2]A08!J13+[3]A08!J13+[4]A08!J13+[5]A08!J13+[6]A08!J13+[7]A08!J13+[8]A08!J13+[9]A08!J13+[10]A08!J13+[10]A08!J13+[11]A08!J13+[12]A08!J13","v":0},{"$f":"+[1]A08!K13+[2]A08!K13+[3]A08!K13+[4]A08!K13+[5]A08!K13+[6]A08!K13+[7]A08!K13+[8]A08!K13+[9]A08!K13+[10]A08!K13+[10]A08!K13+[11]A08!K13+[12]A08!K13","v":0},{"$f":"+[1]A08!L13+[2]A08!L13+[3]A08!L13+[4]A08!L13+[5]A08!L13+[6]A08!L13+[7]A08!L13+[8]A08!L13+[9]A08!L13+[10]A08!L13+[10]A08!L13+[11]A08!L13+[12]A08!L13","v":0},{"$f":"+[1]A08!M13+[2]A08!M13+[3]A08!M13+[4]A08!M13+[5]A08!M13+[6]A08!M13+[7]A08!M13+[8]A08!M13+[9]A08!M13+[10]A08!M13+[10]A08!M13+[11]A08!M13+[12]A08!M13","v":0},{"$f":"+[1]A08!N13+[2]A08!N13+[3]A08!N13+[4]A08!N13+[5]A08!N13+[6]A08!N13+[7]A08!N13+[8]A08!N13+[9]A08!N13+[10]A08!N13+[10]A08!N13+[11]A08!N13+[12]A08!N13","v":0},{"$f":"+[1]A08!O13+[2]A08!O13+[3]A08!O13+[4]A08!O13+[5]A08!O13+[6]A08!O13+[7]A08!O13+[8]A08!O13+[9]A08!O13+[10]A08!O13+[10]A08!O13+[11]A08!O13+[12]A08!O13","v":0},{"$f":"+[1]A08!P13+[2]A08!P13+[3]A08!P13+[4]A08!P13+[5]A08!P13+[6]A08!P13+[7]A08!P13+[8]A08!P13+[9]A08!P13+[10]A08!P13+[10]A08!P13+[11]A08!P13+[12]A08!P13","v":0},{"$f":"+[1]A08!Q13+[2]A08!Q13+[3]A08!Q13+[4]A08!Q13+[5]A08!Q13+[6]A08!Q13+[7]A08!Q13+[8]A08!Q13+[9]A08!Q13+[10]A08!Q13+[10]A08!Q13+[11]A08!Q13+[12]A08!Q13","v":0},{"$f":"+[1]A08!R13+[2]A08!R13+[3]A08!R13+[4]A08!R13+[5]A08!R13+[6]A08!R13+[7]A08!R13+[8]A08!R13+[9]A08!R13+[10]A08!R13+[10]A08!R13+[11]A08!R13+[12]A08!R13","v":0},{"$f":"+[1]A08!S13+[2]A08!S13+[3]A08!S13+[4]A08!S13+[5]A08!S13+[6]A08!S13+[7]A08!S13+[8]A08!S13+[9]A08!S13+[10]A08!S13+[10]A08!S13+[11]A08!S13+[12]A08!S13","v":0},{"$f":"+[1]A08!T13+[2]A08!T13+[3]A08!T13+[4]A08!T13+[5]A08!T13+[6]A08!T13+[7]A08!T13+[8]A08!T13+[9]A08!T13+[10]A08!T13+[10]A08!T13+[11]A08!T13+[12]A08!T13","v":0},{"$f":"+[1]A08!U13+[2]A08!U13+[3]A08!U13+[4]A08!U13+[5]A08!U13+[6]A08!U13+[7]A08!U13+[8]A08!U13+[9]A08!U13+[10]A08!U13+[10]A08!U13+[11]A08!U13+[12]A08!U13","v":0},{"$f":"+[1]A08!V13+[2]A08!V13+[3]A08!V13+[4]A08!V13+[5]A08!V13+[6]A08!V13+[7]A08!V13+[8]A08!V13+[9]A08!V13+[10]A08!V13+[10]A08!V13+[11]A08!V13+[12]A08!V13","v":0},{"$f":"+[1]A08!W13+[2]A08!W13+[3]A08!W13+[4]A08!W13+[5]A08!W13+[6]A08!W13+[7]A08!W13+[8]A08!W13+[9]A08!W13+[10]A08!W13+[10]A08!W13+[11]A08!W13+[12]A08!W13","v":0},{"$f":"+[1]A08!X13+[2]A08!X13+[3]A08!X13+[4]A08!X13+[5]A08!X13+[6]A08!X13+[7]A08!X13+[8]A08!X13+[9]A08!X13+[10]A08!X13+[10]A08!X13+[11]A08!X13+[12]A08!X13","v":0},{"$f":"+[1]A08!Y13+[2]A08!Y13+[3]A08!Y13+[4]A08!Y13+[5]A08!Y13+[6]A08!Y13+[7]A08!Y13+[8]A08!Y13+[9]A08!Y13+[10]A08!Y13+[10]A08!Y13+[11]A08!Y13+[12]A08!Y13","v":0},{"$f":"+[1]A08!Z13+[2]A08!Z13+[3]A08!Z13+[4]A08!Z13+[5]A08!Z13+[6]A08!Z13+[7]A08!Z13+[8]A08!Z13+[9]A08!Z13+[10]A08!Z13+[10]A08!Z13+[11]A08!Z13+[12]A08!Z13","v":0},{"$f":"+[1]A08!AA13+[2]A08!AA13+[3]A08!AA13+[4]A08!AA13+[5]A08!AA13+[6]A08!AA13+[7]A08!AA13+[8]A08!AA13+[9]A08!AA13+[10]A08!AA13+[10]A08!AA13+[11]A08!AA13+[12]A08!AA13","v":0},{"$f":"+[1]A08!AB13+[2]A08!AB13+[3]A08!AB13+[4]A08!AB13+[5]A08!AB13+[6]A08!AB13+[7]A08!AB13+[8]A08!AB13+[9]A08!AB13+[10]A08!AB13+[10]A08!AB13+[11]A08!AB13+[12]A08!AB13","v":0},{"$f":"+[1]A08!AC13+[2]A08!AC13+[3]A08!AC13+[4]A08!AC13+[5]A08!AC13+[6]A08!AC13+[7]A08!AC13+[8]A08!AC13+[9]A08!AC13+[10]A08!AC13+[10]A08!AC13+[11]A08!AC13+[12]A08!AC13","v":0},{"$f":"+[1]A08!AD13+[2]A08!AD13+[3]A08!AD13+[4]A08!AD13+[5]A08!AD13+[6]A08!AD13+[7]A08!AD13+[8]A08!AD13+[9]A08!AD13+[10]A08!AD13+[10]A08!AD13+[11]A08!AD13+[12]A08!AD13","v":0},{"$f":"+[1]A08!AE13+[2]A08!AE13+[3]A08!AE13+[4]A08!AE13+[5]A08!AE13+[6]A08!AE13+[7]A08!AE13+[8]A08!AE13+[9]A08!AE13+[10]A08!AE13+[10]A08!AE13+[11]A08!AE13+[12]A08!AE13","v":0},{"$f":"+[1]A08!AF13+[2]A08!AF13+[3]A08!AF13+[4]A08!AF13+[5]A08!AF13+[6]A08!AF13+[7]A08!AF13+[8]A08!AF13+[9]A08!AF13+[10]A08!AF13+[10]A08!AF13+[11]A08!AF13+[12]A08!AF13","v":0},{"$f":"+[1]A08!AG13+[2]A08!AG13+[3]A08!AG13+[4]A08!AG13+[5]A08!AG13+[6]A08!AG13+[7]A08!AG13+[8]A08!AG13+[9]A08!AG13+[10]A08!AG13+[10]A08!AG13+[11]A08!AG13+[12]A08!AG13","v":0},{"$f":"+[1]A08!AH13+[2]A08!AH13+[3]A08!AH13+[4]A08!AH13+[5]A08!AH13+[6]A08!AH13+[7]A08!AH13+[8]A08!AH13+[9]A08!AH13+[10]A08!AH13+[10]A08!AH13+[11]A08!AH13+[12]A08!AH13","v":0},{"$f":"+[1]A08!AI13+[2]A08!AI13+[3]A08!AI13+[4]A08!AI13+[5]A08!AI13+[6]A08!AI13+[7]A08!AI13+[8]A08!AI13+[9]A08!AI13+[10]A08!AI13+[10]A08!AI13+[11]A08!AI13+[12]A08!AI13","v":0},{"$f":"+[1]A08!AJ13+[2]A08!AJ13+[3]A08!AJ13+[4]A08!AJ13+[5]A08!AJ13+[6]A08!AJ13+[7]A08!AJ13+[8]A08!AJ13+[9]A08!AJ13+[10]A08!AJ13+[10]A08!AJ13+[11]A08!AJ13+[12]A08!AJ13","v":0},{"$f":"+[1]A08!AK13+[2]A08!AK13+[3]A08!AK13+[4]A08!AK13+[5]A08!AK13+[6]A08!AK13+[7]A08!AK13+[8]A08!AK13+[9]A08!AK13+[10]A08!AK13+[10]A08!AK13+[11]A08!AK13+[12]A08!AK13","v":0},{"$f":"+[1]A08!AL13+[2]A08!AL13+[3]A08!AL13+[4]A08!AL13+[5]A08!AL13+[6]A08!AL13+[7]A08!AL13+[8]A08!AL13+[9]A08!AL13+[10]A08!AL13+[10]A08!AL13+[11]A08!AL13+[12]A08!AL13","v":0},{"$f":"+[1]A08!AM13+[2]A08!AM13+[3]A08!AM13+[4]A08!AM13+[5]A08!AM13+[6]A08!AM13+[7]A08!AM13+[8]A08!AM13+[9]A08!AM13+[10]A08!AM13+[10]A08!AM13+[11]A08!AM13+[12]A08!AM13","v":0},{"$f":"+[1]A08!AN13+[2]A08!AN13+[3]A08!AN13+[4]A08!AN13+[5]A08!AN13+[6]A08!AN13+[7]A08!AN13+[8]A08!AN13+[9]A08!AN13+[10]A08!AN13+[10]A08!AN13+[11]A08!AN13+[12]A08!AN13","v":0},{"$f":"+[1]A08!AO13+[2]A08!AO13+[3]A08!AO13+[4]A08!AO13+[5]A08!AO13+[6]A08!AO13+[7]A08!AO13+[8]A08!AO13+[9]A08!AO13+[10]A08!AO13+[10]A08!AO13+[11]A08!AO13+[12]A08!AO13","v":0},{"$f":"+[1]A08!AP13+[2]A08!AP13+[3]A08!AP13+[4]A08!AP13+[5]A08!AP13+[6]A08!AP13+[7]A08!AP13+[8]A08!AP13+[9]A08!AP13+[10]A08!AP13+[10]A08!AP13+[11]A08!AP13+[12]A08!AP13","v":0},{"$f":"+[1]A08!AQ13+[2]A08!AQ13+[3]A08!AQ13+[4]A08!AQ13+[5]A08!AQ13+[6]A08!AQ13+[7]A08!AQ13+[8]A08!AQ13+[9]A08!AQ13+[10]A08!AQ13+[10]A08!AQ13+[11]A08!AQ13+[12]A08!AQ13","v":0},{"$f":"+[1]A08!AR13+[2]A08!AR13+[3]A08!AR13+[4]A08!AR13+[5]A08!AR13+[6]A08!AR13+[7]A08!AR13+[8]A08!AR13+[9]A08!AR13+[10]A08!AR13+[10]A08!AR13+[11]A08!AR13+[12]A08!AR13","v":0},{"$f":"+[1]A08!AS13+[2]A08!AS13+[3]A08!AS13+[4]A08!AS13+[5]A08!AS13+[6]A08!AS13+[7]A08!AS13+[8]A08!AS13+[9]A08!AS13+[10]A08!AS13+[10]A08!AS13+[11]A08!AS13+[12]A08!AS13","v":0},null,null,null,null,null,null,null,null,null,null,null,null,null,null,null,null,null,null,null,null,null,null,null,null,null,null,null,null,null,null,null,null,null,null,null,null,null,null,null,0,0,0,0]
["ATENCIÓN POR MATRONA",{"$f":"SUM(C14+D14)","v":0},0,0,{"$f":"+[1]A08!E14+[2]A08!E14+[3]A08!E14+[4]A08!E14+[5]A08!E14+[6]A08!E14+[7]A08!E14+[8]A08!E14+[9]A08!E14+[10]A08!E14+[10]A08!E14+[11]A08!E14+[12]A08!E14","v":0},{"$f":"+[1]A08!F14+[2]A08!F14+[3]A08!F14+[4]A08!F14+[5]A08!F14+[6]A08!F14+[7]A08!F14+[8]A08!F14+[9]A08!F14+[10]A08!F14+[10]A08!F14+[11]A08!F14+[12]A08!F14","v":0},{"$f":"+[1]A08!G14+[2]A08!G14+[3]A08!G14+[4]A08!G14+[5]A08!G14+[6]A08!G14+[7]A08!G14+[8]A08!G14+[9]A08!G14+[10]A08!G14+[10]A08!G14+[11]A08!G14+[12]A08!G14","v":0},{"$f":"+[1]A08!H14+[2]A08!H14+[3]A08!H14+[4]A08!H14+[5]A08!H14+[6]A08!H14+[7]A08!H14+[8]A08!H14+[9]A08!H14+[10]A08!H14+[10]A08!H14+[11]A08!H14+[12]A08!H14","v":0},{"$f":"+[1]A08!I14+[2]A08!I14+[3]A08!I14+[4]A08!I14+[5]A08!I14+[6]A08!I14+[7]A08!I14+[8]A08!I14+[9]A08!I14+[10]A08!I14+[10]A08!I14+[11]A08!I14+[12]A08!I14","v":0},{"$f":"+[1]A08!J14+[2]A08!J14+[3]A08!J14+[4]A08!J14+[5]A08!J14+[6]A08!J14+[7]A08!J14+[8]A08!J14+[9]A08!J14+[10]A08!J14+[10]A08!J14+[11]A08!J14+[12]A08!J14","v":0},{"$f":"+[1]A08!K14+[2]A08!K14+[3]A08!K14+[4]A08!K14+[5]A08!K14+[6]A08!K14+[7]A08!K14+[8]A08!K14+[9]A08!K14+[10]A08!K14+[10]A08!K14+[11]A08!K14+[12]A08!K14","v":0},{"$f":"+[1]A08!L14+[2]A08!L14+[3]A08!L14+[4]A08!L14+[5]A08!L14+[6]A08!L14+[7]A08!L14+[8]A08!L14+[9]A08!L14+[10]A08!L14+[10]A08!L14+[11]A08!L14+[12]A08!L14","v":0},{"$f":"+[1]A08!M14+[2]A08!M14+[3]A08!M14+[4]A08!M14+[5]A08!M14+[6]A08!M14+[7]A08!M14+[8]A08!M14+[9]A08!M14+[10]A08!M14+[10]A08!M14+[11]A08!M14+[12]A08!M14","v":0},{"$f":"+[1]A08!N14+[2]A08!N14+[3]A08!N14+[4]A08!N14+[5]A08!N14+[6]A08!N14+[7]A08!N14+[8]A08!N14+[9]A08!N14+[10]A08!N14+[10]A08!N14+[11]A08!N14+[12]A08!N14","v":0},{"$f":"+[1]A08!O14+[2]A08!O14+[3]A08!O14+[4]A08!O14+[5]A08!O14+[6]A08!O14+[7]A08!O14+[8]A08!O14+[9]A08!O14+[10]A08!O14+[10]A08!O14+[11]A08!O14+[12]A08!O14","v":0},{"$f":"+[1]A08!P14+[2]A08!P14+[3]A08!P14+[4]A08!P14+[5]A08!P14+[6]A08!P14+[7]A08!P14+[8]A08!P14+[9]A08!P14+[10]A08!P14+[10]A08!P14+[11]A08!P14+[12]A08!P14","v":0},{"$f":"+[1]A08!Q14+[2]A08!Q14+[3]A08!Q14+[4]A08!Q14+[5]A08!Q14+[6]A08!Q14+[7]A08!Q14+[8]A08!Q14+[9]A08!Q14+[10]A08!Q14+[10]A08!Q14+[11]A08!Q14+[12]A08!Q14","v":0},{"$f":"+[1]A08!R14+[2]A08!R14+[3]A08!R14+[4]A08!R14+[5]A08!R14+[6]A08!R14+[7]A08!R14+[8]A08!R14+[9]A08!R14+[10]A08!R14+[10]A08!R14+[11]A08!R14+[12]A08!R14","v":0},{"$f":"+[1]A08!S14+[2]A08!S14+[3]A08!S14+[4]A08!S14+[5]A08!S14+[6]A08!S14+[7]A08!S14+[8]A08!S14+[9]A08!S14+[10]A08!S14+[10]A08!S14+[11]A08!S14+[12]A08!S14","v":0},{"$f":"+[1]A08!T14+[2]A08!T14+[3]A08!T14+[4]A08!T14+[5]A08!T14+[6]A08!T14+[7]A08!T14+[8]A08!T14+[9]A08!T14+[10]A08!T14+[10]A08!T14+[11]A08!T14+[12]A08!T14","v":0},{"$f":"+[1]A08!U14+[2]A08!U14+[3]A08!U14+[4]A08!U14+[5]A08!U14+[6]A08!U14+[7]A08!U14+[8]A08!U14+[9]A08!U14+[10]A08!U14+[10]A08!U14+[11]A08!U14+[12]A08!U14","v":0},{"$f":"+[1]A08!V14+[2]A08!V14+[3]A08!V14+[4]A08!V14+[5]A08!V14+[6]A08!V14+[7]A08!V14+[8]A08!V14+[9]A08!V14+[10]A08!V14+[10]A08!V14+[11]A08!V14+[12]A08!V14","v":0},{"$f":"+[1]A08!W14+[2]A08!W14+[3]A08!W14+[4]A08!W14+[5]A08!W14+[6]A08!W14+[7]A08!W14+[8]A08!W14+[9]A08!W14+[10]A08!W14+[10]A08!W14+[11]A08!W14+[12]A08!W14","v":0},{"$f":"+[1]A08!X14+[2]A08!X14+[3]A08!X14+[4]A08!X14+[5]A08!X14+[6]A08!X14+[7]A08!X14+[8]A08!X14+[9]A08!X14+[10]A08!X14+[10]A08!X14+[11]A08!X14+[12]A08!X14","v":0},{"$f":"+[1]A08!Y14+[2]A08!Y14+[3]A08!Y14+[4]A08!Y14+[5]A08!Y14+[6]A08!Y14+[7]A08!Y14+[8]A08!Y14+[9]A08!Y14+[10]A08!Y14+[10]A08!Y14+[11]A08!Y14+[12]A08!Y14","v":0},{"$f":"+[1]A08!Z14+[2]A08!Z14+[3]A08!Z14+[4]A08!Z14+[5]A08!Z14+[6]A08!Z14+[7]A08!Z14+[8]A08!Z14+[9]A08!Z14+[10]A08!Z14+[10]A08!Z14+[11]A08!Z14+[12]A08!Z14","v":0},{"$f":"+[1]A08!AA14+[2]A08!AA14+[3]A08!AA14+[4]A08!AA14+[5]A08!AA14+[6]A08!AA14+[7]A08!AA14+[8]A08!AA14+[9]A08!AA14+[10]A08!AA14+[10]A08!AA14+[11]A08!AA14+[12]A08!AA14","v":0},{"$f":"+[1]A08!AB14+[2]A08!AB14+[3]A08!AB14+[4]A08!AB14+[5]A08!AB14+[6]A08!AB14+[7]A08!AB14+[8]A08!AB14+[9]A08!AB14+[10]A08!AB14+[10]A08!AB14+[11]A08!AB14+[12]A08!AB14","v":0},{"$f":"+[1]A08!AC14+[2]A08!AC14+[3]A08!AC14+[4]A08!AC14+[5]A08!AC14+[6]A08!AC14+[7]A08!AC14+[8]A08!AC14+[9]A08!AC14+[10]A08!AC14+[10]A08!AC14+[11]A08!AC14+[12]A08!AC14","v":0},{"$f":"+[1]A08!AD14+[2]A08!AD14+[3]A08!AD14+[4]A08!AD14+[5]A08!AD14+[6]A08!AD14+[7]A08!AD14+[8]A08!AD14+[9]A08!AD14+[10]A08!AD14+[10]A08!AD14+[11]A08!AD14+[12]A08!AD14","v":0},{"$f":"+[1]A08!AE14+[2]A08!AE14+[3]A08!AE14+[4]A08!AE14+[5]A08!AE14+[6]A08!AE14+[7]A08!AE14+[8]A08!AE14+[9]A08!AE14+[10]A08!AE14+[10]A08!AE14+[11]A08!AE14+[12]A08!AE14","v":0},{"$f":"+[1]A08!AF14+[2]A08!AF14+[3]A08!AF14+[4]A08!AF14+[5]A08!AF14+[6]A08!AF14+[7]A08!AF14+[8]A08!AF14+[9]A08!AF14+[10]A08!AF14+[10]A08!AF14+[11]A08!AF14+[12]A08!AF14","v":0},{"$f":"+[1]A08!AG14+[2]A08!AG14+[3]A08!AG14+[4]A08!AG14+[5]A08!AG14+[6]A08!AG14+[7]A08!AG14+[8]A08!AG14+[9]A08!AG14+[10]A08!AG14+[10]A08!AG14+[11]A08!AG14+[12]A08!AG14","v":0},{"$f":"+[1]A08!AH14+[2]A08!AH14+[3]A08!AH14+[4]A08!AH14+[5]A08!AH14+[6]A08!AH14+[7]A08!AH14+[8]A08!AH14+[9]A08!AH14+[10]A08!AH14+[10]A08!AH14+[11]A08!AH14+[12]A08!AH14","v":0},{"$f":"+[1]A08!AI14+[2]A08!AI14+[3]A08!AI14+[4]A08!AI14+[5]A08!AI14+[6]A08!AI14+[7]A08!AI14+[8]A08!AI14+[9]A08!AI14+[10]A08!AI14+[10]A08!AI14+[11]A08!AI14+[12]A08!AI14","v":0},{"$f":"+[1]A08!AJ14+[2]A08!AJ14+[3]A08!AJ14+[4]A08!AJ14+[5]A08!AJ14+[6]A08!AJ14+[7]A08!AJ14+[8]A08!AJ14+[9]A08!AJ14+[10]A08!AJ14+[10]A08!AJ14+[11]A08!AJ14+[12]A08!AJ14","v":0},{"$f":"+[1]A08!AK14+[2]A08!AK14+[3]A08!AK14+[4]A08!AK14+[5]A08!AK14+[6]A08!AK14+[7]A08!AK14+[8]A08!AK14+[9]A08!AK14+[10]A08!AK14+[10]A08!AK14+[11]A08!AK14+[12]A08!AK14","v":0},{"$f":"+[1]A08!AL14+[2]A08!AL14+[3]A08!AL14+[4]A08!AL14+[5]A08!AL14+[6]A08!AL14+[7]A08!AL14+[8]A08!AL14+[9]A08!AL14+[10]A08!AL14+[10]A08!AL14+[11]A08!AL14+[12]A08!AL14","v":0},{"$f":"+[1]A08!AM14+[2]A08!AM14+[3]A08!AM14+[4]A08!AM14+[5]A08!AM14+[6]A08!AM14+[7]A08!AM14+[8]A08!AM14+[9]A08!AM14+[10]A08!AM14+[10]A08!AM14+[11]A08!AM14+[12]A08!AM14","v":0},null,null,null,null,null,null,null,null,null,null,null,null,null,null,null,null,null,null,null,null,null,null,null,null,null,null,null,null,null,null,null,null,null,null,null,null,null,null,null,null,null,null,null,null,null,0,0]
["ATENCIÓN POR ODONTÓLOGO",{"$f":"SUM(C15+D15)","v":0},{"$f":"SUM(E15+G15+I15+K15+M15+O15+Q15+S15+U15+W15+Y15+AA15+AC15+AE15+AG15+AI15+AK15)","v":0},0,{"$f":"+[1]A08!E15+[2]A08!E15+[3]A08!E15+[4]A08!E15+[5]A08!E15+[6]A08!E15+[7]A08!E15+[8]A08!E15+[9]A08!E15+[10]A08!E15+[10]A08!E15+[11]A08!E15+[12]A08!E15","v":0},{"$f":"+[1]A08!F15+[2]A08!F15+[3]A08!F15+[4]A08!F15+[5]A08!F15+[6]A08!F15+[7]A08!F15+[8]A08!F15+[9]A08!F15+[10]A08!F15+[10]A08!F15+[11]A08!F15+[12]A08!F15","v":0},{"$f":"+[1]A08!G15+[2]A08!G15+[3]A08!G15+[4]A08!G15+[5]A08!G15+[6]A08!G15+[7]A08!G15+[8]A08!G15+[9]A08!G15+[10]A08!G15+[10]A08!G15+[11]A08!G15+[12]A08!G15","v":0},{"$f":"+[1]A08!H15+[2]A08!H15+[3]A08!H15+[4]A08!H15+[5]A08!H15+[6]A08!H15+[7]A08!H15+[8]A08!H15+[9]A08!H15+[10]A08!H15+[10]A08!H15+[11]A08!H15+[12]A08!H15","v":0},{"$f":"+[1]A08!I15+[2]A08!I15+[3]A08!I15+[4]A08!I15+[5]A08!I15+[6]A08!I15+[7]A08!I15+[8]A08!I15+[9]A08!I15+[10]A08!I15+[10]A08!I15+[11]A08!I15+[12]A08!I15","v":0},{"$f":"+[1]A08!J15+[2]A08!J15+[3]A08!J15+[4]A08!J15+[5]A08!J15+[6]A08!J15+[7]A08!J15+[8]A08!J15+[9]A08!J15+[10]A08!J15+[10]A08!J15+[11]A08!J15+[12]A08!J15","v":0},{"$f":"+[1]A08!K15+[2]A08!K15+[3]A08!K15+[4]A08!K15+[5]A08!K15+[6]A08!K15+[7]A08!K15+[8]A08!K15+[9]A08!K15+[10]A08!K15+[10]A08!K15+[11]A08!K15+[12]A08!K15","v":0},{"$f":"+[1]A08!L15+[2]A08!L15+[3]A08!L15+[4]A08!L15+[5]A08!L15+[6]A08!L15+[7]A08!L15+[8]A08!L15+[9]A08!L15+[10]A08!L15+[10]A08!L15+[11]A08!L15+[12]A08!L15","v":0},{"$f":"+[1]A08!M15+[2]A08!M15+[3]A08!M15+[4]A08!M15+[5]A08!M15+[6]A08!M15+[7]A08!M15+[8]A08!M15+[9]A08!M15+[10]A08!M15+[10]A08!M15+[11]A08!M15+[12]A08!M15","v":0},{"$f":"+[1]A08!N15+[2]A08!N15+[3]A08!N15+[4]A08!N15+[5]A08!N15+[6]A08!N15+[7]A08!N15+[8]A08!N15+[9]A08!N15+[10]A08!N15+[10]A08!N15+[11]A08!N15+[12]A08!N15","v":0},{"$f":"+[1]A08!O15+[2]A08!O15+[3]A08!O15+[4]A08!O15+[5]A08!O15+[6]A08!O15+[7]A08!O15+[8]A08!O15+[9]A08!O15+[10]A08!O15+[10]A08!O15+[11]A08!O15+[12]A08!O15","v":0},{"$f":"+[1]A08!P15+[2]A08!P15+[3]A08!P15+[4]A08!P15+[5]A08!P15+[6]A08!P15+[7]A08!P15+[8]A08!P15+[9]A08!P15+[10]A08!P15+[10]A08!P15+[11]A08!P15+[12]A08!P15","v":0},{"$f":"+[1]A08!Q15+[2]A08!Q15+[3]A08!Q15+[4]A08!Q15+[5]A08!Q15+[6]A08!Q15+[7]A08!Q15+[8]A08!Q15+[9]A08!Q15+[10]A08!Q15+[10]A08!Q15+[11]A08!Q15+[12]A08!Q15","v":0},{"$f":"+[1]A08!R15+[2]A08!R15+[3]A08!R15+[4]A08!R15+[5]A08!R15+[6]A08!R15+[7]A08!R15+[8]A08!R15+[9]A08!R15+[10]A08!R15+[10]A08!R15+[11]A08!R15+[12]A08!R15","v":0},{"$f":"+[1]A08!S15+[2]A08!S15+[3]A08!S15+[4]A08!S15+[5]A08!S15+[6]A08!S15+[7]A08!S15+[8]A08!S15+[9]A08!S15+[10]A08!S15+[10]A08!S15+[11]A08!S15+[12]A08!S15","v":0},{"$f":"+[1]A08!T15+[2]A08!T15+[3]A08!T15+[4]A08!T15+[5]A08!T15+[6]A08!T15+[7]A08!T15+[8]A08!T15+[9]A08!T15+[10]A08!T15+[10]A08!T15+[11]A08!T15+[12]A08!T15","v":0},{"$f":"+[1]A08!U15+[2]A08!U15+[3]A08!U15+[4]A08!U15+[5]A08!U15+[6]A08!U15+[7]A08!U15+[8]A08!U15+[9]A08!U15+[10]A08!U15+[10]A08!U15+[11]A08!U15+[12]A08!U15","v":0},{"$f":"+[1]A08!V15+[2]A08!V15+[3]A08!V15+[4]A08!V15+[5]A08!V15+[6]A08!V15+[7]A08!V15+[8]A08!V15+[9]A08!V15+[10]A08!V15+[10]A08!V15+[11]A08!V15+[12]A08!V15","v":0},{"$f":"+[1]A08!W15+[2]A08!W15+[3]A08!W15+[4]A08!W15+[5]A08!W15+[6]A08!W15+[7]A08!W15+[8]A08!W15+[9]A08!W15+[10]A08!W15+[10]A08!W15+[11]A08!W15+[12]A08!W15","v":0},{"$f":"+[1]A08!X15+[2]A08!X15+[3]A08!X15+[4]A08!X15+[5]A08!X15+[6]A08!X15+[7]A08!X15+[8]A08!X15+[9]A08!X15+[10]A08!X15+[10]A08!X15+[11]A08!X15+[12]A08!X15","v":0},{"$f":"+[1]A08!Y15+[2]A08!Y15+[3]A08!Y15+[4]A08!Y15+[5]A08!Y15+[6]A08!Y15+[7]A08!Y15+[8]A08!Y15+[9]A08!Y15+[10]A08!Y15+[10]A08!Y15+[11]A08!Y15+[12]A08!Y15","v":0},{"$f":"+[1]A08!Z15+[2]A08!Z15+[3]A08!Z15+[4]A08!Z15+[5]A08!Z15+[6]A08!Z15+[7]A08!Z15+[8]A08!Z15+[9]A08!Z15+[10]A08!Z15+[10]A08!Z15+[11]A08!Z15+[12]A08!Z15","v":0},{"$f":"+[1]A08!AA15+[2]A08!AA15+[3]A08!AA15+[4]A08!AA15+[5]A08!AA15+[6]A08!AA15+[7]A08!AA15+[8]A08!AA15+[9]A08!AA15+[10]A08!AA15+[10]A08!AA15+[11]A08!AA15+[12]A08!AA15","v":0},{"$f":"+[1]A08!AB15+[2]A08!AB15+[3]A08!AB15+[4]A08!AB15+[5]A08!AB15+[6]A08!AB15+[7]A08!AB15+[8]A08!AB15+[9]A08!AB15+[10]A08!AB15+[10]A08!AB15+[11]A08!AB15+[12]A08!AB15","v":0},{"$f":"+[1]A08!AC15+[2]A08!AC15+[3]A08!AC15+[4]A08!AC15+[5]A08!AC15+[6]A08!AC15+[7]A08!AC15+[8]A08!AC15+[9]A08!AC15+[10]A08!AC15+[10]A08!AC15+[11]A08!AC15+[12]A08!AC15","v":0},{"$f":"+[1]A08!AD15+[2]A08!AD15+[3]A08!AD15+[4]A08!AD15+[5]A08!AD15+[6]A08!AD15+[7]A08!AD15+[8]A08!AD15+[9]A08!AD15+[10]A08!AD15+[10]A08!AD15+[11]A08!AD15+[12]A08!AD15","v":0},{"$f":"+[1]A08!AE15+[2]A08!AE15+[3]A08!AE15+[4]A08!AE15+[5]A08!AE15+[6]A08!AE15+[7]A08!AE15+[8]A08!AE15+[9]A08!AE15+[10]A08!AE15+[10]A08!AE15+[11]A08!AE15+[12]A08!AE15","v":0},{"$f":"+[1]A08!AF15+[2]A08!AF15+[3]A08!AF15+[4]A08!AF15+[5]A08!AF15+[6]A08!AF15+[7]A08!AF15+[8]A08!AF15+[9]A08!AF15+[10]A08!AF15+[10]A08!AF15+[11]A08!AF15+[12]A08!AF15","v":0},{"$f":"+[1]A08!AG15+[2]A08!AG15+[3]A08!AG15+[4]A08!AG15+[5]A08!AG15+[6]A08!AG15+[7]A08!AG15+[8]A08!AG15+[9]A08!AG15+[10]A08!AG15+[10]A08!AG15+[11]A08!AG15+[12]A08!AG15","v":0},{"$f":"+[1]A08!AH15+[2]A08!AH15+[3]A08!AH15+[4]A08!AH15+[5]A08!AH15+[6]A08!AH15+[7]A08!AH15+[8]A08!AH15+[9]A08!AH15+[10]A08!AH15+[10]A08!AH15+[11]A08!AH15+[12]A08!AH15","v":0},{"$f":"+[1]A08!AI15+[2]A08!AI15+[3]A08!AI15+[4]A08!AI15+[5]A08!AI15+[6]A08!AI15+[7]A08!AI15+[8]A08!AI15+[9]A08!AI15+[10]A08!AI15+[10]A08!AI15+[11]A08!AI15+[12]A08!AI15","v":0},{"$f":"+[1]A08!AJ15+[2]A08!AJ15+[3]A08!AJ15+[4]A08!AJ15+[5]A08!AJ15+[6]A08!AJ15+[7]A08!AJ15+[8]A08!AJ15+[9]A08!AJ15+[10]A08!AJ15+[10]A08!AJ15+[11]A08!AJ15+[12]A08!AJ15","v":0},{"$f":"+[1]A08!AK15+[2]A08!AK15+[3]A08!AK15+[4]A08!AK15+[5]A08!AK15+[6]A08!AK15+[7]A08!AK15+[8]A08!AK15+[9]A08!AK15+[10]A08!AK15+[10]A08!AK15+[11]A08!AK15+[12]A08!AK15","v":0},{"$f":"+[1]A08!AL15+[2]A08!AL15+[3]A08!AL15+[4]A08!AL15+[5]A08!AL15+[6]A08!AL15+[7]A08!AL15+[8]A08!AL15+[9]A08!AL15+[10]A08!AL15+[10]A08!AL15+[11]A08!AL15+[12]A08!AL15","v":0},{"$f":"+[1]A08!AM15+[2]A08!AM15+[3]A08!AM15+[4]A08!AM15+[5]A08!AM15+[6]A08!AM15+[7]A08!AM15+[8]A08!AM15+[9]A08!AM15+[10]A08!AM15+[10]A08!AM15+[11]A08!AM15+[12]A08!AM15","v":0},null,null,null,null,null,null,null,null,null,null,null,null,null,null,null,null,null,null,null,null,null,null,null,null,null,null,null,null,null,null,null,null,null,null,null,null,null,null,null,null,null,null,null,null,null,0,0,0,0]
["SECCIÓN A.2: ATENCIONES DE URGENCIA REALIZADAS EN SAPU Y SAR"]
["PROFESIONAL","TOTAL        ",null,null,"GRUPOS DE EDAD (en años)",null,null,null,null,null,null,null,null,null,null,null,null,null,null,null,null,null,null,null,null,null,null,null,null,null,null,null,null,null,null,null,null,null,"Beneficiarios","Demanda de Urgencia"]
[null,null,null,null,"0 - 4",null,"5 - 9",null,"10 - 14",null,"15 - 19",null,"20 - 24",null,"25 - 29",null,"30 - 34",null,"35 - 39",null,"40 - 44",null,"45 - 49",null,"50 - 54",null,"55 - 59",null,"60 - 64",null,"65 - 69",null,"70 - 74",null,"75 - 79",null,"80 y mas"]
[null,"Ambos Sexos","Hombres ","Mujeres","Hombres ","Mujeres","Hombres ","Mujeres","Hombres ","Mujeres","Hombres ","Mujeres","Hombres ","Mujeres","Hombres ","Mujeres","Hombres ","Mujeres","Hombres ","Mujeres","Hombres ","Mujeres","Hombres ","Mujeres","Hombres ","Mujeres","Hombres ","Mujeres","Hombres ","Mujeres","Hombres ","Mujeres","Hombres ","Mujeres","Hombres ","Mujeres","Hombres ","Mujeres"]
["MÉDICO",{"$f":"SUM(C20+D20)","v":25702},{"$f":"SUM(E20+G20+I20+K20+M20+O20+Q20+S20+U20+W20+Y20+AA20+AC20+AE20+AG20+AI20+AK20)","v":10609},15093,{"$f":"+[1]A08!E20+[2]A08!E20+[3]A08!E20+[4]A08!E20+[5]A08!E20+[6]A08!E20+[7]A08!E20+[8]A08!E20+[9]A08!E20+[10]A08!E20+[10]A08!E20+[11]A08!E20+[12]A08!E20","v":1502},{"$f":"+[1]A08!F20+[2]A08!F20+[3]A08!F20+[4]A08!F20+[5]A08!F20+[6]A08!F20+[7]A08!F20+[8]A08!F20+[9]A08!F20+[10]A08!F20+[10]A08!F20+[11]A08!F20+[12]A08!F20","v":1387},{"$f":"+[1]A08!G20+[2]A08!G20+[3]A08!G20+[4]A08!G20+[5]A08!G20+[6]A08!G20+[7]A08!G20+[8]A08!G20+[9]A08!G20+[10]A08!G20+[10]A08!G20+[11]A08!G20+[12]A08!G20","v":1431},{"$f":"+[1]A08!H20+[2]A08!H20+[3]A08!H20+[4]A08!H20+[5]A08!H20+[6]A08!H20+[7]A08!H20+[8]A08!H20+[9]A08!H20+[10]A08!H20+[10]A08!H20+[11]A08!H20+[12]A08!H20","v":1485},{"$f":"+[1]A08!I20+[2]A08!I20+[3]A08!I20+[4]A08!I20+[5]A08!I20+[6]A08!I20+[7]A08!I20+[8]A08!I20+[9]A08!I20+[10]A08!I20+[10]A08!I20+[11]A08!I20+[12]A08!I20","v":1000},{"$f":"+[1]A08!J20+[2]A08!J20+[3]A08!J20+[4]A08!J20+[5]A08!J20+[6]A08!J20+[7]A08!J20+[8]A08!J20+[9]A08!J20+[10]A08!J20+[10]A08!J20+[11]A08!J20+[12]A08!J20","v":989},{"$f":"+[1]A08!K20+[2]A08!K20+[3]A08!K20+[4]A08!K20+[5]A08!K20+[6]A08!K20+[7]A08!K20+[8]A08!K20+[9]A08!K20+[10]A08!K20+[10]A08!K20+[11]A08!K20+[12]A08!K20","v":757},{"$f":"+[1]A08!L20+[2]A08!L20+[3]A08!L20+[4]A08!L20+[5]A08!L20+[6]A08!L20+[7]A08!L20+[8]A08!L20+[9]A08!L20+[10]A08!L20+[10]A08!L20+[11]A08!L20+[12]A08!L20","v":1169},{"$f":"+[1]A08!M20+[2]A08!M20+[3]A08!M20+[4]A08!M20+[5]A08!M20+[6]A08!M20+[7]A08!M20+[8]A08!M20+[9]A08!M20+[10]A08!M20+[10]A08!M20+[11]A08!M20+[12]A08!M20","v":826},{"$f":"+[1]A08!N20+[2]A08!N20+[3]A08!N20+[4]A08!N20+[5]A08!N20+[6]A08!N20+[7]A08!N20+[8]A08!N20+[9]A08!N20+[10]A08!N20+[10]A08!N20+[11]A08!N20+[12]A08!N20","v":1250},{"$f":"+[1]A08!O20+[2]A08!O20+[3]A08!O20+[4]A08!O20+[5]A08!O20+[6]A08!O20+[7]A08!O20+[8]A08!O20+[9]A08!O20+[10]A08!O20+[10]A08!O20+[11]A08!O20+[12]A08!O20","v":795},{"$f":"+[1]A08!P20+[2]A08!P20+[3]A08!P20+[4]A08!P20+[5]A08!P20+[6]A08!P20+[7]A08!P20+[8]A08!P20+[9]A08!P20+[10]A08!P20+[10]A08!P20+[11]A08!P20+[12]A08!P20","v":1185},{"$f":"+[1]A08!Q20+[2]A08!Q20+[3]A08!Q20+[4]A08!Q20+[5]A08!Q20+[6]A08!Q20+[7]A08!Q20+[8]A08!Q20+[9]A08!Q20+[10]A08!Q20+[10]A08!Q20+[11]A08!Q20+[12]A08!Q20","v":659},{"$f":"+[1]A08!R20+[2]A08!R20+[3]A08!R20+[4]A08!R20+[5]A08!R20+[6]A08!R20+[7]A08!R20+[8]A08!R20+[9]A08!R20+[10]A08!R20+[10]A08!R20+[11]A08!R20+[12]A08!R20","v":1051},{"$f":"+[1]A08!S20+[2]A08!S20+[3]A08!S20+[4]A08!S20+[5]A08!S20+[6]A08!S20+[7]A08!S20+[8]A08!S20+[9]A08!S20+[10]A08!S20+[10]A08!S20+[11]A08!S20+[12]A08!S20","v":561},{"$f":"+[1]A08!T20+[2]A08!T20+[3]A08!T20+[4]A08!T20+[5]A08!T20+[6]A08!T20+[7]A08!T20+[8]A08!T20+[9]A08!T20+[10]A08!T20+[10]A08!T20+[11]A08!T20+[12]A08!T20","v":981},{"$f":"+[1]A08!U20+[2]A08!U20+[3]A08!U20+[4]A08!U20+[5]A08!U20+[6]A08!U20+[7]A08!U20+[8]A08!U20+[9]A08!U20+[10]A08!U20+[10]A08!U20+[11]A08!U20+[12]A08!U20","v":511},{"$f":"+[1]A08!V20+[2]A08!V20+[3]A08!V20+[4]A08!V20+[5]A08!V20+[6]A08!V20+[7]A08!V20+[8]A08!V20+[9]A08!V20+[10]A08!V20+[10]A08!V20+[11]A08!V20+[12]A08!V20","v":803},{"$f":"+[1]A08!W20+[2]A08!W20+[3]A08!W20+[4]A08!W20+[5]A08!W20+[6]A08!W20+[7]A08!W20+[8]A08!W20+[9]A08!W20+[10]A08!W20+[10]A08!W20+[11]A08!W20+[12]A08!W20","v":409},{"$f":"+[1]A08!X20+[2]A08!X20+[3]A08!X20+[4]A08!X20+[5]A08!X20+[6]A08!X20+[7]A08!X20+[8]A08!X20+[9]A08!X20+[10]A08!X20+[10]A08!X20+[11]A08!X20+[12]A08!X20","v":875},{"$f":"+[1]A08!Y20+[2]A08!Y20+[3]A08!Y20+[4]A08!Y20+[5]A08!Y20+[6]A08!Y20+[7]A08!Y20+[8]A08!Y20+[9]A08!Y20+[10]A08!Y20+[10]A08!Y20+[11]A08!Y20+[12]A08!Y20","v":479},{"$f":"+[1]A08!Z20+[2]A08!Z20+[3]A08!Z20+[4]A08!Z20+[5]A08!Z20+[6]A08!Z20+[7]A08!Z20+[8]A08!Z20+[9]A08!Z20+[10]A08!Z20+[10]A08!Z20+[11]A08!Z20+[12]A08!Z20","v":814},{"$f":"+[1]A08!AA20+[2]A08!AA20+[3]A08!AA20+[4]A08!AA20+[5]A08!AA20+[6]A08!AA20+[7]A08!AA20+[8]A08!AA20+[9]A08!AA20+[10]A08!AA20+[10]A08!AA20+[11]A08!AA20+[12]A08!AA20","v":383},{"$f":"+[1]A08!AB20+[2]A08!AB20+[3]A08!AB20+[4]A08!AB20+[5]A08!AB20+[6]A08!AB20+[7]A08!AB20+[8]A08!AB20+[9]A08!AB20+[10]A08!AB20+[10]A08!AB20+[11]A08!AB20+[12]A08!AB20","v":864},{"$f":"+[1]A08!AC20+[2]A08!AC20+[3]A08!AC20+[4]A08!AC20+[5]A08!AC20+[6]A08!AC20+[7]A08!AC20+[8]A08!AC20+[9]A08!AC20+[10]A08!AC20+[10]A08!AC20+[11]A08!AC20+[12]A08!AC20","v":384},{"$f":"+[1]A08!AD20+[2]A08!AD20+[3]A08!AD20+[4]A08!AD20+[5]A08!AD20+[6]A08!AD20+[7]A08!AD20+[8]A08!AD20+[9]A08!AD20+[10]A08!AD20+[10]A08!AD20+[11]A08!AD20+[12]A08!AD20","v":667},{"$f":"+[1]A08!AE20+[2]A08!AE20+[3]A08!AE20+[4]A08!AE20+[5]A08!AE20+[6]A08!AE20+[7]A08!AE20+[8]A08!AE20+[9]A08!AE20+[10]A08!AE20+[10]A08!AE20+[11]A08!AE20+[12]A08!AE20","v":303},{"$f":"+[1]A08!AF20+[2]A08!AF20+[3]A08!AF20+[4]A08!AF20+[5]A08!AF20+[6]A08!AF20+[7]A08!AF20+[8]A08!AF20+[9]A08!AF20+[10]A08!AF20+[10]A08!AF20+[11]A08!AF20+[12]A08!AF20","v":552},{"$f":"+[1]A08!AG20+[2]A08!AG20+[3]A08!AG20+[4]A08!AG20+[5]A08!AG20+[6]A08!AG20+[7]A08!AG20+[8]A08!AG20+[9]A08!AG20+[10]A08!AG20+[10]A08!AG20+[11]A08!AG20+[12]A08!AG20","v":285},{"$f":"+[1]A08!AH20+[2]A08!AH20+[3]A08!AH20+[4]A08!AH20+[5]A08!AH20+[6]A08!AH20+[7]A08!AH20+[8]A08!AH20+[9]A08!AH20+[10]A08!AH20+[10]A08!AH20+[11]A08!AH20+[12]A08!AH20","v":346},{"$f":"+[1]A08!AI20+[2]A08!AI20+[3]A08!AI20+[4]A08!AI20+[5]A08!AI20+[6]A08!AI20+[7]A08!AI20+[8]A08!AI20+[9]A08!AI20+[10]A08!AI20+[10]A08!AI20+[11]A08!AI20+[12]A08!AI20","v":178},{"$f":"+[1]A08!AJ20+[2]A08!AJ20+[3]A08!AJ20+[4]A08!AJ20+[5]A08!AJ20+[6]A08!AJ20+[7]A08!AJ20+[8]A08!AJ20+[9]A08!AJ20+[10]A08!AJ20+[10]A08!AJ20+[11]A08!AJ20+[12]A08!AJ20","v":321},{"$f":"+[1]A08!AK20+[2]A08!AK20+[3]A08!AK20+[4]A08!AK20+[5]A08!AK20+[6]A08!AK20+[7]A08!AK20+[8]A08!AK20+[9]A08!AK20+[10]A08!AK20+[10]A08!AK20+[11]A08!AK20+[12]A08!AK20","v":146},{"$f":"+[1]A08!AL20+[2]A08!AL20+[3]A08!AL20+[4]A08!AL20+[5]A08!AL20+[6]A08!AL20+[7]A08!AL20+[8]A08!AL20+[9]A08!AL20+[10]A08!AL20+[10]A08!AL20+[11]A08!AL20+[12]A08!AL20","v":354},{"$f":"+[1]A08!AM20+[2]A08!AM20+[3]A08!AM20+[4]A08!AM20+[5]A08!AM20+[6]A08!AM20+[7]A08!AM20+[8]A08!AM20+[9]A08!AM20+[10]A08!AM20+[10]A08!AM20+[11]A08!AM20+[12]A08!AM20","v":24695},{"$f":"+[1]A08!AN20+[2]A08!AN20+[3]A08!AN20+[4]A08!AN20+[5]A08!AN20+[6]A08!AN20+[7]A08!AN20+[8]A08!AN20+[9]A08!AN20+[10]A08!AN20+[10]A08!AN20+[11]A08!AN20+[12]A08!AN20","v":24394},null,null,null,null,null,null,null,null,null,null,null,null,null,null,null,null,null,null,null,null,null,null,null,null,null,null,null,null,null,null,null,null,null,null,null,null,null,null,null,null,null,null,null,null,0,0]
["ENFERMERA /O",{"$f":"SUM(C21+D21)","v":1638},716,922,{"$f":"+[1]A08!E21+[2]A08!E21+[3]A08!E21+[4]A08!E21+[5]A08!E21+[6]A08!E21+[7]A08!E21+[8]A08!E21+[9]A08!E21+[10]A08!E21+[10]A08!E21+[11]A08!E21+[12]A08!E21","v":28},{"$f":"+[1]A08!F21+[2]A08!F21+[3]A08!F21+[4]A08!F21+[5]A08!F21+[6]A08!F21+[7]A08!F21+[8]A08!F21+[9]A08!F21+[10]A08!F21+[10]A08!F21+[11]A08!F21+[12]A08!F21","v":27},{"$f":"+[1]A08!G21+[2]A08!G21+[3]A08!G21+[4]A08!G21+[5]A08!G21+[6]A08!G21+[7]A08!G21+[8]A08!G21+[9]A08!G21+[10]A08!G21+[10]A08!G21+[11]A08!G21+[12]A08!G21","v":36},{"$f":"+[1]A08!H21+[2]A08!H21+[3]A08!H21+[4]A08!H21+[5]A08!H21+[6]A08!H21+[7]A08!H21+[8]A08!H21+[9]A08!H21+[10]A08!H21+[10]A08!H21+[11]A08!H21+[12]A08!H21","v":34},{"$f":"+[1]A08!I21+[2]A08!I21+[3]A08!I21+[4]A08!I21+[5]A08!I21+[6]A08!I21+[7]A08!I21+[8]A08!I21+[9]A08!I21+[10]A08!I21+[10]A08!I21+[11]A08!I21+[12]A08!I21","v":38},{"$f":"+[1]A08!J21+[2]A08!J21+[3]A08!J21+[4]A08!J21+[5]A08!J21+[6]A08!J21+[7]A08!J21+[8]A08!J21+[9]A08!J21+[10]A08!J21+[10]A08!J21+[11]A08!J21+[12]A08!J21","v":48},{"$f":"+[1]A08!K21+[2]A08!K21+[3]A08!K21+[4]A08!K21+[5]A08!K21+[6]A08!K21+[7]A08!K21+[8]A08!K21+[9]A08!K21+[10]A08!K21+[10]A08!K21+[11]A08!K21+[12]A08!K21","v":57},{"$f":"+[1]A08!L21+[2]A08!L21+[3]A08!L21+[4]A08!L21+[5]A08!L21+[6]A08!L21+[7]A08!L21+[8]A08!L21+[9]A08!L21+[10]A08!L21+[10]A08!L21+[11]A08!L21+[12]A08!L21","v":49},{"$f":"+[1]A08!M21+[2]A08!M21+[3]A08!M21+[4]A08!M21+[5]A08!M21+[6]A08!M21+[7]A08!M21+[8]A08!M21+[9]A08!M21+[10]A08!M21+[10]A08!M21+[11]A08!M21+[12]A08!M21","v":59},{"$f":"+[1]A08!N21+[2]A08!N21+[3]A08!N21+[4]A08!N21+[5]A08!N21+[6]A08!N21+[7]A08!N21+[8]A08!N21+[9]A08!N21+[10]A08!N21+[10]A08!N21+[11]A08!N21+[12]A08!N21","v":73},{"$f":"+[1]A08!O21+[2]A08!O21+[3]A08!O21+[4]A08!O21+[5]A08!O21+[6]A08!O21+[7]A08!O21+[8]A08!O21+[9]A08!O21+[10]A08!O21+[10]A08!O21+[11]A08!O21+[12]A08!O21","v":54},{"$f":"+[1]A08!P21+[2]A08!P21+[3]A08!P21+[4]A08!P21+[5]A08!P21+[6]A08!P21+[7]A08!P21+[8]A08!P21+[9]A08!P21+[10]A08!P21+[10]A08!P21+[11]A08!P21+[12]A08!P21","v":88},{"$f":"+[1]A08!Q21+[2]A08!Q21+[3]A08!Q21+[4]A08!Q21+[5]A08!Q21+[6]A08!Q21+[7]A08!Q21+[8]A08!Q21+[9]A08!Q21+[10]A08!Q21+[10]A08!Q21+[11]A08!Q21+[12]A08!Q21","v":67},{"$f":"+[1]A08!R21+[2]A08!R21+[3]A08!R21+[4]A08!R21+[5]A08!R21+[6]A08!R21+[7]A08!R21+[8]A08!R21+[9]A08!R21+[10]A08!R21+[10]A08!R21+[11]A08!R21+[12]A08!R21","v":86},{"$f":"+[1]A08!S21+[2]A08!S21+[3]A08!S21+[4]A08!S21+[5]A08!S21+[6]A08!S21+[7]A08!S21+[8]A08!S21+[9]A08!S21+[10]A08!S21+[10]A08!S21+[11]A08!S21+[12]A08!S21","v":55},{"$f":"+[1]A08!T21+[2]A08!T21+[3]A08!T21+[4]A08!T21+[5]A08!T21+[6]A08!T21+[7]A08!T21+[8]A08!T21+[9]A08!T21+[10]A08!T21+[10]A08!T21+[11]A08!T21+[12]A08!T21","v":106},{"$f":"+[1]A08!U21+[2]A08!U21+[3]A08!U21+[4]A08!U21+[5]A08!U21+[6]A08!U21+[7]A08!U21+[8]A08!U21+[9]A08!U21+[10]A08!U21+[10]A08!U21+[11]A08!U21+[12]A08!U21","v":46},{"$f":"+[1]A08!V21+[2]A08!V21+[3]A08!V21+[4]A08!V21+[5]A08!V21+[6]A08!V21+[7]A08!V21+[8]A08!V21+[9]A08!V21+[10]A08!V21+[10]A08!V21+[11]A08!V21+[12]A08!V21","v":65},{"$f":"+[1]A08!W21+[2]A08!W21+[3]A08!W21+[4]A08!W21+[5]A08!W21+[6]A08!W21+[7]A08!W21+[8]A08!W21+[9]A08!W21+[10]A08!W21+[10]A08!W21+[11]A08!W21+[12]A08!W21","v":49},{"$f":"+[1]A08!X21+[2]A08!X21+[3]A08!X21+[4]A08!X21+[5]A08!X21+[6]A08!X21+[7]A08!X21+[8]A08!X21+[9]A08!X21+[10]A08!X21+[10]A08!X21+[11]A08!X21+[12]A08!X21","v":64},{"$f":"+[1]A08!Y21+[2]A08!Y21+[3]A08!Y21+[4]A08!Y21+[5]A08!Y21+[6]A08!Y21+[7]A08!Y21+[8]A08!Y21+[9]A08!Y21+[10]A08!Y21+[10]A08!Y21+[11]A08!Y21+[12]A08!Y21","v":50},{"$f":"+[1]A08!Z21+[2]A08!Z21+[3]A08!Z21+[4]A08!Z21+[5]A08!Z21+[6]A08!Z21+[7]A08!Z21+[8]A08!Z21+[9]A08!Z21+[10]A08!Z21+[10]A08!Z21+[11]A08!Z21+[12]A08!Z21","v":56},{"$f":"+[1]A08!AA21+[2]A08!AA21+[3]A08!AA21+[4]A08!AA21+[5]A08!AA21+[6]A08!AA21+[7]A08!AA21+[8]A08!AA21+[9]A08!AA21+[10]A08!AA21+[10]A08!AA21+[11]A08!AA21+[12]A08!AA21","v":45},{"$f":"+[1]A08!AB21+[2]A08!AB21+[3]A08!AB21+[4]A08!AB21+[5]A08!AB21+[6]A08!AB21+[7]A08!AB21+[8]A08!AB21+[9]A08!AB21+[10]A08!AB21+[10]A08!AB21+[11]A08!AB21+[12]A08!AB21","v":51},{"$f":"+[1]A08!AC21+[2]A08!AC21+[3]A08!AC21+[4]A08!AC21+[5]A08!AC21+[6]A08!AC21+[7]A08!AC21+[8]A08!AC21+[9]A08!AC21+[10]A08!AC21+[10]A08!AC21+[11]A08!AC21+[12]A08!AC21","v":27},{"$f":"+[1]A08!AD21+[2]A08!AD21+[3]A08!AD21+[4]A08!AD21+[5]A08!AD21+[6]A08!AD21+[7]A08!AD21+[8]A08!AD21+[9]A08!AD21+[10]A08!AD21+[10]A08!AD21+[11]A08!AD21+[12]A08!AD21","v":55},{"$f":"+[1]A08!AE21+[2]A08!AE21+[3]A08!AE21+[4]A08!AE21+[5]A08!AE21+[6]A08!AE21+[7]A08!AE21+[8]A08!AE21+[9]A08!AE21+[10]A08!AE21+[10]A08!AE21+[11]A08!AE21+[12]A08!AE21","v":37},{"$f":"+[1]A08!AF21+[2]A08!AF21+[3]A08!AF21+[4]A08!AF21+[5]A08!AF21+[6]A08!AF21+[7]A08!AF21+[8]A08!AF21+[9]A08!AF21+[10]A08!AF21+[10]A08!AF21+[11]A08!AF21+[12]A08!AF21","v":33},{"$f":"+[1]A08!AG21+[2]A08!AG21+[3]A08!AG21+[4]A08!AG21+[5]A08!AG21+[6]A08!AG21+[7]A08!AG21+[8]A08!AG21+[9]A08!AG21+[10]A08!AG21+[10]A08!AG21+[11]A08!AG21+[12]A08!AG21","v":27},{"$f":"+[1]A08!AH21+[2]A08!AH21+[3]A08!AH21+[4]A08!AH21+[5]A08!AH21+[6]A08!AH21+[7]A08!AH21+[8]A08!AH21+[9]A08!AH21+[10]A08!AH21+[10]A08!AH21+[11]A08!AH21+[12]A08!AH21","v":32},{"$f":"+[1]A08!AI21+[2]A08!AI21+[3]A08!AI21+[4]A08!AI21+[5]A08!AI21+[6]A08!AI21+[7]A08!AI21+[8]A08!AI21+[9]A08!AI21+[10]A08!AI21+[10]A08!AI21+[11]A08!AI21+[12]A08!AI21","v":25},{"$f":"+[1]A08!AJ21+[2]A08!AJ21+[3]A08!AJ21+[4]A08!AJ21+[5]A08!AJ21+[6]A08!AJ21+[7]A08!AJ21+[8]A08!AJ21+[9]A08!AJ21+[10]A08!AJ21+[10]A08!AJ21+[11]A08!AJ21+[12]A08!AJ21","v":22},{"$f":"+[1]A08!AK21+[2]A08!AK21+[3]A08!AK21+[4]A08!AK21+[5]A08!AK21+[6]A08!AK21+[7]A08!AK21+[8]A08!AK21+[9]A08!AK21+[10]A08!AK21+[10]A08!AK21+[11]A08!AK21+[12]A08!AK21","v":16},{"$f":"+[1]A08!AL21+[2]A08!AL21+[3]A08!AL21+[4]A08!AL21+[5]A08!AL21+[6]A08!AL21+[7]A08!AL21+[8]A08!AL21+[9]A08!AL21+[10]A08!AL21+[10]A08!AL21+[11]A08!AL21+[12]A08!AL21","v":33},{"$f":"+[1]A08!AM21+[2]A08!AM21+[3]A08!AM21+[4]A08!AM21+[5]A08!AM21+[6]A08!AM21+[7]A08!AM21+[8]A08!AM21+[9]A08!AM21+[10]A08!AM21+[10]A08!AM21+[11]A08!AM21+[12]A08!AM21","v":1611},{"$f":"+[1]A08!AN21+[2]A08!AN21+[3]A08!AN21+[4]A08!AN21+[5]A08!AN21+[6]A08!AN21+[7]A08!AN21+[8]A08!AN21+[9]A08!AN21+[10]A08!AN21+[10]A08!AN21+[11]A08!AN21+[12]A08!AN21","v":1748},null,null,null,null,null,null,null,null,null,null,null,null,null,null,null,null,null,null,null,null,null,null,null,null,null,null,null,null,null,null,null,null,null,null,null,null,null,null,null,null,null,null,null,null,0,0]
["MATRONA /ÓN",{"$f":"SUM(C22+D22)","v":0},0,0,{"$f":"+[1]A08!E22+[2]A08!E22+[3]A08!E22+[4]A08!E22+[5]A08!E22+[6]A08!E22+[7]A08!E22+[8]A08!E22+[9]A08!E22+[10]A08!E22+[10]A08!E22+[11]A08!E22+[12]A08!E22","v":0},{"$f":"+[1]A08!F22+[2]A08!F22+[3]A08!F22+[4]A08!F22+[5]A08!F22+[6]A08!F22+[7]A08!F22+[8]A08!F22+[9]A08!F22+[10]A08!F22+[10]A08!F22+[11]A08!F22+[12]A08!F22","v":0},{"$f":"+[1]A08!G22+[2]A08!G22+[3]A08!G22+[4]A08!G22+[5]A08!G22+[6]A08!G22+[7]A08!G22+[8]A08!G22+[9]A08!G22+[10]A08!G22+[10]A08!G22+[11]A08!G22+[12]A08!G22","v":0},{"$f":"+[1]A08!H22+[2]A08!H22+[3]A08!H22+[4]A08!H22+[5]A08!H22+[6]A08!H22+[7]A08!H22+[8]A08!H22+[9]A08!H22+[10]A08!H22+[10]A08!H22+[11]A08!H22+[12]A08!H22","v":0},{"$f":"+[1]A08!I22+[2]A08!I22+[3]A08!I22+[4]A08!I22+[5]A08!I22+[6]A08!I22+[7]A08!I22+[8]A08!I22+[9]A08!I22+[10]A08!I22+[10]A08!I22+[11]A08!I22+[12]A08!I22","v":0},{"$f":"+[1]A08!J22+[2]A08!J22+[3]A08!J22+[4]A08!J22+[5]A08!J22+[6]A08!J22+[7]A08!J22+[8]A08!J22+[9]A08!J22+[10]A08!J22+[10]A08!J22+[11]A08!J22+[12]A08!J22","v":0},{"$f":"+[1]A08!K22+[2]A08!K22+[3]A08!K22+[4]A08!K22+[5]A08!K22+[6]A08!K22+[7]A08!K22+[8]A08!K22+[9]A08!K22+[10]A08!K22+[10]A08!K22+[11]A08!K22+[12]A08!K22","v":0},{"$f":"+[1]A08!L22+[2]A08!L22+[3]A08!L22+[4]A08!L22+[5]A08!L22+[6]A08!L22+[7]A08!L22+[8]A08!L22+[9]A08!L22+[10]A08!L22+[10]A08!L22+[11]A08!L22+[12]A08!L22","v":0},{"$f":"+[1]A08!M22+[2]A08!M22+[3]A08!M22+[4]A08!M22+[5]A08!M22+[6]A08!M22+[7]A08!M22+[8]A08!M22+[9]A08!M22+[10]A08!M22+[10]A08!M22+[11]A08!M22+[12]A08!M22","v":0},{"$f":"+[1]A08!N22+[2]A08!N22+[3]A08!N22+[4]A08!N22+[5]A08!N22+[6]A08!N22+[7]A08!N22+[8]A08!N22+[9]A08!N22+[10]A08!N22+[10]A08!N22+[11]A08!N22+[12]A08!N22","v":0},{"$f":"+[1]A08!O22+[2]A08!O22+[3]A08!O22+[4]A08!O22+[5]A08!O22+[6]A08!O22+[7]A08!O22+[8]A08!O22+[9]A08!O22+[10]A08!O22+[10]A08!O22+[11]A08!O22+[12]A08!O22","v":0},{"$f":"+[1]A08!P22+[2]A08!P22+[3]A08!P22+[4]A08!P22+[5]A08!P22+[6]A08!P22+[7]A08!P22+[8]A08!P22+[9]A08!P22+[10]A08!P22+[10]A08!P22+[11]A08!P22+[12]A08!P22","v":0},{"$f":"+[1]A08!Q22+[2]A08!Q22+[3]A08!Q22+[4]A08!Q22+[5]A08!Q22+[6]A08!Q22+[7]A08!Q22+[8]A08!Q22+[9]A08!Q22+[10]A08!Q22+[10]A08!Q22+[11]A08!Q22+[12]A08!Q22","v":0},{"$f":"+[1]A08!R22+[2]A08!R22+[3]A08!R22+[4]A08!R22+[5]A08!R22+[6]A08!R22+[7]A08!R22+[8]A08!R22+[9]A08!R22+[10]A08!R22+[10]A08!R22+[11]A08!R22+[12]A08!R22","v":0},{"$f":"+[1]A08!S22+[2]A08!S22+[3]A08!S22+[4]A08!S22+[5]A08!S22+[6]A08!S22+[7]A08!S22+[8]A08!S22+[9]A08!S22+[10]A08!S22+[10]A08!S22+[11]A08!S22+[12]A08!S22","v":0},{"$f":"+[1]A08!T22+[2]A08!T22+[3]A08!T22+[4]A08!T22+[5]A08!T22+[6]A08!T22+[7]A08!T22+[8]A08!T22+[9]A08!T22+[10]A08!T22+[10]A08!T22+[11]A08!T22+[12]A08!T22","v":0},{"$f":"+[1]A08!U22+[2]A08!U22+[3]A08!U22+[4]A08!U22+[5]A08!U22+[6]A08!U22+[7]A08!U22+[8]A08!U22+[9]A08!U22+[10]A08!U22+[10]A08!U22+[11]A08!U22+[12]A08!U22","v":0},{"$f":"+[1]A08!V22+[2]A08!V22+[3]A08!V22+[4]A08!V22+[5]A08!V22+[6]A08!V22+[7]A08!V22+[8]A08!V22+[9]A08!V22+[10]A08!V22+[10]A08!V22+[11]A08!V22+[12]A08!V22","v":0},{"$f":"+[1]A08!W22+[2]A08!W22+[3]A08!W22+[4]A08!W22+[5]A08!W22+[6]A08!W22+[7]A08!W22+[8]A08!W22+[9]A08!W22+[10]A08!W22+[10]A08!W22+[11]A08!W22+[12]A08!W22","v":0},{"$f":"+[1]A08!X22+[2]A08!X22+[3]A08!X22+[4]A08!X22+[5]A08!X22+[6]A08!X22+[7]A08!X22+[8]A08!X22+[9]A08!X22+[10]A08!X22+[10]A08!X22+[11]A08!X22+[12]A08!X22","v":0},{"$f":"+[1]A08!Y22+[2]A08!Y22+[3]A08!Y22+[4]A08!Y22+[5]A08!Y22+[6]A08!Y22+[7]A08!Y22+[8]A08!Y22+[9]A08!Y22+[10]A08!Y22+[10]A08!Y22+[11]A08!Y22+[12]A08!Y22","v":0},{"$f":"+[1]A08!Z22+[2]A08!Z22+[3]A08!Z22+[4]A08!Z22+[5]A08!Z22+[6]A08!Z22+[7]A08!Z22+[8]A08!Z22+[9]A08!Z22+[10]A08!Z22+[10]A08!Z22+[11]A08!Z22+[12]A08!Z22","v":0},{"$f":"+[1]A08!AA22+[2]A08!AA22+[3]A08!AA22+[4]A08!AA22+[5]A08!AA22+[6]A08!AA22+[7]A08!AA22+[8]A08!AA22+[9]A08!AA22+[10]A08!AA22+[10]A08!AA22+[11]A08!AA22+[12]A08!AA22","v":0},{"$f":"+[1]A08!AB22+[2]A08!AB22+[3]A08!AB22+[4]A08!AB22+[5]A08!AB22+[6]A08!AB22+[7]A08!AB22+[8]A08!AB22+[9]A08!AB22+[10]A08!AB22+[10]A08!AB22+[11]A08!AB22+[12]A08!AB22","v":0},{"$f":"+[1]A08!AC22+[2]A08!AC22+[3]A08!AC22+[4]A08!AC22+[5]A08!AC22+[6]A08!AC22+[7]A08!AC22+[8]A08!AC22+[9]A08!AC22+[10]A08!AC22+[10]A08!AC22+[11]A08!AC22+[12]A08!AC22","v":0},{"$f":"+[1]A08!AD22+[2]A08!AD22+[3]A08!AD22+[4]A08!AD22+[5]A08!AD22+[6]A08!AD22+[7]A08!AD22+[8]A08!AD22+[9]A08!AD22+[10]A08!AD22+[10]A08!AD22+[11]A08!AD22+[12]A08!AD22","v":0},{"$f":"+[1]A08!AE22+[2]A08!AE22+[3]A08!AE22+[4]A08!AE22+[5]A08!AE22+[6]A08!AE22+[7]A08!AE22+[8]A08!AE22+[9]A08!AE22+[10]A08!AE22+[10]A08!AE22+[11]A08!AE22+[12]A08!AE22","v":0},{"$f":"+[1]A08!AF22+[2]A08!AF22+[3]A08!AF22+[4]A08!AF22+[5]A08!AF22+[6]A08!AF22+[7]A08!AF22+[8]A08!AF22+[9]A08!AF22+[10]A08!AF22+[10]A08!AF22+[11]A08!AF22+[12]A08!AF22","v":0},{"$f":"+[1]A08!AG22+[2]A08!AG22+[3]A08!AG22+[4]A08!AG22+[5]A08!AG22+[6]A08!AG22+[7]A08!AG22+[8]A08!AG22+[9]A08!AG22+[10]A08!AG22+[10]A08!AG22+[11]A08!AG22+[12]A08!AG22","v":0},{"$f":"+[1]A08!AH22+[2]A08!AH22+[3]A08!AH22+[4]A08!AH22+[5]A08!AH22+[6]A08!AH22+[7]A08!AH22+[8]A08!AH22+[9]A08!AH22+[10]A08!AH22+[10]A08!AH22+[11]A08!AH22+[12]A08!AH22","v":0},{"$f":"+[1]A08!AI22+[2]A08!AI22+[3]A08!AI22+[4]A08!AI22+[5]A08!AI22+[6]A08!AI22+[7]A08!AI22+[8]A08!AI22+[9]A08!AI22+[10]A08!AI22+[10]A08!AI22+[11]A08!AI22+[12]A08!AI22","v":0},{"$f":"+[1]A08!AJ22+[2]A08!AJ22+[3]A08!AJ22+[4]A08!AJ22+[5]A08!AJ22+[6]A08!AJ22+[7]A08!AJ22+[8]A08!AJ22+[9]A08!AJ22+[10]A08!AJ22+[10]A08!AJ22+[11]A08!AJ22+[12]A08!AJ22","v":0},{"$f":"+[1]A08!AK22+[2]A08!AK22+[3]A08!AK22+[4]A08!AK22+[5]A08!AK22+[6]A08!AK22+[7]A08!AK22+[8]A08!AK22+[9]A08!AK22+[10]A08!AK22+[10]A08!AK22+[11]A08!AK22+[12]A08!AK22","v":0},{"$f":"+[1]A08!AL22+[2]A08!AL22+[3]A08!AL22+[4]A08!AL22+[5]A08!AL22+[6]A08!AL22+[7]A08!AL22+[8]A08!AL22+[9]A08!AL22+[10]A08!AL22+[10]A08!AL22+[11]A08!AL22+[12]A08!AL22","v":0},{"$f":"+[1]A08!AM22+[2]A08!AM22+[3]A08!AM22+[4]A08!AM22+[5]A08!AM22+[6]A08!AM22+[7]A08!AM22+[8]A08!AM22+[9]A08!AM22+[10]A08!AM22+[10]A08!AM22+[11]A08!AM22+[12]A08!AM22","v":0},{"$f":"+[1]A08!AN22+[2]A08!AN22+[3]A08!AN22+[4]A08!AN22+[5]A08!AN22+[6]A08!AN22+[7]A08!AN22+[8]A08!AN22+[9]A08!AN22+[10]A08!AN22+[10]A08!AN22+[11]A08!AN22+[12]A08!AN22","v":0},null,null,null,null,null,null,null,null,null,null,null,null,null,null,null,null,null,null,null,null,null,null,null,null,null,null,null,null,null,null,null,null,null,null,null,null,null,null,null,null,null,null,null,null,0,0]
["KINESIÓLOGO/ A",{"$f":"SUM(C23+D23)","v":303},182,121,{"$f":"+[1]A08!E23+[2]A08!E23+[3]A08!E23+[4]A08!E23+[5]A08!E23+[6]A08!E23+[7]A08!E23+[8]A08!E23+[9]A08!E23+[10]A08!E23+[10]A08!E23+[11]A08!E23+[12]A08!E23","v":140},{"$f":"+[1]A08!F23+[2]A08!F23+[3]A08!F23+[4]A08!F23+[5]A08!F23+[6]A08!F23+[7]A08!F23+[8]A08!F23+[9]A08!F23+[10]A08!F23+[10]A08!F23+[11]A08!F23+[12]A08!F23","v":94},{"$f":"+[1]A08!G23+[2]A08!G23+[3]A08!G23+[4]A08!G23+[5]A08!G23+[6]A08!G23+[7]A08!G23+[8]A08!G23+[9]A08!G23+[10]A08!G23+[10]A08!G23+[11]A08!G23+[12]A08!G23","v":25},{"$f":"+[1]A08!H23+[2]A08!H23+[3]A08!H23+[4]A08!H23+[5]A08!H23+[6]A08!H23+[7]A08!H23+[8]A08!H23+[9]A08!H23+[10]A08!H23+[10]A08!H23+[11]A08!H23+[12]A08!H23","v":25},{"$f":"+[1]A08!I23+[2]A08!I23+[3]A08!I23+[4]A08!I23+[5]A08!I23+[6]A08!I23+[7]A08!I23+[8]A08!I23+[9]A08!I23+[10]A08!I23+[10]A08!I23+[11]A08!I23+[12]A08!I23","v":8},{"$f":"+[1]A08!J23+[2]A08!J23+[3]A08!J23+[4]A08!J23+[5]A08!J23+[6]A08!J23+[7]A08!J23+[8]A08!J23+[9]A08!J23+[10]A08!J23+[10]A08!J23+[11]A08!J23+[12]A08!J23","v":1},{"$f":"+[1]A08!K23+[2]A08!K23+[3]A08!K23+[4]A08!K23+[5]A08!K23+[6]A08!K23+[7]A08!K23+[8]A08!K23+[9]A08!K23+[10]A08!K23+[10]A08!K23+[11]A08!K23+[12]A08!K23","v":7},{"$f":"+[1]A08!L23+[2]A08!L23+[3]A08!L23+[4]A08!L23+[5]A08!L23+[6]A08!L23+[7]A08!L23+[8]A08!L23+[9]A08!L23+[10]A08!L23+[10]A08!L23+[11]A08!L23+[12]A08!L23","v":0},{"$f":"+[1]A08!M23+[2]A08!M23+[3]A08!M23+[4]A08!M23+[5]A08!M23+[6]A08!M23+[7]A08!M23+[8]A08!M23+[9]A08!M23+[10]A08!M23+[10]A08!M23+[11]A08!M23+[12]A08!M23","v":0},{"$f":"+[1]A08!N23+[2]A08!N23+[3]A08!N23+[4]A08!N23+[5]A08!N23+[6]A08!N23+[7]A08!N23+[8]A08!N23+[9]A08!N23+[10]A08!N23+[10]A08!N23+[11]A08!N23+[12]A08!N23","v":0},{"$f":"+[1]A08!O23+[2]A08!O23+[3]A08!O23+[4]A08!O23+[5]A08!O23+[6]A08!O23+[7]A08!O23+[8]A08!O23+[9]A08!O23+[10]A08!O23+[10]A08!O23+[11]A08!O23+[12]A08!O23","v":1},{"$f":"+[1]A08!P23+[2]A08!P23+[3]A08!P23+[4]A08!P23+[5]A08!P23+[6]A08!P23+[7]A08!P23+[8]A08!P23+[9]A08!P23+[10]A08!P23+[10]A08!P23+[11]A08!P23+[12]A08!P23","v":0},{"$f":"+[1]A08!Q23+[2]A08!Q23+[3]A08!Q23+[4]A08!Q23+[5]A08!Q23+[6]A08!Q23+[7]A08!Q23+[8]A08!Q23+[9]A08!Q23+[10]A08!Q23+[10]A08!Q23+[11]A08!Q23+[12]A08!Q23","v":1},{"$f":"+[1]A08!R23+[2]A08!R23+[3]A08!R23+[4]A08!R23+[5]A08!R23+[6]A08!R23+[7]A08!R23+[8]A08!R23+[9]A08!R23+[10]A08!R23+[10]A08!R23+[11]A08!R23+[12]A08!R23","v":0},{"$f":"+[1]A08!S23+[2]A08!S23+[3]A08!S23+[4]A08!S23+[5]A08!S23+[6]A08!S23+[7]A08!S23+[8]A08!S23+[9]A08!S23+[10]A08!S23+[10]A08!S23+[11]A08!S23+[12]A08!S23","v":0},{"$f":"+[1]A08!T23+[2]A08!T23+[3]A08!T23+[4]A08!T23+[5]A08!T23+[6]A08!T23+[7]A08!T23+[8]A08!T23+[9]A08!T23+[10]A08!T23+[10]A08!T23+[11]A08!T23+[12]A08!T23","v":0},{"$f":"+[1]A08!U23+[2]A08!U23+[3]A08!U23+[4]A08!U23+[5]A08!U23+[6]A08!U23+[7]A08!U23+[8]A08!U23+[9]A08!U23+[10]A08!U23+[10]A08!U23+[11]A08!U23+[12]A08!U23","v":0},{"$f":"+[1]A08!V23+[2]A08!V23+[3]A08!V23+[4]A08!V23+[5]A08!V23+[6]A08!V23+[7]A08!V23+[8]A08!V23+[9]A08!V23+[10]A08!V23+[10]A08!V23+[11]A08!V23+[12]A08!V23","v":0},{"$f":"+[1]A08!W23+[2]A08!W23+[3]A08!W23+[4]A08!W23+[5]A08!W23+[6]A08!W23+[7]A08!W23+[8]A08!W23+[9]A08!W23+[10]A08!W23+[10]A08!W23+[11]A08!W23+[12]A08!W23","v":0},{"$f":"+[1]A08!X23+[2]A08!X23+[3]A08!X23+[4]A08!X23+[5]A08!X23+[6]A08!X23+[7]A08!X23+[8]A08!X23+[9]A08!X23+[10]A08!X23+[10]A08!X23+[11]A08!X23+[12]A08!X23","v":0},{"$f":"+[1]A08!Y23+[2]A08!Y23+[3]A08!Y23+[4]A08!Y23+[5]A08!Y23+[6]A08!Y23+[7]A08!Y23+[8]A08!Y23+[9]A08!Y23+[10]A08!Y23+[10]A08!Y23+[11]A08!Y23+[12]A08!Y23","v":0},{"$f":"+[1]A08!Z23+[2]A08!Z23+[3]A08!Z23+[4]A08!Z23+[5]A08!Z23+[6]A08!Z23+[7]A08!Z23+[8]A08!Z23+[9]A08!Z23+[10]A08!Z23+[10]A08!Z23+[11]A08!Z23+[12]A08!Z23","v":0},{"$f":"+[1]A08!AA23+[2]A08!AA23+[3]A08!AA23+[4]A08!AA23+[5]A08!AA23+[6]A08!AA23+[7]A08!AA23+[8]A08!AA23+[9]A08!AA23+[10]A08!AA23+[10]A08!AA23+[11]A08!AA23+[12]A08!AA23","v":0},{"$f":"+[1]A08!AB23+[2]A08!AB23+[3]A08!AB23+[4]A08!AB23+[5]A08!AB23+[6]A08!AB23+[7]A08!AB23+[8]A08!AB23+[9]A08!AB23+[10]A08!AB23+[10]A08!AB23+[11]A08!AB23+[12]A08!AB23","v":0},{"$f":"+[1]A08!AC23+[2]A08!AC23+[3]A08!AC23+[4]A08!AC23+[5]A08!AC23+[6]A08!AC23+[7]A08!AC23+[8]A08!AC23+[9]A08!AC23+[10]A08!AC23+[10]A08!AC23+[11]A08!AC23+[12]A08!AC23","v":0},{"$f":"+[1]A08!AD23+[2]A08!AD23+[3]A08!AD23+[4]A08!AD23+[5]A08!AD23+[6]A08!AD23+[7]A08!AD23+[8]A08!AD23+[9]A08!AD23+[10]A08!AD23+[10]A08!AD23+[11]A08!AD23+[12]A08!AD23","v":1},{"$f":"+[1]A08!AE23+[2]A08!AE23+[3]A08!AE23+[4]A08!AE23+[5]A08!AE23+[6]A08!AE23+[7]A08!AE23+[8]A08!AE23+[9]A08!AE23+[10]A08!AE23+[10]A08!AE23+[11]A08!AE23+[12]A08!AE23","v":0},{"$f":"+[1]A08!AF23+[2]A08!AF23+[3]A08!AF23+[4]A08!AF23+[5]A08!AF23+[6]A08!AF23+[7]A08!AF23+[8]A08!AF23+[9]A08!AF23+[10]A08!AF23+[10]A08!AF23+[11]A08!AF23+[12]A08!AF23","v":0},{"$f":"+[1]A08!AG23+[2]A08!AG23+[3]A08!AG23+[4]A08!AG23+[5]A08!AG23+[6]A08!AG23+[7]A08!AG23+[8]A08!AG23+[9]A08!AG23+[10]A08!AG23+[10]A08!AG23+[11]A08!AG23+[12]A08!AG23","v":0},{"$f":"+[1]A08!AH23+[2]A08!AH23+[3]A08!AH23+[4]A08!AH23+[5]A08!AH23+[6]A08!AH23+[7]A08!AH23+[8]A08!AH23+[9]A08!AH23+[10]A08!AH23+[10]A08!AH23+[11]A08!AH23+[12]A08!AH23","v":0},{"$f":"+[1]A08!AI23+[2]A08!AI23+[3]A08!AI23+[4]A08!AI23+[5]A08!AI23+[6]A08!AI23+[7]A08!AI23+[8]A08!AI23+[9]A08!AI23+[10]A08!AI23+[10]A08!AI23+[11]A08!AI23+[12]A08!AI23","v":0},{"$f":"+[1]A08!AJ23+[2]A08!AJ23+[3]A08!AJ23+[4]A08!AJ23+[5]A08!AJ23+[6]A08!AJ23+[7]A08!AJ23+[8]A08!AJ23+[9]A08!AJ23+[10]A08!AJ23+[10]A08!AJ23+[11]A08!AJ23+[12]A08!AJ23","v":0},{"$f":"+[1]A08!AK23+[2]A08!AK23+[3]A08!AK23+[4]A08!AK23+[5]A08!AK23+[6]A08!AK23+[7]A08!AK23+[8]A08!AK23+[9]A08!AK23+[10]A08!AK23+[10]A08!AK23+[11]A08!AK23+[12]A08!AK23","v":0},{"$f":"+[1]A08!AL23+[2]A08!AL23+[3]A08!AL23+[4]A08!AL23+[5]A08!AL23+[6]A08!AL23+[7]A08!AL23+[8]A08!AL23+[9]A08!AL23+[10]A08!AL23+[10]A08!AL23+[11]A08!AL23+[12]A08!AL23","v":0},{"$f":"+[1]A08!AM23+[2]A08!AM23+[3]A08!AM23+[4]A08!AM23+[5]A08!AM23+[6]A08!AM23+[7]A08!AM23+[8]A08!AM23+[9]A08!AM23+[10]A08!AM23+[10]A08!AM23+[11]A08!AM23+[12]A08!AM23","v":247},{"$f":"+[1]A08!AN23+[2]A08!AN23+[3]A08!AN23+[4]A08!AN23+[5]A08!AN23+[6]A08!AN23+[7]A08!AN23+[8]A08!AN23+[9]A08!AN23+[10]A08!AN23+[10]A08!AN23+[11]A08!AN23+[12]A08!AN23","v":303},null,null,null,null,null,null,null,null,null,null,null,null,null,null,null,null,null,null,null,null,null,null,null,null,null,null,null,null,null,null,null,null,null,null,null,null,null,null,null,null,null,null,null,null,0,0]
["SECCIÓN A.3: ATENCIONES DE URGENCIA REALIZADAS EN ESTABLECIMIENTOS DE BAJA COMPLEJIDAD"]
["PROFESIONAL","TOTAL        ",null,null,"GRUPOS DE EDAD (en años)",null,null,null,null,null,null,null,null,null,null,null,null,null,null,null,null,null,null,null,null,null,null,null,null,null,null,null,null,null,null,null,null,null,"Beneficiarios","Demanda de Urgencia"]
[null,null,null,null,"0 - 4",null,"5 - 9",null,"10 - 14",null,"15 - 19",null,"20 - 24",null,"25 - 29",null,"30 - 34",null,"35 - 39",null,"40 - 44",null,"45 - 49",null,"50 - 54",null,"55 - 59",null,"60 - 64",null,"65 - 69",null,"70 - 74",null,"75 - 79",null,"80 y mas"]
[null,"Ambos Sexos","Hombres ","Mujeres","Hombres ","Mujeres","Hombres ","Mujeres","Hombres ","Mujeres","Hombres ","Mujeres","Hombres ","Mujeres","Hombres ","Mujeres","Hombres ","Mujeres","Hombres ","Mujeres","Hombres ","Mujeres","Hombres ","Mujeres","Hombres ","Mujeres","Hombres ","Mujeres","Hombres ","Mujeres","Hombres ","Mujeres","Hombres ","Mujeres","Hombres ","Mujeres","Hombres ","Mujeres"]
["MÉDICO",{"$f":"SUM(C28+D28)","v":0},{"$f":"SUM(E28+G28+I28+K28+M28+O28+Q28+S28+U28+W28+Y28+AA28+AC28+AE28+AG28+AI28+AK28)","v":0},0,{"$f":"+[1]A08!E28+[2]A08!E28+[3]A08!E28+[4]A08!E28+[5]A08!E28+[6]A08!E28+[7]A08!E28+[8]A08!E28+[9]A08!E28+[10]A08!E28+[10]A08!E28+[11]A08!E28+[12]A08!E28","v":0},{"$f":"+[1]A08!F28+[2]A08!F28+[3]A08!F28+[4]A08!F28+[5]A08!F28+[6]A08!F28+[7]A08!F28+[8]A08!F28+[9]A08!F28+[10]A08!F28+[10]A08!F28+[11]A08!F28+[12]A08!F28","v":0},{"$f":"+[1]A08!G28+[2]A08!G28+[3]A08!G28+[4]A08!G28+[5]A08!G28+[6]A08!G28+[7]A08!G28+[8]A08!G28+[9]A08!G28+[10]A08!G28+[10]A08!G28+[11]A08!G28+[12]A08!G28","v":0},{"$f":"+[1]A08!H28+[2]A08!H28+[3]A08!H28+[4]A08!H28+[5]A08!H28+[6]A08!H28+[7]A08!H28+[8]A08!H28+[9]A08!H28+[10]A08!H28+[10]A08!H28+[11]A08!H28+[12]A08!H28","v":0},{"$f":"+[1]A08!I28+[2]A08!I28+[3]A08!I28+[4]A08!I28+[5]A08!I28+[6]A08!I28+[7]A08!I28+[8]A08!I28+[9]A08!I28+[10]A08!I28+[10]A08!I28+[11]A08!I28+[12]A08!I28","v":0},{"$f":"+[1]A08!J28+[2]A08!J28+[3]A08!J28+[4]A08!J28+[5]A08!J28+[6]A08!J28+[7]A08!J28+[8]A08!J28+[9]A08!J28+[10]A08!J28+[10]A08!J28+[11]A08!J28+[12]A08!J28","v":0},{"$f":"+[1]A08!K28+[2]A08!K28+[3]A08!K28+[4]A08!K28+[5]A08!K28+[6]A08!K28+[7]A08!K28+[8]A08!K28+[9]A08!K28+[10]A08!K28+[10]A08!K28+[11]A08!K28+[12]A08!K28","v":0},{"$f":"+[1]A08!L28+[2]A08!L28+[3]A08!L28+[4]A08!L28+[5]A08!L28+[6]A08!L28+[7]A08!L28+[8]A08!L28+[9]A08!L28+[10]A08!L28+[10]A08!L28+[11]A08!L28+[12]A08!L28","v":0},{"$f":"+[1]A08!M28+[2]A08!M28+[3]A08!M28+[4]A08!M28+[5]A08!M28+[6]A08!M28+[7]A08!M28+[8]A08!M28+[9]A08!M28+[10]A08!M28+[10]A08!M28+[11]A08!M28+[12]A08!M28","v":0},{"$f":"+[1]A08!N28+[2]A08!N28+[3]A08!N28+[4]A08!N28+[5]A08!N28+[6]A08!N28+[7]A08!N28+[8]A08!N28+[9]A08!N28+[10]A08!N28+[10]A08!N28+[11]A08!N28+[12]A08!N28","v":0},{"$f":"+[1]A08!O28+[2]A08!O28+[3]A08!O28+[4]A08!O28+[5]A08!O28+[6]A08!O28+[7]A08!O28+[8]A08!O28+[9]A08!O28+[10]A08!O28+[10]A08!O28+[11]A08!O28+[12]A08!O28","v":0},{"$f":"+[1]A08!P28+[2]A08!P28+[3]A08!P28+[4]A08!P28+[5]A08!P28+[6]A08!P28+[7]A08!P28+[8]A08!P28+[9]A08!P28+[10]A08!P28+[10]A08!P28+[11]A08!P28+[12]A08!P28","v":0},{"$f":"+[1]A08!Q28+[2]A08!Q28+[3]A08!Q28+[4]A08!Q28+[5]A08!Q28+[6]A08!Q28+[7]A08!Q28+[8]A08!Q28+[9]A08!Q28+[10]A08!Q28+[10]A08!Q28+[11]A08!Q28+[12]A08!Q28","v":0},{"$f":"+[1]A08!R28+[2]A08!R28+[3]A08!R28+[4]A08!R28+[5]A08!R28+[6]A08!R28+[7]A08!R28+[8]A08!R28+[9]A08!R28+[10]A08!R28+[10]A08!R28+[11]A08!R28+[12]A08!R28","v":0},{"$f":"+[1]A08!S28+[2]A08!S28+[3]A08!S28+[4]A08!S28+[5]A08!S28+[6]A08!S28+[7]A08!S28+[8]A08!S28+[9]A08!S28+[10]A08!S28+[10]A08!S28+[11]A08!S28+[12]A08!S28","v":0},{"$f":"+[1]A08!T28+[2]A08!T28+[3]A08!T28+[4]A08!T28+[5]A08!T28+[6]A08!T28+[7]A08!T28+[8]A08!T28+[9]A08!T28+[10]A08!T28+[10]A08!T28+[11]A08!T28+[12]A08!T28","v":0},{"$f":"+[1]A08!U28+[2]A08!U28+[3]A08!U28+[4]A08!U28+[5]A08!U28+[6]A08!U28+[7]A08!U28+[8]A08!U28+[9]A08!U28+[10]A08!U28+[10]A08!U28+[11]A08!U28+[12]A08!U28","v":0},{"$f":"+[1]A08!V28+[2]A08!V28+[3]A08!V28+[4]A08!V28+[5]A08!V28+[6]A08!V28+[7]A08!V28+[8]A08!V28+[9]A08!V28+[10]A08!V28+[10]A08!V28+[11]A08!V28+[12]A08!V28","v":0},{"$f":"+[1]A08!W28+[2]A08!W28+[3]A08!W28+[4]A08!W28+[5]A08!W28+[6]A08!W28+[7]A08!W28+[8]A08!W28+[9]A08!W28+[10]A08!W28+[10]A08!W28+[11]A08!W28+[12]A08!W28","v":0},{"$f":"+[1]A08!X28+[2]A08!X28+[3]A08!X28+[4]A08!X28+[5]A08!X28+[6]A08!X28+[7]A08!X28+[8]A08!X28+[9]A08!X28+[10]A08!X28+[10]A08!X28+[11]A08!X28+[12]A08!X28","v":0},{"$f":"+[1]A08!Y28+[2]A08!Y28+[3]A08!Y28+[4]A08!Y28+[5]A08!Y28+[6]A08!Y28+[7]A08!Y28+[8]A08!Y28+[9]A08!Y28+[10]A08!Y28+[10]A08!Y28+[11]A08!Y28+[12]A08!Y28","v":0},{"$f":"+[1]A08!Z28+[2]A08!Z28+[3]A08!Z28+[4]A08!Z28+[5]A08!Z28+[6]A08!Z28+[7]A08!Z28+[8]A08!Z28+[9]A08!Z28+[10]A08!Z28+[10]A08!Z28+[11]A08!Z28+[12]A08!Z28","v":0},{"$f":"+[1]A08!AA28+[2]A08!AA28+[3]A08!AA28+[4]A08!AA28+[5]A08!AA28+[6]A08!AA28+[7]A08!AA28+[8]A08!AA28+[9]A08!AA28+[10]A08!AA28+[10]A08!AA28+[11]A08!AA28+[12]A08!AA28","v":0},{"$f":"+[1]A08!AB28+[2]A08!AB28+[3]A08!AB28+[4]A08!AB28+[5]A08!AB28+[6]A08!AB28+[7]A08!AB28+[8]A08!AB28+[9]A08!AB28+[10]A08!AB28+[10]A08!AB28+[11]A08!AB28+[12]A08!AB28","v":0},{"$f":"+[1]A08!AC28+[2]A08!AC28+[3]A08!AC28+[4]A08!AC28+[5]A08!AC28+[6]A08!AC28+[7]A08!AC28+[8]A08!AC28+[9]A08!AC28+[10]A08!AC28+[10]A08!AC28+[11]A08!AC28+[12]A08!AC28","v":0},{"$f":"+[1]A08!AD28+[2]A08!AD28+[3]A08!AD28+[4]A08!AD28+[5]A08!AD28+[6]A08!AD28+[7]A08!AD28+[8]A08!AD28+[9]A08!AD28+[10]A08!AD28+[10]A08!AD28+[11]A08!AD28+[12]A08!AD28","v":0},{"$f":"+[1]A08!AE28+[2]A08!AE28+[3]A08!AE28+[4]A08!AE28+[5]A08!AE28+[6]A08!AE28+[7]A08!AE28+[8]A08!AE28+[9]A08!AE28+[10]A08!AE28+[10]A08!AE28+[11]A08!AE28+[12]A08!AE28","v":0},{"$f":"+[1]A08!AF28+[2]A08!AF28+[3]A08!AF28+[4]A08!AF28+[5]A08!AF28+[6]A08!AF28+[7]A08!AF28+[8]A08!AF28+[9]A08!AF28+[10]A08!AF28+[10]A08!AF28+[11]A08!AF28+[12]A08!AF28","v":0},{"$f":"+[1]A08!AG28+[2]A08!AG28+[3]A08!AG28+[4]A08!AG28+[5]A08!AG28+[6]A08!AG28+[7]A08!AG28+[8]A08!AG28+[9]A08!AG28+[10]A08!AG28+[10]A08!AG28+[11]A08!AG28+[12]A08!AG28","v":0},{"$f":"+[1]A08!AH28+[2]A08!AH28+[3]A08!AH28+[4]A08!AH28+[5]A08!AH28+[6]A08!AH28+[7]A08!AH28+[8]A08!AH28+[9]A08!AH28+[10]A08!AH28+[10]A08!AH28+[11]A08!AH28+[12]A08!AH28","v":0},{"$f":"+[1]A08!AI28+[2]A08!AI28+[3]A08!AI28+[4]A08!AI28+[5]A08!AI28+[6]A08!AI28+[7]A08!AI28+[8]A08!AI28+[9]A08!AI28+[10]A08!AI28+[10]A08!AI28+[11]A08!AI28+[12]A08!AI28","v":0},{"$f":"+[1]A08!AJ28+[2]A08!AJ28+[3]A08!AJ28+[4]A08!AJ28+[5]A08!AJ28+[6]A08!AJ28+[7]A08!AJ28+[8]A08!AJ28+[9]A08!AJ28+[10]A08!AJ28+[10]A08!AJ28+[11]A08!AJ28+[12]A08!AJ28","v":0},{"$f":"+[1]A08!AK28+[2]A08!AK28+[3]A08!AK28+[4]A08!AK28+[5]A08!AK28+[6]A08!AK28+[7]A08!AK28+[8]A08!AK28+[9]A08!AK28+[10]A08!AK28+[10]A08!AK28+[11]A08!AK28+[12]A08!AK28","v":0},{"$f":"+[1]A08!AL28+[2]A08!AL28+[3]A08!AL28+[4]A08!AL28+[5]A08!AL28+[6]A08!AL28+[7]A08!AL28+[8]A08!AL28+[9]A08!AL28+[10]A08!AL28+[10]A08!AL28+[11]A08!AL28+[12]A08!AL28","v":0},{"$f":"+[1]A08!AM28+[2]A08!AM28+[3]A08!AM28+[4]A08!AM28+[5]A08!AM28+[6]A08!AM28+[7]A08!AM28+[8]A08!AM28+[9]A08!AM28+[10]A08!AM28+[10]A08!AM28+[11]A08!AM28+[12]A08!AM28","v":0},{"$f":"+[1]A08!AN28+[2]A08!AN28+[3]A08!AN28+[4]A08!AN28+[5]A08!AN28+[6]A08!AN28+[7]A08!AN28+[8]A08!AN28+[9]A08!AN28+[10]A08!AN28+[10]A08!AN28+[11]A08!AN28+[12]A08!AN28","v":0},null,null,null,null,null,null,null,null,null,null,null,null,null,null,null,null,null,null,null,null,null,null,null,null,null,null,null,null,null,null,null,null,null,null,null,null,null,null,null,null,null,null,null,null,0,0]
["ENFERMERA /O",0,0,0,{"$f":"+[1]A08!E29+[2]A08!E29+[3]A08!E29+[4]A08!E29+[5]A08!E29+[6]A08!E29+[7]A08!E29+[8]A08!E29+[9]A08!E29+[10]A08!E29+[10]A08!E29+[11]A08!E29+[12]A08!E29","v":0},{"$f":"+[1]A08!F29+[2]A08!F29+[3]A08!F29+[4]A08!F29+[5]A08!F29+[6]A08!F29+[7]A08!F29+[8]A08!F29+[9]A08!F29+[10]A08!F29+[10]A08!F29+[11]A08!F29+[12]A08!F29","v":0},{"$f":"+[1]A08!G29+[2]A08!G29+[3]A08!G29+[4]A08!G29+[5]A08!G29+[6]A08!G29+[7]A08!G29+[8]A08!G29+[9]A08!G29+[10]A08!G29+[10]A08!G29+[11]A08!G29+[12]A08!G29","v":0},{"$f":"+[1]A08!H29+[2]A08!H29+[3]A08!H29+[4]A08!H29+[5]A08!H29+[6]A08!H29+[7]A08!H29+[8]A08!H29+[9]A08!H29+[10]A08!H29+[10]A08!H29+[11]A08!H29+[12]A08!H29","v":0},{"$f":"+[1]A08!I29+[2]A08!I29+[3]A08!I29+[4]A08!I29+[5]A08!I29+[6]A08!I29+[7]A08!I29+[8]A08!I29+[9]A08!I29+[10]A08!I29+[10]A08!I29+[11]A08!I29+[12]A08!I29","v":0},{"$f":"+[1]A08!J29+[2]A08!J29+[3]A08!J29+[4]A08!J29+[5]A08!J29+[6]A08!J29+[7]A08!J29+[8]A08!J29+[9]A08!J29+[10]A08!J29+[10]A08!J29+[11]A08!J29+[12]A08!J29","v":0},{"$f":"+[1]A08!K29+[2]A08!K29+[3]A08!K29+[4]A08!K29+[5]A08!K29+[6]A08!K29+[7]A08!K29+[8]A08!K29+[9]A08!K29+[10]A08!K29+[10]A08!K29+[11]A08!K29+[12]A08!K29","v":0},{"$f":"+[1]A08!L29+[2]A08!L29+[3]A08!L29+[4]A08!L29+[5]A08!L29+[6]A08!L29+[7]A08!L29+[8]A08!L29+[9]A08!L29+[10]A08!L29+[10]A08!L29+[11]A08!L29+[12]A08!L29","v":0},{"$f":"+[1]A08!M29+[2]A08!M29+[3]A08!M29+[4]A08!M29+[5]A08!M29+[6]A08!M29+[7]A08!M29+[8]A08!M29+[9]A08!M29+[10]A08!M29+[10]A08!M29+[11]A08!M29+[12]A08!M29","v":0},{"$f":"+[1]A08!N29+[2]A08!N29+[3]A08!N29+[4]A08!N29+[5]A08!N29+[6]A08!N29+[7]A08!N29+[8]A08!N29+[9]A08!N29+[10]A08!N29+[10]A08!N29+[11]A08!N29+[12]A08!N29","v":0},{"$f":"+[1]A08!O29+[2]A08!O29+[3]A08!O29+[4]A08!O29+[5]A08!O29+[6]A08!O29+[7]A08!O29+[8]A08!O29+[9]A08!O29+[10]A08!O29+[10]A08!O29+[11]A08!O29+[12]A08!O29","v":0},{"$f":"+[1]A08!P29+[2]A08!P29+[3]A08!P29+[4]A08!P29+[5]A08!P29+[6]A08!P29+[7]A08!P29+[8]A08!P29+[9]A08!P29+[10]A08!P29+[10]A08!P29+[11]A08!P29+[12]A08!P29","v":0},{"$f":"+[1]A08!Q29+[2]A08!Q29+[3]A08!Q29+[4]A08!Q29+[5]A08!Q29+[6]A08!Q29+[7]A08!Q29+[8]A08!Q29+[9]A08!Q29+[10]A08!Q29+[10]A08!Q29+[11]A08!Q29+[12]A08!Q29","v":0},{"$f":"+[1]A08!R29+[2]A08!R29+[3]A08!R29+[4]A08!R29+[5]A08!R29+[6]A08!R29+[7]A08!R29+[8]A08!R29+[9]A08!R29+[10]A08!R29+[10]A08!R29+[11]A08!R29+[12]A08!R29","v":0},{"$f":"+[1]A08!S29+[2]A08!S29+[3]A08!S29+[4]A08!S29+[5]A08!S29+[6]A08!S29+[7]A08!S29+[8]A08!S29+[9]A08!S29+[10]A08!S29+[10]A08!S29+[11]A08!S29+[12]A08!S29","v":0},{"$f":"+[1]A08!T29+[2]A08!T29+[3]A08!T29+[4]A08!T29+[5]A08!T29+[6]A08!T29+[7]A08!T29+[8]A08!T29+[9]A08!T29+[10]A08!T29+[10]A08!T29+[11]A08!T29+[12]A08!T29","v":0},{"$f":"+[1]A08!U29+[2]A08!U29+[3]A08!U29+[4]A08!U29+[5]A08!U29+[6]A08!U29+[7]A08!U29+[8]A08!U29+[9]A08!U29+[10]A08!U29+[10]A08!U29+[11]A08!U29+[12]A08!U29","v":0},{"$f":"+[1]A08!V29+[2]A08!V29+[3]A08!V29+[4]A08!V29+[5]A08!V29+[6]A08!V29+[7]A08!V29+[8]A08!V29+[9]A08!V29+[10]A08!V29+[10]A08!V29+[11]A08!V29+[12]A08!V29","v":0},{"$f":"+[1]A08!W29+[2]A08!W29+[3]A08!W29+[4]A08!W29+[5]A08!W29+[6]A08!W29+[7]A08!W29+[8]A08!W29+[9]A08!W29+[10]A08!W29+[10]A08!W29+[11]A08!W29+[12]A08!W29","v":0},{"$f":"+[1]A08!X29+[2]A08!X29+[3]A08!X29+[4]A08!X29+[5]A08!X29+[6]A08!X29+[7]A08!X29+[8]A08!X29+[9]A08!X29+[10]A08!X29+[10]A08!X29+[11]A08!X29+[12]A08!X29","v":0},{"$f":"+[1]A08!Y29+[2]A08!Y29+[3]A08!Y29+[4]A08!Y29+[5]A08!Y29+[6]A08!Y29+[7]A08!Y29+[8]A08!Y29+[9]A08!Y29+[10]A08!Y29+[10]A08!Y29+[11]A08!Y29+[12]A08!Y29","v":0},{"$f":"+[1]A08!Z29+[2]A08!Z29+[3]A08!Z29+[4]A08!Z29+[5]A08!Z29+[6]A08!Z29+[7]A08!Z29+[8]A08!Z29+[9]A08!Z29+[10]A08!Z29+[10]A08!Z29+[11]A08!Z29+[12]A08!Z29","v":0},{"$f":"+[1]A08!AA29+[2]A08!AA29+[3]A08!AA29+[4]A08!AA29+[5]A08!AA29+[6]A08!AA29+[7]A08!AA29+[8]A08!AA29+[9]A08!AA29+[10]A08!AA29+[10]A08!AA29+[11]A08!AA29+[12]A08!AA29","v":0},{"$f":"+[1]A08!AB29+[2]A08!AB29+[3]A08!AB29+[4]A08!AB29+[5]A08!AB29+[6]A08!AB29+[7]A08!AB29+[8]A08!AB29+[9]A08!AB29+[10]A08!AB29+[10]A08!AB29+[11]A08!AB29+[12]A08!AB29","v":0},{"$f":"+[1]A08!AC29+[2]A08!AC29+[3]A08!AC29+[4]A08!AC29+[5]A08!AC29+[6]A08!AC29+[7]A08!AC29+[8]A08!AC29+[9]A08!AC29+[10]A08!AC29+[10]A08!AC29+[11]A08!AC29+[12]A08!AC29","v":0},{"$f":"+[1]A08!AD29+[2]A08!AD29+[3]A08!AD29+[4]A08!AD29+[5]A08!AD29+[6]A08!AD29+[7]A08!AD29+[8]A08!AD29+[9]A08!AD29+[10]A08!AD29+[10]A08!AD29+[11]A08!AD29+[12]A08!AD29","v":0},{"$f":"+[1]A08!AE29+[2]A08!AE29+[3]A08!AE29+[4]A08!AE29+[5]A08!AE29+[6]A08!AE29+[7]A08!AE29+[8]A08!AE29+[9]A08!AE29+[10]A08!AE29+[10]A08!AE29+[11]A08!AE29+[12]A08!AE29","v":0},{"$f":"+[1]A08!AF29+[2]A08!AF29+[3]A08!AF29+[4]A08!AF29+[5]A08!AF29+[6]A08!AF29+[7]A08!AF29+[8]A08!AF29+[9]A08!AF29+[10]A08!AF29+[10]A08!AF29+[11]A08!AF29+[12]A08!AF29","v":0},{"$f":"+[1]A08!AG29+[2]A08!AG29+[3]A08!AG29+[4]A08!AG29+[5]A08!AG29+[6]A08!AG29+[7]A08!AG29+[8]A08!AG29+[9]A08!AG29+[10]A08!AG29+[10]A08!AG29+[11]A08!AG29+[12]A08!AG29","v":0},{"$f":"+[1]A08!AH29+[2]A08!AH29+[3]A08!AH29+[4]A08!AH29+[5]A08!AH29+[6]A08!AH29+[7]A08!AH29+[8]A08!AH29+[9]A08!AH29+[10]A08!AH29+[10]A08!AH29+[11]A08!AH29+[12]A08!AH29","v":0},{"$f":"+[1]A08!AI29+[2]A08!AI29+[3]A08!AI29+[4]A08!AI29+[5]A08!AI29+[6]A08!AI29+[7]A08!AI29+[8]A08!AI29+[9]A08!AI29+[10]A08!AI29+[10]A08!AI29+[11]A08!AI29+[12]A08!AI29","v":0},{"$f":"+[1]A08!AJ29+[2]A08!AJ29+[3]A08!AJ29+[4]A08!AJ29+[5]A08!AJ29+[6]A08!AJ29+[7]A08!AJ29+[8]A08!AJ29+[9]A08!AJ29+[10]A08!AJ29+[10]A08!AJ29+[11]A08!AJ29+[12]A08!AJ29","v":0},{"$f":"+[1]A08!AK29+[2]A08!AK29+[3]A08!AK29+[4]A08!AK29+[5]A08!AK29+[6]A08!AK29+[7]A08!AK29+[8]A08!AK29+[9]A08!AK29+[10]A08!AK29+[10]A08!AK29+[11]A08!AK29+[12]A08!AK29","v":0},{"$f":"+[1]A08!AL29+[2]A08!AL29+[3]A08!AL29+[4]A08!AL29+[5]A08!AL29+[6]A08!AL29+[7]A08!AL29+[8]A08!AL29+[9]A08!AL29+[10]A08!AL29+[10]A08!AL29+[11]A08!AL29+[12]A08!AL29","v":0},{"$f":"+[1]A08!AM29+[2]A08!AM29+[3]A08!AM29+[4]A08!AM29+[5]A08!AM29+[6]A08!AM29+[7]A08!AM29+[8]A08!AM29+[9]A08!AM29+[10]A08!AM29+[10]A08!AM29+[11]A08!AM29+[12]A08!AM29","v":0},{"$f":"+[1]A08!AN29+[2]A08!AN29+[3]A08!AN29+[4]A08!AN29+[5]A08!AN29+[6]A08!AN29+[7]A08!AN29+[8]A08!AN29+[9]A08!AN29+[10]A08!AN29+[10]A08!AN29+[11]A08!AN29+[12]A08!AN29","v":0},null,null,null,null,null,null,null,null,null,null,null,null,null,null,null,null,null,null,null,null,null,null,null,null,null,null,null,null,null,null,null,null,null,null,null,null,null,null,null,null,null,null,null,null,0,0]
["MATRONA /ÓN",0,0,0,{"$f":"+[1]A08!E30+[2]A08!E30+[3]A08!E30+[4]A08!E30+[5]A08!E30+[6]A08!E30+[7]A08!E30+[8]A08!E30+[9]A08!E30+[10]A08!E30+[10]A08!E30+[11]A08!E30+[12]A08!E30","v":0},{"$f":"+[1]A08!F30+[2]A08!F30+[3]A08!F30+[4]A08!F30+[5]A08!F30+[6]A08!F30+[7]A08!F30+[8]A08!F30+[9]A08!F30+[10]A08!F30+[10]A08!F30+[11]A08!F30+[12]A08!F30","v":0},{"$f":"+[1]A08!G30+[2]A08!G30+[3]A08!G30+[4]A08!G30+[5]A08!G30+[6]A08!G30+[7]A08!G30+[8]A08!G30+[9]A08!G30+[10]A08!G30+[10]A08!G30+[11]A08!G30+[12]A08!G30","v":0},{"$f":"+[1]A08!H30+[2]A08!H30+[3]A08!H30+[4]A08!H30+[5]A08!H30+[6]A08!H30+[7]A08!H30+[8]A08!H30+[9]A08!H30+[10]A08!H30+[10]A08!H30+[11]A08!H30+[12]A08!H30","v":0},{"$f":"+[1]A08!I30+[2]A08!I30+[3]A08!I30+[4]A08!I30+[5]A08!I30+[6]A08!I30+[7]A08!I30+[8]A08!I30+[9]A08!I30+[10]A08!I30+[10]A08!I30+[11]A08!I30+[12]A08!I30","v":0},{"$f":"+[1]A08!J30+[2]A08!J30+[3]A08!J30+[4]A08!J30+[5]A08!J30+[6]A08!J30+[7]A08!J30+[8]A08!J30+[9]A08!J30+[10]A08!J30+[10]A08!J30+[11]A08!J30+[12]A08!J30","v":0},{"$f":"+[1]A08!K30+[2]A08!K30+[3]A08!K30+[4]A08!K30+[5]A08!K30+[6]A08!K30+[7]A08!K30+[8]A08!K30+[9]A08!K30+[10]A08!K30+[10]A08!K30+[11]A08!K30+[12]A08!K30","v":0},{"$f":"+[1]A08!L30+[2]A08!L30+[3]A08!L30+[4]A08!L30+[5]A08!L30+[6]A08!L30+[7]A08!L30+[8]A08!L30+[9]A08!L30+[10]A08!L30+[10]A08!L30+[11]A08!L30+[12]A08!L30","v":0},{"$f":"+[1]A08!M30+[2]A08!M30+[3]A08!M30+[4]A08!M30+[5]A08!M30+[6]A08!M30+[7]A08!M30+[8]A08!M30+[9]A08!M30+[10]A08!M30+[10]A08!M30+[11]A08!M30+[12]A08!M30","v":0},{"$f":"+[1]A08!N30+[2]A08!N30+[3]A08!N30+[4]A08!N30+[5]A08!N30+[6]A08!N30+[7]A08!N30+[8]A08!N30+[9]A08!N30+[10]A08!N30+[10]A08!N30+[11]A08!N30+[12]A08!N30","v":0},{"$f":"+[1]A08!O30+[2]A08!O30+[3]A08!O30+[4]A08!O30+[5]A08!O30+[6]A08!O30+[7]A08!O30+[8]A08!O30+[9]A08!O30+[10]A08!O30+[10]A08!O30+[11]A08!O30+[12]A08!O30","v":0},{"$f":"+[1]A08!P30+[2]A08!P30+[3]A08!P30+[4]A08!P30+[5]A08!P30+[6]A08!P30+[7]A08!P30+[8]A08!P30+[9]A08!P30+[10]A08!P30+[10]A08!P30+[11]A08!P30+[12]A08!P30","v":0},{"$f":"+[1]A08!Q30+[2]A08!Q30+[3]A08!Q30+[4]A08!Q30+[5]A08!Q30+[6]A08!Q30+[7]A08!Q30+[8]A08!Q30+[9]A08!Q30+[10]A08!Q30+[10]A08!Q30+[11]A08!Q30+[12]A08!Q30","v":0},{"$f":"+[1]A08!R30+[2]A08!R30+[3]A08!R30+[4]A08!R30+[5]A08!R30+[6]A08!R30+[7]A08!R30+[8]A08!R30+[9]A08!R30+[10]A08!R30+[10]A08!R30+[11]A08!R30+[12]A08!R30","v":0},{"$f":"+[1]A08!S30+[2]A08!S30+[3]A08!S30+[4]A08!S30+[5]A08!S30+[6]A08!S30+[7]A08!S30+[8]A08!S30+[9]A08!S30+[10]A08!S30+[10]A08!S30+[11]A08!S30+[12]A08!S30","v":0},{"$f":"+[1]A08!T30+[2]A08!T30+[3]A08!T30+[4]A08!T30+[5]A08!T30+[6]A08!T30+[7]A08!T30+[8]A08!T30+[9]A08!T30+[10]A08!T30+[10]A08!T30+[11]A08!T30+[12]A08!T30","v":0},{"$f":"+[1]A08!U30+[2]A08!U30+[3]A08!U30+[4]A08!U30+[5]A08!U30+[6]A08!U30+[7]A08!U30+[8]A08!U30+[9]A08!U30+[10]A08!U30+[10]A08!U30+[11]A08!U30+[12]A08!U30","v":0},{"$f":"+[1]A08!V30+[2]A08!V30+[3]A08!V30+[4]A08!V30+[5]A08!V30+[6]A08!V30+[7]A08!V30+[8]A08!V30+[9]A08!V30+[10]A08!V30+[10]A08!V30+[11]A08!V30+[12]A08!V30","v":0},{"$f":"+[1]A08!W30+[2]A08!W30+[3]A08!W30+[4]A08!W30+[5]A08!W30+[6]A08!W30+[7]A08!W30+[8]A08!W30+[9]A08!W30+[10]A08!W30+[10]A08!W30+[11]A08!W30+[12]A08!W30","v":0},{"$f":"+[1]A08!X30+[2]A08!X30+[3]A08!X30+[4]A08!X30+[5]A08!X30+[6]A08!X30+[7]A08!X30+[8]A08!X30+[9]A08!X30+[10]A08!X30+[10]A08!X30+[11]A08!X30+[12]A08!X30","v":0},{"$f":"+[1]A08!Y30+[2]A08!Y30+[3]A08!Y30+[4]A08!Y30+[5]A08!Y30+[6]A08!Y30+[7]A08!Y30+[8]A08!Y30+[9]A08!Y30+[10]A08!Y30+[10]A08!Y30+[11]A08!Y30+[12]A08!Y30","v":0},{"$f":"+[1]A08!Z30+[2]A08!Z30+[3]A08!Z30+[4]A08!Z30+[5]A08!Z30+[6]A08!Z30+[7]A08!Z30+[8]A08!Z30+[9]A08!Z30+[10]A08!Z30+[10]A08!Z30+[11]A08!Z30+[12]A08!Z30","v":0},{"$f":"+[1]A08!AA30+[2]A08!AA30+[3]A08!AA30+[4]A08!AA30+[5]A08!AA30+[6]A08!AA30+[7]A08!AA30+[8]A08!AA30+[9]A08!AA30+[10]A08!AA30+[10]A08!AA30+[11]A08!AA30+[12]A08!AA30","v":0},{"$f":"+[1]A08!AB30+[2]A08!AB30+[3]A08!AB30+[4]A08!AB30+[5]A08!AB30+[6]A08!AB30+[7]A08!AB30+[8]A08!AB30+[9]A08!AB30+[10]A08!AB30+[10]A08!AB30+[11]A08!AB30+[12]A08!AB30","v":0},{"$f":"+[1]A08!AC30+[2]A08!AC30+[3]A08!AC30+[4]A08!AC30+[5]A08!AC30+[6]A08!AC30+[7]A08!AC30+[8]A08!AC30+[9]A08!AC30+[10]A08!AC30+[10]A08!AC30+[11]A08!AC30+[12]A08!AC30","v":0},{"$f":"+[1]A08!AD30+[2]A08!AD30+[3]A08!AD30+[4]A08!AD30+[5]A08!AD30+[6]A08!AD30+[7]A08!AD30+[8]A08!AD30+[9]A08!AD30+[10]A08!AD30+[10]A08!AD30+[11]A08!AD30+[12]A08!AD30","v":0},{"$f":"+[1]A08!AE30+[2]A08!AE30+[3]A08!AE30+[4]A08!AE30+[5]A08!AE30+[6]A08!AE30+[7]A08!AE30+[8]A08!AE30+[9]A08!AE30+[10]A08!AE30+[10]A08!AE30+[11]A08!AE30+[12]A08!AE30","v":0},{"$f":"+[1]A08!AF30+[2]A08!AF30+[3]A08!AF30+[4]A08!AF30+[5]A08!AF30+[6]A08!AF30+[7]A08!AF30+[8]A08!AF30+[9]A08!AF30+[10]A08!AF30+[10]A08!AF30+[11]A08!AF30+[12]A08!AF30","v":0},{"$f":"+[1]A08!AG30+[2]A08!AG30+[3]A08!AG30+[4]A08!AG30+[5]A08!AG30+[6]A08!AG30+[7]A08!AG30+[8]A08!AG30+[9]A08!AG30+[10]A08!AG30+[10]A08!AG30+[11]A08!AG30+[12]A08!AG30","v":0},{"$f":"+[1]A08!AH30+[2]A08!AH30+[3]A08!AH30+[4]A08!AH30+[5]A08!AH30+[6]A08!AH30+[7]A08!AH30+[8]A08!AH30+[9]A08!AH30+[10]A08!AH30+[10]A08!AH30+[11]A08!AH30+[12]A08!AH30","v":0},{"$f":"+[1]A08!AI30+[2]A08!AI30+[3]A08!AI30+[4]A08!AI30+[5]A08!AI30+[6]A08!AI30+[7]A08!AI30+[8]A08!AI30+[9]A08!AI30+[10]A08!AI30+[10]A08!AI30+[11]A08!AI30+[12]A08!AI30","v":0},{"$f":"+[1]A08!AJ30+[2]A08!AJ30+[3]A08!AJ30+[4]A08!AJ30+[5]A08!AJ30+[6]A08!AJ30+[7]A08!AJ30+[8]A08!AJ30+[9]A08!AJ30+[10]A08!AJ30+[10]A08!AJ30+[11]A08!AJ30+[12]A08!AJ30","v":0},{"$f":"+[1]A08!AK30+[2]A08!AK30+[3]A08!AK30+[4]A08!AK30+[5]A08!AK30+[6]A08!AK30+[7]A08!AK30+[8]A08!AK30+[9]A08!AK30+[10]A08!AK30+[10]A08!AK30+[11]A08!AK30+[12]A08!AK30","v":0},{"$f":"+[1]A08!AL30+[2]A08!AL30+[3]A08!AL30+[4]A08!AL30+[5]A08!AL30+[6]A08!AL30+[7]A08!AL30+[8]A08!AL30+[9]A08!AL30+[10]A08!AL30+[10]A08!AL30+[11]A08!AL30+[12]A08!AL30","v":0},{"$f":"+[1]A08!AM30+[2]A08!AM30+[3]A08!AM30+[4]A08!AM30+[5]A08!AM30+[6]A08!AM30+[7]A08!AM30+[8]A08!AM30+[9]A08!AM30+[10]A08!AM30+[10]A08!AM30+[11]A08!AM30+[12]A08!AM30","v":0},{"$f":"+[1]A08!AN30+[2]A08!AN30+[3]A08!AN30+[4]A08!AN30+[5]A08!AN30+[6]A08!AN30+[7]A08!AN30+[8]A08!AN30+[9]A08!AN30+[10]A08!AN30+[10]A08!AN30+[11]A08!AN30+[12]A08!AN30","v":0},null,null,null,null,null,null,null,null,null,null,null,null,null,null,null,null,null,null,null,null,null,null,null,null,null,null,null,null,null,null,null,null,null,null,null,null,null,null,null,null,null,null,null,null,0,0]
["KINESIÓLOGO/A",0,0,0,{"$f":"+[1]A08!E31+[2]A08!E31+[3]A08!E31+[4]A08!E31+[5]A08!E31+[6]A08!E31+[7]A08!E31+[8]A08!E31+[9]A08!E31+[10]A08!E31+[10]A08!E31+[11]A08!E31+[12]A08!E31","v":0},{"$f":"+[1]A08!F31+[2]A08!F31+[3]A08!F31+[4]A08!F31+[5]A08!F31+[6]A08!F31+[7]A08!F31+[8]A08!F31+[9]A08!F31+[10]A08!F31+[10]A08!F31+[11]A08!F31+[12]A08!F31","v":0},{"$f":"+[1]A08!G31+[2]A08!G31+[3]A08!G31+[4]A08!G31+[5]A08!G31+[6]A08!G31+[7]A08!G31+[8]A08!G31+[9]A08!G31+[10]A08!G31+[10]A08!G31+[11]A08!G31+[12]A08!G31","v":0},{"$f":"+[1]A08!H31+[2]A08!H31+[3]A08!H31+[4]A08!H31+[5]A08!H31+[6]A08!H31+[7]A08!H31+[8]A08!H31+[9]A08!H31+[10]A08!H31+[10]A08!H31+[11]A08!H31+[12]A08!H31","v":0},{"$f":"+[1]A08!I31+[2]A08!I31+[3]A08!I31+[4]A08!I31+[5]A08!I31+[6]A08!I31+[7]A08!I31+[8]A08!I31+[9]A08!I31+[10]A08!I31+[10]A08!I31+[11]A08!I31+[12]A08!I31","v":0},{"$f":"+[1]A08!J31+[2]A08!J31+[3]A08!J31+[4]A08!J31+[5]A08!J31+[6]A08!J31+[7]A08!J31+[8]A08!J31+[9]A08!J31+[10]A08!J31+[10]A08!J31+[11]A08!J31+[12]A08!J31","v":0},{"$f":"+[1]A08!K31+[2]A08!K31+[3]A08!K31+[4]A08!K31+[5]A08!K31+[6]A08!K31+[7]A08!K31+[8]A08!K31+[9]A08!K31+[10]A08!K31+[10]A08!K31+[11]A08!K31+[12]A08!K31","v":0},{"$f":"+[1]A08!L31+[2]A08!L31+[3]A08!L31+[4]A08!L31+[5]A08!L31+[6]A08!L31+[7]A08!L31+[8]A08!L31+[9]A08!L31+[10]A08!L31+[10]A08!L31+[11]A08!L31+[12]A08!L31","v":0},{"$f":"+[1]A08!M31+[2]A08!M31+[3]A08!M31+[4]A08!M31+[5]A08!M31+[6]A08!M31+[7]A08!M31+[8]A08!M31+[9]A08!M31+[10]A08!M31+[10]A08!M31+[11]A08!M31+[12]A08!M31","v":0},{"$f":"+[1]A08!N31+[2]A08!N31+[3]A08!N31+[4]A08!N31+[5]A08!N31+[6]A08!N31+[7]A08!N31+[8]A08!N31+[9]A08!N31+[10]A08!N31+[10]A08!N31+[11]A08!N31+[12]A08!N31","v":0},{"$f":"+[1]A08!O31+[2]A08!O31+[3]A08!O31+[4]A08!O31+[5]A08!O31+[6]A08!O31+[7]A08!O31+[8]A08!O31+[9]A08!O31+[10]A08!O31+[10]A08!O31+[11]A08!O31+[12]A08!O31","v":0},{"$f":"+[1]A08!P31+[2]A08!P31+[3]A08!P31+[4]A08!P31+[5]A08!P31+[6]A08!P31+[7]A08!P31+[8]A08!P31+[9]A08!P31+[10]A08!P31+[10]A08!P31+[11]A08!P31+[12]A08!P31","v":0},{"$f":"+[1]A08!Q31+[2]A08!Q31+[3]A08!Q31+[4]A08!Q31+[5]A08!Q31+[6]A08!Q31+[7]A08!Q31+[8]A08!Q31+[9]A08!Q31+[10]A08!Q31+[10]A08!Q31+[11]A08!Q31+[12]A08!Q31","v":0},{"$f":"+[1]A08!R31+[2]A08!R31+[3]A08!R31+[4]A08!R31+[5]A08!R31+[6]A08!R31+[7]A08!R31+[8]A08!R31+[9]A08!R31+[10]A08!R31+[10]A08!R31+[11]A08!R31+[12]A08!R31","v":0},{"$f":"+[1]A08!S31+[2]A08!S31+[3]A08!S31+[4]A08!S31+[5]A08!S31+[6]A08!S31+[7]A08!S31+[8]A08!S31+[9]A08!S31+[10]A08!S31+[10]A08!S31+[11]A08!S31+[12]A08!S31","v":0},{"$f":"+[1]A08!T31+[2]A08!T31+[3]A08!T31+[4]A08!T31+[5]A08!T31+[6]A08!T31+[7]A08!T31+[8]A08!T31+[9]A08!T31+[10]A08!T31+[10]A08!T31+[11]A08!T31+[12]A08!T31","v":0},{"$f":"+[1]A08!U31+[2]A08!U31+[3]A08!U31+[4]A08!U31+[5]A08!U31+[6]A08!U31+[7]A08!U31+[8]A08!U31+[9]A08!U31+[10]A08!U31+[10]A08!U31+[11]A08!U31+[12]A08!U31","v":0},{"$f":"+[1]A08!V31+[2]A08!V31+[3]A08!V31+[4]A08!V31+[5]A08!V31+[6]A08!V31+[7]A08!V31+[8]A08!V31+[9]A08!V31+[10]A08!V31+[10]A08!V31+[11]A08!V31+[12]A08!V31","v":0},{"$f":"+[1]A08!W31+[2]A08!W31+[3]A08!W31+[4]A08!W31+[5]A08!W31+[6]A08!W31+[7]A08!W31+[8]A08!W31+[9]A08!W31+[10]A08!W31+[10]A08!W31+[11]A08!W31+[12]A08!W31","v":0},{"$f":"+[1]A08!X31+[2]A08!X31+[3]A08!X31+[4]A08!X31+[5]A08!X31+[6]A08!X31+[7]A08!X31+[8]A08!X31+[9]A08!X31+[10]A08!X31+[10]A08!X31+[11]A08!X31+[12]A08!X31","v":0},{"$f":"+[1]A08!Y31+[2]A08!Y31+[3]A08!Y31+[4]A08!Y31+[5]A08!Y31+[6]A08!Y31+[7]A08!Y31+[8]A08!Y31+[9]A08!Y31+[10]A08!Y31+[10]A08!Y31+[11]A08!Y31+[12]A08!Y31","v":0},{"$f":"+[1]A08!Z31+[2]A08!Z31+[3]A08!Z31+[4]A08!Z31+[5]A08!Z31+[6]A08!Z31+[7]A08!Z31+[8]A08!Z31+[9]A08!Z31+[10]A08!Z31+[10]A08!Z31+[11]A08!Z31+[12]A08!Z31","v":0},{"$f":"+[1]A08!AA31+[2]A08!AA31+[3]A08!AA31+[4]A08!AA31+[5]A08!AA31+[6]A08!AA31+[7]A08!AA31+[8]A08!AA31+[9]A08!AA31+[10]A08!AA31+[10]A08!AA31+[11]A08!AA31+[12]A08!AA31","v":0},{"$f":"+[1]A08!AB31+[2]A08!AB31+[3]A08!AB31+[4]A08!AB31+[5]A08!AB31+[6]A08!AB31+[7]A08!AB31+[8]A08!AB31+[9]A08!AB31+[10]A08!AB31+[10]A08!AB31+[11]A08!AB31+[12]A08!AB31","v":0},{"$f":"+[1]A08!AC31+[2]A08!AC31+[3]A08!AC31+[4]A08!AC31+[5]A08!AC31+[6]A08!AC31+[7]A08!AC31+[8]A08!AC31+[9]A08!AC31+[10]A08!AC31+[10]A08!AC31+[11]A08!AC31+[12]A08!AC31","v":0},{"$f":"+[1]A08!AD31+[2]A08!AD31+[3]A08!AD31+[4]A08!AD31+[5]A08!AD31+[6]A08!AD31+[7]A08!AD31+[8]A08!AD31+[9]A08!AD31+[10]A08!AD31+[10]A08!AD31+[11]A08!AD31+[12]A08!AD31","v":0},{"$f":"+[1]A08!AE31+[2]A08!AE31+[3]A08!AE31+[4]A08!AE31+[5]A08!AE31+[6]A08!AE31+[7]A08!AE31+[8]A08!AE31+[9]A08!AE31+[10]A08!AE31+[10]A08!AE31+[11]A08!AE31+[12]A08!AE31","v":0},{"$f":"+[1]A08!AF31+[2]A08!AF31+[3]A08!AF31+[4]A08!AF31+[5]A08!AF31+[6]A08!AF31+[7]A08!AF31+[8]A08!AF31+[9]A08!AF31+[10]A08!AF31+[10]A08!AF31+[11]A08!AF31+[12]A08!AF31","v":0},{"$f":"+[1]A08!AG31+[2]A08!AG31+[3]A08!AG31+[4]A08!AG31+[5]A08!AG31+[6]A08!AG31+[7]A08!AG31+[8]A08!AG31+[9]A08!AG31+[10]A08!AG31+[10]A08!AG31+[11]A08!AG31+[12]A08!AG31","v":0},{"$f":"+[1]A08!AH31+[2]A08!AH31+[3]A08!AH31+[4]A08!AH31+[5]A08!AH31+[6]A08!AH31+[7]A08!AH31+[8]A08!AH31+[9]A08!AH31+[10]A08!AH31+[10]A08!AH31+[11]A08!AH31+[12]A08!AH31","v":0},{"$f":"+[1]A08!AI31+[2]A08!AI31+[3]A08!AI31+[4]A08!AI31+[5]A08!AI31+[6]A08!AI31+[7]A08!AI31+[8]A08!AI31+[9]A08!AI31+[10]A08!AI31+[10]A08!AI31+[11]A08!AI31+[12]A08!AI31","v":0},{"$f":"+[1]A08!AJ31+[2]A08!AJ31+[3]A08!AJ31+[4]A08!AJ31+[5]A08!AJ31+[6]A08!AJ31+[7]A08!AJ31+[8]A08!AJ31+[9]A08!AJ31+[10]A08!AJ31+[10]A08!AJ31+[11]A08!AJ31+[12]A08!AJ31","v":0},{"$f":"+[1]A08!AK31+[2]A08!AK31+[3]A08!AK31+[4]A08!AK31+[5]A08!AK31+[6]A08!AK31+[7]A08!AK31+[8]A08!AK31+[9]A08!AK31+[10]A08!AK31+[10]A08!AK31+[11]A08!AK31+[12]A08!AK31","v":0},{"$f":"+[1]A08!AL31+[2]A08!AL31+[3]A08!AL31+[4]A08!AL31+[5]A08!AL31+[6]A08!AL31+[7]A08!AL31+[8]A08!AL31+[9]A08!AL31+[10]A08!AL31+[10]A08!AL31+[11]A08!AL31+[12]A08!AL31","v":0},{"$f":"+[1]A08!AM31+[2]A08!AM31+[3]A08!AM31+[4]A08!AM31+[5]A08!AM31+[6]A08!AM31+[7]A08!AM31+[8]A08!AM31+[9]A08!AM31+[10]A08!AM31+[10]A08!AM31+[11]A08!AM31+[12]A08!AM31","v":0},{"$f":"+[1]A08!AN31+[2]A08!AN31+[3]A08!AN31+[4]A08!AN31+[5]A08!AN31+[6]A08!AN31+[7]A08!AN31+[8]A08!AN31+[9]A08!AN31+[10]A08!AN31+[10]A08!AN31+[11]A08!AN31+[12]A08!AN31","v":0},null,null,null,null,null,null,null,null,null,null,null,null,null,null,null,null,null,null,null,null,null,null,null,null,null,null,null,null,null,null,null,null,null,null,null,null,null,null,null,null,null,null,null,null,0,0]
["TÉCNICO PARAMÉDICO",0,0,0,{"$f":"+[1]A08!E32+[2]A08!E32+[3]A08!E32+[4]A08!E32+[5]A08!E32+[6]A08!E32+[7]A08!E32+[8]A08!E32+[9]A08!E32+[10]A08!E32+[10]A08!E32+[11]A08!E32+[12]A08!E32","v":0},{"$f":"+[1]A08!F32+[2]A08!F32+[3]A08!F32+[4]A08!F32+[5]A08!F32+[6]A08!F32+[7]A08!F32+[8]A08!F32+[9]A08!F32+[10]A08!F32+[10]A08!F32+[11]A08!F32+[12]A08!F32","v":0},{"$f":"+[1]A08!G32+[2]A08!G32+[3]A08!G32+[4]A08!G32+[5]A08!G32+[6]A08!G32+[7]A08!G32+[8]A08!G32+[9]A08!G32+[10]A08!G32+[10]A08!G32+[11]A08!G32+[12]A08!G32","v":0},{"$f":"+[1]A08!H32+[2]A08!H32+[3]A08!H32+[4]A08!H32+[5]A08!H32+[6]A08!H32+[7]A08!H32+[8]A08!H32+[9]A08!H32+[10]A08!H32+[10]A08!H32+[11]A08!H32+[12]A08!H32","v":0},{"$f":"+[1]A08!I32+[2]A08!I32+[3]A08!I32+[4]A08!I32+[5]A08!I32+[6]A08!I32+[7]A08!I32+[8]A08!I32+[9]A08!I32+[10]A08!I32+[10]A08!I32+[11]A08!I32+[12]A08!I32","v":0},{"$f":"+[1]A08!J32+[2]A08!J32+[3]A08!J32+[4]A08!J32+[5]A08!J32+[6]A08!J32+[7]A08!J32+[8]A08!J32+[9]A08!J32+[10]A08!J32+[10]A08!J32+[11]A08!J32+[12]A08!J32","v":0},{"$f":"+[1]A08!K32+[2]A08!K32+[3]A08!K32+[4]A08!K32+[5]A08!K32+[6]A08!K32+[7]A08!K32+[8]A08!K32+[9]A08!K32+[10]A08!K32+[10]A08!K32+[11]A08!K32+[12]A08!K32","v":0},{"$f":"+[1]A08!L32+[2]A08!L32+[3]A08!L32+[4]A08!L32+[5]A08!L32+[6]A08!L32+[7]A08!L32+[8]A08!L32+[9]A08!L32+[10]A08!L32+[10]A08!L32+[11]A08!L32+[12]A08!L32","v":0},{"$f":"+[1]A08!M32+[2]A08!M32+[3]A08!M32+[4]A08!M32+[5]A08!M32+[6]A08!M32+[7]A08!M32+[8]A08!M32+[9]A08!M32+[10]A08!M32+[10]A08!M32+[11]A08!M32+[12]A08!M32","v":0},{"$f":"+[1]A08!N32+[2]A08!N32+[3]A08!N32+[4]A08!N32+[5]A08!N32+[6]A08!N32+[7]A08!N32+[8]A08!N32+[9]A08!N32+[10]A08!N32+[10]A08!N32+[11]A08!N32+[12]A08!N32","v":0},{"$f":"+[1]A08!O32+[2]A08!O32+[3]A08!O32+[4]A08!O32+[5]A08!O32+[6]A08!O32+[7]A08!O32+[8]A08!O32+[9]A08!O32+[10]A08!O32+[10]A08!O32+[11]A08!O32+[12]A08!O32","v":0},{"$f":"+[1]A08!P32+[2]A08!P32+[3]A08!P32+[4]A08!P32+[5]A08!P32+[6]A08!P32+[7]A08!P32+[8]A08!P32+[9]A08!P32+[10]A08!P32+[10]A08!P32+[11]A08!P32+[12]A08!P32","v":0},{"$f":"+[1]A08!Q32+[2]A08!Q32+[3]A08!Q32+[4]A08!Q32+[5]A08!Q32+[6]A08!Q32+[7]A08!Q32+[8]A08!Q32+[9]A08!Q32+[10]A08!Q32+[10]A08!Q32+[11]A08!Q32+[12]A08!Q32","v":0},{"$f":"+[1]A08!R32+[2]A08!R32+[3]A08!R32+[4]A08!R32+[5]A08!R32+[6]A08!R32+[7]A08!R32+[8]A08!R32+[9]A08!R32+[10]A08!R32+[10]A08!R32+[11]A08!R32+[12]A08!R32","v":0},{"$f":"+[1]A08!S32+[2]A08!S32+[3]A08!S32+[4]A08!S32+[5]A08!S32+[6]A08!S32+[7]A08!S32+[8]A08!S32+[9]A08!S32+[10]A08!S32+[10]A08!S32+[11]A08!S32+[12]A08!S32","v":0},{"$f":"+[1]A08!T32+[2]A08!T32+[3]A08!T32+[4]A08!T32+[5]A08!T32+[6]A08!T32+[7]A08!T32+[8]A08!T32+[9]A08!T32+[10]A08!T32+[10]A08!T32+[11]A08!T32+[12]A08!T32","v":0},{"$f":"+[1]A08!U32+[2]A08!U32+[3]A08!U32+[4]A08!U32+[5]A08!U32+[6]A08!U32+[7]A08!U32+[8]A08!U32+[9]A08!U32+[10]A08!U32+[10]A08!U32+[11]A08!U32+[12]A08!U32","v":0},{"$f":"+[1]A08!V32+[2]A08!V32+[3]A08!V32+[4]A08!V32+[5]A08!V32+[6]A08!V32+[7]A08!V32+[8]A08!V32+[9]A08!V32+[10]A08!V32+[10]A08!V32+[11]A08!V32+[12]A08!V32","v":0},{"$f":"+[1]A08!W32+[2]A08!W32+[3]A08!W32+[4]A08!W32+[5]A08!W32+[6]A08!W32+[7]A08!W32+[8]A08!W32+[9]A08!W32+[10]A08!W32+[10]A08!W32+[11]A08!W32+[12]A08!W32","v":0},{"$f":"+[1]A08!X32+[2]A08!X32+[3]A08!X32+[4]A08!X32+[5]A08!X32+[6]A08!X32+[7]A08!X32+[8]A08!X32+[9]A08!X32+[10]A08!X32+[10]A08!X32+[11]A08!X32+[12]A08!X32","v":0},{"$f":"+[1]A08!Y32+[2]A08!Y32+[3]A08!Y32+[4]A08!Y32+[5]A08!Y32+[6]A08!Y32+[7]A08!Y32+[8]A08!Y32+[9]A08!Y32+[10]A08!Y32+[10]A08!Y32+[11]A08!Y32+[12]A08!Y32","v":0},{"$f":"+[1]A08!Z32+[2]A08!Z32+[3]A08!Z32+[4]A08!Z32+[5]A08!Z32+[6]A08!Z32+[7]A08!Z32+[8]A08!Z32+[9]A08!Z32+[10]A08!Z32+[10]A08!Z32+[11]A08!Z32+[12]A08!Z32","v":0},{"$f":"+[1]A08!AA32+[2]A08!AA32+[3]A08!AA32+[4]A08!AA32+[5]A08!AA32+[6]A08!AA32+[7]A08!AA32+[8]A08!AA32+[9]A08!AA32+[10]A08!AA32+[10]A08!AA32+[11]A08!AA32+[12]A08!AA32","v":0},{"$f":"+[1]A08!AB32+[2]A08!AB32+[3]A08!AB32+[4]A08!AB32+[5]A08!AB32+[6]A08!AB32+[7]A08!AB32+[8]A08!AB32+[9]A08!AB32+[10]A08!AB32+[10]A08!AB32+[11]A08!AB32+[12]A08!AB32","v":0},{"$f":"+[1]A08!AC32+[2]A08!AC32+[3]A08!AC32+[4]A08!AC32+[5]A08!AC32+[6]A08!AC32+[7]A08!AC32+[8]A08!AC32+[9]A08!AC32+[10]A08!AC32+[10]A08!AC32+[11]A08!AC32+[12]A08!AC32","v":0},{"$f":"+[1]A08!AD32+[2]A08!AD32+[3]A08!AD32+[4]A08!AD32+[5]A08!AD32+[6]A08!AD32+[7]A08!AD32+[8]A08!AD32+[9]A08!AD32+[10]A08!AD32+[10]A08!AD32+[11]A08!AD32+[12]A08!AD32","v":0},{"$f":"+[1]A08!AE32+[2]A08!AE32+[3]A08!AE32+[4]A08!AE32+[5]A08!AE32+[6]A08!AE32+[7]A08!AE32+[8]A08!AE32+[9]A08!AE32+[10]A08!AE32+[10]A08!AE32+[11]A08!AE32+[12]A08!AE32","v":0},{"$f":"+[1]A08!AF32+[2]A08!AF32+[3]A08!AF32+[4]A08!AF32+[5]A08!AF32+[6]A08!AF32+[7]A08!AF32+[8]A08!AF32+[9]A08!AF32+[10]A08!AF32+[10]A08!AF32+[11]A08!AF32+[12]A08!AF32","v":0},{"$f":"+[1]A08!AG32+[2]A08!AG32+[3]A08!AG32+[4]A08!AG32+[5]A08!AG32+[6]A08!AG32+[7]A08!AG32+[8]A08!AG32+[9]A08!AG32+[10]A08!AG32+[10]A08!AG32+[11]A08!AG32+[12]A08!AG32","v":0},{"$f":"+[1]A08!AH32+[2]A08!AH32+[3]A08!AH32+[4]A08!AH32+[5]A08!AH32+[6]A08!AH32+[7]A08!AH32+[8]A08!AH32+[9]A08!AH32+[10]A08!AH32+[10]A08!AH32+[11]A08!AH32+[12]A08!AH32","v":0},{"$f":"+[1]A08!AI32+[2]A08!AI32+[3]A08!AI32+[4]A08!AI32+[5]A08!AI32+[6]A08!AI32+[7]A08!AI32+[8]A08!AI32+[9]A08!AI32+[10]A08!AI32+[10]A08!AI32+[11]A08!AI32+[12]A08!AI32","v":0},{"$f":"+[1]A08!AJ32+[2]A08!AJ32+[3]A08!AJ32+[4]A08!AJ32+[5]A08!AJ32+[6]A08!AJ32+[7]A08!AJ32+[8]A08!AJ32+[9]A08!AJ32+[10]A08!AJ32+[10]A08!AJ32+[11]A08!AJ32+[12]A08!AJ32","v":0},{"$f":"+[1]A08!AK32+[2]A08!AK32+[3]A08!AK32+[4]A08!AK32+[5]A08!AK32+[6]A08!AK32+[7]A08!AK32+[8]A08!AK32+[9]A08!AK32+[10]A08!AK32+[10]A08!AK32+[11]A08!AK32+[12]A08!AK32","v":0},{"$f":"+[1]A08!AL32+[2]A08!AL32+[3]A08!AL32+[4]A08!AL32+[5]A08!AL32+[6]A08!AL32+[7]A08!AL32+[8]A08!AL32+[9]A08!AL32+[10]A08!AL32+[10]A08!AL32+[11]A08!AL32+[12]A08!AL32","v":0},{"$f":"+[1]A08!AM32+[2]A08!AM32+[3]A08!AM32+[4]A08!AM32+[5]A08!AM32+[6]A08!AM32+[7]A08!AM32+[8]A08!AM32+[9]A08!AM32+[10]A08!AM32+[10]A08!AM32+[11]A08!AM32+[12]A08!AM32","v":0},{"$f":"+[1]A08!AN32+[2]A08!AN32+[3]A08!AN32+[4]A08!AN32+[5]A08!AN32+[6]A08!AN32+[7]A08!AN32+[8]A08!AN32+[9]A08!AN32+[10]A08!AN32+[10]A08!AN32+[11]A08!AN32+[12]A08!AN32","v":0},null,null,null,null,null,null,null,null,null,null,null,null,null,null,null,null,null,null,null,null,null,null,null,null,null,null,null,null,null,null,null,null,null,null,null,null,null,null,null,null,null,null,null,null,0,0]
["OTROS PROFESIONALES",0,0,0,{"$f":"+[1]A08!E33+[2]A08!E33+[3]A08!E33+[4]A08!E33+[5]A08!E33+[6]A08!E33+[7]A08!E33+[8]A08!E33+[9]A08!E33+[10]A08!E33+[10]A08!E33+[11]A08!E33+[12]A08!E33","v":0},{"$f":"+[1]A08!F33+[2]A08!F33+[3]A08!F33+[4]A08!F33+[5]A08!F33+[6]A08!F33+[7]A08!F33+[8]A08!F33+[9]A08!F33+[10]A08!F33+[10]A08!F33+[11]A08!F33+[12]A08!F33","v":0},{"$f":"+[1]A08!G33+[2]A08!G33+[3]A08!G33+[4]A08!G33+[5]A08!G33+[6]A08!G33+[7]A08!G33+[8]A08!G33+[9]A08!G33+[10]A08!G33+[10]A08!G33+[11]A08!G33+[12]A08!G33","v":0},{"$f":"+[1]A08!H33+[2]A08!H33+[3]A08!H33+[4]A08!H33+[5]A08!H33+[6]A08!H33+[7]A08!H33+[8]A08!H33+[9]A08!H33+[10]A08!H33+[10]A08!H33+[11]A08!H33+[12]A08!H33","v":0},{"$f":"+[1]A08!I33+[2]A08!I33+[3]A08!I33+[4]A08!I33+[5]A08!I33+[6]A08!I33+[7]A08!I33+[8]A08!I33+[9]A08!I33+[10]A08!I33+[10]A08!I33+[11]A08!I33+[12]A08!I33","v":0},{"$f":"+[1]A08!J33+[2]A08!J33+[3]A08!J33+[4]A08!J33+[5]A08!J33+[6]A08!J33+[7]A08!J33+[8]A08!J33+[9]A08!J33+[10]A08!J33+[10]A08!J33+[11]A08!J33+[12]A08!J33","v":0},{"$f":"+[1]A08!K33+[2]A08!K33+[3]A08!K33+[4]A08!K33+[5]A08!K33+[6]A08!K33+[7]A08!K33+[8]A08!K33+[9]A08!K33+[10]A08!K33+[10]A08!K33+[11]A08!K33+[12]A08!K33","v":0},{"$f":"+[1]A08!L33+[2]A08!L33+[3]A08!L33+[4]A08!L33+[5]A08!L33+[6]A08!L33+[7]A08!L33+[8]A08!L33+[9]A08!L33+[10]A08!L33+[10]A08!L33+[11]A08!L33+[12]A08!L33","v":0},{"$f":"+[1]A08!M33+[2]A08!M33+[3]A08!M33+[4]A08!M33+[5]A08!M33+[6]A08!M33+[7]A08!M33+[8]A08!M33+[9]A08!M33+[10]A08!M33+[10]A08!M33+[11]A08!M33+[12]A08!M33","v":0},{"$f":"+[1]A08!N33+[2]A08!N33+[3]A08!N33+[4]A08!N33+[5]A08!N33+[6]A08!N33+[7]A08!N33+[8]A08!N33+[9]A08!N33+[10]A08!N33+[10]A08!N33+[11]A08!N33+[12]A08!N33","v":0},{"$f":"+[1]A08!O33+[2]A08!O33+[3]A08!O33+[4]A08!O33+[5]A08!O33+[6]A08!O33+[7]A08!O33+[8]A08!O33+[9]A08!O33+[10]A08!O33+[10]A08!O33+[11]A08!O33+[12]A08!O33","v":0},{"$f":"+[1]A08!P33+[2]A08!P33+[3]A08!P33+[4]A08!P33+[5]A08!P33+[6]A08!P33+[7]A08!P33+[8]A08!P33+[9]A08!P33+[10]A08!P33+[10]A08!P33+[11]A08!P33+[12]A08!P33","v":0},{"$f":"+[1]A08!Q33+[2]A08!Q33+[3]A08!Q33+[4]A08!Q33+[5]A08!Q33+[6]A08!Q33+[7]A08!Q33+[8]A08!Q33+[9]A08!Q33+[10]A08!Q33+[10]A08!Q33+[11]A08!Q33+[12]A08!Q33","v":0},{"$f":"+[1]A08!R33+[2]A08!R33+[3]A08!R33+[4]A08!R33+[5]A08!R33+[6]A08!R33+[7]A08!R33+[8]A08!R33+[9]A08!R33+[10]A08!R33+[10]A08!R33+[11]A08!R33+[12]A08!R33","v":0},{"$f":"+[1]A08!S33+[2]A08!S33+[3]A08!S33+[4]A08!S33+[5]A08!S33+[6]A08!S33+[7]A08!S33+[8]A08!S33+[9]A08!S33+[10]A08!S33+[10]A08!S33+[11]A08!S33+[12]A08!S33","v":0},{"$f":"+[1]A08!T33+[2]A08!T33+[3]A08!T33+[4]A08!T33+[5]A08!T33+[6]A08!T33+[7]A08!T33+[8]A08!T33+[9]A08!T33+[10]A08!T33+[10]A08!T33+[11]A08!T33+[12]A08!T33","v":0},{"$f":"+[1]A08!U33+[2]A08!U33+[3]A08!U33+[4]A08!U33+[5]A08!U33+[6]A08!U33+[7]A08!U33+[8]A08!U33+[9]A08!U33+[10]A08!U33+[10]A08!U33+[11]A08!U33+[12]A08!U33","v":0},{"$f":"+[1]A08!V33+[2]A08!V33+[3]A08!V33+[4]A08!V33+[5]A08!V33+[6]A08!V33+[7]A08!V33+[8]A08!V33+[9]A08!V33+[10]A08!V33+[10]A08!V33+[11]A08!V33+[12]A08!V33","v":0},{"$f":"+[1]A08!W33+[2]A08!W33+[3]A08!W33+[4]A08!W33+[5]A08!W33+[6]A08!W33+[7]A08!W33+[8]A08!W33+[9]A08!W33+[10]A08!W33+[10]A08!W33+[11]A08!W33+[12]A08!W33","v":0},{"$f":"+[1]A08!X33+[2]A08!X33+[3]A08!X33+[4]A08!X33+[5]A08!X33+[6]A08!X33+[7]A08!X33+[8]A08!X33+[9]A08!X33+[10]A08!X33+[10]A08!X33+[11]A08!X33+[12]A08!X33","v":0},{"$f":"+[1]A08!Y33+[2]A08!Y33+[3]A08!Y33+[4]A08!Y33+[5]A08!Y33+[6]A08!Y33+[7]A08!Y33+[8]A08!Y33+[9]A08!Y33+[10]A08!Y33+[10]A08!Y33+[11]A08!Y33+[12]A08!Y33","v":0},{"$f":"+[1]A08!Z33+[2]A08!Z33+[3]A08!Z33+[4]A08!Z33+[5]A08!Z33+[6]A08!Z33+[7]A08!Z33+[8]A08!Z33+[9]A08!Z33+[10]A08!Z33+[10]A08!Z33+[11]A08!Z33+[12]A08!Z33","v":0},{"$f":"+[1]A08!AA33+[2]A08!AA33+[3]A08!AA33+[4]A08!AA33+[5]A08!AA33+[6]A08!AA33+[7]A08!AA33+[8]A08!AA33+[9]A08!AA33+[10]A08!AA33+[10]A08!AA33+[11]A08!AA33+[12]A08!AA33","v":0},{"$f":"+[1]A08!AB33+[2]A08!AB33+[3]A08!AB33+[4]A08!AB33+[5]A08!AB33+[6]A08!AB33+[7]A08!AB33+[8]A08!AB33+[9]A08!AB33+[10]A08!AB33+[10]A08!AB33+[11]A08!AB33+[12]A08!AB33","v":0},{"$f":"+[1]A08!AC33+[2]A08!AC33+[3]A08!AC33+[4]A08!AC33+[5]A08!AC33+[6]A08!AC33+[7]A08!AC33+[8]A08!AC33+[9]A08!AC33+[10]A08!AC33+[10]A08!AC33+[11]A08!AC33+[12]A08!AC33","v":0},{"$f":"+[1]A08!AD33+[2]A08!AD33+[3]A08!AD33+[4]A08!AD33+[5]A08!AD33+[6]A08!AD33+[7]A08!AD33+[8]A08!AD33+[9]A08!AD33+[10]A08!AD33+[10]A08!AD33+[11]A08!AD33+[12]A08!AD33","v":0},{"$f":"+[1]A08!AE33+[2]A08!AE33+[3]A08!AE33+[4]A08!AE33+[5]A08!AE33+[6]A08!AE33+[7]A08!AE33+[8]A08!AE33+[9]A08!AE33+[10]A08!AE33+[10]A08!AE33+[11]A08!AE33+[12]A08!AE33","v":0},{"$f":"+[1]A08!AF33+[2]A08!AF33+[3]A08!AF33+[4]A08!AF33+[5]A08!AF33+[6]A08!AF33+[7]A08!AF33+[8]A08!AF33+[9]A08!AF33+[10]A08!AF33+[10]A08!AF33+[11]A08!AF33+[12]A08!AF33","v":0},{"$f":"+[1]A08!AG33+[2]A08!AG33+[3]A08!AG33+[4]A08!AG33+[5]A08!AG33+[6]A08!AG33+[7]A08!AG33+[8]A08!AG33+[9]A08!AG33+[10]A08!AG33+[10]A08!AG33+[11]A08!AG33+[12]A08!AG33","v":0},{"$f":"+[1]A08!AH33+[2]A08!AH33+[3]A08!AH33+[4]A08!AH33+[5]A08!AH33+[6]A08!AH33+[7]A08!AH33+[8]A08!AH33+[9]A08!AH33+[10]A08!AH33+[10]A08!AH33+[11]A08!AH33+[12]A08!AH33","v":0},{"$f":"+[1]A08!AI33+[2]A08!AI33+[3]A08!AI33+[4]A08!AI33+[5]A08!AI33+[6]A08!AI33+[7]A08!AI33+[8]A08!AI33+[9]A08!AI33+[10]A08!AI33+[10]A08!AI33+[11]A08!AI33+[12]A08!AI33","v":0},{"$f":"+[1]A08!AJ33+[2]A08!AJ33+[3]A08!AJ33+[4]A08!AJ33+[5]A08!AJ33+[6]A08!AJ33+[7]A08!AJ33+[8]A08!AJ33+[9]A08!AJ33+[10]A08!AJ33+[10]A08!AJ33+[11]A08!AJ33+[12]A08!AJ33","v":0},{"$f":"+[1]A08!AK33+[2]A08!AK33+[3]A08!AK33+[4]A08!AK33+[5]A08!AK33+[6]A08!AK33+[7]A08!AK33+[8]A08!AK33+[9]A08!AK33+[10]A08!AK33+[10]A08!AK33+[11]A08!AK33+[12]A08!AK33","v":0},{"$f":"+[1]A08!AL33+[2]A08!AL33+[3]A08!AL33+[4]A08!AL33+[5]A08!AL33+[6]A08!AL33+[7]A08!AL33+[8]A08!AL33+[9]A08!AL33+[10]A08!AL33+[10]A08!AL33+[11]A08!AL33+[12]A08!AL33","v":0},{"$f":"+[1]A08!AM33+[2]A08!AM33+[3]A08!AM33+[4]A08!AM33+[5]A08!AM33+[6]A08!AM33+[7]A08!AM33+[8]A08!AM33+[9]A08!AM33+[10]A08!AM33+[10]A08!AM33+[11]A08!AM33+[12]A08!AM33","v":0},{"$f":"+[1]A08!AN33+[2]A08!AN33+[3]A08!AN33+[4]A08!AN33+[5]A08!AN33+[6]A08!AN33+[7]A08!AN33+[8]A08!AN33+[9]A08!AN33+[10]A08!AN33+[10]A08!AN33+[11]A08!AN33+[12]A08!AN33","v":0},null,null,null,null,null,null,null,null,null,null,null,null,null,null,null,null,null,null,null,null,null,null,null,null,null,null,null,null,null,null,null,null,null,null,null,null,null,null,null,null,null,null,null,null,0,0]
["SECCIÓN A.4: ATENCIONES DE URGENCIA REALIZADAS EN ESTABLECIMIENTOS  ATENCIÓN PRIMARIA NO SAPU"]
["PROFESIONAL","TOTAL        ",null,null,"GRUPOS DE EDAD (en años)",null,null,null,null,null,null,null,null,null,null,null,null,null,null,null,null,null,null,null,null,null,null,null,null,null,null,null,null,null,null,null,null,null,"Beneficiarios","Demanda de Urgencia"]
[null,null,null,null,"0 - 4",null,"5 - 9",null,"10 - 14",null,"15 - 19",null,"20 - 24",null,"25 - 29",null,"30 - 34",null,"35 - 39",null,"40 - 44",null,"45 - 49",null,"50 - 54",null,"55 - 59",null,"60 - 64",null,"65 - 69",null,"70 - 74",null,"75 - 79",null,"80 y mas"]
[null,"Ambos Sexos","Hombres ","Mujeres","Hombres ","Mujeres","Hombres ","Mujeres","Hombres ","Mujeres","Hombres ","Mujeres","Hombres ","Mujeres","Hombres ","Mujeres","Hombres ","Mujeres","Hombres ","Mujeres","Hombres ","Mujeres","Hombres ","Mujeres","Hombres ","Mujeres","Hombres ","Mujeres","Hombres ","Mujeres","Hombres ","Mujeres","Hombres ","Mujeres","Hombres ","Mujeres","Hombres ","Mujeres"]
["MÉDICO",{"$f":"SUM(C38+D38)","v":0},{"$f":"SUM(E38+G38+I38+K38+M38+O38+Q38+S38+U38+W38+Y38+AA38+AC38+AE38+AG38+AI38+AK38)","v":0},0,{"$f":"+[1]A08!E38+[2]A08!E38+[3]A08!E38+[4]A08!E38+[5]A08!E38+[6]A08!E38+[7]A08!E38+[8]A08!E38+[9]A08!E38+[10]A08!E38+[10]A08!E38+[11]A08!E38+[12]A08!E38","v":0},{"$f":"+[1]A08!F38+[2]A08!F38+[3]A08!F38+[4]A08!F38+[5]A08!F38+[6]A08!F38+[7]A08!F38+[8]A08!F38+[9]A08!F38+[10]A08!F38+[10]A08!F38+[11]A08!F38+[12]A08!F38","v":0},{"$f":"+[1]A08!G38+[2]A08!G38+[3]A08!G38+[4]A08!G38+[5]A08!G38+[6]A08!G38+[7]A08!G38+[8]A08!G38+[9]A08!G38+[10]A08!G38+[10]A08!G38+[11]A08!G38+[12]A08!G38","v":0},{"$f":"+[1]A08!H38+[2]A08!H38+[3]A08!H38+[4]A08!H38+[5]A08!H38+[6]A08!H38+[7]A08!H38+[8]A08!H38+[9]A08!H38+[10]A08!H38+[10]A08!H38+[11]A08!H38+[12]A08!H38","v":0},{"$f":"+[1]A08!I38+[2]A08!I38+[3]A08!I38+[4]A08!I38+[5]A08!I38+[6]A08!I38+[7]A08!I38+[8]A08!I38+[9]A08!I38+[10]A08!I38+[10]A08!I38+[11]A08!I38+[12]A08!I38","v":0},{"$f":"+[1]A08!J38+[2]A08!J38+[3]A08!J38+[4]A08!J38+[5]A08!J38+[6]A08!J38+[7]A08!J38+[8]A08!J38+[9]A08!J38+[10]A08!J38+[10]A08!J38+[11]A08!J38+[12]A08!J38","v":0},{"$f":"+[1]A08!K38+[2]A08!K38+[3]A08!K38+[4]A08!K38+[5]A08!K38+[6]A08!K38+[7]A08!K38+[8]A08!K38+[9]A08!K38+[10]A08!K38+[10]A08!K38+[11]A08!K38+[12]A08!K38","v":0},{"$f":"+[1]A08!L38+[2]A08!L38+[3]A08!L38+[4]A08!L38+[5]A08!L38+[6]A08!L38+[7]A08!L38+[8]A08!L38+[9]A08!L38+[10]A08!L38+[10]A08!L38+[11]A08!L38+[12]A08!L38","v":0},{"$f":"+[1]A08!M38+[2]A08!M38+[3]A08!M38+[4]A08!M38+[5]A08!M38+[6]A08!M38+[7]A08!M38+[8]A08!M38+[9]A08!M38+[10]A08!M38+[10]A08!M38+[11]A08!M38+[12]A08!M38","v":0},{"$f":"+[1]A08!N38+[2]A08!N38+[3]A08!N38+[4]A08!N38+[5]A08!N38+[6]A08!N38+[7]A08!N38+[8]A08!N38+[9]A08!N38+[10]A08!N38+[10]A08!N38+[11]A08!N38+[12]A08!N38","v":0},{"$f":"+[1]A08!O38+[2]A08!O38+[3]A08!O38+[4]A08!O38+[5]A08!O38+[6]A08!O38+[7]A08!O38+[8]A08!O38+[9]A08!O38+[10]A08!O38+[10]A08!O38+[11]A08!O38+[12]A08!O38","v":0},{"$f":"+[1]A08!P38+[2]A08!P38+[3]A08!P38+[4]A08!P38+[5]A08!P38+[6]A08!P38+[7]A08!P38+[8]A08!P38+[9]A08!P38+[10]A08!P38+[10]A08!P38+[11]A08!P38+[12]A08!P38","v":0},{"$f":"+[1]A08!Q38+[2]A08!Q38+[3]A08!Q38+[4]A08!Q38+[5]A08!Q38+[6]A08!Q38+[7]A08!Q38+[8]A08!Q38+[9]A08!Q38+[10]A08!Q38+[10]A08!Q38+[11]A08!Q38+[12]A08!Q38","v":0},{"$f":"+[1]A08!R38+[2]A08!R38+[3]A08!R38+[4]A08!R38+[5]A08!R38+[6]A08!R38+[7]A08!R38+[8]A08!R38+[9]A08!R38+[10]A08!R38+[10]A08!R38+[11]A08!R38+[12]A08!R38","v":0},{"$f":"+[1]A08!S38+[2]A08!S38+[3]A08!S38+[4]A08!S38+[5]A08!S38+[6]A08!S38+[7]A08!S38+[8]A08!S38+[9]A08!S38+[10]A08!S38+[10]A08!S38+[11]A08!S38+[12]A08!S38","v":0},{"$f":"+[1]A08!T38+[2]A08!T38+[3]A08!T38+[4]A08!T38+[5]A08!T38+[6]A08!T38+[7]A08!T38+[8]A08!T38+[9]A08!T38+[10]A08!T38+[10]A08!T38+[11]A08!T38+[12]A08!T38","v":0},{"$f":"+[1]A08!U38+[2]A08!U38+[3]A08!U38+[4]A08!U38+[5]A08!U38+[6]A08!U38+[7]A08!U38+[8]A08!U38+[9]A08!U38+[10]A08!U38+[10]A08!U38+[11]A08!U38+[12]A08!U38","v":0},{"$f":"+[1]A08!V38+[2]A08!V38+[3]A08!V38+[4]A08!V38+[5]A08!V38+[6]A08!V38+[7]A08!V38+[8]A08!V38+[9]A08!V38+[10]A08!V38+[10]A08!V38+[11]A08!V38+[12]A08!V38","v":0},{"$f":"+[1]A08!W38+[2]A08!W38+[3]A08!W38+[4]A08!W38+[5]A08!W38+[6]A08!W38+[7]A08!W38+[8]A08!W38+[9]A08!W38+[10]A08!W38+[10]A08!W38+[11]A08!W38+[12]A08!W38","v":0},{"$f":"+[1]A08!X38+[2]A08!X38+[3]A08!X38+[4]A08!X38+[5]A08!X38+[6]A08!X38+[7]A08!X38+[8]A08!X38+[9]A08!X38+[10]A08!X38+[10]A08!X38+[11]A08!X38+[12]A08!X38","v":0},{"$f":"+[1]A08!Y38+[2]A08!Y38+[3]A08!Y38+[4]A08!Y38+[5]A08!Y38+[6]A08!Y38+[7]A08!Y38+[8]A08!Y38+[9]A08!Y38+[10]A08!Y38+[10]A08!Y38+[11]A08!Y38+[12]A08!Y38","v":0},{"$f":"+[1]A08!Z38+[2]A08!Z38+[3]A08!Z38+[4]A08!Z38+[5]A08!Z38+[6]A08!Z38+[7]A08!Z38+[8]A08!Z38+[9]A08!Z38+[10]A08!Z38+[10]A08!Z38+[11]A08!Z38+[12]A08!Z38","v":0},{"$f":"+[1]A08!AA38+[2]A08!AA38+[3]A08!AA38+[4]A08!AA38+[5]A08!AA38+[6]A08!AA38+[7]A08!AA38+[8]A08!AA38+[9]A08!AA38+[10]A08!AA38+[10]A08!AA38+[11]A08!AA38+[12]A08!AA38","v":0},{"$f":"+[1]A08!AB38+[2]A08!AB38+[3]A08!AB38+[4]A08!AB38+[5]A08!AB38+[6]A08!AB38+[7]A08!AB38+[8]A08!AB38+[9]A08!AB38+[10]A08!AB38+[10]A08!AB38+[11]A08!AB38+[12]A08!AB38","v":0},{"$f":"+[1]A08!AC38+[2]A08!AC38+[3]A08!AC38+[4]A08!AC38+[5]A08!AC38+[6]A08!AC38+[7]A08!AC38+[8]A08!AC38+[9]A08!AC38+[10]A08!AC38+[10]A08!AC38+[11]A08!AC38+[12]A08!AC38","v":0},{"$f":"+[1]A08!AD38+[2]A08!AD38+[3]A08!AD38+[4]A08!AD38+[5]A08!AD38+[6]A08!AD38+[7]A08!AD38+[8]A08!AD38+[9]A08!AD38+[10]A08!AD38+[10]A08!AD38+[11]A08!AD38+[12]A08!AD38","v":0},{"$f":"+[1]A08!AE38+[2]A08!AE38+[3]A08!AE38+[4]A08!AE38+[5]A08!AE38+[6]A08!AE38+[7]A08!AE38+[8]A08!AE38+[9]A08!AE38+[10]A08!AE38+[10]A08!AE38+[11]A08!AE38+[12]A08!AE38","v":0},{"$f":"+[1]A08!AF38+[2]A08!AF38+[3]A08!AF38+[4]A08!AF38+[5]A08!AF38+[6]A08!AF38+[7]A08!AF38+[8]A08!AF38+[9]A08!AF38+[10]A08!AF38+[10]A08!AF38+[11]A08!AF38+[12]A08!AF38","v":0},{"$f":"+[1]A08!AG38+[2]A08!AG38+[3]A08!AG38+[4]A08!AG38+[5]A08!AG38+[6]A08!AG38+[7]A08!AG38+[8]A08!AG38+[9]A08!AG38+[10]A08!AG38+[10]A08!AG38+[11]A08!AG38+[12]A08!AG38","v":0},{"$f":"+[1]A08!AH38+[2]A08!AH38+[3]A08!AH38+[4]A08!AH38+[5]A08!AH38+[6]A08!AH38+[7]A08!AH38+[8]A08!AH38+[9]A08!AH38+[10]A08!AH38+[10]A08!AH38+[11]A08!AH38+[12]A08!AH38","v":0},{"$f":"+[1]A08!AI38+[2]A08!AI38+[3]A08!AI38+[4]A08!AI38+[5]A08!AI38+[6]A08!AI38+[7]A08!AI38+[8]A08!AI38+[9]A08!AI38+[10]A08!AI38+[10]A08!AI38+[11]A08!AI38+[12]A08!AI38","v":0},{"$f":"+[1]A08!AJ38+[2]A08!AJ38+[3]A08!AJ38+[4]A08!AJ38+[5]A08!AJ38+[6]A08!AJ38+[7]A08!AJ38+[8]A08!AJ38+[9]A08!AJ38+[10]A08!AJ38+[10]A08!AJ38+[11]A08!AJ38+[12]A08!AJ38","v":0},{"$f":"+[1]A08!AK38+[2]A08!AK38+[3]A08!AK38+[4]A08!AK38+[5]A08!AK38+[6]A08!AK38+[7]A08!AK38+[8]A08!AK38+[9]A08!AK38+[10]A08!AK38+[10]A08!AK38+[11]A08!AK38+[12]A08!AK38","v":0},{"$f":"+[1]A08!AL38+[2]A08!AL38+[3]A08!AL38+[4]A08!AL38+[5]A08!AL38+[6]A08!AL38+[7]A08!AL38+[8]A08!AL38+[9]A08!AL38+[10]A08!AL38+[10]A08!AL38+[11]A08!AL38+[12]A08!AL38","v":0},{"$f":"+[1]A08!AM38+[2]A08!AM38+[3]A08!AM38+[4]A08!AM38+[5]A08!AM38+[6]A08!AM38+[7]A08!AM38+[8]A08!AM38+[9]A08!AM38+[10]A08!AM38+[10]A08!AM38+[11]A08!AM38+[12]A08!AM38","v":0},{"$f":"+[1]A08!AN38+[2]A08!AN38+[3]A08!AN38+[4]A08!AN38+[5]A08!AN38+[6]A08!AN38+[7]A08!AN38+[8]A08!AN38+[9]A08!AN38+[10]A08!AN38+[10]A08!AN38+[11]A08!AN38+[12]A08!AN38","v":0},null,null,null,null,null,null,null,null,null,null,null,null,null,null,null,null,null,null,null,null,null,null,null,null,null,null,null,null,null,null,null,null,null,null,null,null,null,null,null,null,null,null,null,null,0,0]
["ENFERMERA /O",0,0,0,{"$f":"+[1]A08!E39+[2]A08!E39+[3]A08!E39+[4]A08!E39+[5]A08!E39+[6]A08!E39+[7]A08!E39+[8]A08!E39+[9]A08!E39+[10]A08!E39+[10]A08!E39+[11]A08!E39+[12]A08!E39","v":0},{"$f":"+[1]A08!F39+[2]A08!F39+[3]A08!F39+[4]A08!F39+[5]A08!F39+[6]A08!F39+[7]A08!F39+[8]A08!F39+[9]A08!F39+[10]A08!F39+[10]A08!F39+[11]A08!F39+[12]A08!F39","v":0},{"$f":"+[1]A08!G39+[2]A08!G39+[3]A08!G39+[4]A08!G39+[5]A08!G39+[6]A08!G39+[7]A08!G39+[8]A08!G39+[9]A08!G39+[10]A08!G39+[10]A08!G39+[11]A08!G39+[12]A08!G39","v":0},{"$f":"+[1]A08!H39+[2]A08!H39+[3]A08!H39+[4]A08!H39+[5]A08!H39+[6]A08!H39+[7]A08!H39+[8]A08!H39+[9]A08!H39+[10]A08!H39+[10]A08!H39+[11]A08!H39+[12]A08!H39","v":0},{"$f":"+[1]A08!I39+[2]A08!I39+[3]A08!I39+[4]A08!I39+[5]A08!I39+[6]A08!I39+[7]A08!I39+[8]A08!I39+[9]A08!I39+[10]A08!I39+[10]A08!I39+[11]A08!I39+[12]A08!I39","v":0},{"$f":"+[1]A08!J39+[2]A08!J39+[3]A08!J39+[4]A08!J39+[5]A08!J39+[6]A08!J39+[7]A08!J39+[8]A08!J39+[9]A08!J39+[10]A08!J39+[10]A08!J39+[11]A08!J39+[12]A08!J39","v":0},{"$f":"+[1]A08!K39+[2]A08!K39+[3]A08!K39+[4]A08!K39+[5]A08!K39+[6]A08!K39+[7]A08!K39+[8]A08!K39+[9]A08!K39+[10]A08!K39+[10]A08!K39+[11]A08!K39+[12]A08!K39","v":0},{"$f":"+[1]A08!L39+[2]A08!L39+[3]A08!L39+[4]A08!L39+[5]A08!L39+[6]A08!L39+[7]A08!L39+[8]A08!L39+[9]A08!L39+[10]A08!L39+[10]A08!L39+[11]A08!L39+[12]A08!L39","v":0},{"$f":"+[1]A08!M39+[2]A08!M39+[3]A08!M39+[4]A08!M39+[5]A08!M39+[6]A08!M39+[7]A08!M39+[8]A08!M39+[9]A08!M39+[10]A08!M39+[10]A08!M39+[11]A08!M39+[12]A08!M39","v":0},{"$f":"+[1]A08!N39+[2]A08!N39+[3]A08!N39+[4]A08!N39+[5]A08!N39+[6]A08!N39+[7]A08!N39+[8]A08!N39+[9]A08!N39+[10]A08!N39+[10]A08!N39+[11]A08!N39+[12]A08!N39","v":0},{"$f":"+[1]A08!O39+[2]A08!O39+[3]A08!O39+[4]A08!O39+[5]A08!O39+[6]A08!O39+[7]A08!O39+[8]A08!O39+[9]A08!O39+[10]A08!O39+[10]A08!O39+[11]A08!O39+[12]A08!O39","v":0},{"$f":"+[1]A08!P39+[2]A08!P39+[3]A08!P39+[4]A08!P39+[5]A08!P39+[6]A08!P39+[7]A08!P39+[8]A08!P39+[9]A08!P39+[10]A08!P39+[10]A08!P39+[11]A08!P39+[12]A08!P39","v":0},{"$f":"+[1]A08!Q39+[2]A08!Q39+[3]A08!Q39+[4]A08!Q39+[5]A08!Q39+[6]A08!Q39+[7]A08!Q39+[8]A08!Q39+[9]A08!Q39+[10]A08!Q39+[10]A08!Q39+[11]A08!Q39+[12]A08!Q39","v":0},{"$f":"+[1]A08!R39+[2]A08!R39+[3]A08!R39+[4]A08!R39+[5]A08!R39+[6]A08!R39+[7]A08!R39+[8]A08!R39+[9]A08!R39+[10]A08!R39+[10]A08!R39+[11]A08!R39+[12]A08!R39","v":0},{"$f":"+[1]A08!S39+[2]A08!S39+[3]A08!S39+[4]A08!S39+[5]A08!S39+[6]A08!S39+[7]A08!S39+[8]A08!S39+[9]A08!S39+[10]A08!S39+[10]A08!S39+[11]A08!S39+[12]A08!S39","v":0},{"$f":"+[1]A08!T39+[2]A08!T39+[3]A08!T39+[4]A08!T39+[5]A08!T39+[6]A08!T39+[7]A08!T39+[8]A08!T39+[9]A08!T39+[10]A08!T39+[10]A08!T39+[11]A08!T39+[12]A08!T39","v":0},{"$f":"+[1]A08!U39+[2]A08!U39+[3]A08!U39+[4]A08!U39+[5]A08!U39+[6]A08!U39+[7]A08!U39+[8]A08!U39+[9]A08!U39+[10]A08!U39+[10]A08!U39+[11]A08!U39+[12]A08!U39","v":0},{"$f":"+[1]A08!V39+[2]A08!V39+[3]A08!V39+[4]A08!V39+[5]A08!V39+[6]A08!V39+[7]A08!V39+[8]A08!V39+[9]A08!V39+[10]A08!V39+[10]A08!V39+[11]A08!V39+[12]A08!V39","v":0},{"$f":"+[1]A08!W39+[2]A08!W39+[3]A08!W39+[4]A08!W39+[5]A08!W39+[6]A08!W39+[7]A08!W39+[8]A08!W39+[9]A08!W39+[10]A08!W39+[10]A08!W39+[11]A08!W39+[12]A08!W39","v":0},{"$f":"+[1]A08!X39+[2]A08!X39+[3]A08!X39+[4]A08!X39+[5]A08!X39+[6]A08!X39+[7]A08!X39+[8]A08!X39+[9]A08!X39+[10]A08!X39+[10]A08!X39+[11]A08!X39+[12]A08!X39","v":0},{"$f":"+[1]A08!Y39+[2]A08!Y39+[3]A08!Y39+[4]A08!Y39+[5]A08!Y39+[6]A08!Y39+[7]A08!Y39+[8]A08!Y39+[9]A08!Y39+[10]A08!Y39+[10]A08!Y39+[11]A08!Y39+[12]A08!Y39","v":0},{"$f":"+[1]A08!Z39+[2]A08!Z39+[3]A08!Z39+[4]A08!Z39+[5]A08!Z39+[6]A08!Z39+[7]A08!Z39+[8]A08!Z39+[9]A08!Z39+[10]A08!Z39+[10]A08!Z39+[11]A08!Z39+[12]A08!Z39","v":0},{"$f":"+[1]A08!AA39+[2]A08!AA39+[3]A08!AA39+[4]A08!AA39+[5]A08!AA39+[6]A08!AA39+[7]A08!AA39+[8]A08!AA39+[9]A08!AA39+[10]A08!AA39+[10]A08!AA39+[11]A08!AA39+[12]A08!AA39","v":0},{"$f":"+[1]A08!AB39+[2]A08!AB39+[3]A08!AB39+[4]A08!AB39+[5]A08!AB39+[6]A08!AB39+[7]A08!AB39+[8]A08!AB39+[9]A08!AB39+[10]A08!AB39+[10]A08!AB39+[11]A08!AB39+[12]A08!AB39","v":0},{"$f":"+[1]A08!AC39+[2]A08!AC39+[3]A08!AC39+[4]A08!AC39+[5]A08!AC39+[6]A08!AC39+[7]A08!AC39+[8]A08!AC39+[9]A08!AC39+[10]A08!AC39+[10]A08!AC39+[11]A08!AC39+[12]A08!AC39","v":0},{"$f":"+[1]A08!AD39+[2]A08!AD39+[3]A08!AD39+[4]A08!AD39+[5]A08!AD39+[6]A08!AD39+[7]A08!AD39+[8]A08!AD39+[9]A08!AD39+[10]A08!AD39+[10]A08!AD39+[11]A08!AD39+[12]A08!AD39","v":0},{"$f":"+[1]A08!AE39+[2]A08!AE39+[3]A08!AE39+[4]A08!AE39+[5]A08!AE39+[6]A08!AE39+[7]A08!AE39+[8]A08!AE39+[9]A08!AE39+[10]A08!AE39+[10]A08!AE39+[11]A08!AE39+[12]A08!AE39","v":0},{"$f":"+[1]A08!AF39+[2]A08!AF39+[3]A08!AF39+[4]A08!AF39+[5]A08!AF39+[6]A08!AF39+[7]A08!AF39+[8]A08!AF39+[9]A08!AF39+[10]A08!AF39+[10]A08!AF39+[11]A08!AF39+[12]A08!AF39","v":0},{"$f":"+[1]A08!AG39+[2]A08!AG39+[3]A08!AG39+[4]A08!AG39+[5]A08!AG39+[6]A08!AG39+[7]A08!AG39+[8]A08!AG39+[9]A08!AG39+[10]A08!AG39+[10]A08!AG39+[11]A08!AG39+[12]A08!AG39","v":0},{"$f":"+[1]A08!AH39+[2]A08!AH39+[3]A08!AH39+[4]A08!AH39+[5]A08!AH39+[6]A08!AH39+[7]A08!AH39+[8]A08!AH39+[9]A08!AH39+[10]A08!AH39+[10]A08!AH39+[11]A08!AH39+[12]A08!AH39","v":0},{"$f":"+[1]A08!AI39+[2]A08!AI39+[3]A08!AI39+[4]A08!AI39+[5]A08!AI39+[6]A08!AI39+[7]A08!AI39+[8]A08!AI39+[9]A08!AI39+[10]A08!AI39+[10]A08!AI39+[11]A08!AI39+[12]A08!AI39","v":0},{"$f":"+[1]A08!AJ39+[2]A08!AJ39+[3]A08!AJ39+[4]A08!AJ39+[5]A08!AJ39+[6]A08!AJ39+[7]A08!AJ39+[8]A08!AJ39+[9]A08!AJ39+[10]A08!AJ39+[10]A08!AJ39+[11]A08!AJ39+[12]A08!AJ39","v":0},{"$f":"+[1]A08!AK39+[2]A08!AK39+[3]A08!AK39+[4]A08!AK39+[5]A08!AK39+[6]A08!AK39+[7]A08!AK39+[8]A08!AK39+[9]A08!AK39+[10]A08!AK39+[10]A08!AK39+[11]A08!AK39+[12]A08!AK39","v":0},{"$f":"+[1]A08!AL39+[2]A08!AL39+[3]A08!AL39+[4]A08!AL39+[5]A08!AL39+[6]A08!AL39+[7]A08!AL39+[8]A08!AL39+[9]A08!AL39+[10]A08!AL39+[10]A08!AL39+[11]A08!AL39+[12]A08!AL39","v":0},{"$f":"+[1]A08!AM39+[2]A08!AM39+[3]A08!AM39+[4]A08!AM39+[5]A08!AM39+[6]A08!AM39+[7]A08!AM39+[8]A08!AM39+[9]A08!AM39+[10]A08!AM39+[10]A08!AM39+[11]A08!AM39+[12]A08!AM39","v":0},{"$f":"+[1]A08!AN39+[2]A08!AN39+[3]A08!AN39+[4]A08!AN39+[5]A08!AN39+[6]A08!AN39+[7]A08!AN39+[8]A08!AN39+[9]A08!AN39+[10]A08!AN39+[10]A08!AN39+[11]A08!AN39+[12]A08!AN39","v":0},null,null,null,null,null,null,null,null,null,null,null,null,null,null,null,null,null,null,null,null,null,null,null,null,null,null,null,null,null,null,null,null,null,null,null,null,null,null,null,null,null,null,null,null,0,0]
["MATRONA /ÓN",0,0,0,{"$f":"+[1]A08!E40+[2]A08!E40+[3]A08!E40+[4]A08!E40+[5]A08!E40+[6]A08!E40+[7]A08!E40+[8]A08!E40+[9]A08!E40+[10]A08!E40+[10]A08!E40+[11]A08!E40+[12]A08!E40","v":0},{"$f":"+[1]A08!F40+[2]A08!F40+[3]A08!F40+[4]A08!F40+[5]A08!F40+[6]A08!F40+[7]A08!F40+[8]A08!F40+[9]A08!F40+[10]A08!F40+[10]A08!F40+[11]A08!F40+[12]A08!F40","v":0},{"$f":"+[1]A08!G40+[2]A08!G40+[3]A08!G40+[4]A08!G40+[5]A08!G40+[6]A08!G40+[7]A08!G40+[8]A08!G40+[9]A08!G40+[10]A08!G40+[10]A08!G40+[11]A08!G40+[12]A08!G40","v":0},{"$f":"+[1]A08!H40+[2]A08!H40+[3]A08!H40+[4]A08!H40+[5]A08!H40+[6]A08!H40+[7]A08!H40+[8]A08!H40+[9]A08!H40+[10]A08!H40+[10]A08!H40+[11]A08!H40+[12]A08!H40","v":0},{"$f":"+[1]A08!I40+[2]A08!I40+[3]A08!I40+[4]A08!I40+[5]A08!I40+[6]A08!I40+[7]A08!I40+[8]A08!I40+[9]A08!I40+[10]A08!I40+[10]A08!I40+[11]A08!I40+[12]A08!I40","v":0},{"$f":"+[1]A08!J40+[2]A08!J40+[3]A08!J40+[4]A08!J40+[5]A08!J40+[6]A08!J40+[7]A08!J40+[8]A08!J40+[9]A08!J40+[10]A08!J40+[10]A08!J40+[11]A08!J40+[12]A08!J40","v":0},{"$f":"+[1]A08!K40+[2]A08!K40+[3]A08!K40+[4]A08!K40+[5]A08!K40+[6]A08!K40+[7]A08!K40+[8]A08!K40+[9]A08!K40+[10]A08!K40+[10]A08!K40+[11]A08!K40+[12]A08!K40","v":0},{"$f":"+[1]A08!L40+[2]A08!L40+[3]A08!L40+[4]A08!L40+[5]A08!L40+[6]A08!L40+[7]A08!L40+[8]A08!L40+[9]A08!L40+[10]A08!L40+[10]A08!L40+[11]A08!L40+[12]A08!L40","v":0},{"$f":"+[1]A08!M40+[2]A08!M40+[3]A08!M40+[4]A08!M40+[5]A08!M40+[6]A08!M40+[7]A08!M40+[8]A08!M40+[9]A08!M40+[10]A08!M40+[10]A08!M40+[11]A08!M40+[12]A08!M40","v":0},{"$f":"+[1]A08!N40+[2]A08!N40+[3]A08!N40+[4]A08!N40+[5]A08!N40+[6]A08!N40+[7]A08!N40+[8]A08!N40+[9]A08!N40+[10]A08!N40+[10]A08!N40+[11]A08!N40+[12]A08!N40","v":0},{"$f":"+[1]A08!O40+[2]A08!O40+[3]A08!O40+[4]A08!O40+[5]A08!O40+[6]A08!O40+[7]A08!O40+[8]A08!O40+[9]A08!O40+[10]A08!O40+[10]A08!O40+[11]A08!O40+[12]A08!O40","v":0},{"$f":"+[1]A08!P40+[2]A08!P40+[3]A08!P40+[4]A08!P40+[5]A08!P40+[6]A08!P40+[7]A08!P40+[8]A08!P40+[9]A08!P40+[10]A08!P40+[10]A08!P40+[11]A08!P40+[12]A08!P40","v":0},{"$f":"+[1]A08!Q40+[2]A08!Q40+[3]A08!Q40+[4]A08!Q40+[5]A08!Q40+[6]A08!Q40+[7]A08!Q40+[8]A08!Q40+[9]A08!Q40+[10]A08!Q40+[10]A08!Q40+[11]A08!Q40+[12]A08!Q40","v":0},{"$f":"+[1]A08!R40+[2]A08!R40+[3]A08!R40+[4]A08!R40+[5]A08!R40+[6]A08!R40+[7]A08!R40+[8]A08!R40+[9]A08!R40+[10]A08!R40+[10]A08!R40+[11]A08!R40+[12]A08!R40","v":0},{"$f":"+[1]A08!S40+[2]A08!S40+[3]A08!S40+[4]A08!S40+[5]A08!S40+[6]A08!S40+[7]A08!S40+[8]A08!S40+[9]A08!S40+[10]A08!S40+[10]A08!S40+[11]A08!S40+[12]A08!S40","v":0},{"$f":"+[1]A08!T40+[2]A08!T40+[3]A08!T40+[4]A08!T40+[5]A08!T40+[6]A08!T40+[7]A08!T40+[8]A08!T40+[9]A08!T40+[10]A08!T40+[10]A08!T40+[11]A08!T40+[12]A08!T40","v":0},{"$f":"+[1]A08!U40+[2]A08!U40+[3]A08!U40+[4]A08!U40+[5]A08!U40+[6]A08!U40+[7]A08!U40+[8]A08!U40+[9]A08!U40+[10]A08!U40+[10]A08!U40+[11]A08!U40+[12]A08!U40","v":0},{"$f":"+[1]A08!V40+[2]A08!V40+[3]A08!V40+[4]A08!V40+[5]A08!V40+[6]A08!V40+[7]A08!V40+[8]A08!V40+[9]A08!V40+[10]A08!V40+[10]A08!V40+[11]A08!V40+[12]A08!V40","v":0},{"$f":"+[1]A08!W40+[2]A08!W40+[3]A08!W40+[4]A08!W40+[5]A08!W40+[6]A08!W40+[7]A08!W40+[8]A08!W40+[9]A08!W40+[10]A08!W40+[10]A08!W40+[11]A08!W40+[12]A08!W40","v":0},{"$f":"+[1]A08!X40+[2]A08!X40+[3]A08!X40+[4]A08!X40+[5]A08!X40+[6]A08!X40+[7]A08!X40+[8]A08!X40+[9]A08!X40+[10]A08!X40+[10]A08!X40+[11]A08!X40+[12]A08!X40","v":0},{"$f":"+[1]A08!Y40+[2]A08!Y40+[3]A08!Y40+[4]A08!Y40+[5]A08!Y40+[6]A08!Y40+[7]A08!Y40+[8]A08!Y40+[9]A08!Y40+[10]A08!Y40+[10]A08!Y40+[11]A08!Y40+[12]A08!Y40","v":0},{"$f":"+[1]A08!Z40+[2]A08!Z40+[3]A08!Z40+[4]A08!Z40+[5]A08!Z40+[6]A08!Z40+[7]A08!Z40+[8]A08!Z40+[9]A08!Z40+[10]A08!Z40+[10]A08!Z40+[11]A08!Z40+[12]A08!Z40","v":0},{"$f":"+[1]A08!AA40+[2]A08!AA40+[3]A08!AA40+[4]A08!AA40+[5]A08!AA40+[6]A08!AA40+[7]A08!AA40+[8]A08!AA40+[9]A08!AA40+[10]A08!AA40+[10]A08!AA40+[11]A08!AA40+[12]A08!AA40","v":0},{"$f":"+[1]A08!AB40+[2]A08!AB40+[3]A08!AB40+[4]A08!AB40+[5]A08!AB40+[6]A08!AB40+[7]A08!AB40+[8]A08!AB40+[9]A08!AB40+[10]A08!AB40+[10]A08!AB40+[11]A08!AB40+[12]A08!AB40","v":0},{"$f":"+[1]A08!AC40+[2]A08!AC40+[3]A08!AC40+[4]A08!AC40+[5]A08!AC40+[6]A08!AC40+[7]A08!AC40+[8]A08!AC40+[9]A08!AC40+[10]A08!AC40+[10]A08!AC40+[11]A08!AC40+[12]A08!AC40","v":0},{"$f":"+[1]A08!AD40+[2]A08!AD40+[3]A08!AD40+[4]A08!AD40+[5]A08!AD40+[6]A08!AD40+[7]A08!AD40+[8]A08!AD40+[9]A08!AD40+[10]A08!AD40+[10]A08!AD40+[11]A08!AD40+[12]A08!AD40","v":0},{"$f":"+[1]A08!AE40+[2]A08!AE40+[3]A08!AE40+[4]A08!AE40+[5]A08!AE40+[6]A08!AE40+[7]A08!AE40+[8]A08!AE40+[9]A08!AE40+[10]A08!AE40+[10]A08!AE40+[11]A08!AE40+[12]A08!AE40","v":0},{"$f":"+[1]A08!AF40+[2]A08!AF40+[3]A08!AF40+[4]A08!AF40+[5]A08!AF40+[6]A08!AF40+[7]A08!AF40+[8]A08!AF40+[9]A08!AF40+[10]A08!AF40+[10]A08!AF40+[11]A08!AF40+[12]A08!AF40","v":0},{"$f":"+[1]A08!AG40+[2]A08!AG40+[3]A08!AG40+[4]A08!AG40+[5]A08!AG40+[6]A08!AG40+[7]A08!AG40+[8]A08!AG40+[9]A08!AG40+[10]A08!AG40+[10]A08!AG40+[11]A08!AG40+[12]A08!AG40","v":0},{"$f":"+[1]A08!AH40+[2]A08!AH40+[3]A08!AH40+[4]A08!AH40+[5]A08!AH40+[6]A08!AH40+[7]A08!AH40+[8]A08!AH40+[9]A08!AH40+[10]A08!AH40+[10]A08!AH40+[11]A08!AH40+[12]A08!AH40","v":0},{"$f":"+[1]A08!AI40+[2]A08!AI40+[3]A08!AI40+[4]A08!AI40+[5]A08!AI40+[6]A08!AI40+[7]A08!AI40+[8]A08!AI40+[9]A08!AI40+[10]A08!AI40+[10]A08!AI40+[11]A08!AI40+[12]A08!AI40","v":0},{"$f":"+[1]A08!AJ40+[2]A08!AJ40+[3]A08!AJ40+[4]A08!AJ40+[5]A08!AJ40+[6]A08!AJ40+[7]A08!AJ40+[8]A08!AJ40+[9]A08!AJ40+[10]A08!AJ40+[10]A08!AJ40+[11]A08!AJ40+[12]A08!AJ40","v":0},{"$f":"+[1]A08!AK40+[2]A08!AK40+[3]A08!AK40+[4]A08!AK40+[5]A08!AK40+[6]A08!AK40+[7]A08!AK40+[8]A08!AK40+[9]A08!AK40+[10]A08!AK40+[10]A08!AK40+[11]A08!AK40+[12]A08!AK40","v":0},{"$f":"+[1]A08!AL40+[2]A08!AL40+[3]A08!AL40+[4]A08!AL40+[5]A08!AL40+[6]A08!AL40+[7]A08!AL40+[8]A08!AL40+[9]A08!AL40+[10]A08!AL40+[10]A08!AL40+[11]A08!AL40+[12]A08!AL40","v":0},{"$f":"+[1]A08!AM40+[2]A08!AM40+[3]A08!AM40+[4]A08!AM40+[5]A08!AM40+[6]A08!AM40+[7]A08!AM40+[8]A08!AM40+[9]A08!AM40+[10]A08!AM40+[10]A08!AM40+[11]A08!AM40+[12]A08!AM40","v":0},{"$f":"+[1]A08!AN40+[2]A08!AN40+[3]A08!AN40+[4]A08!AN40+[5]A08!AN40+[6]A08!AN40+[7]A08!AN40+[8]A08!AN40+[9]A08!AN40+[10]A08!AN40+[10]A08!AN40+[11]A08!AN40+[12]A08!AN40","v":0},null,null,null,null,null,null,null,null,null,null,null,null,null,null,null,null,null,null,null,null,null,null,null,null,null,null,null,null,null,null,null,null,null,null,null,null,null,null,null,null,null,null,null,null,0,0]
["KINESIÓLOGO/A",0,0,0,{"$f":"+[1]A08!E41+[2]A08!E41+[3]A08!E41+[4]A08!E41+[5]A08!E41+[6]A08!E41+[7]A08!E41+[8]A08!E41+[9]A08!E41+[10]A08!E41+[10]A08!E41+[11]A08!E41+[12]A08!E41","v":0},{"$f":"+[1]A08!F41+[2]A08!F41+[3]A08!F41+[4]A08!F41+[5]A08!F41+[6]A08!F41+[7]A08!F41+[8]A08!F41+[9]A08!F41+[10]A08!F41+[10]A08!F41+[11]A08!F41+[12]A08!F41","v":0},{"$f":"+[1]A08!G41+[2]A08!G41+[3]A08!G41+[4]A08!G41+[5]A08!G41+[6]A08!G41+[7]A08!G41+[8]A08!G41+[9]A08!G41+[10]A08!G41+[10]A08!G41+[11]A08!G41+[12]A08!G41","v":0},{"$f":"+[1]A08!H41+[2]A08!H41+[3]A08!H41+[4]A08!H41+[5]A08!H41+[6]A08!H41+[7]A08!H41+[8]A08!H41+[9]A08!H41+[10]A08!H41+[10]A08!H41+[11]A08!H41+[12]A08!H41","v":0},{"$f":"+[1]A08!I41+[2]A08!I41+[3]A08!I41+[4]A08!I41+[5]A08!I41+[6]A08!I41+[7]A08!I41+[8]A08!I41+[9]A08!I41+[10]A08!I41+[10]A08!I41+[11]A08!I41+[12]A08!I41","v":0},{"$f":"+[1]A08!J41+[2]A08!J41+[3]A08!J41+[4]A08!J41+[5]A08!J41+[6]A08!J41+[7]A08!J41+[8]A08!J41+[9]A08!J41+[10]A08!J41+[10]A08!J41+[11]A08!J41+[12]A08!J41","v":0},{"$f":"+[1]A08!K41+[2]A08!K41+[3]A08!K41+[4]A08!K41+[5]A08!K41+[6]A08!K41+[7]A08!K41+[8]A08!K41+[9]A08!K41+[10]A08!K41+[10]A08!K41+[11]A08!K41+[12]A08!K41","v":0},{"$f":"+[1]A08!L41+[2]A08!L41+[3]A08!L41+[4]A08!L41+[5]A08!L41+[6]A08!L41+[7]A08!L41+[8]A08!L41+[9]A08!L41+[10]A08!L41+[10]A08!L41+[11]A08!L41+[12]A08!L41","v":0},{"$f":"+[1]A08!M41+[2]A08!M41+[3]A08!M41+[4]A08!M41+[5]A08!M41+[6]A08!M41+[7]A08!M41+[8]A08!M41+[9]A08!M41+[10]A08!M41+[10]A08!M41+[11]A08!M41+[12]A08!M41","v":0},{"$f":"+[1]A08!N41+[2]A08!N41+[3]A08!N41+[4]A08!N41+[5]A08!N41+[6]A08!N41+[7]A08!N41+[8]A08!N41+[9]A08!N41+[10]A08!N41+[10]A08!N41+[11]A08!N41+[12]A08!N41","v":0},{"$f":"+[1]A08!O41+[2]A08!O41+[3]A08!O41+[4]A08!O41+[5]A08!O41+[6]A08!O41+[7]A08!O41+[8]A08!O41+[9]A08!O41+[10]A08!O41+[10]A08!O41+[11]A08!O41+[12]A08!O41","v":0},{"$f":"+[1]A08!P41+[2]A08!P41+[3]A08!P41+[4]A08!P41+[5]A08!P41+[6]A08!P41+[7]A08!P41+[8]A08!P41+[9]A08!P41+[10]A08!P41+[10]A08!P41+[11]A08!P41+[12]A08!P41","v":0},{"$f":"+[1]A08!Q41+[2]A08!Q41+[3]A08!Q41+[4]A08!Q41+[5]A08!Q41+[6]A08!Q41+[7]A08!Q41+[8]A08!Q41+[9]A08!Q41+[10]A08!Q41+[10]A08!Q41+[11]A08!Q41+[12]A08!Q41","v":0},{"$f":"+[1]A08!R41+[2]A08!R41+[3]A08!R41+[4]A08!R41+[5]A08!R41+[6]A08!R41+[7]A08!R41+[8]A08!R41+[9]A08!R41+[10]A08!R41+[10]A08!R41+[11]A08!R41+[12]A08!R41","v":0},{"$f":"+[1]A08!S41+[2]A08!S41+[3]A08!S41+[4]A08!S41+[5]A08!S41+[6]A08!S41+[7]A08!S41+[8]A08!S41+[9]A08!S41+[10]A08!S41+[10]A08!S41+[11]A08!S41+[12]A08!S41","v":0},{"$f":"+[1]A08!T41+[2]A08!T41+[3]A08!T41+[4]A08!T41+[5]A08!T41+[6]A08!T41+[7]A08!T41+[8]A08!T41+[9]A08!T41+[10]A08!T41+[10]A08!T41+[11]A08!T41+[12]A08!T41","v":0},{"$f":"+[1]A08!U41+[2]A08!U41+[3]A08!U41+[4]A08!U41+[5]A08!U41+[6]A08!U41+[7]A08!U41+[8]A08!U41+[9]A08!U41+[10]A08!U41+[10]A08!U41+[11]A08!U41+[12]A08!U41","v":0},{"$f":"+[1]A08!V41+[2]A08!V41+[3]A08!V41+[4]A08!V41+[5]A08!V41+[6]A08!V41+[7]A08!V41+[8]A08!V41+[9]A08!V41+[10]A08!V41+[10]A08!V41+[11]A08!V41+[12]A08!V41","v":0},{"$f":"+[1]A08!W41+[2]A08!W41+[3]A08!W41+[4]A08!W41+[5]A08!W41+[6]A08!W41+[7]A08!W41+[8]A08!W41+[9]A08!W41+[10]A08!W41+[10]A08!W41+[11]A08!W41+[12]A08!W41","v":0},{"$f":"+[1]A08!X41+[2]A08!X41+[3]A08!X41+[4]A08!X41+[5]A08!X41+[6]A08!X41+[7]A08!X41+[8]A08!X41+[9]A08!X41+[10]A08!X41+[10]A08!X41+[11]A08!X41+[12]A08!X41","v":0},{"$f":"+[1]A08!Y41+[2]A08!Y41+[3]A08!Y41+[4]A08!Y41+[5]A08!Y41+[6]A08!Y41+[7]A08!Y41+[8]A08!Y41+[9]A08!Y41+[10]A08!Y41+[10]A08!Y41+[11]A08!Y41+[12]A08!Y41","v":0},{"$f":"+[1]A08!Z41+[2]A08!Z41+[3]A08!Z41+[4]A08!Z41+[5]A08!Z41+[6]A08!Z41+[7]A08!Z41+[8]A08!Z41+[9]A08!Z41+[10]A08!Z41+[10]A08!Z41+[11]A08!Z41+[12]A08!Z41","v":0},{"$f":"+[1]A08!AA41+[2]A08!AA41+[3]A08!AA41+[4]A08!AA41+[5]A08!AA41+[6]A08!AA41+[7]A08!AA41+[8]A08!AA41+[9]A08!AA41+[10]A08!AA41+[10]A08!AA41+[11]A08!AA41+[12]A08!AA41","v":0},{"$f":"+[1]A08!AB41+[2]A08!AB41+[3]A08!AB41+[4]A08!AB41+[5]A08!AB41+[6]A08!AB41+[7]A08!AB41+[8]A08!AB41+[9]A08!AB41+[10]A08!AB41+[10]A08!AB41+[11]A08!AB41+[12]A08!AB41","v":0},{"$f":"+[1]A08!AC41+[2]A08!AC41+[3]A08!AC41+[4]A08!AC41+[5]A08!AC41+[6]A08!AC41+[7]A08!AC41+[8]A08!AC41+[9]A08!AC41+[10]A08!AC41+[10]A08!AC41+[11]A08!AC41+[12]A08!AC41","v":0},{"$f":"+[1]A08!AD41+[2]A08!AD41+[3]A08!AD41+[4]A08!AD41+[5]A08!AD41+[6]A08!AD41+[7]A08!AD41+[8]A08!AD41+[9]A08!AD41+[10]A08!AD41+[10]A08!AD41+[11]A08!AD41+[12]A08!AD41","v":0},{"$f":"+[1]A08!AE41+[2]A08!AE41+[3]A08!AE41+[4]A08!AE41+[5]A08!AE41+[6]A08!AE41+[7]A08!AE41+[8]A08!AE41+[9]A08!AE41+[10]A08!AE41+[10]A08!AE41+[11]A08!AE41+[12]A08!AE41","v":0},{"$f":"+[1]A08!AF41+[2]A08!AF41+[3]A08!AF41+[4]A08!AF41+[5]A08!AF41+[6]A08!AF41+[7]A08!AF41+[8]A08!AF41+[9]A08!AF41+[10]A08!AF41+[10]A08!AF41+[11]A08!AF41+[12]A08!AF41","v":0},{"$f":"+[1]A08!AG41+[2]A08!AG41+[3]A08!AG41+[4]A08!AG41+[5]A08!AG41+[6]A08!AG41+[7]A08!AG41+[8]A08!AG41+[9]A08!AG41+[10]A08!AG41+[10]A08!AG41+[11]A08!AG41+[12]A08!AG41","v":0},{"$f":"+[1]A08!AH41+[2]A08!AH41+[3]A08!AH41+[4]A08!AH41+[5]A08!AH41+[6]A08!AH41+[7]A08!AH41+[8]A08!AH41+[9]A08!AH41+[10]A08!AH41+[10]A08!AH41+[11]A08!AH41+[12]A08!AH41","v":0},{"$f":"+[1]A08!AI41+[2]A08!AI41+[3]A08!AI41+[4]A08!AI41+[5]A08!AI41+[6]A08!AI41+[7]A08!AI41+[8]A08!AI41+[9]A08!AI41+[10]A08!AI41+[10]A08!AI41+[11]A08!AI41+[12]A08!AI41","v":0},{"$f":"+[1]A08!AJ41+[2]A08!AJ41+[3]A08!AJ41+[4]A08!AJ41+[5]A08!AJ41+[6]A08!AJ41+[7]A08!AJ41+[8]A08!AJ41+[9]A08!AJ41+[10]A08!AJ41+[10]A08!AJ41+[11]A08!AJ41+[12]A08!AJ41","v":0},{"$f":"+[1]A08!AK41+[2]A08!AK41+[3]A08!AK41+[4]A08!AK41+[5]A08!AK41+[6]A08!AK41+[7]A08!AK41+[8]A08!AK41+[9]A08!AK41+[10]A08!AK41+[10]A08!AK41+[11]A08!AK41+[12]A08!AK41","v":0},{"$f":"+[1]A08!AL41+[2]A08!AL41+[3]A08!AL41+[4]A08!AL41+[5]A08!AL41+[6]A08!AL41+[7]A08!AL41+[8]A08!AL41+[9]A08!AL41+[10]A08!AL41+[10]A08!AL41+[11]A08!AL41+[12]A08!AL41","v":0},{"$f":"+[1]A08!AM41+[2]A08!AM41+[3]A08!AM41+[4]A08!AM41+[5]A08!AM41+[6]A08!AM41+[7]A08!AM41+[8]A08!AM41+[9]A08!AM41+[10]A08!AM41+[10]A08!AM41+[11]A08!AM41+[12]A08!AM41","v":0},{"$f":"+[1]A08!AN41+[2]A08!AN41+[3]A08!AN41+[4]A08!AN41+[5]A08!AN41+[6]A08!AN41+[7]A08!AN41+[8]A08!AN41+[9]A08!AN41+[10]A08!AN41+[10]A08!AN41+[11]A08!AN41+[12]A08!AN41","v":0},null,null,null,null,null,null,null,null,null,null,null,null,null,null,null,null,null,null,null,null,null,null,null,null,null,null,null,null,null,null,null,null,null,null,null,null,null,null,null,null,null,null,null,null,0,0]
["TÉCNICO PARAMÉDICO",0,0,0,{"$f":"+[1]A08!E42+[2]A08!E42+[3]A08!E42+[4]A08!E42+[5]A08!E42+[6]A08!E42+[7]A08!E42+[8]A08!E42+[9]A08!E42+[10]A08!E42+[10]A08!E42+[11]A08!E42+[12]A08!E42","v":0},{"$f":"+[1]A08!F42+[2]A08!F42+[3]A08!F42+[4]A08!F42+[5]A08!F42+[6]A08!F42+[7]A08!F42+[8]A08!F42+[9]A08!F42+[10]A08!F42+[10]A08!F42+[11]A08!F42+[12]A08!F42","v":0},{"$f":"+[1]A08!G42+[2]A08!G42+[3]A08!G42+[4]A08!G42+[5]A08!G42+[6]A08!G42+[7]A08!G42+[8]A08!G42+[9]A08!G42+[10]A08!G42+[10]A08!G42+[11]A08!G42+[12]A08!G42","v":0},{"$f":"+[1]A08!H42+[2]A08!H42+[3]A08!H42+[4]A08!H42+[5]A08!H42+[6]A08!H42+[7]A08!H42+[8]A08!H42+[9]A08!H42+[10]A08!H42+[10]A08!H42+[11]A08!H42+[12]A08!H42","v":0},{"$f":"+[1]A08!I42+[2]A08!I42+[3]A08!I42+[4]A08!I42+[5]A08!I42+[6]A08!I42+[7]A08!I42+[8]A08!I42+[9]A08!I42+[10]A08!I42+[10]A08!I42+[11]A08!I42+[12]A08!I42","v":0},{"$f":"+[1]A08!J42+[2]A08!J42+[3]A08!J42+[4]A08!J42+[5]A08!J42+[6]A08!J42+[7]A08!J42+[8]A08!J42+[9]A08!J42+[10]A08!J42+[10]A08!J42+[11]A08!J42+[12]A08!J42","v":0},{"$f":"+[1]A08!K42+[2]A08!K42+[3]A08!K42+[4]A08!K42+[5]A08!K42+[6]A08!K42+[7]A08!K42+[8]A08!K42+[9]A08!K42+[10]A08!K42+[10]A08!K42+[11]A08!K42+[12]A08!K42","v":0},{"$f":"+[1]A08!L42+[2]A08!L42+[3]A08!L42+[4]A08!L42+[5]A08!L42+[6]A08!L42+[7]A08!L42+[8]A08!L42+[9]A08!L42+[10]A08!L42+[10]A08!L42+[11]A08!L42+[12]A08!L42","v":0},{"$f":"+[1]A08!M42+[2]A08!M42+[3]A08!M42+[4]A08!M42+[5]A08!M42+[6]A08!M42+[7]A08!M42+[8]A08!M42+[9]A08!M42+[10]A08!M42+[10]A08!M42+[11]A08!M42+[12]A08!M42","v":0},{"$f":"+[1]A08!N42+[2]A08!N42+[3]A08!N42+[4]A08!N42+[5]A08!N42+[6]A08!N42+[7]A08!N42+[8]A08!N42+[9]A08!N42+[10]A08!N42+[10]A08!N42+[11]A08!N42+[12]A08!N42","v":0},{"$f":"+[1]A08!O42+[2]A08!O42+[3]A08!O42+[4]A08!O42+[5]A08!O42+[6]A08!O42+[7]A08!O42+[8]A08!O42+[9]A08!O42+[10]A08!O42+[10]A08!O42+[11]A08!O42+[12]A08!O42","v":0},{"$f":"+[1]A08!P42+[2]A08!P42+[3]A08!P42+[4]A08!P42+[5]A08!P42+[6]A08!P42+[7]A08!P42+[8]A08!P42+[9]A08!P42+[10]A08!P42+[10]A08!P42+[11]A08!P42+[12]A08!P42","v":0},{"$f":"+[1]A08!Q42+[2]A08!Q42+[3]A08!Q42+[4]A08!Q42+[5]A08!Q42+[6]A08!Q42+[7]A08!Q42+[8]A08!Q42+[9]A08!Q42+[10]A08!Q42+[10]A08!Q42+[11]A08!Q42+[12]A08!Q42","v":0},{"$f":"+[1]A08!R42+[2]A08!R42+[3]A08!R42+[4]A08!R42+[5]A08!R42+[6]A08!R42+[7]A08!R42+[8]A08!R42+[9]A08!R42+[10]A08!R42+[10]A08!R42+[11]A08!R42+[12]A08!R42","v":0},{"$f":"+[1]A08!S42+[2]A08!S42+[3]A08!S42+[4]A08!S42+[5]A08!S42+[6]A08!S42+[7]A08!S42+[8]A08!S42+[9]A08!S42+[10]A08!S42+[10]A08!S42+[11]A08!S42+[12]A08!S42","v":0},{"$f":"+[1]A08!T42+[2]A08!T42+[3]A08!T42+[4]A08!T42+[5]A08!T42+[6]A08!T42+[7]A08!T42+[8]A08!T42+[9]A08!T42+[10]A08!T42+[10]A08!T42+[11]A08!T42+[12]A08!T42","v":0},{"$f":"+[1]A08!U42+[2]A08!U42+[3]A08!U42+[4]A08!U42+[5]A08!U42+[6]A08!U42+[7]A08!U42+[8]A08!U42+[9]A08!U42+[10]A08!U42+[10]A08!U42+[11]A08!U42+[12]A08!U42","v":0},{"$f":"+[1]A08!V42+[2]A08!V42+[3]A08!V42+[4]A08!V42+[5]A08!V42+[6]A08!V42+[7]A08!V42+[8]A08!V42+[9]A08!V42+[10]A08!V42+[10]A08!V42+[11]A08!V42+[12]A08!V42","v":0},{"$f":"+[1]A08!W42+[2]A08!W42+[3]A08!W42+[4]A08!W42+[5]A08!W42+[6]A08!W42+[7]A08!W42+[8]A08!W42+[9]A08!W42+[10]A08!W42+[10]A08!W42+[11]A08!W42+[12]A08!W42","v":0},{"$f":"+[1]A08!X42+[2]A08!X42+[3]A08!X42+[4]A08!X42+[5]A08!X42+[6]A08!X42+[7]A08!X42+[8]A08!X42+[9]A08!X42+[10]A08!X42+[10]A08!X42+[11]A08!X42+[12]A08!X42","v":0},{"$f":"+[1]A08!Y42+[2]A08!Y42+[3]A08!Y42+[4]A08!Y42+[5]A08!Y42+[6]A08!Y42+[7]A08!Y42+[8]A08!Y42+[9]A08!Y42+[10]A08!Y42+[10]A08!Y42+[11]A08!Y42+[12]A08!Y42","v":0},{"$f":"+[1]A08!Z42+[2]A08!Z42+[3]A08!Z42+[4]A08!Z42+[5]A08!Z42+[6]A08!Z42+[7]A08!Z42+[8]A08!Z42+[9]A08!Z42+[10]A08!Z42+[10]A08!Z42+[11]A08!Z42+[12]A08!Z42","v":0},{"$f":"+[1]A08!AA42+[2]A08!AA42+[3]A08!AA42+[4]A08!AA42+[5]A08!AA42+[6]A08!AA42+[7]A08!AA42+[8]A08!AA42+[9]A08!AA42+[10]A08!AA42+[10]A08!AA42+[11]A08!AA42+[12]A08!AA42","v":0},{"$f":"+[1]A08!AB42+[2]A08!AB42+[3]A08!AB42+[4]A08!AB42+[5]A08!AB42+[6]A08!AB42+[7]A08!AB42+[8]A08!AB42+[9]A08!AB42+[10]A08!AB42+[10]A08!AB42+[11]A08!AB42+[12]A08!AB42","v":0},{"$f":"+[1]A08!AC42+[2]A08!AC42+[3]A08!AC42+[4]A08!AC42+[5]A08!AC42+[6]A08!AC42+[7]A08!AC42+[8]A08!AC42+[9]A08!AC42+[10]A08!AC42+[10]A08!AC42+[11]A08!AC42+[12]A08!AC42","v":0},{"$f":"+[1]A08!AD42+[2]A08!AD42+[3]A08!AD42+[4]A08!AD42+[5]A08!AD42+[6]A08!AD42+[7]A08!AD42+[8]A08!AD42+[9]A08!AD42+[10]A08!AD42+[10]A08!AD42+[11]A08!AD42+[12]A08!AD42","v":0},{"$f":"+[1]A08!AE42+[2]A08!AE42+[3]A08!AE42+[4]A08!AE42+[5]A08!AE42+[6]A08!AE42+[7]A08!AE42+[8]A08!AE42+[9]A08!AE42+[10]A08!AE42+[10]A08!AE42+[11]A08!AE42+[12]A08!AE42","v":0},{"$f":"+[1]A08!AF42+[2]A08!AF42+[3]A08!AF42+[4]A08!AF42+[5]A08!AF42+[6]A08!AF42+[7]A08!AF42+[8]A08!AF42+[9]A08!AF42+[10]A08!AF42+[10]A08!AF42+[11]A08!AF42+[12]A08!AF42","v":0},{"$f":"+[1]A08!AG42+[2]A08!AG42+[3]A08!AG42+[4]A08!AG42+[5]A08!AG42+[6]A08!AG42+[7]A08!AG42+[8]A08!AG42+[9]A08!AG42+[10]A08!AG42+[10]A08!AG42+[11]A08!AG42+[12]A08!AG42","v":0},{"$f":"+[1]A08!AH42+[2]A08!AH42+[3]A08!AH42+[4]A08!AH42+[5]A08!AH42+[6]A08!AH42+[7]A08!AH42+[8]A08!AH42+[9]A08!AH42+[10]A08!AH42+[10]A08!AH42+[11]A08!AH42+[12]A08!AH42","v":0},{"$f":"+[1]A08!AI42+[2]A08!AI42+[3]A08!AI42+[4]A08!AI42+[5]A08!AI42+[6]A08!AI42+[7]A08!AI42+[8]A08!AI42+[9]A08!AI42+[10]A08!AI42+[10]A08!AI42+[11]A08!AI42+[12]A08!AI42","v":0},{"$f":"+[1]A08!AJ42+[2]A08!AJ42+[3]A08!AJ42+[4]A08!AJ42+[5]A08!AJ42+[6]A08!AJ42+[7]A08!AJ42+[8]A08!AJ42+[9]A08!AJ42+[10]A08!AJ42+[10]A08!AJ42+[11]A08!AJ42+[12]A08!AJ42","v":0},{"$f":"+[1]A08!AK42+[2]A08!AK42+[3]A08!AK42+[4]A08!AK42+[5]A08!AK42+[6]A08!AK42+[7]A08!AK42+[8]A08!AK42+[9]A08!AK42+[10]A08!AK42+[10]A08!AK42+[11]A08!AK42+[12]A08!AK42","v":0},{"$f":"+[1]A08!AL42+[2]A08!AL42+[3]A08!AL42+[4]A08!AL42+[5]A08!AL42+[6]A08!AL42+[7]A08!AL42+[8]A08!AL42+[9]A08!AL42+[10]A08!AL42+[10]A08!AL42+[11]A08!AL42+[12]A08!AL42","v":0},{"$f":"+[1]A08!AM42+[2]A08!AM42+[3]A08!AM42+[4]A08!AM42+[5]A08!AM42+[6]A08!AM42+[7]A08!AM42+[8]A08!AM42+[9]A08!AM42+[10]A08!AM42+[10]A08!AM42+[11]A08!AM42+[12]A08!AM42","v":0},{"$f":"+[1]A08!AN42+[2]A08!AN42+[3]A08!AN42+[4]A08!AN42+[5]A08!AN42+[6]A08!AN42+[7]A08!AN42+[8]A08!AN42+[9]A08!AN42+[10]A08!AN42+[10]A08!AN42+[11]A08!AN42+[12]A08!AN42","v":0},null,null,null,null,null,null,null,null,null,null,null,null,null,null,null,null,null,null,null,null,null,null,null,null,null,null,null,null,null,null,null,null,null,null,null,null,null,null,null,null,null,null,null,null,0,0]
["OTROS PROFESIONALES",0,0,0,{"$f":"+[1]A08!E43+[2]A08!E43+[3]A08!E43+[4]A08!E43+[5]A08!E43+[6]A08!E43+[7]A08!E43+[8]A08!E43+[9]A08!E43+[10]A08!E43+[10]A08!E43+[11]A08!E43+[12]A08!E43","v":0},{"$f":"+[1]A08!F43+[2]A08!F43+[3]A08!F43+[4]A08!F43+[5]A08!F43+[6]A08!F43+[7]A08!F43+[8]A08!F43+[9]A08!F43+[10]A08!F43+[10]A08!F43+[11]A08!F43+[12]A08!F43","v":0},{"$f":"+[1]A08!G43+[2]A08!G43+[3]A08!G43+[4]A08!G43+[5]A08!G43+[6]A08!G43+[7]A08!G43+[8]A08!G43+[9]A08!G43+[10]A08!G43+[10]A08!G43+[11]A08!G43+[12]A08!G43","v":0},{"$f":"+[1]A08!H43+[2]A08!H43+[3]A08!H43+[4]A08!H43+[5]A08!H43+[6]A08!H43+[7]A08!H43+[8]A08!H43+[9]A08!H43+[10]A08!H43+[10]A08!H43+[11]A08!H43+[12]A08!H43","v":0},{"$f":"+[1]A08!I43+[2]A08!I43+[3]A08!I43+[4]A08!I43+[5]A08!I43+[6]A08!I43+[7]A08!I43+[8]A08!I43+[9]A08!I43+[10]A08!I43+[10]A08!I43+[11]A08!I43+[12]A08!I43","v":0},{"$f":"+[1]A08!J43+[2]A08!J43+[3]A08!J43+[4]A08!J43+[5]A08!J43+[6]A08!J43+[7]A08!J43+[8]A08!J43+[9]A08!J43+[10]A08!J43+[10]A08!J43+[11]A08!J43+[12]A08!J43","v":0},{"$f":"+[1]A08!K43+[2]A08!K43+[3]A08!K43+[4]A08!K43+[5]A08!K43+[6]A08!K43+[7]A08!K43+[8]A08!K43+[9]A08!K43+[10]A08!K43+[10]A08!K43+[11]A08!K43+[12]A08!K43","v":0},{"$f":"+[1]A08!L43+[2]A08!L43+[3]A08!L43+[4]A08!L43+[5]A08!L43+[6]A08!L43+[7]A08!L43+[8]A08!L43+[9]A08!L43+[10]A08!L43+[10]A08!L43+[11]A08!L43+[12]A08!L43","v":0},{"$f":"+[1]A08!M43+[2]A08!M43+[3]A08!M43+[4]A08!M43+[5]A08!M43+[6]A08!M43+[7]A08!M43+[8]A08!M43+[9]A08!M43+[10]A08!M43+[10]A08!M43+[11]A08!M43+[12]A08!M43","v":0},{"$f":"+[1]A08!N43+[2]A08!N43+[3]A08!N43+[4]A08!N43+[5]A08!N43+[6]A08!N43+[7]A08!N43+[8]A08!N43+[9]A08!N43+[10]A08!N43+[10]A08!N43+[11]A08!N43+[12]A08!N43","v":0},{"$f":"+[1]A08!O43+[2]A08!O43+[3]A08!O43+[4]A08!O43+[5]A08!O43+[6]A08!O43+[7]A08!O43+[8]A08!O43+[9]A08!O43+[10]A08!O43+[10]A08!O43+[11]A08!O43+[12]A08!O43","v":0},{"$f":"+[1]A08!P43+[2]A08!P43+[3]A08!P43+[4]A08!P43+[5]A08!P43+[6]A08!P43+[7]A08!P43+[8]A08!P43+[9]A08!P43+[10]A08!P43+[10]A08!P43+[11]A08!P43+[12]A08!P43","v":0},{"$f":"+[1]A08!Q43+[2]A08!Q43+[3]A08!Q43+[4]A08!Q43+[5]A08!Q43+[6]A08!Q43+[7]A08!Q43+[8]A08!Q43+[9]A08!Q43+[10]A08!Q43+[10]A08!Q43+[11]A08!Q43+[12]A08!Q43","v":0},{"$f":"+[1]A08!R43+[2]A08!R43+[3]A08!R43+[4]A08!R43+[5]A08!R43+[6]A08!R43+[7]A08!R43+[8]A08!R43+[9]A08!R43+[10]A08!R43+[10]A08!R43+[11]A08!R43+[12]A08!R43","v":0},{"$f":"+[1]A08!S43+[2]A08!S43+[3]A08!S43+[4]A08!S43+[5]A08!S43+[6]A08!S43+[7]A08!S43+[8]A08!S43+[9]A08!S43+[10]A08!S43+[10]A08!S43+[11]A08!S43+[12]A08!S43","v":0},{"$f":"+[1]A08!T43+[2]A08!T43+[3]A08!T43+[4]A08!T43+[5]A08!T43+[6]A08!T43+[7]A08!T43+[8]A08!T43+[9]A08!T43+[10]A08!T43+[10]A08!T43+[11]A08!T43+[12]A08!T43","v":0},{"$f":"+[1]A08!U43+[2]A08!U43+[3]A08!U43+[4]A08!U43+[5]A08!U43+[6]A08!U43+[7]A08!U43+[8]A08!U43+[9]A08!U43+[10]A08!U43+[10]A08!U43+[11]A08!U43+[12]A08!U43","v":0},{"$f":"+[1]A08!V43+[2]A08!V43+[3]A08!V43+[4]A08!V43+[5]A08!V43+[6]A08!V43+[7]A08!V43+[8]A08!V43+[9]A08!V43+[10]A08!V43+[10]A08!V43+[11]A08!V43+[12]A08!V43","v":0},{"$f":"+[1]A08!W43+[2]A08!W43+[3]A08!W43+[4]A08!W43+[5]A08!W43+[6]A08!W43+[7]A08!W43+[8]A08!W43+[9]A08!W43+[10]A08!W43+[10]A08!W43+[11]A08!W43+[12]A08!W43","v":0},{"$f":"+[1]A08!X43+[2]A08!X43+[3]A08!X43+[4]A08!X43+[5]A08!X43+[6]A08!X43+[7]A08!X43+[8]A08!X43+[9]A08!X43+[10]A08!X43+[10]A08!X43+[11]A08!X43+[12]A08!X43","v":0},{"$f":"+[1]A08!Y43+[2]A08!Y43+[3]A08!Y43+[4]A08!Y43+[5]A08!Y43+[6]A08!Y43+[7]A08!Y43+[8]A08!Y43+[9]A08!Y43+[10]A08!Y43+[10]A08!Y43+[11]A08!Y43+[12]A08!Y43","v":0},{"$f":"+[1]A08!Z43+[2]A08!Z43+[3]A08!Z43+[4]A08!Z43+[5]A08!Z43+[6]A08!Z43+[7]A08!Z43+[8]A08!Z43+[9]A08!Z43+[10]A08!Z43+[10]A08!Z43+[11]A08!Z43+[12]A08!Z43","v":0},{"$f":"+[1]A08!AA43+[2]A08!AA43+[3]A08!AA43+[4]A08!AA43+[5]A08!AA43+[6]A08!AA43+[7]A08!AA43+[8]A08!AA43+[9]A08!AA43+[10]A08!AA43+[10]A08!AA43+[11]A08!AA43+[12]A08!AA43","v":0},{"$f":"+[1]A08!AB43+[2]A08!AB43+[3]A08!AB43+[4]A08!AB43+[5]A08!AB43+[6]A08!AB43+[7]A08!AB43+[8]A08!AB43+[9]A08!AB43+[10]A08!AB43+[10]A08!AB43+[11]A08!AB43+[12]A08!AB43","v":0},{"$f":"+[1]A08!AC43+[2]A08!AC43+[3]A08!AC43+[4]A08!AC43+[5]A08!AC43+[6]A08!AC43+[7]A08!AC43+[8]A08!AC43+[9]A08!AC43+[10]A08!AC43+[10]A08!AC43+[11]A08!AC43+[12]A08!AC43","v":0},{"$f":"+[1]A08!AD43+[2]A08!AD43+[3]A08!AD43+[4]A08!AD43+[5]A08!AD43+[6]A08!AD43+[7]A08!AD43+[8]A08!AD43+[9]A08!AD43+[10]A08!AD43+[10]A08!AD43+[11]A08!AD43+[12]A08!AD43","v":0},{"$f":"+[1]A08!AE43+[2]A08!AE43+[3]A08!AE43+[4]A08!AE43+[5]A08!AE43+[6]A08!AE43+[7]A08!AE43+[8]A08!AE43+[9]A08!AE43+[10]A08!AE43+[10]A08!AE43+[11]A08!AE43+[12]A08!AE43","v":0},{"$f":"+[1]A08!AF43+[2]A08!AF43+[3]A08!AF43+[4]A08!AF43+[5]A08!AF43+[6]A08!AF43+[7]A08!AF43+[8]A08!AF43+[9]A08!AF43+[10]A08!AF43+[10]A08!AF43+[11]A08!AF43+[12]A08!AF43","v":0},{"$f":"+[1]A08!AG43+[2]A08!AG43+[3]A08!AG43+[4]A08!AG43+[5]A08!AG43+[6]A08!AG43+[7]A08!AG43+[8]A08!AG43+[9]A08!AG43+[10]A08!AG43+[10]A08!AG43+[11]A08!AG43+[12]A08!AG43","v":0},{"$f":"+[1]A08!AH43+[2]A08!AH43+[3]A08!AH43+[4]A08!AH43+[5]A08!AH43+[6]A08!AH43+[7]A08!AH43+[8]A08!AH43+[9]A08!AH43+[10]A08!AH43+[10]A08!AH43+[11]A08!AH43+[12]A08!AH43","v":0},{"$f":"+[1]A08!AI43+[2]A08!AI43+[3]A08!AI43+[4]A08!AI43+[5]A08!AI43+[6]A08!AI43+[7]A08!AI43+[8]A08!AI43+[9]A08!AI43+[10]A08!AI43+[10]A08!AI43+[11]A08!AI43+[12]A08!AI43","v":0},{"$f":"+[1]A08!AJ43+[2]A08!AJ43+[3]A08!AJ43+[4]A08!AJ43+[5]A08!AJ43+[6]A08!AJ43+[7]A08!AJ43+[8]A08!AJ43+[9]A08!AJ43+[10]A08!AJ43+[10]A08!AJ43+[11]A08!AJ43+[12]A08!AJ43","v":0},{"$f":"+[1]A08!AK43+[2]A08!AK43+[3]A08!AK43+[4]A08!AK43+[5]A08!AK43+[6]A08!AK43+[7]A08!AK43+[8]A08!AK43+[9]A08!AK43+[10]A08!AK43+[10]A08!AK43+[11]A08!AK43+[12]A08!AK43","v":0},{"$f":"+[1]A08!AL43+[2]A08!AL43+[3]A08!AL43+[4]A08!AL43+[5]A08!AL43+[6]A08!AL43+[7]A08!AL43+[8]A08!AL43+[9]A08!AL43+[10]A08!AL43+[10]A08!AL43+[11]A08!AL43+[12]A08!AL43","v":0},{"$f":"+[1]A08!AM43+[2]A08!AM43+[3]A08!AM43+[4]A08!AM43+[5]A08!AM43+[6]A08!AM43+[7]A08!AM43+[8]A08!AM43+[9]A08!AM43+[10]A08!AM43+[10]A08!AM43+[11]A08!AM43+[12]A08!AM43","v":0},{"$f":"+[1]A08!AN43+[2]A08!AN43+[3]A08!AN43+[4]A08!AN43+[5]A08!AN43+[6]A08!AN43+[7]A08!AN43+[8]A08!AN43+[9]A08!AN43+[10]A08!AN43+[10]A08!AN43+[11]A08!AN43+[12]A08!AN43","v":0},null,null,null,null,null,null,null,null,null,null,null,null,null,null,null,null,null,null,null,null,null,null,null,null,null,null,null,null,null,null,null,null,null,null,null,null,null,null,null,null,null,null,null,null,0,0]
["SECCIÓN A.5:  CONSULTAS EN SISTEMA DE ATENCIÓN DE URGENCIA EN CENTROS DE SALUD RURAL (SUR) Y POSTAS RURALES"]
["PROFESIONAL","TOTAL        ",null,null,"GRUPOS DE EDAD (en años)",null,null,null,null,null,null,null,null,null,null,null,null,null,null,null,null,null,null,null,null,null,null,null,null,null,null,null,null,null,null,null,null,null,"Beneficiarios","Demanda de Urgencia"]
[null,null,null,null,"0 - 4",null,"5 - 9",null,"10 - 14",null,"15 - 19",null,"20 - 24",null,"25 - 29",null,"30 - 34",null,"35 - 39",null,"40 - 44",null,"45 - 49",null,"50 - 54",null,"55 - 59",null,"60 - 64",null,"65 - 69",null,"70 - 74",null,"75 - 79",null,"80 y mas"]
[null,"Ambos Sexos","Hombres ","Mujeres","Hombres ","Mujeres","Hombres ","Mujeres","Hombres ","Mujeres","Hombres ","Mujeres","Hombres ","Mujeres","Hombres ","Mujeres","Hombres ","Mujeres","Hombres ","Mujeres","Hombres ","Mujeres","Hombres ","Mujeres","Hombres ","Mujeres","Hombres ","Mujeres","Hombres ","Mujeres","Hombres ","Mujeres","Hombres ","Mujeres","Hombres ","Mujeres","Hombres ","Mujeres"]
["MÉDICO",{"$f":"SUM(C48+D48)","v":0},{"$f":"SUM(E48+G48+I48+K48+M48+O48+Q48+S48+U48+W48+Y48+AA48+AC48+AE48+AG48+AI48+AK48)","v":0},0,{"$f":"+[1]A08!E48+[2]A08!E48+[3]A08!E48+[4]A08!E48+[5]A08!E48+[6]A08!E48+[7]A08!E48+[8]A08!E48+[9]A08!E48+[10]A08!E48+[10]A08!E48+[11]A08!E48+[12]A08!E48","v":0},{"$f":"+[1]A08!F48+[2]A08!F48+[3]A08!F48+[4]A08!F48+[5]A08!F48+[6]A08!F48+[7]A08!F48+[8]A08!F48+[9]A08!F48+[10]A08!F48+[10]A08!F48+[11]A08!F48+[12]A08!F48","v":0},{"$f":"+[1]A08!G48+[2]A08!G48+[3]A08!G48+[4]A08!G48+[5]A08!G48+[6]A08!G48+[7]A08!G48+[8]A08!G48+[9]A08!G48+[10]A08!G48+[10]A08!G48+[11]A08!G48+[12]A08!G48","v":0},{"$f":"+[1]A08!H48+[2]A08!H48+[3]A08!H48+[4]A08!H48+[5]A08!H48+[6]A08!H48+[7]A08!H48+[8]A08!H48+[9]A08!H48+[10]A08!H48+[10]A08!H48+[11]A08!H48+[12]A08!H48","v":0},{"$f":"+[1]A08!I48+[2]A08!I48+[3]A08!I48+[4]A08!I48+[5]A08!I48+[6]A08!I48+[7]A08!I48+[8]A08!I48+[9]A08!I48+[10]A08!I48+[10]A08!I48+[11]A08!I48+[12]A08!I48","v":0},{"$f":"+[1]A08!J48+[2]A08!J48+[3]A08!J48+[4]A08!J48+[5]A08!J48+[6]A08!J48+[7]A08!J48+[8]A08!J48+[9]A08!J48+[10]A08!J48+[10]A08!J48+[11]A08!J48+[12]A08!J48","v":0},{"$f":"+[1]A08!K48+[2]A08!K48+[3]A08!K48+[4]A08!K48+[5]A08!K48+[6]A08!K48+[7]A08!K48+[8]A08!K48+[9]A08!K48+[10]A08!K48+[10]A08!K48+[11]A08!K48+[12]A08!K48","v":0},{"$f":"+[1]A08!L48+[2]A08!L48+[3]A08!L48+[4]A08!L48+[5]A08!L48+[6]A08!L48+[7]A08!L48+[8]A08!L48+[9]A08!L48+[10]A08!L48+[10]A08!L48+[11]A08!L48+[12]A08!L48","v":0},{"$f":"+[1]A08!M48+[2]A08!M48+[3]A08!M48+[4]A08!M48+[5]A08!M48+[6]A08!M48+[7]A08!M48+[8]A08!M48+[9]A08!M48+[10]A08!M48+[10]A08!M48+[11]A08!M48+[12]A08!M48","v":0},{"$f":"+[1]A08!N48+[2]A08!N48+[3]A08!N48+[4]A08!N48+[5]A08!N48+[6]A08!N48+[7]A08!N48+[8]A08!N48+[9]A08!N48+[10]A08!N48+[10]A08!N48+[11]A08!N48+[12]A08!N48","v":0},{"$f":"+[1]A08!O48+[2]A08!O48+[3]A08!O48+[4]A08!O48+[5]A08!O48+[6]A08!O48+[7]A08!O48+[8]A08!O48+[9]A08!O48+[10]A08!O48+[10]A08!O48+[11]A08!O48+[12]A08!O48","v":0},{"$f":"+[1]A08!P48+[2]A08!P48+[3]A08!P48+[4]A08!P48+[5]A08!P48+[6]A08!P48+[7]A08!P48+[8]A08!P48+[9]A08!P48+[10]A08!P48+[10]A08!P48+[11]A08!P48+[12]A08!P48","v":0},{"$f":"+[1]A08!Q48+[2]A08!Q48+[3]A08!Q48+[4]A08!Q48+[5]A08!Q48+[6]A08!Q48+[7]A08!Q48+[8]A08!Q48+[9]A08!Q48+[10]A08!Q48+[10]A08!Q48+[11]A08!Q48+[12]A08!Q48","v":0},{"$f":"+[1]A08!R48+[2]A08!R48+[3]A08!R48+[4]A08!R48+[5]A08!R48+[6]A08!R48+[7]A08!R48+[8]A08!R48+[9]A08!R48+[10]A08!R48+[10]A08!R48+[11]A08!R48+[12]A08!R48","v":0},{"$f":"+[1]A08!S48+[2]A08!S48+[3]A08!S48+[4]A08!S48+[5]A08!S48+[6]A08!S48+[7]A08!S48+[8]A08!S48+[9]A08!S48+[10]A08!S48+[10]A08!S48+[11]A08!S48+[12]A08!S48","v":0},{"$f":"+[1]A08!T48+[2]A08!T48+[3]A08!T48+[4]A08!T48+[5]A08!T48+[6]A08!T48+[7]A08!T48+[8]A08!T48+[9]A08!T48+[10]A08!T48+[10]A08!T48+[11]A08!T48+[12]A08!T48","v":0},{"$f":"+[1]A08!U48+[2]A08!U48+[3]A08!U48+[4]A08!U48+[5]A08!U48+[6]A08!U48+[7]A08!U48+[8]A08!U48+[9]A08!U48+[10]A08!U48+[10]A08!U48+[11]A08!U48+[12]A08!U48","v":0},{"$f":"+[1]A08!V48+[2]A08!V48+[3]A08!V48+[4]A08!V48+[5]A08!V48+[6]A08!V48+[7]A08!V48+[8]A08!V48+[9]A08!V48+[10]A08!V48+[10]A08!V48+[11]A08!V48+[12]A08!V48","v":0},{"$f":"+[1]A08!W48+[2]A08!W48+[3]A08!W48+[4]A08!W48+[5]A08!W48+[6]A08!W48+[7]A08!W48+[8]A08!W48+[9]A08!W48+[10]A08!W48+[10]A08!W48+[11]A08!W48+[12]A08!W48","v":0},{"$f":"+[1]A08!X48+[2]A08!X48+[3]A08!X48+[4]A08!X48+[5]A08!X48+[6]A08!X48+[7]A08!X48+[8]A08!X48+[9]A08!X48+[10]A08!X48+[10]A08!X48+[11]A08!X48+[12]A08!X48","v":0},{"$f":"+[1]A08!Y48+[2]A08!Y48+[3]A08!Y48+[4]A08!Y48+[5]A08!Y48+[6]A08!Y48+[7]A08!Y48+[8]A08!Y48+[9]A08!Y48+[10]A08!Y48+[10]A08!Y48+[11]A08!Y48+[12]A08!Y48","v":0},{"$f":"+[1]A08!Z48+[2]A08!Z48+[3]A08!Z48+[4]A08!Z48+[5]A08!Z48+[6]A08!Z48+[7]A08!Z48+[8]A08!Z48+[9]A08!Z48+[10]A08!Z48+[10]A08!Z48+[11]A08!Z48+[12]A08!Z48","v":0},{"$f":"+[1]A08!AA48+[2]A08!AA48+[3]A08!AA48+[4]A08!AA48+[5]A08!AA48+[6]A08!AA48+[7]A08!AA48+[8]A08!AA48+[9]A08!AA48+[10]A08!AA48+[10]A08!AA48+[11]A08!AA48+[12]A08!AA48","v":0},{"$f":"+[1]A08!AB48+[2]A08!AB48+[3]A08!AB48+[4]A08!AB48+[5]A08!AB48+[6]A08!AB48+[7]A08!AB48+[8]A08!AB48+[9]A08!AB48+[10]A08!AB48+[10]A08!AB48+[11]A08!AB48+[12]A08!AB48","v":0},{"$f":"+[1]A08!AC48+[2]A08!AC48+[3]A08!AC48+[4]A08!AC48+[5]A08!AC48+[6]A08!AC48+[7]A08!AC48+[8]A08!AC48+[9]A08!AC48+[10]A08!AC48+[10]A08!AC48+[11]A08!AC48+[12]A08!AC48","v":0},{"$f":"+[1]A08!AD48+[2]A08!AD48+[3]A08!AD48+[4]A08!AD48+[5]A08!AD48+[6]A08!AD48+[7]A08!AD48+[8]A08!AD48+[9]A08!AD48+[10]A08!AD48+[10]A08!AD48+[11]A08!AD48+[12]A08!AD48","v":0},{"$f":"+[1]A08!AE48+[2]A08!AE48+[3]A08!AE48+[4]A08!AE48+[5]A08!AE48+[6]A08!AE48+[7]A08!AE48+[8]A08!AE48+[9]A08!AE48+[10]A08!AE48+[10]A08!AE48+[11]A08!AE48+[12]A08!AE48","v":0},{"$f":"+[1]A08!AF48+[2]A08!AF48+[3]A08!AF48+[4]A08!AF48+[5]A08!AF48+[6]A08!AF48+[7]A08!AF48+[8]A08!AF48+[9]A08!AF48+[10]A08!AF48+[10]A08!AF48+[11]A08!AF48+[12]A08!AF48","v":0},{"$f":"+[1]A08!AG48+[2]A08!AG48+[3]A08!AG48+[4]A08!AG48+[5]A08!AG48+[6]A08!AG48+[7]A08!AG48+[8]A08!AG48+[9]A08!AG48+[10]A08!AG48+[10]A08!AG48+[11]A08!AG48+[12]A08!AG48","v":0},{"$f":"+[1]A08!AH48+[2]A08!AH48+[3]A08!AH48+[4]A08!AH48+[5]A08!AH48+[6]A08!AH48+[7]A08!AH48+[8]A08!AH48+[9]A08!AH48+[10]A08!AH48+[10]A08!AH48+[11]A08!AH48+[12]A08!AH48","v":0},{"$f":"+[1]A08!AI48+[2]A08!AI48+[3]A08!AI48+[4]A08!AI48+[5]A08!AI48+[6]A08!AI48+[7]A08!AI48+[8]A08!AI48+[9]A08!AI48+[10]A08!AI48+[10]A08!AI48+[11]A08!AI48+[12]A08!AI48","v":0},{"$f":"+[1]A08!AJ48+[2]A08!AJ48+[3]A08!AJ48+[4]A08!AJ48+[5]A08!AJ48+[6]A08!AJ48+[7]A08!AJ48+[8]A08!AJ48+[9]A08!AJ48+[10]A08!AJ48+[10]A08!AJ48+[11]A08!AJ48+[12]A08!AJ48","v":0},{"$f":"+[1]A08!AK48+[2]A08!AK48+[3]A08!AK48+[4]A08!AK48+[5]A08!AK48+[6]A08!AK48+[7]A08!AK48+[8]A08!AK48+[9]A08!AK48+[10]A08!AK48+[10]A08!AK48+[11]A08!AK48+[12]A08!AK48","v":0},{"$f":"+[1]A08!AL48+[2]A08!AL48+[3]A08!AL48+[4]A08!AL48+[5]A08!AL48+[6]A08!AL48+[7]A08!AL48+[8]A08!AL48+[9]A08!AL48+[10]A08!AL48+[10]A08!AL48+[11]A08!AL48+[12]A08!AL48","v":0},{"$f":"+[1]A08!AM48+[2]A08!AM48+[3]A08!AM48+[4]A08!AM48+[5]A08!AM48+[6]A08!AM48+[7]A08!AM48+[8]A08!AM48+[9]A08!AM48+[10]A08!AM48+[10]A08!AM48+[11]A08!AM48+[12]A08!AM48","v":0},{"$f":"+[1]A08!AN48+[2]A08!AN48+[3]A08!AN48+[4]A08!AN48+[5]A08!AN48+[6]A08!AN48+[7]A08!AN48+[8]A08!AN48+[9]A08!AN48+[10]A08!AN48+[10]A08!AN48+[11]A08!AN48+[12]A08!AN48","v":0},null,null,null,null,null,null,null,null,null,null,null,null,null,null,null,null,null,null,null,null,null,null,null,null,null,null,null,null,null,null,null,null,null,null,null,null,null,null,null,null,null,null,null,null,0,0]
["ENFERMERA /O",0,0,0,{"$f":"+[1]A08!E49+[2]A08!E49+[3]A08!E49+[4]A08!E49+[5]A08!E49+[6]A08!E49+[7]A08!E49+[8]A08!E49+[9]A08!E49+[10]A08!E49+[10]A08!E49+[11]A08!E49+[12]A08!E49","v":0},{"$f":"+[1]A08!F49+[2]A08!F49+[3]A08!F49+[4]A08!F49+[5]A08!F49+[6]A08!F49+[7]A08!F49+[8]A08!F49+[9]A08!F49+[10]A08!F49+[10]A08!F49+[11]A08!F49+[12]A08!F49","v":0},{"$f":"+[1]A08!G49+[2]A08!G49+[3]A08!G49+[4]A08!G49+[5]A08!G49+[6]A08!G49+[7]A08!G49+[8]A08!G49+[9]A08!G49+[10]A08!G49+[10]A08!G49+[11]A08!G49+[12]A08!G49","v":0},{"$f":"+[1]A08!H49+[2]A08!H49+[3]A08!H49+[4]A08!H49+[5]A08!H49+[6]A08!H49+[7]A08!H49+[8]A08!H49+[9]A08!H49+[10]A08!H49+[10]A08!H49+[11]A08!H49+[12]A08!H49","v":0},{"$f":"+[1]A08!I49+[2]A08!I49+[3]A08!I49+[4]A08!I49+[5]A08!I49+[6]A08!I49+[7]A08!I49+[8]A08!I49+[9]A08!I49+[10]A08!I49+[10]A08!I49+[11]A08!I49+[12]A08!I49","v":0},{"$f":"+[1]A08!J49+[2]A08!J49+[3]A08!J49+[4]A08!J49+[5]A08!J49+[6]A08!J49+[7]A08!J49+[8]A08!J49+[9]A08!J49+[10]A08!J49+[10]A08!J49+[11]A08!J49+[12]A08!J49","v":0},{"$f":"+[1]A08!K49+[2]A08!K49+[3]A08!K49+[4]A08!K49+[5]A08!K49+[6]A08!K49+[7]A08!K49+[8]A08!K49+[9]A08!K49+[10]A08!K49+[10]A08!K49+[11]A08!K49+[12]A08!K49","v":0},{"$f":"+[1]A08!L49+[2]A08!L49+[3]A08!L49+[4]A08!L49+[5]A08!L49+[6]A08!L49+[7]A08!L49+[8]A08!L49+[9]A08!L49+[10]A08!L49+[10]A08!L49+[11]A08!L49+[12]A08!L49","v":0},{"$f":"+[1]A08!M49+[2]A08!M49+[3]A08!M49+[4]A08!M49+[5]A08!M49+[6]A08!M49+[7]A08!M49+[8]A08!M49+[9]A08!M49+[10]A08!M49+[10]A08!M49+[11]A08!M49+[12]A08!M49","v":0},{"$f":"+[1]A08!N49+[2]A08!N49+[3]A08!N49+[4]A08!N49+[5]A08!N49+[6]A08!N49+[7]A08!N49+[8]A08!N49+[9]A08!N49+[10]A08!N49+[10]A08!N49+[11]A08!N49+[12]A08!N49","v":0},{"$f":"+[1]A08!O49+[2]A08!O49+[3]A08!O49+[4]A08!O49+[5]A08!O49+[6]A08!O49+[7]A08!O49+[8]A08!O49+[9]A08!O49+[10]A08!O49+[10]A08!O49+[11]A08!O49+[12]A08!O49","v":0},{"$f":"+[1]A08!P49+[2]A08!P49+[3]A08!P49+[4]A08!P49+[5]A08!P49+[6]A08!P49+[7]A08!P49+[8]A08!P49+[9]A08!P49+[10]A08!P49+[10]A08!P49+[11]A08!P49+[12]A08!P49","v":0},{"$f":"+[1]A08!Q49+[2]A08!Q49+[3]A08!Q49+[4]A08!Q49+[5]A08!Q49+[6]A08!Q49+[7]A08!Q49+[8]A08!Q49+[9]A08!Q49+[10]A08!Q49+[10]A08!Q49+[11]A08!Q49+[12]A08!Q49","v":0},{"$f":"+[1]A08!R49+[2]A08!R49+[3]A08!R49+[4]A08!R49+[5]A08!R49+[6]A08!R49+[7]A08!R49+[8]A08!R49+[9]A08!R49+[10]A08!R49+[10]A08!R49+[11]A08!R49+[12]A08!R49","v":0},{"$f":"+[1]A08!S49+[2]A08!S49+[3]A08!S49+[4]A08!S49+[5]A08!S49+[6]A08!S49+[7]A08!S49+[8]A08!S49+[9]A08!S49+[10]A08!S49+[10]A08!S49+[11]A08!S49+[12]A08!S49","v":0},{"$f":"+[1]A08!T49+[2]A08!T49+[3]A08!T49+[4]A08!T49+[5]A08!T49+[6]A08!T49+[7]A08!T49+[8]A08!T49+[9]A08!T49+[10]A08!T49+[10]A08!T49+[11]A08!T49+[12]A08!T49","v":0},{"$f":"+[1]A08!U49+[2]A08!U49+[3]A08!U49+[4]A08!U49+[5]A08!U49+[6]A08!U49+[7]A08!U49+[8]A08!U49+[9]A08!U49+[10]A08!U49+[10]A08!U49+[11]A08!U49+[12]A08!U49","v":0},{"$f":"+[1]A08!V49+[2]A08!V49+[3]A08!V49+[4]A08!V49+[5]A08!V49+[6]A08!V49+[7]A08!V49+[8]A08!V49+[9]A08!V49+[10]A08!V49+[10]A08!V49+[11]A08!V49+[12]A08!V49","v":0},{"$f":"+[1]A08!W49+[2]A08!W49+[3]A08!W49+[4]A08!W49+[5]A08!W49+[6]A08!W49+[7]A08!W49+[8]A08!W49+[9]A08!W49+[10]A08!W49+[10]A08!W49+[11]A08!W49+[12]A08!W49","v":0},{"$f":"+[1]A08!X49+[2]A08!X49+[3]A08!X49+[4]A08!X49+[5]A08!X49+[6]A08!X49+[7]A08!X49+[8]A08!X49+[9]A08!X49+[10]A08!X49+[10]A08!X49+[11]A08!X49+[12]A08!X49","v":0},{"$f":"+[1]A08!Y49+[2]A08!Y49+[3]A08!Y49+[4]A08!Y49+[5]A08!Y49+[6]A08!Y49+[7]A08!Y49+[8]A08!Y49+[9]A08!Y49+[10]A08!Y49+[10]A08!Y49+[11]A08!Y49+[12]A08!Y49","v":0},{"$f":"+[1]A08!Z49+[2]A08!Z49+[3]A08!Z49+[4]A08!Z49+[5]A08!Z49+[6]A08!Z49+[7]A08!Z49+[8]A08!Z49+[9]A08!Z49+[10]A08!Z49+[10]A08!Z49+[11]A08!Z49+[12]A08!Z49","v":0},{"$f":"+[1]A08!AA49+[2]A08!AA49+[3]A08!AA49+[4]A08!AA49+[5]A08!AA49+[6]A08!AA49+[7]A08!AA49+[8]A08!AA49+[9]A08!AA49+[10]A08!AA49+[10]A08!AA49+[11]A08!AA49+[12]A08!AA49","v":0},{"$f":"+[1]A08!AB49+[2]A08!AB49+[3]A08!AB49+[4]A08!AB49+[5]A08!AB49+[6]A08!AB49+[7]A08!AB49+[8]A08!AB49+[9]A08!AB49+[10]A08!AB49+[10]A08!AB49+[11]A08!AB49+[12]A08!AB49","v":0},{"$f":"+[1]A08!AC49+[2]A08!AC49+[3]A08!AC49+[4]A08!AC49+[5]A08!AC49+[6]A08!AC49+[7]A08!AC49+[8]A08!AC49+[9]A08!AC49+[10]A08!AC49+[10]A08!AC49+[11]A08!AC49+[12]A08!AC49","v":0},{"$f":"+[1]A08!AD49+[2]A08!AD49+[3]A08!AD49+[4]A08!AD49+[5]A08!AD49+[6]A08!AD49+[7]A08!AD49+[8]A08!AD49+[9]A08!AD49+[10]A08!AD49+[10]A08!AD49+[11]A08!AD49+[12]A08!AD49","v":0},{"$f":"+[1]A08!AE49+[2]A08!AE49+[3]A08!AE49+[4]A08!AE49+[5]A08!AE49+[6]A08!AE49+[7]A08!AE49+[8]A08!AE49+[9]A08!AE49+[10]A08!AE49+[10]A08!AE49+[11]A08!AE49+[12]A08!AE49","v":0},{"$f":"+[1]A08!AF49+[2]A08!AF49+[3]A08!AF49+[4]A08!AF49+[5]A08!AF49+[6]A08!AF49+[7]A08!AF49+[8]A08!AF49+[9]A08!AF49+[10]A08!AF49+[10]A08!AF49+[11]A08!AF49+[12]A08!AF49","v":0},{"$f":"+[1]A08!AG49+[2]A08!AG49+[3]A08!AG49+[4]A08!AG49+[5]A08!AG49+[6]A08!AG49+[7]A08!AG49+[8]A08!AG49+[9]A08!AG49+[10]A08!AG49+[10]A08!AG49+[11]A08!AG49+[12]A08!AG49","v":0},{"$f":"+[1]A08!AH49+[2]A08!AH49+[3]A08!AH49+[4]A08!AH49+[5]A08!AH49+[6]A08!AH49+[7]A08!AH49+[8]A08!AH49+[9]A08!AH49+[10]A08!AH49+[10]A08!AH49+[11]A08!AH49+[12]A08!AH49","v":0},{"$f":"+[1]A08!AI49+[2]A08!AI49+[3]A08!AI49+[4]A08!AI49+[5]A08!AI49+[6]A08!AI49+[7]A08!AI49+[8]A08!AI49+[9]A08!AI49+[10]A08!AI49+[10]A08!AI49+[11]A08!AI49+[12]A08!AI49","v":0},{"$f":"+[1]A08!AJ49+[2]A08!AJ49+[3]A08!AJ49+[4]A08!AJ49+[5]A08!AJ49+[6]A08!AJ49+[7]A08!AJ49+[8]A08!AJ49+[9]A08!AJ49+[10]A08!AJ49+[10]A08!AJ49+[11]A08!AJ49+[12]A08!AJ49","v":0},{"$f":"+[1]A08!AK49+[2]A08!AK49+[3]A08!AK49+[4]A08!AK49+[5]A08!AK49+[6]A08!AK49+[7]A08!AK49+[8]A08!AK49+[9]A08!AK49+[10]A08!AK49+[10]A08!AK49+[11]A08!AK49+[12]A08!AK49","v":0},{"$f":"+[1]A08!AL49+[2]A08!AL49+[3]A08!AL49+[4]A08!AL49+[5]A08!AL49+[6]A08!AL49+[7]A08!AL49+[8]A08!AL49+[9]A08!AL49+[10]A08!AL49+[10]A08!AL49+[11]A08!AL49+[12]A08!AL49","v":0},{"$f":"+[1]A08!AM49+[2]A08!AM49+[3]A08!AM49+[4]A08!AM49+[5]A08!AM49+[6]A08!AM49+[7]A08!AM49+[8]A08!AM49+[9]A08!AM49+[10]A08!AM49+[10]A08!AM49+[11]A08!AM49+[12]A08!AM49","v":0},{"$f":"+[1]A08!AN49+[2]A08!AN49+[3]A08!AN49+[4]A08!AN49+[5]A08!AN49+[6]A08!AN49+[7]A08!AN49+[8]A08!AN49+[9]A08!AN49+[10]A08!AN49+[10]A08!AN49+[11]A08!AN49+[12]A08!AN49","v":0},null,null,null,null,null,null,null,null,null,null,null,null,null,null,null,null,null,null,null,null,null,null,null,null,null,null,null,null,null,null,null,null,null,null,null,null,null,null,null,null,null,null,null,null,0,0]
["MATRONA /ÓN",0,0,0,{"$f":"+[1]A08!E50+[2]A08!E50+[3]A08!E50+[4]A08!E50+[5]A08!E50+[6]A08!E50+[7]A08!E50+[8]A08!E50+[9]A08!E50+[10]A08!E50+[10]A08!E50+[11]A08!E50+[12]A08!E50","v":0},{"$f":"+[1]A08!F50+[2]A08!F50+[3]A08!F50+[4]A08!F50+[5]A08!F50+[6]A08!F50+[7]A08!F50+[8]A08!F50+[9]A08!F50+[10]A08!F50+[10]A08!F50+[11]A08!F50+[12]A08!F50","v":0},{"$f":"+[1]A08!G50+[2]A08!G50+[3]A08!G50+[4]A08!G50+[5]A08!G50+[6]A08!G50+[7]A08!G50+[8]A08!G50+[9]A08!G50+[10]A08!G50+[10]A08!G50+[11]A08!G50+[12]A08!G50","v":0},{"$f":"+[1]A08!H50+[2]A08!H50+[3]A08!H50+[4]A08!H50+[5]A08!H50+[6]A08!H50+[7]A08!H50+[8]A08!H50+[9]A08!H50+[10]A08!H50+[10]A08!H50+[11]A08!H50+[12]A08!H50","v":0},{"$f":"+[1]A08!I50+[2]A08!I50+[3]A08!I50+[4]A08!I50+[5]A08!I50+[6]A08!I50+[7]A08!I50+[8]A08!I50+[9]A08!I50+[10]A08!I50+[10]A08!I50+[11]A08!I50+[12]A08!I50","v":0},{"$f":"+[1]A08!J50+[2]A08!J50+[3]A08!J50+[4]A08!J50+[5]A08!J50+[6]A08!J50+[7]A08!J50+[8]A08!J50+[9]A08!J50+[10]A08!J50+[10]A08!J50+[11]A08!J50+[12]A08!J50","v":0},{"$f":"+[1]A08!K50+[2]A08!K50+[3]A08!K50+[4]A08!K50+[5]A08!K50+[6]A08!K50+[7]A08!K50+[8]A08!K50+[9]A08!K50+[10]A08!K50+[10]A08!K50+[11]A08!K50+[12]A08!K50","v":0},{"$f":"+[1]A08!L50+[2]A08!L50+[3]A08!L50+[4]A08!L50+[5]A08!L50+[6]A08!L50+[7]A08!L50+[8]A08!L50+[9]A08!L50+[10]A08!L50+[10]A08!L50+[11]A08!L50+[12]A08!L50","v":0},{"$f":"+[1]A08!M50+[2]A08!M50+[3]A08!M50+[4]A08!M50+[5]A08!M50+[6]A08!M50+[7]A08!M50+[8]A08!M50+[9]A08!M50+[10]A08!M50+[10]A08!M50+[11]A08!M50+[12]A08!M50","v":0},{"$f":"+[1]A08!N50+[2]A08!N50+[3]A08!N50+[4]A08!N50+[5]A08!N50+[6]A08!N50+[7]A08!N50+[8]A08!N50+[9]A08!N50+[10]A08!N50+[10]A08!N50+[11]A08!N50+[12]A08!N50","v":0},{"$f":"+[1]A08!O50+[2]A08!O50+[3]A08!O50+[4]A08!O50+[5]A08!O50+[6]A08!O50+[7]A08!O50+[8]A08!O50+[9]A08!O50+[10]A08!O50+[10]A08!O50+[11]A08!O50+[12]A08!O50","v":0},{"$f":"+[1]A08!P50+[2]A08!P50+[3]A08!P50+[4]A08!P50+[5]A08!P50+[6]A08!P50+[7]A08!P50+[8]A08!P50+[9]A08!P50+[10]A08!P50+[10]A08!P50+[11]A08!P50+[12]A08!P50","v":0},{"$f":"+[1]A08!Q50+[2]A08!Q50+[3]A08!Q50+[4]A08!Q50+[5]A08!Q50+[6]A08!Q50+[7]A08!Q50+[8]A08!Q50+[9]A08!Q50+[10]A08!Q50+[10]A08!Q50+[11]A08!Q50+[12]A08!Q50","v":0},{"$f":"+[1]A08!R50+[2]A08!R50+[3]A08!R50+[4]A08!R50+[5]A08!R50+[6]A08!R50+[7]A08!R50+[8]A08!R50+[9]A08!R50+[10]A08!R50+[10]A08!R50+[11]A08!R50+[12]A08!R50","v":0},{"$f":"+[1]A08!S50+[2]A08!S50+[3]A08!S50+[4]A08!S50+[5]A08!S50+[6]A08!S50+[7]A08!S50+[8]A08!S50+[9]A08!S50+[10]A08!S50+[10]A08!S50+[11]A08!S50+[12]A08!S50","v":0},{"$f":"+[1]A08!T50+[2]A08!T50+[3]A08!T50+[4]A08!T50+[5]A08!T50+[6]A08!T50+[7]A08!T50+[8]A08!T50+[9]A08!T50+[10]A08!T50+[10]A08!T50+[11]A08!T50+[12]A08!T50","v":0},{"$f":"+[1]A08!U50+[2]A08!U50+[3]A08!U50+[4]A08!U50+[5]A08!U50+[6]A08!U50+[7]A08!U50+[8]A08!U50+[9]A08!U50+[10]A08!U50+[10]A08!U50+[11]A08!U50+[12]A08!U50","v":0},{"$f":"+[1]A08!V50+[2]A08!V50+[3]A08!V50+[4]A08!V50+[5]A08!V50+[6]A08!V50+[7]A08!V50+[8]A08!V50+[9]A08!V50+[10]A08!V50+[10]A08!V50+[11]A08!V50+[12]A08!V50","v":0},{"$f":"+[1]A08!W50+[2]A08!W50+[3]A08!W50+[4]A08!W50+[5]A08!W50+[6]A08!W50+[7]A08!W50+[8]A08!W50+[9]A08!W50+[10]A08!W50+[10]A08!W50+[11]A08!W50+[12]A08!W50","v":0},{"$f":"+[1]A08!X50+[2]A08!X50+[3]A08!X50+[4]A08!X50+[5]A08!X50+[6]A08!X50+[7]A08!X50+[8]A08!X50+[9]A08!X50+[10]A08!X50+[10]A08!X50+[11]A08!X50+[12]A08!X50","v":0},{"$f":"+[1]A08!Y50+[2]A08!Y50+[3]A08!Y50+[4]A08!Y50+[5]A08!Y50+[6]A08!Y50+[7]A08!Y50+[8]A08!Y50+[9]A08!Y50+[10]A08!Y50+[10]A08!Y50+[11]A08!Y50+[12]A08!Y50","v":0},{"$f":"+[1]A08!Z50+[2]A08!Z50+[3]A08!Z50+[4]A08!Z50+[5]A08!Z50+[6]A08!Z50+[7]A08!Z50+[8]A08!Z50+[9]A08!Z50+[10]A08!Z50+[10]A08!Z50+[11]A08!Z50+[12]A08!Z50","v":0},{"$f":"+[1]A08!AA50+[2]A08!AA50+[3]A08!AA50+[4]A08!AA50+[5]A08!AA50+[6]A08!AA50+[7]A08!AA50+[8]A08!AA50+[9]A08!AA50+[10]A08!AA50+[10]A08!AA50+[11]A08!AA50+[12]A08!AA50","v":0},{"$f":"+[1]A08!AB50+[2]A08!AB50+[3]A08!AB50+[4]A08!AB50+[5]A08!AB50+[6]A08!AB50+[7]A08!AB50+[8]A08!AB50+[9]A08!AB50+[10]A08!AB50+[10]A08!AB50+[11]A08!AB50+[12]A08!AB50","v":0},{"$f":"+[1]A08!AC50+[2]A08!AC50+[3]A08!AC50+[4]A08!AC50+[5]A08!AC50+[6]A08!AC50+[7]A08!AC50+[8]A08!AC50+[9]A08!AC50+[10]A08!AC50+[10]A08!AC50+[11]A08!AC50+[12]A08!AC50","v":0},{"$f":"+[1]A08!AD50+[2]A08!AD50+[3]A08!AD50+[4]A08!AD50+[5]A08!AD50+[6]A08!AD50+[7]A08!AD50+[8]A08!AD50+[9]A08!AD50+[10]A08!AD50+[10]A08!AD50+[11]A08!AD50+[12]A08!AD50","v":0},{"$f":"+[1]A08!AE50+[2]A08!AE50+[3]A08!AE50+[4]A08!AE50+[5]A08!AE50+[6]A08!AE50+[7]A08!AE50+[8]A08!AE50+[9]A08!AE50+[10]A08!AE50+[10]A08!AE50+[11]A08!AE50+[12]A08!AE50","v":0},{"$f":"+[1]A08!AF50+[2]A08!AF50+[3]A08!AF50+[4]A08!AF50+[5]A08!AF50+[6]A08!AF50+[7]A08!AF50+[8]A08!AF50+[9]A08!AF50+[10]A08!AF50+[10]A08!AF50+[11]A08!AF50+[12]A08!AF50","v":0},{"$f":"+[1]A08!AG50+[2]A08!AG50+[3]A08!AG50+[4]A08!AG50+[5]A08!AG50+[6]A08!AG50+[7]A08!AG50+[8]A08!AG50+[9]A08!AG50+[10]A08!AG50+[10]A08!AG50+[11]A08!AG50+[12]A08!AG50","v":0},{"$f":"+[1]A08!AH50+[2]A08!AH50+[3]A08!AH50+[4]A08!AH50+[5]A08!AH50+[6]A08!AH50+[7]A08!AH50+[8]A08!AH50+[9]A08!AH50+[10]A08!AH50+[10]A08!AH50+[11]A08!AH50+[12]A08!AH50","v":0},{"$f":"+[1]A08!AI50+[2]A08!AI50+[3]A08!AI50+[4]A08!AI50+[5]A08!AI50+[6]A08!AI50+[7]A08!AI50+[8]A08!AI50+[9]A08!AI50+[10]A08!AI50+[10]A08!AI50+[11]A08!AI50+[12]A08!AI50","v":0},{"$f":"+[1]A08!AJ50+[2]A08!AJ50+[3]A08!AJ50+[4]A08!AJ50+[5]A08!AJ50+[6]A08!AJ50+[7]A08!AJ50+[8]A08!AJ50+[9]A08!AJ50+[10]A08!AJ50+[10]A08!AJ50+[11]A08!AJ50+[12]A08!AJ50","v":0},{"$f":"+[1]A08!AK50+[2]A08!AK50+[3]A08!AK50+[4]A08!AK50+[5]A08!AK50+[6]A08!AK50+[7]A08!AK50+[8]A08!AK50+[9]A08!AK50+[10]A08!AK50+[10]A08!AK50+[11]A08!AK50+[12]A08!AK50","v":0},{"$f":"+[1]A08!AL50+[2]A08!AL50+[3]A08!AL50+[4]A08!AL50+[5]A08!AL50+[6]A08!AL50+[7]A08!AL50+[8]A08!AL50+[9]A08!AL50+[10]A08!AL50+[10]A08!AL50+[11]A08!AL50+[12]A08!AL50","v":0},{"$f":"+[1]A08!AM50+[2]A08!AM50+[3]A08!AM50+[4]A08!AM50+[5]A08!AM50+[6]A08!AM50+[7]A08!AM50+[8]A08!AM50+[9]A08!AM50+[10]A08!AM50+[10]A08!AM50+[11]A08!AM50+[12]A08!AM50","v":0},{"$f":"+[1]A08!AN50+[2]A08!AN50+[3]A08!AN50+[4]A08!AN50+[5]A08!AN50+[6]A08!AN50+[7]A08!AN50+[8]A08!AN50+[9]A08!AN50+[10]A08!AN50+[10]A08!AN50+[11]A08!AN50+[12]A08!AN50","v":0},null,null,null,null,null,null,null,null,null,null,null,null,null,null,null,null,null,null,null,null,null,null,null,null,null,null,null,null,null,null,null,null,null,null,null,null,null,null,null,null,null,null,null,null,0,0]
["KINESIÓLOGO/A",0,0,0,{"$f":"+[1]A08!E51+[2]A08!E51+[3]A08!E51+[4]A08!E51+[5]A08!E51+[6]A08!E51+[7]A08!E51+[8]A08!E51+[9]A08!E51+[10]A08!E51+[10]A08!E51+[11]A08!E51+[12]A08!E51","v":0},{"$f":"+[1]A08!F51+[2]A08!F51+[3]A08!F51+[4]A08!F51+[5]A08!F51+[6]A08!F51+[7]A08!F51+[8]A08!F51+[9]A08!F51+[10]A08!F51+[10]A08!F51+[11]A08!F51+[12]A08!F51","v":0},{"$f":"+[1]A08!G51+[2]A08!G51+[3]A08!G51+[4]A08!G51+[5]A08!G51+[6]A08!G51+[7]A08!G51+[8]A08!G51+[9]A08!G51+[10]A08!G51+[10]A08!G51+[11]A08!G51+[12]A08!G51","v":0},{"$f":"+[1]A08!H51+[2]A08!H51+[3]A08!H51+[4]A08!H51+[5]A08!H51+[6]A08!H51+[7]A08!H51+[8]A08!H51+[9]A08!H51+[10]A08!H51+[10]A08!H51+[11]A08!H51+[12]A08!H51","v":0},{"$f":"+[1]A08!I51+[2]A08!I51+[3]A08!I51+[4]A08!I51+[5]A08!I51+[6]A08!I51+[7]A08!I51+[8]A08!I51+[9]A08!I51+[10]A08!I51+[10]A08!I51+[11]A08!I51+[12]A08!I51","v":0},{"$f":"+[1]A08!J51+[2]A08!J51+[3]A08!J51+[4]A08!J51+[5]A08!J51+[6]A08!J51+[7]A08!J51+[8]A08!J51+[9]A08!J51+[10]A08!J51+[10]A08!J51+[11]A08!J51+[12]A08!J51","v":0},{"$f":"+[1]A08!K51+[2]A08!K51+[3]A08!K51+[4]A08!K51+[5]A08!K51+[6]A08!K51+[7]A08!K51+[8]A08!K51+[9]A08!K51+[10]A08!K51+[10]A08!K51+[11]A08!K51+[12]A08!K51","v":0},{"$f":"+[1]A08!L51+[2]A08!L51+[3]A08!L51+[4]A08!L51+[5]A08!L51+[6]A08!L51+[7]A08!L51+[8]A08!L51+[9]A08!L51+[10]A08!L51+[10]A08!L51+[11]A08!L51+[12]A08!L51","v":0},{"$f":"+[1]A08!M51+[2]A08!M51+[3]A08!M51+[4]A08!M51+[5]A08!M51+[6]A08!M51+[7]A08!M51+[8]A08!M51+[9]A08!M51+[10]A08!M51+[10]A08!M51+[11]A08!M51+[12]A08!M51","v":0},{"$f":"+[1]A08!N51+[2]A08!N51+[3]A08!N51+[4]A08!N51+[5]A08!N51+[6]A08!N51+[7]A08!N51+[8]A08!N51+[9]A08!N51+[10]A08!N51+[10]A08!N51+[11]A08!N51+[12]A08!N51","v":0},{"$f":"+[1]A08!O51+[2]A08!O51+[3]A08!O51+[4]A08!O51+[5]A08!O51+[6]A08!O51+[7]A08!O51+[8]A08!O51+[9]A08!O51+[10]A08!O51+[10]A08!O51+[11]A08!O51+[12]A08!O51","v":0},{"$f":"+[1]A08!P51+[2]A08!P51+[3]A08!P51+[4]A08!P51+[5]A08!P51+[6]A08!P51+[7]A08!P51+[8]A08!P51+[9]A08!P51+[10]A08!P51+[10]A08!P51+[11]A08!P51+[12]A08!P51","v":0},{"$f":"+[1]A08!Q51+[2]A08!Q51+[3]A08!Q51+[4]A08!Q51+[5]A08!Q51+[6]A08!Q51+[7]A08!Q51+[8]A08!Q51+[9]A08!Q51+[10]A08!Q51+[10]A08!Q51+[11]A08!Q51+[12]A08!Q51","v":0},{"$f":"+[1]A08!R51+[2]A08!R51+[3]A08!R51+[4]A08!R51+[5]A08!R51+[6]A08!R51+[7]A08!R51+[8]A08!R51+[9]A08!R51+[10]A08!R51+[10]A08!R51+[11]A08!R51+[12]A08!R51","v":0},{"$f":"+[1]A08!S51+[2]A08!S51+[3]A08!S51+[4]A08!S51+[5]A08!S51+[6]A08!S51+[7]A08!S51+[8]A08!S51+[9]A08!S51+[10]A08!S51+[10]A08!S51+[11]A08!S51+[12]A08!S51","v":0},{"$f":"+[1]A08!T51+[2]A08!T51+[3]A08!T51+[4]A08!T51+[5]A08!T51+[6]A08!T51+[7]A08!T51+[8]A08!T51+[9]A08!T51+[10]A08!T51+[10]A08!T51+[11]A08!T51+[12]A08!T51","v":0},{"$f":"+[1]A08!U51+[2]A08!U51+[3]A08!U51+[4]A08!U51+[5]A08!U51+[6]A08!U51+[7]A08!U51+[8]A08!U51+[9]A08!U51+[10]A08!U51+[10]A08!U51+[11]A08!U51+[12]A08!U51","v":0},{"$f":"+[1]A08!V51+[2]A08!V51+[3]A08!V51+[4]A08!V51+[5]A08!V51+[6]A08!V51+[7]A08!V51+[8]A08!V51+[9]A08!V51+[10]A08!V51+[10]A08!V51+[11]A08!V51+[12]A08!V51","v":0},{"$f":"+[1]A08!W51+[2]A08!W51+[3]A08!W51+[4]A08!W51+[5]A08!W51+[6]A08!W51+[7]A08!W51+[8]A08!W51+[9]A08!W51+[10]A08!W51+[10]A08!W51+[11]A08!W51+[12]A08!W51","v":0},{"$f":"+[1]A08!X51+[2]A08!X51+[3]A08!X51+[4]A08!X51+[5]A08!X51+[6]A08!X51+[7]A08!X51+[8]A08!X51+[9]A08!X51+[10]A08!X51+[10]A08!X51+[11]A08!X51+[12]A08!X51","v":0},{"$f":"+[1]A08!Y51+[2]A08!Y51+[3]A08!Y51+[4]A08!Y51+[5]A08!Y51+[6]A08!Y51+[7]A08!Y51+[8]A08!Y51+[9]A08!Y51+[10]A08!Y51+[10]A08!Y51+[11]A08!Y51+[12]A08!Y51","v":0},{"$f":"+[1]A08!Z51+[2]A08!Z51+[3]A08!Z51+[4]A08!Z51+[5]A08!Z51+[6]A08!Z51+[7]A08!Z51+[8]A08!Z51+[9]A08!Z51+[10]A08!Z51+[10]A08!Z51+[11]A08!Z51+[12]A08!Z51","v":0},{"$f":"+[1]A08!AA51+[2]A08!AA51+[3]A08!AA51+[4]A08!AA51+[5]A08!AA51+[6]A08!AA51+[7]A08!AA51+[8]A08!AA51+[9]A08!AA51+[10]A08!AA51+[10]A08!AA51+[11]A08!AA51+[12]A08!AA51","v":0},{"$f":"+[1]A08!AB51+[2]A08!AB51+[3]A08!AB51+[4]A08!AB51+[5]A08!AB51+[6]A08!AB51+[7]A08!AB51+[8]A08!AB51+[9]A08!AB51+[10]A08!AB51+[10]A08!AB51+[11]A08!AB51+[12]A08!AB51","v":0},{"$f":"+[1]A08!AC51+[2]A08!AC51+[3]A08!AC51+[4]A08!AC51+[5]A08!AC51+[6]A08!AC51+[7]A08!AC51+[8]A08!AC51+[9]A08!AC51+[10]A08!AC51+[10]A08!AC51+[11]A08!AC51+[12]A08!AC51","v":0},{"$f":"+[1]A08!AD51+[2]A08!AD51+[3]A08!AD51+[4]A08!AD51+[5]A08!AD51+[6]A08!AD51+[7]A08!AD51+[8]A08!AD51+[9]A08!AD51+[10]A08!AD51+[10]A08!AD51+[11]A08!AD51+[12]A08!AD51","v":0},{"$f":"+[1]A08!AE51+[2]A08!AE51+[3]A08!AE51+[4]A08!AE51+[5]A08!AE51+[6]A08!AE51+[7]A08!AE51+[8]A08!AE51+[9]A08!AE51+[10]A08!AE51+[10]A08!AE51+[11]A08!AE51+[12]A08!AE51","v":0},{"$f":"+[1]A08!AF51+[2]A08!AF51+[3]A08!AF51+[4]A08!AF51+[5]A08!AF51+[6]A08!AF51+[7]A08!AF51+[8]A08!AF51+[9]A08!AF51+[10]A08!AF51+[10]A08!AF51+[11]A08!AF51+[12]A08!AF51","v":0},{"$f":"+[1]A08!AG51+[2]A08!AG51+[3]A08!AG51+[4]A08!AG51+[5]A08!AG51+[6]A08!AG51+[7]A08!AG51+[8]A08!AG51+[9]A08!AG51+[10]A08!AG51+[10]A08!AG51+[11]A08!AG51+[12]A08!AG51","v":0},{"$f":"+[1]A08!AH51+[2]A08!AH51+[3]A08!AH51+[4]A08!AH51+[5]A08!AH51+[6]A08!AH51+[7]A08!AH51+[8]A08!AH51+[9]A08!AH51+[10]A08!AH51+[10]A08!AH51+[11]A08!AH51+[12]A08!AH51","v":0},{"$f":"+[1]A08!AI51+[2]A08!AI51+[3]A08!AI51+[4]A08!AI51+[5]A08!AI51+[6]A08!AI51+[7]A08!AI51+[8]A08!AI51+[9]A08!AI51+[10]A08!AI51+[10]A08!AI51+[11]A08!AI51+[12]A08!AI51","v":0},{"$f":"+[1]A08!AJ51+[2]A08!AJ51+[3]A08!AJ51+[4]A08!AJ51+[5]A08!AJ51+[6]A08!AJ51+[7]A08!AJ51+[8]A08!AJ51+[9]A08!AJ51+[10]A08!AJ51+[10]A08!AJ51+[11]A08!AJ51+[12]A08!AJ51","v":0},{"$f":"+[1]A08!AK51+[2]A08!AK51+[3]A08!AK51+[4]A08!AK51+[5]A08!AK51+[6]A08!AK51+[7]A08!AK51+[8]A08!AK51+[9]A08!AK51+[10]A08!AK51+[10]A08!AK51+[11]A08!AK51+[12]A08!AK51","v":0},{"$f":"+[1]A08!AL51+[2]A08!AL51+[3]A08!AL51+[4]A08!AL51+[5]A08!AL51+[6]A08!AL51+[7]A08!AL51+[8]A08!AL51+[9]A08!AL51+[10]A08!AL51+[10]A08!AL51+[11]A08!AL51+[12]A08!AL51","v":0},{"$f":"+[1]A08!AM51+[2]A08!AM51+[3]A08!AM51+[4]A08!AM51+[5]A08!AM51+[6]A08!AM51+[7]A08!AM51+[8]A08!AM51+[9]A08!AM51+[10]A08!AM51+[10]A08!AM51+[11]A08!AM51+[12]A08!AM51","v":0},{"$f":"+[1]A08!AN51+[2]A08!AN51+[3]A08!AN51+[4]A08!AN51+[5]A08!AN51+[6]A08!AN51+[7]A08!AN51+[8]A08!AN51+[9]A08!AN51+[10]A08!AN51+[10]A08!AN51+[11]A08!AN51+[12]A08!AN51","v":0},null,null,null,null,null,null,null,null,null,null,null,null,null,null,null,null,null,null,null,null,null,null,null,null,null,null,null,null,null,null,null,null,null,null,null,null,null,null,null,null,null,null,null,null,0,0]
["TÉCNICO PARAMÉDICO",0,0,0,{"$f":"+[1]A08!E52+[2]A08!E52+[3]A08!E52+[4]A08!E52+[5]A08!E52+[6]A08!E52+[7]A08!E52+[8]A08!E52+[9]A08!E52+[10]A08!E52+[10]A08!E52+[11]A08!E52+[12]A08!E52","v":0},{"$f":"+[1]A08!F52+[2]A08!F52+[3]A08!F52+[4]A08!F52+[5]A08!F52+[6]A08!F52+[7]A08!F52+[8]A08!F52+[9]A08!F52+[10]A08!F52+[10]A08!F52+[11]A08!F52+[12]A08!F52","v":0},{"$f":"+[1]A08!G52+[2]A08!G52+[3]A08!G52+[4]A08!G52+[5]A08!G52+[6]A08!G52+[7]A08!G52+[8]A08!G52+[9]A08!G52+[10]A08!G52+[10]A08!G52+[11]A08!G52+[12]A08!G52","v":0},{"$f":"+[1]A08!H52+[2]A08!H52+[3]A08!H52+[4]A08!H52+[5]A08!H52+[6]A08!H52+[7]A08!H52+[8]A08!H52+[9]A08!H52+[10]A08!H52+[10]A08!H52+[11]A08!H52+[12]A08!H52","v":0},{"$f":"+[1]A08!I52+[2]A08!I52+[3]A08!I52+[4]A08!I52+[5]A08!I52+[6]A08!I52+[7]A08!I52+[8]A08!I52+[9]A08!I52+[10]A08!I52+[10]A08!I52+[11]A08!I52+[12]A08!I52","v":0},{"$f":"+[1]A08!J52+[2]A08!J52+[3]A08!J52+[4]A08!J52+[5]A08!J52+[6]A08!J52+[7]A08!J52+[8]A08!J52+[9]A08!J52+[10]A08!J52+[10]A08!J52+[11]A08!J52+[12]A08!J52","v":0},{"$f":"+[1]A08!K52+[2]A08!K52+[3]A08!K52+[4]A08!K52+[5]A08!K52+[6]A08!K52+[7]A08!K52+[8]A08!K52+[9]A08!K52+[10]A08!K52+[10]A08!K52+[11]A08!K52+[12]A08!K52","v":0},{"$f":"+[1]A08!L52+[2]A08!L52+[3]A08!L52+[4]A08!L52+[5]A08!L52+[6]A08!L52+[7]A08!L52+[8]A08!L52+[9]A08!L52+[10]A08!L52+[10]A08!L52+[11]A08!L52+[12]A08!L52","v":0},{"$f":"+[1]A08!M52+[2]A08!M52+[3]A08!M52+[4]A08!M52+[5]A08!M52+[6]A08!M52+[7]A08!M52+[8]A08!M52+[9]A08!M52+[10]A08!M52+[10]A08!M52+[11]A08!M52+[12]A08!M52","v":0},{"$f":"+[1]A08!N52+[2]A08!N52+[3]A08!N52+[4]A08!N52+[5]A08!N52+[6]A08!N52+[7]A08!N52+[8]A08!N52+[9]A08!N52+[10]A08!N52+[10]A08!N52+[11]A08!N52+[12]A08!N52","v":0},{"$f":"+[1]A08!O52+[2]A08!O52+[3]A08!O52+[4]A08!O52+[5]A08!O52+[6]A08!O52+[7]A08!O52+[8]A08!O52+[9]A08!O52+[10]A08!O52+[10]A08!O52+[11]A08!O52+[12]A08!O52","v":0},{"$f":"+[1]A08!P52+[2]A08!P52+[3]A08!P52+[4]A08!P52+[5]A08!P52+[6]A08!P52+[7]A08!P52+[8]A08!P52+[9]A08!P52+[10]A08!P52+[10]A08!P52+[11]A08!P52+[12]A08!P52","v":0},{"$f":"+[1]A08!Q52+[2]A08!Q52+[3]A08!Q52+[4]A08!Q52+[5]A08!Q52+[6]A08!Q52+[7]A08!Q52+[8]A08!Q52+[9]A08!Q52+[10]A08!Q52+[10]A08!Q52+[11]A08!Q52+[12]A08!Q52","v":0},{"$f":"+[1]A08!R52+[2]A08!R52+[3]A08!R52+[4]A08!R52+[5]A08!R52+[6]A08!R52+[7]A08!R52+[8]A08!R52+[9]A08!R52+[10]A08!R52+[10]A08!R52+[11]A08!R52+[12]A08!R52","v":0},{"$f":"+[1]A08!S52+[2]A08!S52+[3]A08!S52+[4]A08!S52+[5]A08!S52+[6]A08!S52+[7]A08!S52+[8]A08!S52+[9]A08!S52+[10]A08!S52+[10]A08!S52+[11]A08!S52+[12]A08!S52","v":0},{"$f":"+[1]A08!T52+[2]A08!T52+[3]A08!T52+[4]A08!T52+[5]A08!T52+[6]A08!T52+[7]A08!T52+[8]A08!T52+[9]A08!T52+[10]A08!T52+[10]A08!T52+[11]A08!T52+[12]A08!T52","v":0},{"$f":"+[1]A08!U52+[2]A08!U52+[3]A08!U52+[4]A08!U52+[5]A08!U52+[6]A08!U52+[7]A08!U52+[8]A08!U52+[9]A08!U52+[10]A08!U52+[10]A08!U52+[11]A08!U52+[12]A08!U52","v":0},{"$f":"+[1]A08!V52+[2]A08!V52+[3]A08!V52+[4]A08!V52+[5]A08!V52+[6]A08!V52+[7]A08!V52+[8]A08!V52+[9]A08!V52+[10]A08!V52+[10]A08!V52+[11]A08!V52+[12]A08!V52","v":0},{"$f":"+[1]A08!W52+[2]A08!W52+[3]A08!W52+[4]A08!W52+[5]A08!W52+[6]A08!W52+[7]A08!W52+[8]A08!W52+[9]A08!W52+[10]A08!W52+[10]A08!W52+[11]A08!W52+[12]A08!W52","v":0},{"$f":"+[1]A08!X52+[2]A08!X52+[3]A08!X52+[4]A08!X52+[5]A08!X52+[6]A08!X52+[7]A08!X52+[8]A08!X52+[9]A08!X52+[10]A08!X52+[10]A08!X52+[11]A08!X52+[12]A08!X52","v":0},{"$f":"+[1]A08!Y52+[2]A08!Y52+[3]A08!Y52+[4]A08!Y52+[5]A08!Y52+[6]A08!Y52+[7]A08!Y52+[8]A08!Y52+[9]A08!Y52+[10]A08!Y52+[10]A08!Y52+[11]A08!Y52+[12]A08!Y52","v":0},{"$f":"+[1]A08!Z52+[2]A08!Z52+[3]A08!Z52+[4]A08!Z52+[5]A08!Z52+[6]A08!Z52+[7]A08!Z52+[8]A08!Z52+[9]A08!Z52+[10]A08!Z52+[10]A08!Z52+[11]A08!Z52+[12]A08!Z52","v":0},{"$f":"+[1]A08!AA52+[2]A08!AA52+[3]A08!AA52+[4]A08!AA52+[5]A08!AA52+[6]A08!AA52+[7]A08!AA52+[8]A08!AA52+[9]A08!AA52+[10]A08!AA52+[10]A08!AA52+[11]A08!AA52+[12]A08!AA52","v":0},{"$f":"+[1]A08!AB52+[2]A08!AB52+[3]A08!AB52+[4]A08!AB52+[5]A08!AB52+[6]A08!AB52+[7]A08!AB52+[8]A08!AB52+[9]A08!AB52+[10]A08!AB52+[10]A08!AB52+[11]A08!AB52+[12]A08!AB52","v":0},{"$f":"+[1]A08!AC52+[2]A08!AC52+[3]A08!AC52+[4]A08!AC52+[5]A08!AC52+[6]A08!AC52+[7]A08!AC52+[8]A08!AC52+[9]A08!AC52+[10]A08!AC52+[10]A08!AC52+[11]A08!AC52+[12]A08!AC52","v":0},{"$f":"+[1]A08!AD52+[2]A08!AD52+[3]A08!AD52+[4]A08!AD52+[5]A08!AD52+[6]A08!AD52+[7]A08!AD52+[8]A08!AD52+[9]A08!AD52+[10]A08!AD52+[10]A08!AD52+[11]A08!AD52+[12]A08!AD52","v":0},{"$f":"+[1]A08!AE52+[2]A08!AE52+[3]A08!AE52+[4]A08!AE52+[5]A08!AE52+[6]A08!AE52+[7]A08!AE52+[8]A08!AE52+[9]A08!AE52+[10]A08!AE52+[10]A08!AE52+[11]A08!AE52+[12]A08!AE52","v":0},{"$f":"+[1]A08!AF52+[2]A08!AF52+[3]A08!AF52+[4]A08!AF52+[5]A08!AF52+[6]A08!AF52+[7]A08!AF52+[8]A08!AF52+[9]A08!AF52+[10]A08!AF52+[10]A08!AF52+[11]A08!AF52+[12]A08!AF52","v":0},{"$f":"+[1]A08!AG52+[2]A08!AG52+[3]A08!AG52+[4]A08!AG52+[5]A08!AG52+[6]A08!AG52+[7]A08!AG52+[8]A08!AG52+[9]A08!AG52+[10]A08!AG52+[10]A08!AG52+[11]A08!AG52+[12]A08!AG52","v":0},{"$f":"+[1]A08!AH52+[2]A08!AH52+[3]A08!AH52+[4]A08!AH52+[5]A08!AH52+[6]A08!AH52+[7]A08!AH52+[8]A08!AH52+[9]A08!AH52+[10]A08!AH52+[10]A08!AH52+[11]A08!AH52+[12]A08!AH52","v":0},{"$f":"+[1]A08!AI52+[2]A08!AI52+[3]A08!AI52+[4]A08!AI52+[5]A08!AI52+[6]A08!AI52+[7]A08!AI52+[8]A08!AI52+[9]A08!AI52+[10]A08!AI52+[10]A08!AI52+[11]A08!AI52+[12]A08!AI52","v":0},{"$f":"+[1]A08!AJ52+[2]A08!AJ52+[3]A08!AJ52+[4]A08!AJ52+[5]A08!AJ52+[6]A08!AJ52+[7]A08!AJ52+[8]A08!AJ52+[9]A08!AJ52+[10]A08!AJ52+[10]A08!AJ52+[11]A08!AJ52+[12]A08!AJ52","v":0},{"$f":"+[1]A08!AK52+[2]A08!AK52+[3]A08!AK52+[4]A08!AK52+[5]A08!AK52+[6]A08!AK52+[7]A08!AK52+[8]A08!AK52+[9]A08!AK52+[10]A08!AK52+[10]A08!AK52+[11]A08!AK52+[12]A08!AK52","v":0},{"$f":"+[1]A08!AL52+[2]A08!AL52+[3]A08!AL52+[4]A08!AL52+[5]A08!AL52+[6]A08!AL52+[7]A08!AL52+[8]A08!AL52+[9]A08!AL52+[10]A08!AL52+[10]A08!AL52+[11]A08!AL52+[12]A08!AL52","v":0},{"$f":"+[1]A08!AM52+[2]A08!AM52+[3]A08!AM52+[4]A08!AM52+[5]A08!AM52+[6]A08!AM52+[7]A08!AM52+[8]A08!AM52+[9]A08!AM52+[10]A08!AM52+[10]A08!AM52+[11]A08!AM52+[12]A08!AM52","v":0},{"$f":"+[1]A08!AN52+[2]A08!AN52+[3]A08!AN52+[4]A08!AN52+[5]A08!AN52+[6]A08!AN52+[7]A08!AN52+[8]A08!AN52+[9]A08!AN52+[10]A08!AN52+[10]A08!AN52+[11]A08!AN52+[12]A08!AN52","v":0},null,null,null,null,null,null,null,null,null,null,null,null,null,null,null,null,null,null,null,null,null,null,null,null,null,null,null,null,null,null,null,null,null,null,null,null,null,null,null,null,null,null,null,null,0,0]
["OTROS PROFESIONALES",0,0,0,{"$f":"+[1]A08!E53+[2]A08!E53+[3]A08!E53+[4]A08!E53+[5]A08!E53+[6]A08!E53+[7]A08!E53+[8]A08!E53+[9]A08!E53+[10]A08!E53+[10]A08!E53+[11]A08!E53+[12]A08!E53","v":0},{"$f":"+[1]A08!F53+[2]A08!F53+[3]A08!F53+[4]A08!F53+[5]A08!F53+[6]A08!F53+[7]A08!F53+[8]A08!F53+[9]A08!F53+[10]A08!F53+[10]A08!F53+[11]A08!F53+[12]A08!F53","v":0},{"$f":"+[1]A08!G53+[2]A08!G53+[3]A08!G53+[4]A08!G53+[5]A08!G53+[6]A08!G53+[7]A08!G53+[8]A08!G53+[9]A08!G53+[10]A08!G53+[10]A08!G53+[11]A08!G53+[12]A08!G53","v":0},{"$f":"+[1]A08!H53+[2]A08!H53+[3]A08!H53+[4]A08!H53+[5]A08!H53+[6]A08!H53+[7]A08!H53+[8]A08!H53+[9]A08!H53+[10]A08!H53+[10]A08!H53+[11]A08!H53+[12]A08!H53","v":0},{"$f":"+[1]A08!I53+[2]A08!I53+[3]A08!I53+[4]A08!I53+[5]A08!I53+[6]A08!I53+[7]A08!I53+[8]A08!I53+[9]A08!I53+[10]A08!I53+[10]A08!I53+[11]A08!I53+[12]A08!I53","v":0},{"$f":"+[1]A08!J53+[2]A08!J53+[3]A08!J53+[4]A08!J53+[5]A08!J53+[6]A08!J53+[7]A08!J53+[8]A08!J53+[9]A08!J53+[10]A08!J53+[10]A08!J53+[11]A08!J53+[12]A08!J53","v":0},{"$f":"+[1]A08!K53+[2]A08!K53+[3]A08!K53+[4]A08!K53+[5]A08!K53+[6]A08!K53+[7]A08!K53+[8]A08!K53+[9]A08!K53+[10]A08!K53+[10]A08!K53+[11]A08!K53+[12]A08!K53","v":0},{"$f":"+[1]A08!L53+[2]A08!L53+[3]A08!L53+[4]A08!L53+[5]A08!L53+[6]A08!L53+[7]A08!L53+[8]A08!L53+[9]A08!L53+[10]A08!L53+[10]A08!L53+[11]A08!L53+[12]A08!L53","v":0},{"$f":"+[1]A08!M53+[2]A08!M53+[3]A08!M53+[4]A08!M53+[5]A08!M53+[6]A08!M53+[7]A08!M53+[8]A08!M53+[9]A08!M53+[10]A08!M53+[10]A08!M53+[11]A08!M53+[12]A08!M53","v":0},{"$f":"+[1]A08!N53+[2]A08!N53+[3]A08!N53+[4]A08!N53+[5]A08!N53+[6]A08!N53+[7]A08!N53+[8]A08!N53+[9]A08!N53+[10]A08!N53+[10]A08!N53+[11]A08!N53+[12]A08!N53","v":0},{"$f":"+[1]A08!O53+[2]A08!O53+[3]A08!O53+[4]A08!O53+[5]A08!O53+[6]A08!O53+[7]A08!O53+[8]A08!O53+[9]A08!O53+[10]A08!O53+[10]A08!O53+[11]A08!O53+[12]A08!O53","v":0},{"$f":"+[1]A08!P53+[2]A08!P53+[3]A08!P53+[4]A08!P53+[5]A08!P53+[6]A08!P53+[7]A08!P53+[8]A08!P53+[9]A08!P53+[10]A08!P53+[10]A08!P53+[11]A08!P53+[12]A08!P53","v":0},{"$f":"+[1]A08!Q53+[2]A08!Q53+[3]A08!Q53+[4]A08!Q53+[5]A08!Q53+[6]A08!Q53+[7]A08!Q53+[8]A08!Q53+[9]A08!Q53+[10]A08!Q53+[10]A08!Q53+[11]A08!Q53+[12]A08!Q53","v":0},{"$f":"+[1]A08!R53+[2]A08!R53+[3]A08!R53+[4]A08!R53+[5]A08!R53+[6]A08!R53+[7]A08!R53+[8]A08!R53+[9]A08!R53+[10]A08!R53+[10]A08!R53+[11]A08!R53+[12]A08!R53","v":0},{"$f":"+[1]A08!S53+[2]A08!S53+[3]A08!S53+[4]A08!S53+[5]A08!S53+[6]A08!S53+[7]A08!S53+[8]A08!S53+[9]A08!S53+[10]A08!S53+[10]A08!S53+[11]A08!S53+[12]A08!S53","v":0},{"$f":"+[1]A08!T53+[2]A08!T53+[3]A08!T53+[4]A08!T53+[5]A08!T53+[6]A08!T53+[7]A08!T53+[8]A08!T53+[9]A08!T53+[10]A08!T53+[10]A08!T53+[11]A08!T53+[12]A08!T53","v":0},{"$f":"+[1]A08!U53+[2]A08!U53+[3]A08!U53+[4]A08!U53+[5]A08!U53+[6]A08!U53+[7]A08!U53+[8]A08!U53+[9]A08!U53+[10]A08!U53+[10]A08!U53+[11]A08!U53+[12]A08!U53","v":0},{"$f":"+[1]A08!V53+[2]A08!V53+[3]A08!V53+[4]A08!V53+[5]A08!V53+[6]A08!V53+[7]A08!V53+[8]A08!V53+[9]A08!V53+[10]A08!V53+[10]A08!V53+[11]A08!V53+[12]A08!V53","v":0},{"$f":"+[1]A08!W53+[2]A08!W53+[3]A08!W53+[4]A08!W53+[5]A08!W53+[6]A08!W53+[7]A08!W53+[8]A08!W53+[9]A08!W53+[10]A08!W53+[10]A08!W53+[11]A08!W53+[12]A08!W53","v":0},{"$f":"+[1]A08!X53+[2]A08!X53+[3]A08!X53+[4]A08!X53+[5]A08!X53+[6]A08!X53+[7]A08!X53+[8]A08!X53+[9]A08!X53+[10]A08!X53+[10]A08!X53+[11]A08!X53+[12]A08!X53","v":0},{"$f":"+[1]A08!Y53+[2]A08!Y53+[3]A08!Y53+[4]A08!Y53+[5]A08!Y53+[6]A08!Y53+[7]A08!Y53+[8]A08!Y53+[9]A08!Y53+[10]A08!Y53+[10]A08!Y53+[11]A08!Y53+[12]A08!Y53","v":0},{"$f":"+[1]A08!Z53+[2]A08!Z53+[3]A08!Z53+[4]A08!Z53+[5]A08!Z53+[6]A08!Z53+[7]A08!Z53+[8]A08!Z53+[9]A08!Z53+[10]A08!Z53+[10]A08!Z53+[11]A08!Z53+[12]A08!Z53","v":0},{"$f":"+[1]A08!AA53+[2]A08!AA53+[3]A08!AA53+[4]A08!AA53+[5]A08!AA53+[6]A08!AA53+[7]A08!AA53+[8]A08!AA53+[9]A08!AA53+[10]A08!AA53+[10]A08!AA53+[11]A08!AA53+[12]A08!AA53","v":0},{"$f":"+[1]A08!AB53+[2]A08!AB53+[3]A08!AB53+[4]A08!AB53+[5]A08!AB53+[6]A08!AB53+[7]A08!AB53+[8]A08!AB53+[9]A08!AB53+[10]A08!AB53+[10]A08!AB53+[11]A08!AB53+[12]A08!AB53","v":0},{"$f":"+[1]A08!AC53+[2]A08!AC53+[3]A08!AC53+[4]A08!AC53+[5]A08!AC53+[6]A08!AC53+[7]A08!AC53+[8]A08!AC53+[9]A08!AC53+[10]A08!AC53+[10]A08!AC53+[11]A08!AC53+[12]A08!AC53","v":0},{"$f":"+[1]A08!AD53+[2]A08!AD53+[3]A08!AD53+[4]A08!AD53+[5]A08!AD53+[6]A08!AD53+[7]A08!AD53+[8]A08!AD53+[9]A08!AD53+[10]A08!AD53+[10]A08!AD53+[11]A08!AD53+[12]A08!AD53","v":0},{"$f":"+[1]A08!AE53+[2]A08!AE53+[3]A08!AE53+[4]A08!AE53+[5]A08!AE53+[6]A08!AE53+[7]A08!AE53+[8]A08!AE53+[9]A08!AE53+[10]A08!AE53+[10]A08!AE53+[11]A08!AE53+[12]A08!AE53","v":0},{"$f":"+[1]A08!AF53+[2]A08!AF53+[3]A08!AF53+[4]A08!AF53+[5]A08!AF53+[6]A08!AF53+[7]A08!AF53+[8]A08!AF53+[9]A08!AF53+[10]A08!AF53+[10]A08!AF53+[11]A08!AF53+[12]A08!AF53","v":0},{"$f":"+[1]A08!AG53+[2]A08!AG53+[3]A08!AG53+[4]A08!AG53+[5]A08!AG53+[6]A08!AG53+[7]A08!AG53+[8]A08!AG53+[9]A08!AG53+[10]A08!AG53+[10]A08!AG53+[11]A08!AG53+[12]A08!AG53","v":0},{"$f":"+[1]A08!AH53+[2]A08!AH53+[3]A08!AH53+[4]A08!AH53+[5]A08!AH53+[6]A08!AH53+[7]A08!AH53+[8]A08!AH53+[9]A08!AH53+[10]A08!AH53+[10]A08!AH53+[11]A08!AH53+[12]A08!AH53","v":0},{"$f":"+[1]A08!AI53+[2]A08!AI53+[3]A08!AI53+[4]A08!AI53+[5]A08!AI53+[6]A08!AI53+[7]A08!AI53+[8]A08!AI53+[9]A08!AI53+[10]A08!AI53+[10]A08!AI53+[11]A08!AI53+[12]A08!AI53","v":0},{"$f":"+[1]A08!AJ53+[2]A08!AJ53+[3]A08!AJ53+[4]A08!AJ53+[5]A08!AJ53+[6]A08!AJ53+[7]A08!AJ53+[8]A08!AJ53+[9]A08!AJ53+[10]A08!AJ53+[10]A08!AJ53+[11]A08!AJ53+[12]A08!AJ53","v":0},{"$f":"+[1]A08!AK53+[2]A08!AK53+[3]A08!AK53+[4]A08!AK53+[5]A08!AK53+[6]A08!AK53+[7]A08!AK53+[8]A08!AK53+[9]A08!AK53+[10]A08!AK53+[10]A08!AK53+[11]A08!AK53+[12]A08!AK53","v":0},{"$f":"+[1]A08!AL53+[2]A08!AL53+[3]A08!AL53+[4]A08!AL53+[5]A08!AL53+[6]A08!AL53+[7]A08!AL53+[8]A08!AL53+[9]A08!AL53+[10]A08!AL53+[10]A08!AL53+[11]A08!AL53+[12]A08!AL53","v":0},{"$f":"+[1]A08!AM53+[2]A08!AM53+[3]A08!AM53+[4]A08!AM53+[5]A08!AM53+[6]A08!AM53+[7]A08!AM53+[8]A08!AM53+[9]A08!AM53+[10]A08!AM53+[10]A08!AM53+[11]A08!AM53+[12]A08!AM53","v":0},{"$f":"+[1]A08!AN53+[2]A08!AN53+[3]A08!AN53+[4]A08!AN53+[5]A08!AN53+[6]A08!AN53+[7]A08!AN53+[8]A08!AN53+[9]A08!AN53+[10]A08!AN53+[10]A08!AN53+[11]A08!AN53+[12]A08!AN53","v":0},null,null,null,null,null,null,null,null,null,null,null,null,null,null,null,null,null,null,null,null,null,null,null,null,null,null,null,null,null,null,null,null,null,null,null,null,null,null,null,null,null,null,null,null,0,0]
["SECCIÓN B: CATEGORIZACIÓN DE PACIENTES, PREVIA A LA ATENCIÓN MÉDICA (Establecimientos Alta, Mediana o Baja Complejidad y SAR)."]
["CATEGORÍAS","TOTAL",null,null,"GRUPOS DE EDAD (en años)",null,null,null,null,null,null,null,null,null,null,null,null,null,null,null,null,null,null,null,null,null,null,null,null,null,null,null,null,null,null,null,null,null,"Herramientas de Categorización"]
[null,null,null,null,"0 - 4",null,"5 - 9",null,"10 - 14",null,"15 - 19",null,"20 - 24",null,"25 - 29",null,"30 - 34",null,"35 - 39",null,"40 - 44",null,"45 - 49",null,"50 - 54",null,"55 - 59",null,"60 - 64",null,"65 - 69",null,"70 - 74",null,"75 - 79",null,"80 y mas"]
[null,"Ambos Sexos","Hombres","Mujeres","Hombres","Mujeres","Hombres","Mujeres","Hombres","Mujeres","Hombres","Mujeres","Hombres","Mujeres","Hombres","Mujeres","Hombres","Mujeres","Hombres","Mujeres","Hombres","Mujeres","Hombres","Mujeres","Hombres","Mujeres","Hombres","Mujeres","Hombres","Mujeres","Hombres","Mujeres","Hombres","Mujeres","Hombres","Mujeres","Hombres","Mujeres","Discrecional","Estructurado (ESI)"]
["C1",{"$f":"SUM(C58+D58)","v":0},{"$f":"SUM(E58+G58+I58+K58+M58+O58+Q58+S58+U58+W58+Y58+AA58+AC58+AE58+AG58+AI58+AK58)","v":0},0,{"$f":"+[1]A08!E58+[2]A08!E58+[3]A08!E58+[4]A08!E58+[5]A08!E58+[6]A08!E58+[7]A08!E58+[8]A08!E58+[9]A08!E58+[10]A08!E58+[10]A08!E58+[11]A08!E58+[12]A08!E58","v":0},{"$f":"+[1]A08!F58+[2]A08!F58+[3]A08!F58+[4]A08!F58+[5]A08!F58+[6]A08!F58+[7]A08!F58+[8]A08!F58+[9]A08!F58+[10]A08!F58+[10]A08!F58+[11]A08!F58+[12]A08!F58","v":0},{"$f":"+[1]A08!G58+[2]A08!G58+[3]A08!G58+[4]A08!G58+[5]A08!G58+[6]A08!G58+[7]A08!G58+[8]A08!G58+[9]A08!G58+[10]A08!G58+[10]A08!G58+[11]A08!G58+[12]A08!G58","v":0},{"$f":"+[1]A08!H58+[2]A08!H58+[3]A08!H58+[4]A08!H58+[5]A08!H58+[6]A08!H58+[7]A08!H58+[8]A08!H58+[9]A08!H58+[10]A08!H58+[10]A08!H58+[11]A08!H58+[12]A08!H58","v":0},{"$f":"+[1]A08!I58+[2]A08!I58+[3]A08!I58+[4]A08!I58+[5]A08!I58+[6]A08!I58+[7]A08!I58+[8]A08!I58+[9]A08!I58+[10]A08!I58+[10]A08!I58+[11]A08!I58+[12]A08!I58","v":0},{"$f":"+[1]A08!J58+[2]A08!J58+[3]A08!J58+[4]A08!J58+[5]A08!J58+[6]A08!J58+[7]A08!J58+[8]A08!J58+[9]A08!J58+[10]A08!J58+[10]A08!J58+[11]A08!J58+[12]A08!J58","v":0},{"$f":"+[1]A08!K58+[2]A08!K58+[3]A08!K58+[4]A08!K58+[5]A08!K58+[6]A08!K58+[7]A08!K58+[8]A08!K58+[9]A08!K58+[10]A08!K58+[10]A08!K58+[11]A08!K58+[12]A08!K58","v":0},{"$f":"+[1]A08!L58+[2]A08!L58+[3]A08!L58+[4]A08!L58+[5]A08!L58+[6]A08!L58+[7]A08!L58+[8]A08!L58+[9]A08!L58+[10]A08!L58+[10]A08!L58+[11]A08!L58+[12]A08!L58","v":0},{"$f":"+[1]A08!M58+[2]A08!M58+[3]A08!M58+[4]A08!M58+[5]A08!M58+[6]A08!M58+[7]A08!M58+[8]A08!M58+[9]A08!M58+[10]A08!M58+[10]A08!M58+[11]A08!M58+[12]A08!M58","v":0},{"$f":"+[1]A08!N58+[2]A08!N58+[3]A08!N58+[4]A08!N58+[5]A08!N58+[6]A08!N58+[7]A08!N58+[8]A08!N58+[9]A08!N58+[10]A08!N58+[10]A08!N58+[11]A08!N58+[12]A08!N58","v":0},{"$f":"+[1]A08!O58+[2]A08!O58+[3]A08!O58+[4]A08!O58+[5]A08!O58+[6]A08!O58+[7]A08!O58+[8]A08!O58+[9]A08!O58+[10]A08!O58+[10]A08!O58+[11]A08!O58+[12]A08!O58","v":0},{"$f":"+[1]A08!P58+[2]A08!P58+[3]A08!P58+[4]A08!P58+[5]A08!P58+[6]A08!P58+[7]A08!P58+[8]A08!P58+[9]A08!P58+[10]A08!P58+[10]A08!P58+[11]A08!P58+[12]A08!P58","v":0},{"$f":"+[1]A08!Q58+[2]A08!Q58+[3]A08!Q58+[4]A08!Q58+[5]A08!Q58+[6]A08!Q58+[7]A08!Q58+[8]A08!Q58+[9]A08!Q58+[10]A08!Q58+[10]A08!Q58+[11]A08!Q58+[12]A08!Q58","v":0},{"$f":"+[1]A08!R58+[2]A08!R58+[3]A08!R58+[4]A08!R58+[5]A08!R58+[6]A08!R58+[7]A08!R58+[8]A08!R58+[9]A08!R58+[10]A08!R58+[10]A08!R58+[11]A08!R58+[12]A08!R58","v":0},{"$f":"+[1]A08!S58+[2]A08!S58+[3]A08!S58+[4]A08!S58+[5]A08!S58+[6]A08!S58+[7]A08!S58+[8]A08!S58+[9]A08!S58+[10]A08!S58+[10]A08!S58+[11]A08!S58+[12]A08!S58","v":0},{"$f":"+[1]A08!T58+[2]A08!T58+[3]A08!T58+[4]A08!T58+[5]A08!T58+[6]A08!T58+[7]A08!T58+[8]A08!T58+[9]A08!T58+[10]A08!T58+[10]A08!T58+[11]A08!T58+[12]A08!T58","v":0},{"$f":"+[1]A08!U58+[2]A08!U58+[3]A08!U58+[4]A08!U58+[5]A08!U58+[6]A08!U58+[7]A08!U58+[8]A08!U58+[9]A08!U58+[10]A08!U58+[10]A08!U58+[11]A08!U58+[12]A08!U58","v":0},{"$f":"+[1]A08!V58+[2]A08!V58+[3]A08!V58+[4]A08!V58+[5]A08!V58+[6]A08!V58+[7]A08!V58+[8]A08!V58+[9]A08!V58+[10]A08!V58+[10]A08!V58+[11]A08!V58+[12]A08!V58","v":0},{"$f":"+[1]A08!W58+[2]A08!W58+[3]A08!W58+[4]A08!W58+[5]A08!W58+[6]A08!W58+[7]A08!W58+[8]A08!W58+[9]A08!W58+[10]A08!W58+[10]A08!W58+[11]A08!W58+[12]A08!W58","v":0},{"$f":"+[1]A08!X58+[2]A08!X58+[3]A08!X58+[4]A08!X58+[5]A08!X58+[6]A08!X58+[7]A08!X58+[8]A08!X58+[9]A08!X58+[10]A08!X58+[10]A08!X58+[11]A08!X58+[12]A08!X58","v":0},{"$f":"+[1]A08!Y58+[2]A08!Y58+[3]A08!Y58+[4]A08!Y58+[5]A08!Y58+[6]A08!Y58+[7]A08!Y58+[8]A08!Y58+[9]A08!Y58+[10]A08!Y58+[10]A08!Y58+[11]A08!Y58+[12]A08!Y58","v":0},{"$f":"+[1]A08!Z58+[2]A08!Z58+[3]A08!Z58+[4]A08!Z58+[5]A08!Z58+[6]A08!Z58+[7]A08!Z58+[8]A08!Z58+[9]A08!Z58+[10]A08!Z58+[10]A08!Z58+[11]A08!Z58+[12]A08!Z58","v":0},{"$f":"+[1]A08!AA58+[2]A08!AA58+[3]A08!AA58+[4]A08!AA58+[5]A08!AA58+[6]A08!AA58+[7]A08!AA58+[8]A08!AA58+[9]A08!AA58+[10]A08!AA58+[10]A08!AA58+[11]A08!AA58+[12]A08!AA58","v":0},{"$f":"+[1]A08!AB58+[2]A08!AB58+[3]A08!AB58+[4]A08!AB58+[5]A08!AB58+[6]A08!AB58+[7]A08!AB58+[8]A08!AB58+[9]A08!AB58+[10]A08!AB58+[10]A08!AB58+[11]A08!AB58+[12]A08!AB58","v":0},{"$f":"+[1]A08!AC58+[2]A08!AC58+[3]A08!AC58+[4]A08!AC58+[5]A08!AC58+[6]A08!AC58+[7]A08!AC58+[8]A08!AC58+[9]A08!AC58+[10]A08!AC58+[10]A08!AC58+[11]A08!AC58+[12]A08!AC58","v":0},{"$f":"+[1]A08!AD58+[2]A08!AD58+[3]A08!AD58+[4]A08!AD58+[5]A08!AD58+[6]A08!AD58+[7]A08!AD58+[8]A08!AD58+[9]A08!AD58+[10]A08!AD58+[10]A08!AD58+[11]A08!AD58+[12]A08!AD58","v":0},{"$f":"+[1]A08!AE58+[2]A08!AE58+[3]A08!AE58+[4]A08!AE58+[5]A08!AE58+[6]A08!AE58+[7]A08!AE58+[8]A08!AE58+[9]A08!AE58+[10]A08!AE58+[10]A08!AE58+[11]A08!AE58+[12]A08!AE58","v":0},{"$f":"+[1]A08!AF58+[2]A08!AF58+[3]A08!AF58+[4]A08!AF58+[5]A08!AF58+[6]A08!AF58+[7]A08!AF58+[8]A08!AF58+[9]A08!AF58+[10]A08!AF58+[10]A08!AF58+[11]A08!AF58+[12]A08!AF58","v":0},{"$f":"+[1]A08!AG58+[2]A08!AG58+[3]A08!AG58+[4]A08!AG58+[5]A08!AG58+[6]A08!AG58+[7]A08!AG58+[8]A08!AG58+[9]A08!AG58+[10]A08!AG58+[10]A08!AG58+[11]A08!AG58+[12]A08!AG58","v":0},{"$f":"+[1]A08!AH58+[2]A08!AH58+[3]A08!AH58+[4]A08!AH58+[5]A08!AH58+[6]A08!AH58+[7]A08!AH58+[8]A08!AH58+[9]A08!AH58+[10]A08!AH58+[10]A08!AH58+[11]A08!AH58+[12]A08!AH58","v":0},{"$f":"+[1]A08!AI58+[2]A08!AI58+[3]A08!AI58+[4]A08!AI58+[5]A08!AI58+[6]A08!AI58+[7]A08!AI58+[8]A08!AI58+[9]A08!AI58+[10]A08!AI58+[10]A08!AI58+[11]A08!AI58+[12]A08!AI58","v":0},{"$f":"+[1]A08!AJ58+[2]A08!AJ58+[3]A08!AJ58+[4]A08!AJ58+[5]A08!AJ58+[6]A08!AJ58+[7]A08!AJ58+[8]A08!AJ58+[9]A08!AJ58+[10]A08!AJ58+[10]A08!AJ58+[11]A08!AJ58+[12]A08!AJ58","v":0},{"$f":"+[1]A08!AK58+[2]A08!AK58+[3]A08!AK58+[4]A08!AK58+[5]A08!AK58+[6]A08!AK58+[7]A08!AK58+[8]A08!AK58+[9]A08!AK58+[10]A08!AK58+[10]A08!AK58+[11]A08!AK58+[12]A08!AK58","v":0},{"$f":"+[1]A08!AL58+[2]A08!AL58+[3]A08!AL58+[4]A08!AL58+[5]A08!AL58+[6]A08!AL58+[7]A08!AL58+[8]A08!AL58+[9]A08!AL58+[10]A08!AL58+[10]A08!AL58+[11]A08!AL58+[12]A08!AL58","v":0},{"$f":"+[1]A08!AM58+[2]A08!AM58+[3]A08!AM58+[4]A08!AM58+[5]A08!AM58+[6]A08!AM58+[7]A08!AM58+[8]A08!AM58+[9]A08!AM58+[10]A08!AM58+[10]A08!AM58+[11]A08!AM58+[12]A08!AM58","v":0},{"$f":"+[1]A08!AN58+[2]A08!AN58+[3]A08!AN58+[4]A08!AN58+[5]A08!AN58+[6]A08!AN58+[7]A08!AN58+[8]A08!AN58+[9]A08!AN58+[10]A08!AN58+[10]A08!AN58+[11]A08!AN58+[12]A08!AN58","v":0},{"$f":"CA58","v":""},null,null,null,null,null,null,null,null,null,null,null,null,null,null,null,null,null,null,null,null,null,null,null,null,null,null,null,null,null,null,null,null,null,null,null,null,null,{"$f":"IF(CG58=1,\"* La suma de las Herramientas de Categorización debe ser igual al total. \",\"\")","v":""},null,null,null,null,null,{"$f":"IF(B58<>(AM58+AN58),1,0)","v":0}]
["C2",0,0,0,{"$f":"+[1]A08!E59+[2]A08!E59+[3]A08!E59+[4]A08!E59+[5]A08!E59+[6]A08!E59+[7]A08!E59+[8]A08!E59+[9]A08!E59+[10]A08!E59+[10]A08!E59+[11]A08!E59+[12]A08!E59","v":0},{"$f":"+[1]A08!F59+[2]A08!F59+[3]A08!F59+[4]A08!F59+[5]A08!F59+[6]A08!F59+[7]A08!F59+[8]A08!F59+[9]A08!F59+[10]A08!F59+[10]A08!F59+[11]A08!F59+[12]A08!F59","v":0},{"$f":"+[1]A08!G59+[2]A08!G59+[3]A08!G59+[4]A08!G59+[5]A08!G59+[6]A08!G59+[7]A08!G59+[8]A08!G59+[9]A08!G59+[10]A08!G59+[10]A08!G59+[11]A08!G59+[12]A08!G59","v":0},{"$f":"+[1]A08!H59+[2]A08!H59+[3]A08!H59+[4]A08!H59+[5]A08!H59+[6]A08!H59+[7]A08!H59+[8]A08!H59+[9]A08!H59+[10]A08!H59+[10]A08!H59+[11]A08!H59+[12]A08!H59","v":0},{"$f":"+[1]A08!I59+[2]A08!I59+[3]A08!I59+[4]A08!I59+[5]A08!I59+[6]A08!I59+[7]A08!I59+[8]A08!I59+[9]A08!I59+[10]A08!I59+[10]A08!I59+[11]A08!I59+[12]A08!I59","v":0},{"$f":"+[1]A08!J59+[2]A08!J59+[3]A08!J59+[4]A08!J59+[5]A08!J59+[6]A08!J59+[7]A08!J59+[8]A08!J59+[9]A08!J59+[10]A08!J59+[10]A08!J59+[11]A08!J59+[12]A08!J59","v":0},{"$f":"+[1]A08!K59+[2]A08!K59+[3]A08!K59+[4]A08!K59+[5]A08!K59+[6]A08!K59+[7]A08!K59+[8]A08!K59+[9]A08!K59+[10]A08!K59+[10]A08!K59+[11]A08!K59+[12]A08!K59","v":0},{"$f":"+[1]A08!L59+[2]A08!L59+[3]A08!L59+[4]A08!L59+[5]A08!L59+[6]A08!L59+[7]A08!L59+[8]A08!L59+[9]A08!L59+[10]A08!L59+[10]A08!L59+[11]A08!L59+[12]A08!L59","v":0},{"$f":"+[1]A08!M59+[2]A08!M59+[3]A08!M59+[4]A08!M59+[5]A08!M59+[6]A08!M59+[7]A08!M59+[8]A08!M59+[9]A08!M59+[10]A08!M59+[10]A08!M59+[11]A08!M59+[12]A08!M59","v":0},{"$f":"+[1]A08!N59+[2]A08!N59+[3]A08!N59+[4]A08!N59+[5]A08!N59+[6]A08!N59+[7]A08!N59+[8]A08!N59+[9]A08!N59+[10]A08!N59+[10]A08!N59+[11]A08!N59+[12]A08!N59","v":0},{"$f":"+[1]A08!O59+[2]A08!O59+[3]A08!O59+[4]A08!O59+[5]A08!O59+[6]A08!O59+[7]A08!O59+[8]A08!O59+[9]A08!O59+[10]A08!O59+[10]A08!O59+[11]A08!O59+[12]A08!O59","v":0},{"$f":"+[1]A08!P59+[2]A08!P59+[3]A08!P59+[4]A08!P59+[5]A08!P59+[6]A08!P59+[7]A08!P59+[8]A08!P59+[9]A08!P59+[10]A08!P59+[10]A08!P59+[11]A08!P59+[12]A08!P59","v":0},{"$f":"+[1]A08!Q59+[2]A08!Q59+[3]A08!Q59+[4]A08!Q59+[5]A08!Q59+[6]A08!Q59+[7]A08!Q59+[8]A08!Q59+[9]A08!Q59+[10]A08!Q59+[10]A08!Q59+[11]A08!Q59+[12]A08!Q59","v":0},{"$f":"+[1]A08!R59+[2]A08!R59+[3]A08!R59+[4]A08!R59+[5]A08!R59+[6]A08!R59+[7]A08!R59+[8]A08!R59+[9]A08!R59+[10]A08!R59+[10]A08!R59+[11]A08!R59+[12]A08!R59","v":0},{"$f":"+[1]A08!S59+[2]A08!S59+[3]A08!S59+[4]A08!S59+[5]A08!S59+[6]A08!S59+[7]A08!S59+[8]A08!S59+[9]A08!S59+[10]A08!S59+[10]A08!S59+[11]A08!S59+[12]A08!S59","v":0},{"$f":"+[1]A08!T59+[2]A08!T59+[3]A08!T59+[4]A08!T59+[5]A08!T59+[6]A08!T59+[7]A08!T59+[8]A08!T59+[9]A08!T59+[10]A08!T59+[10]A08!T59+[11]A08!T59+[12]A08!T59","v":0},{"$f":"+[1]A08!U59+[2]A08!U59+[3]A08!U59+[4]A08!U59+[5]A08!U59+[6]A08!U59+[7]A08!U59+[8]A08!U59+[9]A08!U59+[10]A08!U59+[10]A08!U59+[11]A08!U59+[12]A08!U59","v":0},{"$f":"+[1]A08!V59+[2]A08!V59+[3]A08!V59+[4]A08!V59+[5]A08!V59+[6]A08!V59+[7]A08!V59+[8]A08!V59+[9]A08!V59+[10]A08!V59+[10]A08!V59+[11]A08!V59+[12]A08!V59","v":0},{"$f":"+[1]A08!W59+[2]A08!W59+[3]A08!W59+[4]A08!W59+[5]A08!W59+[6]A08!W59+[7]A08!W59+[8]A08!W59+[9]A08!W59+[10]A08!W59+[10]A08!W59+[11]A08!W59+[12]A08!W59","v":0},{"$f":"+[1]A08!X59+[2]A08!X59+[3]A08!X59+[4]A08!X59+[5]A08!X59+[6]A08!X59+[7]A08!X59+[8]A08!X59+[9]A08!X59+[10]A08!X59+[10]A08!X59+[11]A08!X59+[12]A08!X59","v":0},{"$f":"+[1]A08!Y59+[2]A08!Y59+[3]A08!Y59+[4]A08!Y59+[5]A08!Y59+[6]A08!Y59+[7]A08!Y59+[8]A08!Y59+[9]A08!Y59+[10]A08!Y59+[10]A08!Y59+[11]A08!Y59+[12]A08!Y59","v":0},{"$f":"+[1]A08!Z59+[2]A08!Z59+[3]A08!Z59+[4]A08!Z59+[5]A08!Z59+[6]A08!Z59+[7]A08!Z59+[8]A08!Z59+[9]A08!Z59+[10]A08!Z59+[10]A08!Z59+[11]A08!Z59+[12]A08!Z59","v":0},{"$f":"+[1]A08!AA59+[2]A08!AA59+[3]A08!AA59+[4]A08!AA59+[5]A08!AA59+[6]A08!AA59+[7]A08!AA59+[8]A08!AA59+[9]A08!AA59+[10]A08!AA59+[10]A08!AA59+[11]A08!AA59+[12]A08!AA59","v":0},{"$f":"+[1]A08!AB59+[2]A08!AB59+[3]A08!AB59+[4]A08!AB59+[5]A08!AB59+[6]A08!AB59+[7]A08!AB59+[8]A08!AB59+[9]A08!AB59+[10]A08!AB59+[10]A08!AB59+[11]A08!AB59+[12]A08!AB59","v":0},{"$f":"+[1]A08!AC59+[2]A08!AC59+[3]A08!AC59+[4]A08!AC59+[5]A08!AC59+[6]A08!AC59+[7]A08!AC59+[8]A08!AC59+[9]A08!AC59+[10]A08!AC59+[10]A08!AC59+[11]A08!AC59+[12]A08!AC59","v":0},{"$f":"+[1]A08!AD59+[2]A08!AD59+[3]A08!AD59+[4]A08!AD59+[5]A08!AD59+[6]A08!AD59+[7]A08!AD59+[8]A08!AD59+[9]A08!AD59+[10]A08!AD59+[10]A08!AD59+[11]A08!AD59+[12]A08!AD59","v":0},{"$f":"+[1]A08!AE59+[2]A08!AE59+[3]A08!AE59+[4]A08!AE59+[5]A08!AE59+[6]A08!AE59+[7]A08!AE59+[8]A08!AE59+[9]A08!AE59+[10]A08!AE59+[10]A08!AE59+[11]A08!AE59+[12]A08!AE59","v":0},{"$f":"+[1]A08!AF59+[2]A08!AF59+[3]A08!AF59+[4]A08!AF59+[5]A08!AF59+[6]A08!AF59+[7]A08!AF59+[8]A08!AF59+[9]A08!AF59+[10]A08!AF59+[10]A08!AF59+[11]A08!AF59+[12]A08!AF59","v":0},{"$f":"+[1]A08!AG59+[2]A08!AG59+[3]A08!AG59+[4]A08!AG59+[5]A08!AG59+[6]A08!AG59+[7]A08!AG59+[8]A08!AG59+[9]A08!AG59+[10]A08!AG59+[10]A08!AG59+[11]A08!AG59+[12]A08!AG59","v":0},{"$f":"+[1]A08!AH59+[2]A08!AH59+[3]A08!AH59+[4]A08!AH59+[5]A08!AH59+[6]A08!AH59+[7]A08!AH59+[8]A08!AH59+[9]A08!AH59+[10]A08!AH59+[10]A08!AH59+[11]A08!AH59+[12]A08!AH59","v":0},{"$f":"+[1]A08!AI59+[2]A08!AI59+[3]A08!AI59+[4]A08!AI59+[5]A08!AI59+[6]A08!AI59+[7]A08!AI59+[8]A08!AI59+[9]A08!AI59+[10]A08!AI59+[10]A08!AI59+[11]A08!AI59+[12]A08!AI59","v":0},{"$f":"+[1]A08!AJ59+[2]A08!AJ59+[3]A08!AJ59+[4]A08!AJ59+[5]A08!AJ59+[6]A08!AJ59+[7]A08!AJ59+[8]A08!AJ59+[9]A08!AJ59+[10]A08!AJ59+[10]A08!AJ59+[11]A08!AJ59+[12]A08!AJ59","v":0},{"$f":"+[1]A08!AK59+[2]A08!AK59+[3]A08!AK59+[4]A08!AK59+[5]A08!AK59+[6]A08!AK59+[7]A08!AK59+[8]A08!AK59+[9]A08!AK59+[10]A08!AK59+[10]A08!AK59+[11]A08!AK59+[12]A08!AK59","v":0},{"$f":"+[1]A08!AL59+[2]A08!AL59+[3]A08!AL59+[4]A08!AL59+[5]A08!AL59+[6]A08!AL59+[7]A08!AL59+[8]A08!AL59+[9]A08!AL59+[10]A08!AL59+[10]A08!AL59+[11]A08!AL59+[12]A08!AL59","v":0},{"$f":"+[1]A08!AM59+[2]A08!AM59+[3]A08!AM59+[4]A08!AM59+[5]A08!AM59+[6]A08!AM59+[7]A08!AM59+[8]A08!AM59+[9]A08!AM59+[10]A08!AM59+[10]A08!AM59+[11]A08!AM59+[12]A08!AM59","v":0},{"$f":"+[1]A08!AN59+[2]A08!AN59+[3]A08!AN59+[4]A08!AN59+[5]A08!AN59+[6]A08!AN59+[7]A08!AN59+[8]A08!AN59+[9]A08!AN59+[10]A08!AN59+[10]A08!AN59+[11]A08!AN59+[12]A08!AN59","v":0},{"$f":"CA59","v":""},null,null,null,null,null,null,null,null,null,null,null,null,null,null,null,null,null,null,null,null,null,null,null,null,null,null,null,null,null,null,null,null,null,null,null,null,null,{"$f":"IF(CG59=1,\"* La suma de las Herramientas de Categorización debe ser igual al total. \",\"\")","v":""},null,null,null,null,null,{"$f":"IF(B59<>(AM59+AN59),1,0)","v":0}]
["C3",0,0,0,{"$f":"+[1]A08!E60+[2]A08!E60+[3]A08!E60+[4]A08!E60+[5]A08!E60+[6]A08!E60+[7]A08!E60+[8]A08!E60+[9]A08!E60+[10]A08!E60+[10]A08!E60+[11]A08!E60+[12]A08!E60","v":0},{"$f":"+[1]A08!F60+[2]A08!F60+[3]A08!F60+[4]A08!F60+[5]A08!F60+[6]A08!F60+[7]A08!F60+[8]A08!F60+[9]A08!F60+[10]A08!F60+[10]A08!F60+[11]A08!F60+[12]A08!F60","v":0},{"$f":"+[1]A08!G60+[2]A08!G60+[3]A08!G60+[4]A08!G60+[5]A08!G60+[6]A08!G60+[7]A08!G60+[8]A08!G60+[9]A08!G60+[10]A08!G60+[10]A08!G60+[11]A08!G60+[12]A08!G60","v":0},{"$f":"+[1]A08!H60+[2]A08!H60+[3]A08!H60+[4]A08!H60+[5]A08!H60+[6]A08!H60+[7]A08!H60+[8]A08!H60+[9]A08!H60+[10]A08!H60+[10]A08!H60+[11]A08!H60+[12]A08!H60","v":0},{"$f":"+[1]A08!I60+[2]A08!I60+[3]A08!I60+[4]A08!I60+[5]A08!I60+[6]A08!I60+[7]A08!I60+[8]A08!I60+[9]A08!I60+[10]A08!I60+[10]A08!I60+[11]A08!I60+[12]A08!I60","v":0},{"$f":"+[1]A08!J60+[2]A08!J60+[3]A08!J60+[4]A08!J60+[5]A08!J60+[6]A08!J60+[7]A08!J60+[8]A08!J60+[9]A08!J60+[10]A08!J60+[10]A08!J60+[11]A08!J60+[12]A08!J60","v":0},{"$f":"+[1]A08!K60+[2]A08!K60+[3]A08!K60+[4]A08!K60+[5]A08!K60+[6]A08!K60+[7]A08!K60+[8]A08!K60+[9]A08!K60+[10]A08!K60+[10]A08!K60+[11]A08!K60+[12]A08!K60","v":0},{"$f":"+[1]A08!L60+[2]A08!L60+[3]A08!L60+[4]A08!L60+[5]A08!L60+[6]A08!L60+[7]A08!L60+[8]A08!L60+[9]A08!L60+[10]A08!L60+[10]A08!L60+[11]A08!L60+[12]A08!L60","v":0},{"$f":"+[1]A08!M60+[2]A08!M60+[3]A08!M60+[4]A08!M60+[5]A08!M60+[6]A08!M60+[7]A08!M60+[8]A08!M60+[9]A08!M60+[10]A08!M60+[10]A08!M60+[11]A08!M60+[12]A08!M60","v":0},{"$f":"+[1]A08!N60+[2]A08!N60+[3]A08!N60+[4]A08!N60+[5]A08!N60+[6]A08!N60+[7]A08!N60+[8]A08!N60+[9]A08!N60+[10]A08!N60+[10]A08!N60+[11]A08!N60+[12]A08!N60","v":0},{"$f":"+[1]A08!O60+[2]A08!O60+[3]A08!O60+[4]A08!O60+[5]A08!O60+[6]A08!O60+[7]A08!O60+[8]A08!O60+[9]A08!O60+[10]A08!O60+[10]A08!O60+[11]A08!O60+[12]A08!O60","v":0},{"$f":"+[1]A08!P60+[2]A08!P60+[3]A08!P60+[4]A08!P60+[5]A08!P60+[6]A08!P60+[7]A08!P60+[8]A08!P60+[9]A08!P60+[10]A08!P60+[10]A08!P60+[11]A08!P60+[12]A08!P60","v":0},{"$f":"+[1]A08!Q60+[2]A08!Q60+[3]A08!Q60+[4]A08!Q60+[5]A08!Q60+[6]A08!Q60+[7]A08!Q60+[8]A08!Q60+[9]A08!Q60+[10]A08!Q60+[10]A08!Q60+[11]A08!Q60+[12]A08!Q60","v":0},{"$f":"+[1]A08!R60+[2]A08!R60+[3]A08!R60+[4]A08!R60+[5]A08!R60+[6]A08!R60+[7]A08!R60+[8]A08!R60+[9]A08!R60+[10]A08!R60+[10]A08!R60+[11]A08!R60+[12]A08!R60","v":0},{"$f":"+[1]A08!S60+[2]A08!S60+[3]A08!S60+[4]A08!S60+[5]A08!S60+[6]A08!S60+[7]A08!S60+[8]A08!S60+[9]A08!S60+[10]A08!S60+[10]A08!S60+[11]A08!S60+[12]A08!S60","v":0},{"$f":"+[1]A08!T60+[2]A08!T60+[3]A08!T60+[4]A08!T60+[5]A08!T60+[6]A08!T60+[7]A08!T60+[8]A08!T60+[9]A08!T60+[10]A08!T60+[10]A08!T60+[11]A08!T60+[12]A08!T60","v":0},{"$f":"+[1]A08!U60+[2]A08!U60+[3]A08!U60+[4]A08!U60+[5]A08!U60+[6]A08!U60+[7]A08!U60+[8]A08!U60+[9]A08!U60+[10]A08!U60+[10]A08!U60+[11]A08!U60+[12]A08!U60","v":0},{"$f":"+[1]A08!V60+[2]A08!V60+[3]A08!V60+[4]A08!V60+[5]A08!V60+[6]A08!V60+[7]A08!V60+[8]A08!V60+[9]A08!V60+[10]A08!V60+[10]A08!V60+[11]A08!V60+[12]A08!V60","v":0},{"$f":"+[1]A08!W60+[2]A08!W60+[3]A08!W60+[4]A08!W60+[5]A08!W60+[6]A08!W60+[7]A08!W60+[8]A08!W60+[9]A08!W60+[10]A08!W60+[10]A08!W60+[11]A08!W60+[12]A08!W60","v":0},{"$f":"+[1]A08!X60+[2]A08!X60+[3]A08!X60+[4]A08!X60+[5]A08!X60+[6]A08!X60+[7]A08!X60+[8]A08!X60+[9]A08!X60+[10]A08!X60+[10]A08!X60+[11]A08!X60+[12]A08!X60","v":0},{"$f":"+[1]A08!Y60+[2]A08!Y60+[3]A08!Y60+[4]A08!Y60+[5]A08!Y60+[6]A08!Y60+[7]A08!Y60+[8]A08!Y60+[9]A08!Y60+[10]A08!Y60+[10]A08!Y60+[11]A08!Y60+[12]A08!Y60","v":0},{"$f":"+[1]A08!Z60+[2]A08!Z60+[3]A08!Z60+[4]A08!Z60+[5]A08!Z60+[6]A08!Z60+[7]A08!Z60+[8]A08!Z60+[9]A08!Z60+[10]A08!Z60+[10]A08!Z60+[11]A08!Z60+[12]A08!Z60","v":0},{"$f":"+[1]A08!AA60+[2]A08!AA60+[3]A08!AA60+[4]A08!AA60+[5]A08!AA60+[6]A08!AA60+[7]A08!AA60+[8]A08!AA60+[9]A08!AA60+[10]A08!AA60+[10]A08!AA60+[11]A08!AA60+[12]A08!AA60","v":0},{"$f":"+[1]A08!AB60+[2]A08!AB60+[3]A08!AB60+[4]A08!AB60+[5]A08!AB60+[6]A08!AB60+[7]A08!AB60+[8]A08!AB60+[9]A08!AB60+[10]A08!AB60+[10]A08!AB60+[11]A08!AB60+[12]A08!AB60","v":0},{"$f":"+[1]A08!AC60+[2]A08!AC60+[3]A08!AC60+[4]A08!AC60+[5]A08!AC60+[6]A08!AC60+[7]A08!AC60+[8]A08!AC60+[9]A08!AC60+[10]A08!AC60+[10]A08!AC60+[11]A08!AC60+[12]A08!AC60","v":0},{"$f":"+[1]A08!AD60+[2]A08!AD60+[3]A08!AD60+[4]A08!AD60+[5]A08!AD60+[6]A08!AD60+[7]A08!AD60+[8]A08!AD60+[9]A08!AD60+[10]A08!AD60+[10]A08!AD60+[11]A08!AD60+[12]A08!AD60","v":0},{"$f":"+[1]A08!AE60+[2]A08!AE60+[3]A08!AE60+[4]A08!AE60+[5]A08!AE60+[6]A08!AE60+[7]A08!AE60+[8]A08!AE60+[9]A08!AE60+[10]A08!AE60+[10]A08!AE60+[11]A08!AE60+[12]A08!AE60","v":0},{"$f":"+[1]A08!AF60+[2]A08!AF60+[3]A08!AF60+[4]A08!AF60+[5]A08!AF60+[6]A08!AF60+[7]A08!AF60+[8]A08!AF60+[9]A08!AF60+[10]A08!AF60+[10]A08!AF60+[11]A08!AF60+[12]A08!AF60","v":0},{"$f":"+[1]A08!AG60+[2]A08!AG60+[3]A08!AG60+[4]A08!AG60+[5]A08!AG60+[6]A08!AG60+[7]A08!AG60+[8]A08!AG60+[9]A08!AG60+[10]A08!AG60+[10]A08!AG60+[11]A08!AG60+[12]A08!AG60","v":0},{"$f":"+[1]A08!AH60+[2]A08!AH60+[3]A08!AH60+[4]A08!AH60+[5]A08!AH60+[6]A08!AH60+[7]A08!AH60+[8]A08!AH60+[9]A08!AH60+[10]A08!AH60+[10]A08!AH60+[11]A08!AH60+[12]A08!AH60","v":0},{"$f":"+[1]A08!AI60+[2]A08!AI60+[3]A08!AI60+[4]A08!AI60+[5]A08!AI60+[6]A08!AI60+[7]A08!AI60+[8]A08!AI60+[9]A08!AI60+[10]A08!AI60+[10]A08!AI60+[11]A08!AI60+[12]A08!AI60","v":0},{"$f":"+[1]A08!AJ60+[2]A08!AJ60+[3]A08!AJ60+[4]A08!AJ60+[5]A08!AJ60+[6]A08!AJ60+[7]A08!AJ60+[8]A08!AJ60+[9]A08!AJ60+[10]A08!AJ60+[10]A08!AJ60+[11]A08!AJ60+[12]A08!AJ60","v":0},{"$f":"+[1]A08!AK60+[2]A08!AK60+[3]A08!AK60+[4]A08!AK60+[5]A08!AK60+[6]A08!AK60+[7]A08!AK60+[8]A08!AK60+[9]A08!AK60+[10]A08!AK60+[10]A08!AK60+[11]A08!AK60+[12]A08!AK60","v":0},{"$f":"+[1]A08!AL60+[2]A08!AL60+[3]A08!AL60+[4]A08!AL60+[5]A08!AL60+[6]A08!AL60+[7]A08!AL60+[8]A08!AL60+[9]A08!AL60+[10]A08!AL60+[10]A08!AL60+[11]A08!AL60+[12]A08!AL60","v":0},{"$f":"+[1]A08!AM60+[2]A08!AM60+[3]A08!AM60+[4]A08!AM60+[5]A08!AM60+[6]A08!AM60+[7]A08!AM60+[8]A08!AM60+[9]A08!AM60+[10]A08!AM60+[10]A08!AM60+[11]A08!AM60+[12]A08!AM60","v":0},{"$f":"+[1]A08!AN60+[2]A08!AN60+[3]A08!AN60+[4]A08!AN60+[5]A08!AN60+[6]A08!AN60+[7]A08!AN60+[8]A08!AN60+[9]A08!AN60+[10]A08!AN60+[10]A08!AN60+[11]A08!AN60+[12]A08!AN60","v":0},{"$f":"CA60","v":""},null,null,null,null,null,null,null,null,null,null,null,null,null,null,null,null,null,null,null,null,null,null,null,null,null,null,null,null,null,null,null,null,null,null,null,null,null,{"$f":"IF(CG60=1,\"* La suma de las Herramientas de Categorización debe ser igual al total. \",\"\")","v":""},null,null,null,null,null,{"$f":"IF(B60<>(AM60+AN60),1,0)","v":0}]
["C4",0,0,0,{"$f":"+[1]A08!E61+[2]A08!E61+[3]A08!E61+[4]A08!E61+[5]A08!E61+[6]A08!E61+[7]A08!E61+[8]A08!E61+[9]A08!E61+[10]A08!E61+[10]A08!E61+[11]A08!E61+[12]A08!E61","v":0},{"$f":"+[1]A08!F61+[2]A08!F61+[3]A08!F61+[4]A08!F61+[5]A08!F61+[6]A08!F61+[7]A08!F61+[8]A08!F61+[9]A08!F61+[10]A08!F61+[10]A08!F61+[11]A08!F61+[12]A08!F61","v":0},{"$f":"+[1]A08!G61+[2]A08!G61+[3]A08!G61+[4]A08!G61+[5]A08!G61+[6]A08!G61+[7]A08!G61+[8]A08!G61+[9]A08!G61+[10]A08!G61+[10]A08!G61+[11]A08!G61+[12]A08!G61","v":0},{"$f":"+[1]A08!H61+[2]A08!H61+[3]A08!H61+[4]A08!H61+[5]A08!H61+[6]A08!H61+[7]A08!H61+[8]A08!H61+[9]A08!H61+[10]A08!H61+[10]A08!H61+[11]A08!H61+[12]A08!H61","v":0},{"$f":"+[1]A08!I61+[2]A08!I61+[3]A08!I61+[4]A08!I61+[5]A08!I61+[6]A08!I61+[7]A08!I61+[8]A08!I61+[9]A08!I61+[10]A08!I61+[10]A08!I61+[11]A08!I61+[12]A08!I61","v":0},{"$f":"+[1]A08!J61+[2]A08!J61+[3]A08!J61+[4]A08!J61+[5]A08!J61+[6]A08!J61+[7]A08!J61+[8]A08!J61+[9]A08!J61+[10]A08!J61+[10]A08!J61+[11]A08!J61+[12]A08!J61","v":0},{"$f":"+[1]A08!K61+[2]A08!K61+[3]A08!K61+[4]A08!K61+[5]A08!K61+[6]A08!K61+[7]A08!K61+[8]A08!K61+[9]A08!K61+[10]A08!K61+[10]A08!K61+[11]A08!K61+[12]A08!K61","v":0},{"$f":"+[1]A08!L61+[2]A08!L61+[3]A08!L61+[4]A08!L61+[5]A08!L61+[6]A08!L61+[7]A08!L61+[8]A08!L61+[9]A08!L61+[10]A08!L61+[10]A08!L61+[11]A08!L61+[12]A08!L61","v":0},{"$f":"+[1]A08!M61+[2]A08!M61+[3]A08!M61+[4]A08!M61+[5]A08!M61+[6]A08!M61+[7]A08!M61+[8]A08!M61+[9]A08!M61+[10]A08!M61+[10]A08!M61+[11]A08!M61+[12]A08!M61","v":0},{"$f":"+[1]A08!N61+[2]A08!N61+[3]A08!N61+[4]A08!N61+[5]A08!N61+[6]A08!N61+[7]A08!N61+[8]A08!N61+[9]A08!N61+[10]A08!N61+[10]A08!N61+[11]A08!N61+[12]A08!N61","v":0},{"$f":"+[1]A08!O61+[2]A08!O61+[3]A08!O61+[4]A08!O61+[5]A08!O61+[6]A08!O61+[7]A08!O61+[8]A08!O61+[9]A08!O61+[10]A08!O61+[10]A08!O61+[11]A08!O61+[12]A08!O61","v":0},{"$f":"+[1]A08!P61+[2]A08!P61+[3]A08!P61+[4]A08!P61+[5]A08!P61+[6]A08!P61+[7]A08!P61+[8]A08!P61+[9]A08!P61+[10]A08!P61+[10]A08!P61+[11]A08!P61+[12]A08!P61","v":0},{"$f":"+[1]A08!Q61+[2]A08!Q61+[3]A08!Q61+[4]A08!Q61+[5]A08!Q61+[6]A08!Q61+[7]A08!Q61+[8]A08!Q61+[9]A08!Q61+[10]A08!Q61+[10]A08!Q61+[11]A08!Q61+[12]A08!Q61","v":0},{"$f":"+[1]A08!R61+[2]A08!R61+[3]A08!R61+[4]A08!R61+[5]A08!R61+[6]A08!R61+[7]A08!R61+[8]A08!R61+[9]A08!R61+[10]A08!R61+[10]A08!R61+[11]A08!R61+[12]A08!R61","v":0},{"$f":"+[1]A08!S61+[2]A08!S61+[3]A08!S61+[4]A08!S61+[5]A08!S61+[6]A08!S61+[7]A08!S61+[8]A08!S61+[9]A08!S61+[10]A08!S61+[10]A08!S61+[11]A08!S61+[12]A08!S61","v":0},{"$f":"+[1]A08!T61+[2]A08!T61+[3]A08!T61+[4]A08!T61+[5]A08!T61+[6]A08!T61+[7]A08!T61+[8]A08!T61+[9]A08!T61+[10]A08!T61+[10]A08!T61+[11]A08!T61+[12]A08!T61","v":0},{"$f":"+[1]A08!U61+[2]A08!U61+[3]A08!U61+[4]A08!U61+[5]A08!U61+[6]A08!U61+[7]A08!U61+[8]A08!U61+[9]A08!U61+[10]A08!U61+[10]A08!U61+[11]A08!U61+[12]A08!U61","v":0},{"$f":"+[1]A08!V61+[2]A08!V61+[3]A08!V61+[4]A08!V61+[5]A08!V61+[6]A08!V61+[7]A08!V61+[8]A08!V61+[9]A08!V61+[10]A08!V61+[10]A08!V61+[11]A08!V61+[12]A08!V61","v":0},{"$f":"+[1]A08!W61+[2]A08!W61+[3]A08!W61+[4]A08!W61+[5]A08!W61+[6]A08!W61+[7]A08!W61+[8]A08!W61+[9]A08!W61+[10]A08!W61+[10]A08!W61+[11]A08!W61+[12]A08!W61","v":0},{"$f":"+[1]A08!X61+[2]A08!X61+[3]A08!X61+[4]A08!X61+[5]A08!X61+[6]A08!X61+[7]A08!X61+[8]A08!X61+[9]A08!X61+[10]A08!X61+[10]A08!X61+[11]A08!X61+[12]A08!X61","v":0},{"$f":"+[1]A08!Y61+[2]A08!Y61+[3]A08!Y61+[4]A08!Y61+[5]A08!Y61+[6]A08!Y61+[7]A08!Y61+[8]A08!Y61+[9]A08!Y61+[10]A08!Y61+[10]A08!Y61+[11]A08!Y61+[12]A08!Y61","v":0},{"$f":"+[1]A08!Z61+[2]A08!Z61+[3]A08!Z61+[4]A08!Z61+[5]A08!Z61+[6]A08!Z61+[7]A08!Z61+[8]A08!Z61+[9]A08!Z61+[10]A08!Z61+[10]A08!Z61+[11]A08!Z61+[12]A08!Z61","v":0},{"$f":"+[1]A08!AA61+[2]A08!AA61+[3]A08!AA61+[4]A08!AA61+[5]A08!AA61+[6]A08!AA61+[7]A08!AA61+[8]A08!AA61+[9]A08!AA61+[10]A08!AA61+[10]A08!AA61+[11]A08!AA61+[12]A08!AA61","v":0},{"$f":"+[1]A08!AB61+[2]A08!AB61+[3]A08!AB61+[4]A08!AB61+[5]A08!AB61+[6]A08!AB61+[7]A08!AB61+[8]A08!AB61+[9]A08!AB61+[10]A08!AB61+[10]A08!AB61+[11]A08!AB61+[12]A08!AB61","v":0},{"$f":"+[1]A08!AC61+[2]A08!AC61+[3]A08!AC61+[4]A08!AC61+[5]A08!AC61+[6]A08!AC61+[7]A08!AC61+[8]A08!AC61+[9]A08!AC61+[10]A08!AC61+[10]A08!AC61+[11]A08!AC61+[12]A08!AC61","v":0},{"$f":"+[1]A08!AD61+[2]A08!AD61+[3]A08!AD61+[4]A08!AD61+[5]A08!AD61+[6]A08!AD61+[7]A08!AD61+[8]A08!AD61+[9]A08!AD61+[10]A08!AD61+[10]A08!AD61+[11]A08!AD61+[12]A08!AD61","v":0},{"$f":"+[1]A08!AE61+[2]A08!AE61+[3]A08!AE61+[4]A08!AE61+[5]A08!AE61+[6]A08!AE61+[7]A08!AE61+[8]A08!AE61+[9]A08!AE61+[10]A08!AE61+[10]A08!AE61+[11]A08!AE61+[12]A08!AE61","v":0},{"$f":"+[1]A08!AF61+[2]A08!AF61+[3]A08!AF61+[4]A08!AF61+[5]A08!AF61+[6]A08!AF61+[7]A08!AF61+[8]A08!AF61+[9]A08!AF61+[10]A08!AF61+[10]A08!AF61+[11]A08!AF61+[12]A08!AF61","v":0},{"$f":"+[1]A08!AG61+[2]A08!AG61+[3]A08!AG61+[4]A08!AG61+[5]A08!AG61+[6]A08!AG61+[7]A08!AG61+[8]A08!AG61+[9]A08!AG61+[10]A08!AG61+[10]A08!AG61+[11]A08!AG61+[12]A08!AG61","v":0},{"$f":"+[1]A08!AH61+[2]A08!AH61+[3]A08!AH61+[4]A08!AH61+[5]A08!AH61+[6]A08!AH61+[7]A08!AH61+[8]A08!AH61+[9]A08!AH61+[10]A08!AH61+[10]A08!AH61+[11]A08!AH61+[12]A08!AH61","v":0},{"$f":"+[1]A08!AI61+[2]A08!AI61+[3]A08!AI61+[4]A08!AI61+[5]A08!AI61+[6]A08!AI61+[7]A08!AI61+[8]A08!AI61+[9]A08!AI61+[10]A08!AI61+[10]A08!AI61+[11]A08!AI61+[12]A08!AI61","v":0},{"$f":"+[1]A08!AJ61+[2]A08!AJ61+[3]A08!AJ61+[4]A08!AJ61+[5]A08!AJ61+[6]A08!AJ61+[7]A08!AJ61+[8]A08!AJ61+[9]A08!AJ61+[10]A08!AJ61+[10]A08!AJ61+[11]A08!AJ61+[12]A08!AJ61","v":0},{"$f":"+[1]A08!AK61+[2]A08!AK61+[3]A08!AK61+[4]A08!AK61+[5]A08!AK61+[6]A08!AK61+[7]A08!AK61+[8]A08!AK61+[9]A08!AK61+[10]A08!AK61+[10]A08!AK61+[11]A08!AK61+[12]A08!AK61","v":0},{"$f":"+[1]A08!AL61+[2]A08!AL61+[3]A08!AL61+[4]A08!AL61+[5]A08!AL61+[6]A08!AL61+[7]A08!AL61+[8]A08!AL61+[9]A08!AL61+[10]A08!AL61+[10]A08!AL61+[11]A08!AL61+[12]A08!AL61","v":0},{"$f":"+[1]A08!AM61+[2]A08!AM61+[3]A08!AM61+[4]A08!AM61+[5]A08!AM61+[6]A08!AM61+[7]A08!AM61+[8]A08!AM61+[9]A08!AM61+[10]A08!AM61+[10]A08!AM61+[11]A08!AM61+[12]A08!AM61","v":0},{"$f":"+[1]A08!AN61+[2]A08!AN61+[3]A08!AN61+[4]A08!AN61+[5]A08!AN61+[6]A08!AN61+[7]A08!AN61+[8]A08!AN61+[9]A08!AN61+[10]A08!AN61+[10]A08!AN61+[11]A08!AN61+[12]A08!AN61","v":0},{"$f":"CA61","v":""},null,null,null,null,null,null,null,null,null,null,null,null,null,null,null,null,null,null,null,null,null,null,null,null,null,null,null,null,null,null,null,null,null,null,null,null,null,{"$f":"IF(CG61=1,\"* La suma de las Herramientas de Categorización debe ser igual al total. \",\"\")","v":""},null,null,null,null,null,{"$f":"IF(B61<>(AM61+AN61),1,0)","v":0}]
["C5",0,0,0,{"$f":"+[1]A08!E62+[2]A08!E62+[3]A08!E62+[4]A08!E62+[5]A08!E62+[6]A08!E62+[7]A08!E62+[8]A08!E62+[9]A08!E62+[10]A08!E62+[10]A08!E62+[11]A08!E62+[12]A08!E62","v":0},{"$f":"+[1]A08!F62+[2]A08!F62+[3]A08!F62+[4]A08!F62+[5]A08!F62+[6]A08!F62+[7]A08!F62+[8]A08!F62+[9]A08!F62+[10]A08!F62+[10]A08!F62+[11]A08!F62+[12]A08!F62","v":0},{"$f":"+[1]A08!G62+[2]A08!G62+[3]A08!G62+[4]A08!G62+[5]A08!G62+[6]A08!G62+[7]A08!G62+[8]A08!G62+[9]A08!G62+[10]A08!G62+[10]A08!G62+[11]A08!G62+[12]A08!G62","v":0},{"$f":"+[1]A08!H62+[2]A08!H62+[3]A08!H62+[4]A08!H62+[5]A08!H62+[6]A08!H62+[7]A08!H62+[8]A08!H62+[9]A08!H62+[10]A08!H62+[10]A08!H62+[11]A08!H62+[12]A08!H62","v":0},{"$f":"+[1]A08!I62+[2]A08!I62+[3]A08!I62+[4]A08!I62+[5]A08!I62+[6]A08!I62+[7]A08!I62+[8]A08!I62+[9]A08!I62+[10]A08!I62+[10]A08!I62+[11]A08!I62+[12]A08!I62","v":0},{"$f":"+[1]A08!J62+[2]A08!J62+[3]A08!J62+[4]A08!J62+[5]A08!J62+[6]A08!J62+[7]A08!J62+[8]A08!J62+[9]A08!J62+[10]A08!J62+[10]A08!J62+[11]A08!J62+[12]A08!J62","v":0},{"$f":"+[1]A08!K62+[2]A08!K62+[3]A08!K62+[4]A08!K62+[5]A08!K62+[6]A08!K62+[7]A08!K62+[8]A08!K62+[9]A08!K62+[10]A08!K62+[10]A08!K62+[11]A08!K62+[12]A08!K62","v":0},{"$f":"+[1]A08!L62+[2]A08!L62+[3]A08!L62+[4]A08!L62+[5]A08!L62+[6]A08!L62+[7]A08!L62+[8]A08!L62+[9]A08!L62+[10]A08!L62+[10]A08!L62+[11]A08!L62+[12]A08!L62","v":0},{"$f":"+[1]A08!M62+[2]A08!M62+[3]A08!M62+[4]A08!M62+[5]A08!M62+[6]A08!M62+[7]A08!M62+[8]A08!M62+[9]A08!M62+[10]A08!M62+[10]A08!M62+[11]A08!M62+[12]A08!M62","v":0},{"$f":"+[1]A08!N62+[2]A08!N62+[3]A08!N62+[4]A08!N62+[5]A08!N62+[6]A08!N62+[7]A08!N62+[8]A08!N62+[9]A08!N62+[10]A08!N62+[10]A08!N62+[11]A08!N62+[12]A08!N62","v":0},{"$f":"+[1]A08!O62+[2]A08!O62+[3]A08!O62+[4]A08!O62+[5]A08!O62+[6]A08!O62+[7]A08!O62+[8]A08!O62+[9]A08!O62+[10]A08!O62+[10]A08!O62+[11]A08!O62+[12]A08!O62","v":0},{"$f":"+[1]A08!P62+[2]A08!P62+[3]A08!P62+[4]A08!P62+[5]A08!P62+[6]A08!P62+[7]A08!P62+[8]A08!P62+[9]A08!P62+[10]A08!P62+[10]A08!P62+[11]A08!P62+[12]A08!P62","v":0},{"$f":"+[1]A08!Q62+[2]A08!Q62+[3]A08!Q62+[4]A08!Q62+[5]A08!Q62+[6]A08!Q62+[7]A08!Q62+[8]A08!Q62+[9]A08!Q62+[10]A08!Q62+[10]A08!Q62+[11]A08!Q62+[12]A08!Q62","v":0},{"$f":"+[1]A08!R62+[2]A08!R62+[3]A08!R62+[4]A08!R62+[5]A08!R62+[6]A08!R62+[7]A08!R62+[8]A08!R62+[9]A08!R62+[10]A08!R62+[10]A08!R62+[11]A08!R62+[12]A08!R62","v":0},{"$f":"+[1]A08!S62+[2]A08!S62+[3]A08!S62+[4]A08!S62+[5]A08!S62+[6]A08!S62+[7]A08!S62+[8]A08!S62+[9]A08!S62+[10]A08!S62+[10]A08!S62+[11]A08!S62+[12]A08!S62","v":0},{"$f":"+[1]A08!T62+[2]A08!T62+[3]A08!T62+[4]A08!T62+[5]A08!T62+[6]A08!T62+[7]A08!T62+[8]A08!T62+[9]A08!T62+[10]A08!T62+[10]A08!T62+[11]A08!T62+[12]A08!T62","v":0},{"$f":"+[1]A08!U62+[2]A08!U62+[3]A08!U62+[4]A08!U62+[5]A08!U62+[6]A08!U62+[7]A08!U62+[8]A08!U62+[9]A08!U62+[10]A08!U62+[10]A08!U62+[11]A08!U62+[12]A08!U62","v":0},{"$f":"+[1]A08!V62+[2]A08!V62+[3]A08!V62+[4]A08!V62+[5]A08!V62+[6]A08!V62+[7]A08!V62+[8]A08!V62+[9]A08!V62+[10]A08!V62+[10]A08!V62+[11]A08!V62+[12]A08!V62","v":0},{"$f":"+[1]A08!W62+[2]A08!W62+[3]A08!W62+[4]A08!W62+[5]A08!W62+[6]A08!W62+[7]A08!W62+[8]A08!W62+[9]A08!W62+[10]A08!W62+[10]A08!W62+[11]A08!W62+[12]A08!W62","v":0},{"$f":"+[1]A08!X62+[2]A08!X62+[3]A08!X62+[4]A08!X62+[5]A08!X62+[6]A08!X62+[7]A08!X62+[8]A08!X62+[9]A08!X62+[10]A08!X62+[10]A08!X62+[11]A08!X62+[12]A08!X62","v":0},{"$f":"+[1]A08!Y62+[2]A08!Y62+[3]A08!Y62+[4]A08!Y62+[5]A08!Y62+[6]A08!Y62+[7]A08!Y62+[8]A08!Y62+[9]A08!Y62+[10]A08!Y62+[10]A08!Y62+[11]A08!Y62+[12]A08!Y62","v":0},{"$f":"+[1]A08!Z62+[2]A08!Z62+[3]A08!Z62+[4]A08!Z62+[5]A08!Z62+[6]A08!Z62+[7]A08!Z62+[8]A08!Z62+[9]A08!Z62+[10]A08!Z62+[10]A08!Z62+[11]A08!Z62+[12]A08!Z62","v":0},{"$f":"+[1]A08!AA62+[2]A08!AA62+[3]A08!AA62+[4]A08!AA62+[5]A08!AA62+[6]A08!AA62+[7]A08!AA62+[8]A08!AA62+[9]A08!AA62+[10]A08!AA62+[10]A08!AA62+[11]A08!AA62+[12]A08!AA62","v":0},{"$f":"+[1]A08!AB62+[2]A08!AB62+[3]A08!AB62+[4]A08!AB62+[5]A08!AB62+[6]A08!AB62+[7]A08!AB62+[8]A08!AB62+[9]A08!AB62+[10]A08!AB62+[10]A08!AB62+[11]A08!AB62+[12]A08!AB62","v":0},{"$f":"+[1]A08!AC62+[2]A08!AC62+[3]A08!AC62+[4]A08!AC62+[5]A08!AC62+[6]A08!AC62+[7]A08!AC62+[8]A08!AC62+[9]A08!AC62+[10]A08!AC62+[10]A08!AC62+[11]A08!AC62+[12]A08!AC62","v":0},{"$f":"+[1]A08!AD62+[2]A08!AD62+[3]A08!AD62+[4]A08!AD62+[5]A08!AD62+[6]A08!AD62+[7]A08!AD62+[8]A08!AD62+[9]A08!AD62+[10]A08!AD62+[10]A08!AD62+[11]A08!AD62+[12]A08!AD62","v":0},{"$f":"+[1]A08!AE62+[2]A08!AE62+[3]A08!AE62+[4]A08!AE62+[5]A08!AE62+[6]A08!AE62+[7]A08!AE62+[8]A08!AE62+[9]A08!AE62+[10]A08!AE62+[10]A08!AE62+[11]A08!AE62+[12]A08!AE62","v":0},{"$f":"+[1]A08!AF62+[2]A08!AF62+[3]A08!AF62+[4]A08!AF62+[5]A08!AF62+[6]A08!AF62+[7]A08!AF62+[8]A08!AF62+[9]A08!AF62+[10]A08!AF62+[10]A08!AF62+[11]A08!AF62+[12]A08!AF62","v":0},{"$f":"+[1]A08!AG62+[2]A08!AG62+[3]A08!AG62+[4]A08!AG62+[5]A08!AG62+[6]A08!AG62+[7]A08!AG62+[8]A08!AG62+[9]A08!AG62+[10]A08!AG62+[10]A08!AG62+[11]A08!AG62+[12]A08!AG62","v":0},{"$f":"+[1]A08!AH62+[2]A08!AH62+[3]A08!AH62+[4]A08!AH62+[5]A08!AH62+[6]A08!AH62+[7]A08!AH62+[8]A08!AH62+[9]A08!AH62+[10]A08!AH62+[10]A08!AH62+[11]A08!AH62+[12]A08!AH62","v":0},{"$f":"+[1]A08!AI62+[2]A08!AI62+[3]A08!AI62+[4]A08!AI62+[5]A08!AI62+[6]A08!AI62+[7]A08!AI62+[8]A08!AI62+[9]A08!AI62+[10]A08!AI62+[10]A08!AI62+[11]A08!AI62+[12]A08!AI62","v":0},{"$f":"+[1]A08!AJ62+[2]A08!AJ62+[3]A08!AJ62+[4]A08!AJ62+[5]A08!AJ62+[6]A08!AJ62+[7]A08!AJ62+[8]A08!AJ62+[9]A08!AJ62+[10]A08!AJ62+[10]A08!AJ62+[11]A08!AJ62+[12]A08!AJ62","v":0},{"$f":"+[1]A08!AK62+[2]A08!AK62+[3]A08!AK62+[4]A08!AK62+[5]A08!AK62+[6]A08!AK62+[7]A08!AK62+[8]A08!AK62+[9]A08!AK62+[10]A08!AK62+[10]A08!AK62+[11]A08!AK62+[12]A08!AK62","v":0},{"$f":"+[1]A08!AL62+[2]A08!AL62+[3]A08!AL62+[4]A08!AL62+[5]A08!AL62+[6]A08!AL62+[7]A08!AL62+[8]A08!AL62+[9]A08!AL62+[10]A08!AL62+[10]A08!AL62+[11]A08!AL62+[12]A08!AL62","v":0},{"$f":"+[1]A08!AM62+[2]A08!AM62+[3]A08!AM62+[4]A08!AM62+[5]A08!AM62+[6]A08!AM62+[7]A08!AM62+[8]A08!AM62+[9]A08!AM62+[10]A08!AM62+[10]A08!AM62+[11]A08!AM62+[12]A08!AM62","v":0},{"$f":"+[1]A08!AN62+[2]A08!AN62+[3]A08!AN62+[4]A08!AN62+[5]A08!AN62+[6]A08!AN62+[7]A08!AN62+[8]A08!AN62+[9]A08!AN62+[10]A08!AN62+[10]A08!AN62+[11]A08!AN62+[12]A08!AN62","v":0},{"$f":"CA62","v":""},null,null,null,null,null,null,null,null,null,null,null,null,null,null,null,null,null,null,null,null,null,null,null,null,null,null,null,null,null,null,null,null,null,null,null,null,null,{"$f":"IF(CG62=1,\"* La suma de las Herramientas de Categorización debe ser igual al total. \",\"\")","v":""},null,null,null,null,null,{"$f":"IF(B62<>(AM62+AN62),1,0)","v":0}]
["SIN CATEGORIZACIÓN",0,0,0,{"$f":"+[1]A08!E63+[2]A08!E63+[3]A08!E63+[4]A08!E63+[5]A08!E63+[6]A08!E63+[7]A08!E63+[8]A08!E63+[9]A08!E63+[10]A08!E63+[10]A08!E63+[11]A08!E63+[12]A08!E63","v":0},{"$f":"+[1]A08!F63+[2]A08!F63+[3]A08!F63+[4]A08!F63+[5]A08!F63+[6]A08!F63+[7]A08!F63+[8]A08!F63+[9]A08!F63+[10]A08!F63+[10]A08!F63+[11]A08!F63+[12]A08!F63","v":0},{"$f":"+[1]A08!G63+[2]A08!G63+[3]A08!G63+[4]A08!G63+[5]A08!G63+[6]A08!G63+[7]A08!G63+[8]A08!G63+[9]A08!G63+[10]A08!G63+[10]A08!G63+[11]A08!G63+[12]A08!G63","v":0},{"$f":"+[1]A08!H63+[2]A08!H63+[3]A08!H63+[4]A08!H63+[5]A08!H63+[6]A08!H63+[7]A08!H63+[8]A08!H63+[9]A08!H63+[10]A08!H63+[10]A08!H63+[11]A08!H63+[12]A08!H63","v":0},{"$f":"+[1]A08!I63+[2]A08!I63+[3]A08!I63+[4]A08!I63+[5]A08!I63+[6]A08!I63+[7]A08!I63+[8]A08!I63+[9]A08!I63+[10]A08!I63+[10]A08!I63+[11]A08!I63+[12]A08!I63","v":0},{"$f":"+[1]A08!J63+[2]A08!J63+[3]A08!J63+[4]A08!J63+[5]A08!J63+[6]A08!J63+[7]A08!J63+[8]A08!J63+[9]A08!J63+[10]A08!J63+[10]A08!J63+[11]A08!J63+[12]A08!J63","v":0},{"$f":"+[1]A08!K63+[2]A08!K63+[3]A08!K63+[4]A08!K63+[5]A08!K63+[6]A08!K63+[7]A08!K63+[8]A08!K63+[9]A08!K63+[10]A08!K63+[10]A08!K63+[11]A08!K63+[12]A08!K63","v":0},{"$f":"+[1]A08!L63+[2]A08!L63+[3]A08!L63+[4]A08!L63+[5]A08!L63+[6]A08!L63+[7]A08!L63+[8]A08!L63+[9]A08!L63+[10]A08!L63+[10]A08!L63+[11]A08!L63+[12]A08!L63","v":0},{"$f":"+[1]A08!M63+[2]A08!M63+[3]A08!M63+[4]A08!M63+[5]A08!M63+[6]A08!M63+[7]A08!M63+[8]A08!M63+[9]A08!M63+[10]A08!M63+[10]A08!M63+[11]A08!M63+[12]A08!M63","v":0},{"$f":"+[1]A08!N63+[2]A08!N63+[3]A08!N63+[4]A08!N63+[5]A08!N63+[6]A08!N63+[7]A08!N63+[8]A08!N63+[9]A08!N63+[10]A08!N63+[10]A08!N63+[11]A08!N63+[12]A08!N63","v":0},{"$f":"+[1]A08!O63+[2]A08!O63+[3]A08!O63+[4]A08!O63+[5]A08!O63+[6]A08!O63+[7]A08!O63+[8]A08!O63+[9]A08!O63+[10]A08!O63+[10]A08!O63+[11]A08!O63+[12]A08!O63","v":0},{"$f":"+[1]A08!P63+[2]A08!P63+[3]A08!P63+[4]A08!P63+[5]A08!P63+[6]A08!P63+[7]A08!P63+[8]A08!P63+[9]A08!P63+[10]A08!P63+[10]A08!P63+[11]A08!P63+[12]A08!P63","v":0},{"$f":"+[1]A08!Q63+[2]A08!Q63+[3]A08!Q63+[4]A08!Q63+[5]A08!Q63+[6]A08!Q63+[7]A08!Q63+[8]A08!Q63+[9]A08!Q63+[10]A08!Q63+[10]A08!Q63+[11]A08!Q63+[12]A08!Q63","v":0},{"$f":"+[1]A08!R63+[2]A08!R63+[3]A08!R63+[4]A08!R63+[5]A08!R63+[6]A08!R63+[7]A08!R63+[8]A08!R63+[9]A08!R63+[10]A08!R63+[10]A08!R63+[11]A08!R63+[12]A08!R63","v":0},{"$f":"+[1]A08!S63+[2]A08!S63+[3]A08!S63+[4]A08!S63+[5]A08!S63+[6]A08!S63+[7]A08!S63+[8]A08!S63+[9]A08!S63+[10]A08!S63+[10]A08!S63+[11]A08!S63+[12]A08!S63","v":0},{"$f":"+[1]A08!T63+[2]A08!T63+[3]A08!T63+[4]A08!T63+[5]A08!T63+[6]A08!T63+[7]A08!T63+[8]A08!T63+[9]A08!T63+[10]A08!T63+[10]A08!T63+[11]A08!T63+[12]A08!T63","v":0},{"$f":"+[1]A08!U63+[2]A08!U63+[3]A08!U63+[4]A08!U63+[5]A08!U63+[6]A08!U63+[7]A08!U63+[8]A08!U63+[9]A08!U63+[10]A08!U63+[10]A08!U63+[11]A08!U63+[12]A08!U63","v":0},{"$f":"+[1]A08!V63+[2]A08!V63+[3]A08!V63+[4]A08!V63+[5]A08!V63+[6]A08!V63+[7]A08!V63+[8]A08!V63+[9]A08!V63+[10]A08!V63+[10]A08!V63+[11]A08!V63+[12]A08!V63","v":0},{"$f":"+[1]A08!W63+[2]A08!W63+[3]A08!W63+[4]A08!W63+[5]A08!W63+[6]A08!W63+[7]A08!W63+[8]A08!W63+[9]A08!W63+[10]A08!W63+[10]A08!W63+[11]A08!W63+[12]A08!W63","v":0},{"$f":"+[1]A08!X63+[2]A08!X63+[3]A08!X63+[4]A08!X63+[5]A08!X63+[6]A08!X63+[7]A08!X63+[8]A08!X63+[9]A08!X63+[10]A08!X63+[10]A08!X63+[11]A08!X63+[12]A08!X63","v":0},{"$f":"+[1]A08!Y63+[2]A08!Y63+[3]A08!Y63+[4]A08!Y63+[5]A08!Y63+[6]A08!Y63+[7]A08!Y63+[8]A08!Y63+[9]A08!Y63+[10]A08!Y63+[10]A08!Y63+[11]A08!Y63+[12]A08!Y63","v":0},{"$f":"+[1]A08!Z63+[2]A08!Z63+[3]A08!Z63+[4]A08!Z63+[5]A08!Z63+[6]A08!Z63+[7]A08!Z63+[8]A08!Z63+[9]A08!Z63+[10]A08!Z63+[10]A08!Z63+[11]A08!Z63+[12]A08!Z63","v":0},{"$f":"+[1]A08!AA63+[2]A08!AA63+[3]A08!AA63+[4]A08!AA63+[5]A08!AA63+[6]A08!AA63+[7]A08!AA63+[8]A08!AA63+[9]A08!AA63+[10]A08!AA63+[10]A08!AA63+[11]A08!AA63+[12]A08!AA63","v":0},{"$f":"+[1]A08!AB63+[2]A08!AB63+[3]A08!AB63+[4]A08!AB63+[5]A08!AB63+[6]A08!AB63+[7]A08!AB63+[8]A08!AB63+[9]A08!AB63+[10]A08!AB63+[10]A08!AB63+[11]A08!AB63+[12]A08!AB63","v":0},{"$f":"+[1]A08!AC63+[2]A08!AC63+[3]A08!AC63+[4]A08!AC63+[5]A08!AC63+[6]A08!AC63+[7]A08!AC63+[8]A08!AC63+[9]A08!AC63+[10]A08!AC63+[10]A08!AC63+[11]A08!AC63+[12]A08!AC63","v":0},{"$f":"+[1]A08!AD63+[2]A08!AD63+[3]A08!AD63+[4]A08!AD63+[5]A08!AD63+[6]A08!AD63+[7]A08!AD63+[8]A08!AD63+[9]A08!AD63+[10]A08!AD63+[10]A08!AD63+[11]A08!AD63+[12]A08!AD63","v":0},{"$f":"+[1]A08!AE63+[2]A08!AE63+[3]A08!AE63+[4]A08!AE63+[5]A08!AE63+[6]A08!AE63+[7]A08!AE63+[8]A08!AE63+[9]A08!AE63+[10]A08!AE63+[10]A08!AE63+[11]A08!AE63+[12]A08!AE63","v":0},{"$f":"+[1]A08!AF63+[2]A08!AF63+[3]A08!AF63+[4]A08!AF63+[5]A08!AF63+[6]A08!AF63+[7]A08!AF63+[8]A08!AF63+[9]A08!AF63+[10]A08!AF63+[10]A08!AF63+[11]A08!AF63+[12]A08!AF63","v":0},{"$f":"+[1]A08!AG63+[2]A08!AG63+[3]A08!AG63+[4]A08!AG63+[5]A08!AG63+[6]A08!AG63+[7]A08!AG63+[8]A08!AG63+[9]A08!AG63+[10]A08!AG63+[10]A08!AG63+[11]A08!AG63+[12]A08!AG63","v":0},{"$f":"+[1]A08!AH63+[2]A08!AH63+[3]A08!AH63+[4]A08!AH63+[5]A08!AH63+[6]A08!AH63+[7]A08!AH63+[8]A08!AH63+[9]A08!AH63+[10]A08!AH63+[10]A08!AH63+[11]A08!AH63+[12]A08!AH63","v":0},{"$f":"+[1]A08!AI63+[2]A08!AI63+[3]A08!AI63+[4]A08!AI63+[5]A08!AI63+[6]A08!AI63+[7]A08!AI63+[8]A08!AI63+[9]A08!AI63+[10]A08!AI63+[10]A08!AI63+[11]A08!AI63+[12]A08!AI63","v":0},{"$f":"+[1]A08!AJ63+[2]A08!AJ63+[3]A08!AJ63+[4]A08!AJ63+[5]A08!AJ63+[6]A08!AJ63+[7]A08!AJ63+[8]A08!AJ63+[9]A08!AJ63+[10]A08!AJ63+[10]A08!AJ63+[11]A08!AJ63+[12]A08!AJ63","v":0},{"$f":"+[1]A08!AK63+[2]A08!AK63+[3]A08!AK63+[4]A08!AK63+[5]A08!AK63+[6]A08!AK63+[7]A08!AK63+[8]A08!AK63+[9]A08!AK63+[10]A08!AK63+[10]A08!AK63+[11]A08!AK63+[12]A08!AK63","v":0},{"$f":"+[1]A08!AL63+[2]A08!AL63+[3]A08!AL63+[4]A08!AL63+[5]A08!AL63+[6]A08!AL63+[7]A08!AL63+[8]A08!AL63+[9]A08!AL63+[10]A08!AL63+[10]A08!AL63+[11]A08!AL63+[12]A08!AL63","v":0},null,null,null,null,null,null,null,null,null,null,null,null,null,null,null,null,null,null,null,null,null,null,null,null,null,null,null,null,null,null,null,null,null,null,null,null,null,null,null,null,null,null,null,null,null,null,0]
["TOTAL",{"$f":"SUM(B58:B63)","v":0},0,0,0,0,0,0,0,0,0,0,0,0,0,0,0,0,0,0,0,0,0,0,0,0,0,0,0,0,0,0,0,0,0,0,0,0,{"$f":"SUM(AM58:AM62)","v":0},{"$f":"SUM(AN58:AN62)","v":0}]
["SECCIÓN C: ATENCIONES REALIZADAS POR MÉDICOS ESPECIALISTAS EN LAS UNIDADES DE URGENCIA HOSPITALARIA"]
["ESPECIALIDADES","TOTAL        ","DE TURNO","CONSULTOR LLAMADA","OTROS",null,null,null,null,null,null,null,null," "]
["MEDICINA INTERNA",{"$f":"SUM(C67:E67)","v":0},{"$f":"+[1]A08!C67+[2]A08!C67+[3]A08!C67+[4]A08!C67+[5]A08!C67+[6]A08!C67+[7]A08!C67+[8]A08!C67+[9]A08!C67+[10]A08!C67+[10]A08!C67+[11]A08!C67+[12]A08!C67","v":0},{"$f":"+[1]A08!D67+[2]A08!D67+[3]A08!D67+[4]A08!D67+[5]A08!D67+[6]A08!D67+[7]A08!D67+[8]A08!D67+[9]A08!D67+[10]A08!D67+[10]A08!D67+[11]A08!D67+[12]A08!D67","v":0},{"$f":"+[1]A08!E67+[2]A08!E67+[3]A08!E67+[4]A08!E67+[5]A08!E67+[6]A08!E67+[7]A08!E67+[8]A08!E67+[9]A08!E67+[10]A08!E67+[10]A08!E67+[11]A08!E67+[12]A08!E67","v":0}]
["NEUROLOGÍA ADULTOS",0,{"$f":"+[1]A08!C68+[2]A08!C68+[3]A08!C68+[4]A08!C68+[5]A08!C68+[6]A08!C68+[7]A08!C68+[8]A08!C68+[9]A08!C68+[10]A08!C68+[10]A08!C68+[11]A08!C68+[12]A08!C68","v":0},{"$f":"+[1]A08!D68+[2]A08!D68+[3]A08!D68+[4]A08!D68+[5]A08!D68+[6]A08!D68+[7]A08!D68+[8]A08!D68+[9]A08!D68+[10]A08!D68+[10]A08!D68+[11]A08!D68+[12]A08!D68","v":0},{"$f":"+[1]A08!E68+[2]A08!E68+[3]A08!E68+[4]A08!E68+[5]A08!E68+[6]A08!E68+[7]A08!E68+[8]A08!E68+[9]A08!E68+[10]A08!E68+[10]A08!E68+[11]A08!E68+[12]A08!E68","v":0}]
["NEUROLOGÍA PEDIÁTRICA",0,{"$f":"+[1]A08!C69+[2]A08!C69+[3]A08!C69+[4]A08!C69+[5]A08!C69+[6]A08!C69+[7]A08!C69+[8]A08!C69+[9]A08!C69+[10]A08!C69+[10]A08!C69+[11]A08!C69+[12]A08!C69","v":0},{"$f":"+[1]A08!D69+[2]A08!D69+[3]A08!D69+[4]A08!D69+[5]A08!D69+[6]A08!D69+[7]A08!D69+[8]A08!D69+[9]A08!D69+[10]A08!D69+[10]A08!D69+[11]A08!D69+[12]A08!D69","v":0},{"$f":"+[1]A08!E69+[2]A08!E69+[3]A08!E69+[4]A08!E69+[5]A08!E69+[6]A08!E69+[7]A08!E69+[8]A08!E69+[9]A08!E69+[10]A08!E69+[10]A08!E69+[11]A08!E69+[12]A08!E69","v":0}]
["OBSTETRICIA Y GINECOLOGÍA",0,{"$f":"+[1]A08!C70+[2]A08!C70+[3]A08!C70+[4]A08!C70+[5]A08!C70+[6]A08!C70+[7]A08!C70+[8]A08!C70+[9]A08!C70+[10]A08!C70+[10]A08!C70+[11]A08!C70+[12]A08!C70","v":0},{"$f":"+[1]A08!D70+[2]A08!D70+[3]A08!D70+[4]A08!D70+[5]A08!D70+[6]A08!D70+[7]A08!D70+[8]A08!D70+[9]A08!D70+[10]A08!D70+[10]A08!D70+[11]A08!D70+[12]A08!D70","v":0},{"$f":"+[1]A08!E70+[2]A08!E70+[3]A08!E70+[4]A08!E70+[5]A08!E70+[6]A08!E70+[7]A08!E70+[8]A08!E70+[9]A08!E70+[10]A08!E70+[10]A08!E70+[11]A08!E70+[12]A08!E70","v":0}]
["OFTALMOLOGÍA",0,{"$f":"+[1]A08!C71+[2]A08!C71+[3]A08!C71+[4]A08!C71+[5]A08!C71+[6]A08!C71+[7]A08!C71+[8]A08!C71+[9]A08!C71+[10]A08!C71+[10]A08!C71+[11]A08!C71+[12]A08!C71","v":0},{"$f":"+[1]A08!D71+[2]A08!D71+[3]A08!D71+[4]A08!D71+[5]A08!D71+[6]A08!D71+[7]A08!D71+[8]A08!D71+[9]A08!D71+[10]A08!D71+[10]A08!D71+[11]A08!D71+[12]A08!D71","v":0},{"$f":"+[1]A08!E71+[2]A08!E71+[3]A08!E71+[4]A08!E71+[5]A08!E71+[6]A08!E71+[7]A08!E71+[8]A08!E71+[9]A08!E71+[10]A08!E71+[10]A08!E71+[11]A08!E71+[12]A08!E71","v":0}]
["OTORRINOLARINGOLOGÍA",0,{"$f":"+[1]A08!C72+[2]A08!C72+[3]A08!C72+[4]A08!C72+[5]A08!C72+[6]A08!C72+[7]A08!C72+[8]A08!C72+[9]A08!C72+[10]A08!C72+[10]A08!C72+[11]A08!C72+[12]A08!C72","v":0},{"$f":"+[1]A08!D72+[2]A08!D72+[3]A08!D72+[4]A08!D72+[5]A08!D72+[6]A08!D72+[7]A08!D72+[8]A08!D72+[9]A08!D72+[10]A08!D72+[10]A08!D72+[11]A08!D72+[12]A08!D72","v":0},{"$f":"+[1]A08!E72+[2]A08!E72+[3]A08!E72+[4]A08!E72+[5]A08!E72+[6]A08!E72+[7]A08!E72+[8]A08!E72+[9]A08!E72+[10]A08!E72+[10]A08!E72+[11]A08!E72+[12]A08!E72","v":0}]
["PEDIATRÍA",0,{"$f":"+[1]A08!C73+[2]A08!C73+[3]A08!C73+[4]A08!C73+[5]A08!C73+[6]A08!C73+[7]A08!C73+[8]A08!C73+[9]A08!C73+[10]A08!C73+[10]A08!C73+[11]A08!C73+[12]A08!C73","v":0},{"$f":"+[1]A08!D73+[2]A08!D73+[3]A08!D73+[4]A08!D73+[5]A08!D73+[6]A08!D73+[7]A08!D73+[8]A08!D73+[9]A08!D73+[10]A08!D73+[10]A08!D73+[11]A08!D73+[12]A08!D73","v":0},{"$f":"+[1]A08!E73+[2]A08!E73+[3]A08!E73+[4]A08!E73+[5]A08!E73+[6]A08!E73+[7]A08!E73+[8]A08!E73+[9]A08!E73+[10]A08!E73+[10]A08!E73+[11]A08!E73+[12]A08!E73","v":0}]
["TRAUMATOLOGÍA Y ORTOPEDIA",0,{"$f":"+[1]A08!C74+[2]A08!C74+[3]A08!C74+[4]A08!C74+[5]A08!C74+[6]A08!C74+[7]A08!C74+[8]A08!C74+[9]A08!C74+[10]A08!C74+[10]A08!C74+[11]A08!C74+[12]A08!C74","v":0},{"$f":"+[1]A08!D74+[2]A08!D74+[3]A08!D74+[4]A08!D74+[5]A08!D74+[6]A08!D74+[7]A08!D74+[8]A08!D74+[9]A08!D74+[10]A08!D74+[10]A08!D74+[11]A08!D74+[12]A08!D74","v":0},{"$f":"+[1]A08!E74+[2]A08!E74+[3]A08!E74+[4]A08!E74+[5]A08!E74+[6]A08!E74+[7]A08!E74+[8]A08!E74+[9]A08!E74+[10]A08!E74+[10]A08!E74+[11]A08!E74+[12]A08!E74","v":0}]
["NEUROCIRUGÍA",0,{"$f":"+[1]A08!C75+[2]A08!C75+[3]A08!C75+[4]A08!C75+[5]A08!C75+[6]A08!C75+[7]A08!C75+[8]A08!C75+[9]A08!C75+[10]A08!C75+[10]A08!C75+[11]A08!C75+[12]A08!C75","v":0},{"$f":"+[1]A08!D75+[2]A08!D75+[3]A08!D75+[4]A08!D75+[5]A08!D75+[6]A08!D75+[7]A08!D75+[8]A08!D75+[9]A08!D75+[10]A08!D75+[10]A08!D75+[11]A08!D75+[12]A08!D75","v":0},{"$f":"+[1]A08!E75+[2]A08!E75+[3]A08!E75+[4]A08!E75+[5]A08!E75+[6]A08!E75+[7]A08!E75+[8]A08!E75+[9]A08!E75+[10]A08!E75+[10]A08!E75+[11]A08!E75+[12]A08!E75","v":0}]
["PSIQUIATRÍA ADULTOS",0,{"$f":"+[1]A08!C76+[2]A08!C76+[3]A08!C76+[4]A08!C76+[5]A08!C76+[6]A08!C76+[7]A08!C76+[8]A08!C76+[9]A08!C76+[10]A08!C76+[10]A08!C76+[11]A08!C76+[12]A08!C76","v":0},{"$f":"+[1]A08!D76+[2]A08!D76+[3]A08!D76+[4]A08!D76+[5]A08!D76+[6]A08!D76+[7]A08!D76+[8]A08!D76+[9]A08!D76+[10]A08!D76+[10]A08!D76+[11]A08!D76+[12]A08!D76","v":0},{"$f":"+[1]A08!E76+[2]A08!E76+[3]A08!E76+[4]A08!E76+[5]A08!E76+[6]A08!E76+[7]A08!E76+[8]A08!E76+[9]A08!E76+[10]A08!E76+[10]A08!E76+[11]A08!E76+[12]A08!E76","v":0}]
["PSIQUIATRÍA PEDIÁTRICA  Y ADOLESCENTES",0,{"$f":"+[1]A08!C77+[2]A08!C77+[3]A08!C77+[4]A08!C77+[5]A08!C77+[6]A08!C77+[7]A08!C77+[8]A08!C77+[9]A08!C77+[10]A08!C77+[10]A08!C77+[11]A08!C77+[12]A08!C77","v":0},{"$f":"+[1]A08!D77+[2]A08!D77+[3]A08!D77+[4]A08!D77+[5]A08!D77+[6]A08!D77+[7]A08!D77+[8]A08!D77+[9]A08!D77+[10]A08!D77+[10]A08!D77+[11]A08!D77+[12]A08!D77","v":0},{"$f":"+[1]A08!E77+[2]A08!E77+[3]A08!E77+[4]A08!E77+[5]A08!E77+[6]A08!E77+[7]A08!E77+[8]A08!E77+[9]A08!E77+[10]A08!E77+[10]A08!E77+[11]A08!E77+[12]A08!E77","v":0}]
["UROLOGÍA",0,{"$f":"+[1]A08!C78+[2]A08!C78+[3]A08!C78+[4]A08!C78+[5]A08!C78+[6]A08!C78+[7]A08!C78+[8]A08!C78+[9]A08!C78+[10]A08!C78+[10]A08!C78+[11]A08!C78+[12]A08!C78","v":0},{"$f":"+[1]A08!D78+[2]A08!D78+[3]A08!D78+[4]A08!D78+[5]A08!D78+[6]A08!D78+[7]A08!D78+[8]A08!D78+[9]A08!D78+[10]A08!D78+[10]A08!D78+[11]A08!D78+[12]A08!D78","v":0},{"$f":"+[1]A08!E78+[2]A08!E78+[3]A08!E78+[4]A08!E78+[5]A08!E78+[6]A08!E78+[7]A08!E78+[8]A08!E78+[9]A08!E78+[10]A08!E78+[10]A08!E78+[11]A08!E78+[12]A08!E78","v":0}]
["URGENCIÓLOGO",0,{"$f":"+[1]A08!C79+[2]A08!C79+[3]A08!C79+[4]A08!C79+[5]A08!C79+[6]A08!C79+[7]A08!C79+[8]A08!C79+[9]A08!C79+[10]A08!C79+[10]A08!C79+[11]A08!C79+[12]A08!C79","v":0},{"$f":"+[1]A08!D79+[2]A08!D79+[3]A08!D79+[4]A08!D79+[5]A08!D79+[6]A08!D79+[7]A08!D79+[8]A08!D79+[9]A08!D79+[10]A08!D79+[10]A08!D79+[11]A08!D79+[12]A08!D79","v":0},{"$f":"+[1]A08!E79+[2]A08!E79+[3]A08!E79+[4]A08!E79+[5]A08!E79+[6]A08!E79+[7]A08!E79+[8]A08!E79+[9]A08!E79+[10]A08!E79+[10]A08!E79+[11]A08!E79+[12]A08!E79","v":0}]
["CIRUGÍA VASCULAR PERIFÉRICA",0,{"$f":"+[1]A08!C80+[2]A08!C80+[3]A08!C80+[4]A08!C80+[5]A08!C80+[6]A08!C80+[7]A08!C80+[8]A08!C80+[9]A08!C80+[10]A08!C80+[10]A08!C80+[11]A08!C80+[12]A08!C80","v":0},{"$f":"+[1]A08!D80+[2]A08!D80+[3]A08!D80+[4]A08!D80+[5]A08!D80+[6]A08!D80+[7]A08!D80+[8]A08!D80+[9]A08!D80+[10]A08!D80+[10]A08!D80+[11]A08!D80+[12]A08!D80","v":0},{"$f":"+[1]A08!E80+[2]A08!E80+[3]A08!E80+[4]A08!E80+[5]A08!E80+[6]A08!E80+[7]A08!E80+[8]A08!E80+[9]A08!E80+[10]A08!E80+[10]A08!E80+[11]A08!E80+[12]A08!E80","v":0}]
["CIRUGÍA GENERAL",0,{"$f":"+[1]A08!C81+[2]A08!C81+[3]A08!C81+[4]A08!C81+[5]A08!C81+[6]A08!C81+[7]A08!C81+[8]A08!C81+[9]A08!C81+[10]A08!C81+[10]A08!C81+[11]A08!C81+[12]A08!C81","v":0},{"$f":"+[1]A08!D81+[2]A08!D81+[3]A08!D81+[4]A08!D81+[5]A08!D81+[6]A08!D81+[7]A08!D81+[8]A08!D81+[9]A08!D81+[10]A08!D81+[10]A08!D81+[11]A08!D81+[12]A08!D81","v":0},{"$f":"+[1]A08!E81+[2]A08!E81+[3]A08!E81+[4]A08!E81+[5]A08!E81+[6]A08!E81+[7]A08!E81+[8]A08!E81+[9]A08!E81+[10]A08!E81+[10]A08!E81+[11]A08!E81+[12]A08!E81","v":0}]
["CIRUGÍA PEDIÁTRICA",0,{"$f":"+[1]A08!C82+[2]A08!C82+[3]A08!C82+[4]A08!C82+[5]A08!C82+[6]A08!C82+[7]A08!C82+[8]A08!C82+[9]A08!C82+[10]A08!C82+[10]A08!C82+[11]A08!C82+[12]A08!C82","v":0},{"$f":"+[1]A08!D82+[2]A08!D82+[3]A08!D82+[4]A08!D82+[5]A08!D82+[6]A08!D82+[7]A08!D82+[8]A08!D82+[9]A08!D82+[10]A08!D82+[10]A08!D82+[11]A08!D82+[12]A08!D82","v":0},{"$f":"+[1]A08!E82+[2]A08!E82+[3]A08!E82+[4]A08!E82+[5]A08!E82+[6]A08!E82+[7]A08!E82+[8]A08!E82+[9]A08!E82+[10]A08!E82+[10]A08!E82+[11]A08!E82+[12]A08!E82","v":0}]
["CARDIOLOGÍA",0,{"$f":"+[1]A08!C83+[2]A08!C83+[3]A08!C83+[4]A08!C83+[5]A08!C83+[6]A08!C83+[7]A08!C83+[8]A08!C83+[9]A08!C83+[10]A08!C83+[10]A08!C83+[11]A08!C83+[12]A08!C83","v":0},{"$f":"+[1]A08!D83+[2]A08!D83+[3]A08!D83+[4]A08!D83+[5]A08!D83+[6]A08!D83+[7]A08!D83+[8]A08!D83+[9]A08!D83+[10]A08!D83+[10]A08!D83+[11]A08!D83+[12]A08!D83","v":0},{"$f":"+[1]A08!E83+[2]A08!E83+[3]A08!E83+[4]A08!E83+[5]A08!E83+[6]A08!E83+[7]A08!E83+[8]A08!E83+[9]A08!E83+[10]A08!E83+[10]A08!E83+[11]A08!E83+[12]A08!E83","v":0}]
["ANESTESIOLOGÍA",0,{"$f":"+[1]A08!C84+[2]A08!C84+[3]A08!C84+[4]A08!C84+[5]A08!C84+[6]A08!C84+[7]A08!C84+[8]A08!C84+[9]A08!C84+[10]A08!C84+[10]A08!C84+[11]A08!C84+[12]A08!C84","v":0},{"$f":"+[1]A08!D84+[2]A08!D84+[3]A08!D84+[4]A08!D84+[5]A08!D84+[6]A08!D84+[7]A08!D84+[8]A08!D84+[9]A08!D84+[10]A08!D84+[10]A08!D84+[11]A08!D84+[12]A08!D84","v":0},{"$f":"+[1]A08!E84+[2]A08!E84+[3]A08!E84+[4]A08!E84+[5]A08!E84+[6]A08!E84+[7]A08!E84+[8]A08!E84+[9]A08!E84+[10]A08!E84+[10]A08!E84+[11]A08!E84+[12]A08!E84","v":0}]
["CIRUGÍA DE CABEZA, CUELLO Y MAXILOFACIAL",0,{"$f":"+[1]A08!C85+[2]A08!C85+[3]A08!C85+[4]A08!C85+[5]A08!C85+[6]A08!C85+[7]A08!C85+[8]A08!C85+[9]A08!C85+[10]A08!C85+[10]A08!C85+[11]A08!C85+[12]A08!C85","v":0},{"$f":"+[1]A08!D85+[2]A08!D85+[3]A08!D85+[4]A08!D85+[5]A08!D85+[6]A08!D85+[7]A08!D85+[8]A08!D85+[9]A08!D85+[10]A08!D85+[10]A08!D85+[11]A08!D85+[12]A08!D85","v":0},{"$f":"+[1]A08!E85+[2]A08!E85+[3]A08!E85+[4]A08!E85+[5]A08!E85+[6]A08!E85+[7]A08!E85+[8]A08!E85+[9]A08!E85+[10]A08!E85+[10]A08!E85+[11]A08!E85+[12]A08!E85","v":0}]
["TOTAL",{"$f":"SUM(B67:B85)","v":0},{"$f":"SUM(C67:C85)","v":0},{"$f":"SUM(D67:D85)","v":0},{"$f":"SUM(E67:E85)","v":0}]
["SECCIÓN D: PACIENTES CON INDICACIÓN DE HOSPITALIZACIÓN EN ESPERA DE CAMAS EN UEH"]
["TIPO DE PACIENTES",null,"TOTAL        ",null,null,"GRUPOS DE EDAD (en años)",null,null,null,null,null,null,null,null,null,null,null,null,null,null,null,null,null,null,null,null,null,null,null,null,null,null,null,null,null,null,null,null,null,"Beneficiarios","Hospitalización Domiciliaria"]
[null,null,null,null,null,"0 - 4",null,"5 - 9",null,"10 - 14",null,"15 - 19",null,"20 - 24",null,"25 - 29",null,"30 - 34",null,"35 - 39",null,"40 - 44",null,"45 - 49",null,"50 - 54",null,"55 - 59",null,"60 - 64",null,"65 - 69",null,"70 - 74",null,"75 - 79",null,"80 y mas"]
[null,null,"Ambos Sexos","Hombres ","Mujeres","Hombres ","Mujeres","Hombres ","Mujeres","Hombres ","Mujeres","Hombres ","Mujeres","Hombres ","Mujeres","Hombres ","Mujeres","Hombres ","Mujeres","Hombres ","Mujeres","Hombres ","Mujeres","Hombres ","Mujeres","Hombres ","Mujeres","Hombres ","Mujeres","Hombres ","Mujeres","Hombres ","Mujeres","Hombres ","Mujeres","Hombres ","Mujeres","Hombres ","Mujeres"]
["TOTAL DE PACIENTES CON INDICACIÓN DE HOSPITALIZACIÓN",null,{"$f":"SUM(C92:C98)","v":0},{"$f":"SUM(D92:D98)","v":0},{"$f":"SUM(E92:E98)","v":0},0,0,0,0,0,0,0,0,0,0,0,0,0,0,0,0,0,0,0,0,0,0,0,0,0,0,0,0,0,0,0,0,0,0,0,{"$f":"SUM(AO92:AO94)","v":0},null,null,null,null,null,null,null,null,null,null,null,null,null,null,null,null,null,null,null,null,null,null,null,null,null,null,null,null,null,null,null,null,null,null,null,null,null,null,null,null,null,null,null,0,0]
["PACIENTES QUE INGRESAN A CAMA HOSPITALARIA SEGÚN TIEMPO DE DEMORA AL INGRESO                               ","MENOS DE 12 HORAS",{"$f":"SUM(D92+E92)","v":0},{"$f":"SUM(F92+H92+J92+L92+N92+P92+R92+T92+V92+X92+Z92+AB92+AD92+AF92+AH92+AJ92+AL92)","v":0},{"$f":"SUM(G92+I92+K92+M92+O92+Q92+S92+U92+W92+Y92+AA92+AC92+AE92+AG92+AI92+AK92+AM92)","v":0},{"$f":"+[1]A08!F92+[2]A08!F92+[3]A08!F92+[4]A08!F92+[5]A08!F92+[6]A08!F92+[7]A08!F92+[8]A08!F92+[9]A08!F92+[10]A08!F92+[10]A08!F92+[11]A08!F92+[12]A08!F92","v":0},{"$f":"+[1]A08!G92+[2]A08!G92+[3]A08!G92+[4]A08!G92+[5]A08!G92+[6]A08!G92+[7]A08!G92+[8]A08!G92+[9]A08!G92+[10]A08!G92+[10]A08!G92+[11]A08!G92+[12]A08!G92","v":0},{"$f":"+[1]A08!H92+[2]A08!H92+[3]A08!H92+[4]A08!H92+[5]A08!H92+[6]A08!H92+[7]A08!H92+[8]A08!H92+[9]A08!H92+[10]A08!H92+[10]A08!H92+[11]A08!H92+[12]A08!H92","v":0},{"$f":"+[1]A08!I92+[2]A08!I92+[3]A08!I92+[4]A08!I92+[5]A08!I92+[6]A08!I92+[7]A08!I92+[8]A08!I92+[9]A08!I92+[10]A08!I92+[10]A08!I92+[11]A08!I92+[12]A08!I92","v":0},{"$f":"+[1]A08!J92+[2]A08!J92+[3]A08!J92+[4]A08!J92+[5]A08!J92+[6]A08!J92+[7]A08!J92+[8]A08!J92+[9]A08!J92+[10]A08!J92+[10]A08!J92+[11]A08!J92+[12]A08!J92","v":0},{"$f":"+[1]A08!K92+[2]A08!K92+[3]A08!K92+[4]A08!K92+[5]A08!K92+[6]A08!K92+[7]A08!K92+[8]A08!K92+[9]A08!K92+[10]A08!K92+[10]A08!K92+[11]A08!K92+[12]A08!K92","v":0},{"$f":"+[1]A08!L92+[2]A08!L92+[3]A08!L92+[4]A08!L92+[5]A08!L92+[6]A08!L92+[7]A08!L92+[8]A08!L92+[9]A08!L92+[10]A08!L92+[10]A08!L92+[11]A08!L92+[12]A08!L92","v":0},{"$f":"+[1]A08!M92+[2]A08!M92+[3]A08!M92+[4]A08!M92+[5]A08!M92+[6]A08!M92+[7]A08!M92+[8]A08!M92+[9]A08!M92+[10]A08!M92+[10]A08!M92+[11]A08!M92+[12]A08!M92","v":0},{"$f":"+[1]A08!N92+[2]A08!N92+[3]A08!N92+[4]A08!N92+[5]A08!N92+[6]A08!N92+[7]A08!N92+[8]A08!N92+[9]A08!N92+[10]A08!N92+[10]A08!N92+[11]A08!N92+[12]A08!N92","v":0},{"$f":"+[1]A08!O92+[2]A08!O92+[3]A08!O92+[4]A08!O92+[5]A08!O92+[6]A08!O92+[7]A08!O92+[8]A08!O92+[9]A08!O92+[10]A08!O92+[10]A08!O92+[11]A08!O92+[12]A08!O92","v":0},{"$f":"+[1]A08!P92+[2]A08!P92+[3]A08!P92+[4]A08!P92+[5]A08!P92+[6]A08!P92+[7]A08!P92+[8]A08!P92+[9]A08!P92+[10]A08!P92+[10]A08!P92+[11]A08!P92+[12]A08!P92","v":0},{"$f":"+[1]A08!Q92+[2]A08!Q92+[3]A08!Q92+[4]A08!Q92+[5]A08!Q92+[6]A08!Q92+[7]A08!Q92+[8]A08!Q92+[9]A08!Q92+[10]A08!Q92+[10]A08!Q92+[11]A08!Q92+[12]A08!Q92","v":0},{"$f":"+[1]A08!R92+[2]A08!R92+[3]A08!R92+[4]A08!R92+[5]A08!R92+[6]A08!R92+[7]A08!R92+[8]A08!R92+[9]A08!R92+[10]A08!R92+[10]A08!R92+[11]A08!R92+[12]A08!R92","v":0},{"$f":"+[1]A08!S92+[2]A08!S92+[3]A08!S92+[4]A08!S92+[5]A08!S92+[6]A08!S92+[7]A08!S92+[8]A08!S92+[9]A08!S92+[10]A08!S92+[10]A08!S92+[11]A08!S92+[12]A08!S92","v":0},{"$f":"+[1]A08!T92+[2]A08!T92+[3]A08!T92+[4]A08!T92+[5]A08!T92+[6]A08!T92+[7]A08!T92+[8]A08!T92+[9]A08!T92+[10]A08!T92+[10]A08!T92+[11]A08!T92+[12]A08!T92","v":0},{"$f":"+[1]A08!U92+[2]A08!U92+[3]A08!U92+[4]A08!U92+[5]A08!U92+[6]A08!U92+[7]A08!U92+[8]A08!U92+[9]A08!U92+[10]A08!U92+[10]A08!U92+[11]A08!U92+[12]A08!U92","v":0},{"$f":"+[1]A08!V92+[2]A08!V92+[3]A08!V92+[4]A08!V92+[5]A08!V92+[6]A08!V92+[7]A08!V92+[8]A08!V92+[9]A08!V92+[10]A08!V92+[10]A08!V92+[11]A08!V92+[12]A08!V92","v":0},{"$f":"+[1]A08!W92+[2]A08!W92+[3]A08!W92+[4]A08!W92+[5]A08!W92+[6]A08!W92+[7]A08!W92+[8]A08!W92+[9]A08!W92+[10]A08!W92+[10]A08!W92+[11]A08!W92+[12]A08!W92","v":0},{"$f":"+[1]A08!X92+[2]A08!X92+[3]A08!X92+[4]A08!X92+[5]A08!X92+[6]A08!X92+[7]A08!X92+[8]A08!X92+[9]A08!X92+[10]A08!X92+[10]A08!X92+[11]A08!X92+[12]A08!X92","v":0},{"$f":"+[1]A08!Y92+[2]A08!Y92+[3]A08!Y92+[4]A08!Y92+[5]A08!Y92+[6]A08!Y92+[7]A08!Y92+[8]A08!Y92+[9]A08!Y92+[10]A08!Y92+[10]A08!Y92+[11]A08!Y92+[12]A08!Y92","v":0},{"$f":"+[1]A08!Z92+[2]A08!Z92+[3]A08!Z92+[4]A08!Z92+[5]A08!Z92+[6]A08!Z92+[7]A08!Z92+[8]A08!Z92+[9]A08!Z92+[10]A08!Z92+[10]A08!Z92+[11]A08!Z92+[12]A08!Z92","v":0},{"$f":"+[1]A08!AA92+[2]A08!AA92+[3]A08!AA92+[4]A08!AA92+[5]A08!AA92+[6]A08!AA92+[7]A08!AA92+[8]A08!AA92+[9]A08!AA92+[10]A08!AA92+[10]A08!AA92+[11]A08!AA92+[12]A08!AA92","v":0},{"$f":"+[1]A08!AB92+[2]A08!AB92+[3]A08!AB92+[4]A08!AB92+[5]A08!AB92+[6]A08!AB92+[7]A08!AB92+[8]A08!AB92+[9]A08!AB92+[10]A08!AB92+[10]A08!AB92+[11]A08!AB92+[12]A08!AB92","v":0},{"$f":"+[1]A08!AC92+[2]A08!AC92+[3]A08!AC92+[4]A08!AC92+[5]A08!AC92+[6]A08!AC92+[7]A08!AC92+[8]A08!AC92+[9]A08!AC92+[10]A08!AC92+[10]A08!AC92+[11]A08!AC92+[12]A08!AC92","v":0},{"$f":"+[1]A08!AD92+[2]A08!AD92+[3]A08!AD92+[4]A08!AD92+[5]A08!AD92+[6]A08!AD92+[7]A08!AD92+[8]A08!AD92+[9]A08!AD92+[10]A08!AD92+[10]A08!AD92+[11]A08!AD92+[12]A08!AD92","v":0},{"$f":"+[1]A08!AE92+[2]A08!AE92+[3]A08!AE92+[4]A08!AE92+[5]A08!AE92+[6]A08!AE92+[7]A08!AE92+[8]A08!AE92+[9]A08!AE92+[10]A08!AE92+[10]A08!AE92+[11]A08!AE92+[12]A08!AE92","v":0},{"$f":"+[1]A08!AF92+[2]A08!AF92+[3]A08!AF92+[4]A08!AF92+[5]A08!AF92+[6]A08!AF92+[7]A08!AF92+[8]A08!AF92+[9]A08!AF92+[10]A08!AF92+[10]A08!AF92+[11]A08!AF92+[12]A08!AF92","v":0},{"$f":"+[1]A08!AG92+[2]A08!AG92+[3]A08!AG92+[4]A08!AG92+[5]A08!AG92+[6]A08!AG92+[7]A08!AG92+[8]A08!AG92+[9]A08!AG92+[10]A08!AG92+[10]A08!AG92+[11]A08!AG92+[12]A08!AG92","v":0},{"$f":"+[1]A08!AH92+[2]A08!AH92+[3]A08!AH92+[4]A08!AH92+[5]A08!AH92+[6]A08!AH92+[7]A08!AH92+[8]A08!AH92+[9]A08!AH92+[10]A08!AH92+[10]A08!AH92+[11]A08!AH92+[12]A08!AH92","v":0},{"$f":"+[1]A08!AI92+[2]A08!AI92+[3]A08!AI92+[4]A08!AI92+[5]A08!AI92+[6]A08!AI92+[7]A08!AI92+[8]A08!AI92+[9]A08!AI92+[10]A08!AI92+[10]A08!AI92+[11]A08!AI92+[12]A08!AI92","v":0},{"$f":"+[1]A08!AJ92+[2]A08!AJ92+[3]A08!AJ92+[4]A08!AJ92+[5]A08!AJ92+[6]A08!AJ92+[7]A08!AJ92+[8]A08!AJ92+[9]A08!AJ92+[10]A08!AJ92+[10]A08!AJ92+[11]A08!AJ92+[12]A08!AJ92","v":0},{"$f":"+[1]A08!AK92+[2]A08!AK92+[3]A08!AK92+[4]A08!AK92+[5]A08!AK92+[6]A08!AK92+[7]A08!AK92+[8]A08!AK92+[9]A08!AK92+[10]A08!AK92+[10]A08!AK92+[11]A08!AK92+[12]A08!AK92","v":0},{"$f":"+[1]A08!AL92+[2]A08!AL92+[3]A08!AL92+[4]A08!AL92+[5]A08!AL92+[6]A08!AL92+[7]A08!AL92+[8]A08!AL92+[9]A08!AL92+[10]A08!AL92+[10]A08!AL92+[11]A08!AL92+[12]A08!AL92","v":0},{"$f":"+[1]A08!AM92+[2]A08!AM92+[3]A08!AM92+[4]A08!AM92+[5]A08!AM92+[6]A08!AM92+[7]A08!AM92+[8]A08!AM92+[9]A08!AM92+[10]A08!AM92+[10]A08!AM92+[11]A08!AM92+[12]A08!AM92","v":0},{"$f":"+[1]A08!AN92+[2]A08!AN92+[3]A08!AN92+[4]A08!AN92+[5]A08!AN92+[6]A08!AN92+[7]A08!AN92+[8]A08!AN92+[9]A08!AN92+[10]A08!AN92+[10]A08!AN92+[11]A08!AN92+[12]A08!AN92","v":0},{"$f":"+[1]A08!AO92+[2]A08!AO92+[3]A08!AO92+[4]A08!AO92+[5]A08!AO92+[6]A08!AO92+[7]A08!AO92+[8]A08!AO92+[9]A08!AO92+[10]A08!AO92+[10]A08!AO92+[11]A08!AO92+[12]A08!AO92","v":0},null,null,null,null,null,null,null,null,null,null,null,null,null,null,null,null,null,null,null,null,null,null,null,null,null,null,null,null,null,null,null,null,null,null,null,null,null,null,null,null,null,null,null,0,0,0,0]
[null,"12-24 HORAS",0,{"$f":"SUM(F93+H93+J93+L93+N93+P93+R93+T93+V93+X93+Z93+AB93+AD93+AF93+AH93+AJ93+AL93)","v":0},{"$f":"SUM(G93+I93+K93+M93+O93+Q93+S93+U93+W93+Y93+AA93+AC93+AE93+AG93+AI93+AK93+AM93)","v":0},{"$f":"+[1]A08!F93+[2]A08!F93+[3]A08!F93+[4]A08!F93+[5]A08!F93+[6]A08!F93+[7]A08!F93+[8]A08!F93+[9]A08!F93+[10]A08!F93+[10]A08!F93+[11]A08!F93+[12]A08!F93","v":0},{"$f":"+[1]A08!G93+[2]A08!G93+[3]A08!G93+[4]A08!G93+[5]A08!G93+[6]A08!G93+[7]A08!G93+[8]A08!G93+[9]A08!G93+[10]A08!G93+[10]A08!G93+[11]A08!G93+[12]A08!G93","v":0},{"$f":"+[1]A08!H93+[2]A08!H93+[3]A08!H93+[4]A08!H93+[5]A08!H93+[6]A08!H93+[7]A08!H93+[8]A08!H93+[9]A08!H93+[10]A08!H93+[10]A08!H93+[11]A08!H93+[12]A08!H93","v":0},{"$f":"+[1]A08!I93+[2]A08!I93+[3]A08!I93+[4]A08!I93+[5]A08!I93+[6]A08!I93+[7]A08!I93+[8]A08!I93+[9]A08!I93+[10]A08!I93+[10]A08!I93+[11]A08!I93+[12]A08!I93","v":0},{"$f":"+[1]A08!J93+[2]A08!J93+[3]A08!J93+[4]A08!J93+[5]A08!J93+[6]A08!J93+[7]A08!J93+[8]A08!J93+[9]A08!J93+[10]A08!J93+[10]A08!J93+[11]A08!J93+[12]A08!J93","v":0},{"$f":"+[1]A08!K93+[2]A08!K93+[3]A08!K93+[4]A08!K93+[5]A08!K93+[6]A08!K93+[7]A08!K93+[8]A08!K93+[9]A08!K93+[10]A08!K93+[10]A08!K93+[11]A08!K93+[12]A08!K93","v":0},{"$f":"+[1]A08!L93+[2]A08!L93+[3]A08!L93+[4]A08!L93+[5]A08!L93+[6]A08!L93+[7]A08!L93+[8]A08!L93+[9]A08!L93+[10]A08!L93+[10]A08!L93+[11]A08!L93+[12]A08!L93","v":0},{"$f":"+[1]A08!M93+[2]A08!M93+[3]A08!M93+[4]A08!M93+[5]A08!M93+[6]A08!M93+[7]A08!M93+[8]A08!M93+[9]A08!M93+[10]A08!M93+[10]A08!M93+[11]A08!M93+[12]A08!M93","v":0},{"$f":"+[1]A08!N93+[2]A08!N93+[3]A08!N93+[4]A08!N93+[5]A08!N93+[6]A08!N93+[7]A08!N93+[8]A08!N93+[9]A08!N93+[10]A08!N93+[10]A08!N93+[11]A08!N93+[12]A08!N93","v":0},{"$f":"+[1]A08!O93+[2]A08!O93+[3]A08!O93+[4]A08!O93+[5]A08!O93+[6]A08!O93+[7]A08!O93+[8]A08!O93+[9]A08!O93+[10]A08!O93+[10]A08!O93+[11]A08!O93+[12]A08!O93","v":0},{"$f":"+[1]A08!P93+[2]A08!P93+[3]A08!P93+[4]A08!P93+[5]A08!P93+[6]A08!P93+[7]A08!P93+[8]A08!P93+[9]A08!P93+[10]A08!P93+[10]A08!P93+[11]A08!P93+[12]A08!P93","v":0},{"$f":"+[1]A08!Q93+[2]A08!Q93+[3]A08!Q93+[4]A08!Q93+[5]A08!Q93+[6]A08!Q93+[7]A08!Q93+[8]A08!Q93+[9]A08!Q93+[10]A08!Q93+[10]A08!Q93+[11]A08!Q93+[12]A08!Q93","v":0},{"$f":"+[1]A08!R93+[2]A08!R93+[3]A08!R93+[4]A08!R93+[5]A08!R93+[6]A08!R93+[7]A08!R93+[8]A08!R93+[9]A08!R93+[10]A08!R93+[10]A08!R93+[11]A08!R93+[12]A08!R93","v":0},{"$f":"+[1]A08!S93+[2]A08!S93+[3]A08!S93+[4]A08!S93+[5]A08!S93+[6]A08!S93+[7]A08!S93+[8]A08!S93+[9]A08!S93+[10]A08!S93+[10]A08!S93+[11]A08!S93+[12]A08!S93","v":0},{"$f":"+[1]A08!T93+[2]A08!T93+[3]A08!T93+[4]A08!T93+[5]A08!T93+[6]A08!T93+[7]A08!T93+[8]A08!T93+[9]A08!T93+[10]A08!T93+[10]A08!T93+[11]A08!T93+[12]A08!T93","v":0},{"$f":"+[1]A08!U93+[2]A08!U93+[3]A08!U93+[4]A08!U93+[5]A08!U93+[6]A08!U93+[7]A08!U93+[8]A08!U93+[9]A08!U93+[10]A08!U93+[10]A08!U93+[11]A08!U93+[12]A08!U93","v":0},{"$f":"+[1]A08!V93+[2]A08!V93+[3]A08!V93+[4]A08!V93+[5]A08!V93+[6]A08!V93+[7]A08!V93+[8]A08!V93+[9]A08!V93+[10]A08!V93+[10]A08!V93+[11]A08!V93+[12]A08!V93","v":0},{"$f":"+[1]A08!W93+[2]A08!W93+[3]A08!W93+[4]A08!W93+[5]A08!W93+[6]A08!W93+[7]A08!W93+[8]A08!W93+[9]A08!W93+[10]A08!W93+[10]A08!W93+[11]A08!W93+[12]A08!W93","v":0},{"$f":"+[1]A08!X93+[2]A08!X93+[3]A08!X93+[4]A08!X93+[5]A08!X93+[6]A08!X93+[7]A08!X93+[8]A08!X93+[9]A08!X93+[10]A08!X93+[10]A08!X93+[11]A08!X93+[12]A08!X93","v":0},{"$f":"+[1]A08!Y93+[2]A08!Y93+[3]A08!Y93+[4]A08!Y93+[5]A08!Y93+[6]A08!Y93+[7]A08!Y93+[8]A08!Y93+[9]A08!Y93+[10]A08!Y93+[10]A08!Y93+[11]A08!Y93+[12]A08!Y93","v":0},{"$f":"+[1]A08!Z93+[2]A08!Z93+[3]A08!Z93+[4]A08!Z93+[5]A08!Z93+[6]A08!Z93+[7]A08!Z93+[8]A08!Z93+[9]A08!Z93+[10]A08!Z93+[10]A08!Z93+[11]A08!Z93+[12]A08!Z93","v":0},{"$f":"+[1]A08!AA93+[2]A08!AA93+[3]A08!AA93+[4]A08!AA93+[5]A08!AA93+[6]A08!AA93+[7]A08!AA93+[8]A08!AA93+[9]A08!AA93+[10]A08!AA93+[10]A08!AA93+[11]A08!AA93+[12]A08!AA93","v":0},{"$f":"+[1]A08!AB93+[2]A08!AB93+[3]A08!AB93+[4]A08!AB93+[5]A08!AB93+[6]A08!AB93+[7]A08!AB93+[8]A08!AB93+[9]A08!AB93+[10]A08!AB93+[10]A08!AB93+[11]A08!AB93+[12]A08!AB93","v":0},{"$f":"+[1]A08!AC93+[2]A08!AC93+[3]A08!AC93+[4]A08!AC93+[5]A08!AC93+[6]A08!AC93+[7]A08!AC93+[8]A08!AC93+[9]A08!AC93+[10]A08!AC93+[10]A08!AC93+[11]A08!AC93+[12]A08!AC93","v":0},{"$f":"+[1]A08!AD93+[2]A08!AD93+[3]A08!AD93+[4]A08!AD93+[5]A08!AD93+[6]A08!AD93+[7]A08!AD93+[8]A08!AD93+[9]A08!AD93+[10]A08!AD93+[10]A08!AD93+[11]A08!AD93+[12]A08!AD93","v":0},{"$f":"+[1]A08!AE93+[2]A08!AE93+[3]A08!AE93+[4]A08!AE93+[5]A08!AE93+[6]A08!AE93+[7]A08!AE93+[8]A08!AE93+[9]A08!AE93+[10]A08!AE93+[10]A08!AE93+[11]A08!AE93+[12]A08!AE93","v":0},{"$f":"+[1]A08!AF93+[2]A08!AF93+[3]A08!AF93+[4]A08!AF93+[5]A08!AF93+[6]A08!AF93+[7]A08!AF93+[8]A08!AF93+[9]A08!AF93+[10]A08!AF93+[10]A08!AF93+[11]A08!AF93+[12]A08!AF93","v":0},{"$f":"+[1]A08!AG93+[2]A08!AG93+[3]A08!AG93+[4]A08!AG93+[5]A08!AG93+[6]A08!AG93+[7]A08!AG93+[8]A08!AG93+[9]A08!AG93+[10]A08!AG93+[10]A08!AG93+[11]A08!AG93+[12]A08!AG93","v":0},{"$f":"+[1]A08!AH93+[2]A08!AH93+[3]A08!AH93+[4]A08!AH93+[5]A08!AH93+[6]A08!AH93+[7]A08!AH93+[8]A08!AH93+[9]A08!AH93+[10]A08!AH93+[10]A08!AH93+[11]A08!AH93+[12]A08!AH93","v":0},{"$f":"+[1]A08!AI93+[2]A08!AI93+[3]A08!AI93+[4]A08!AI93+[5]A08!AI93+[6]A08!AI93+[7]A08!AI93+[8]A08!AI93+[9]A08!AI93+[10]A08!AI93+[10]A08!AI93+[11]A08!AI93+[12]A08!AI93","v":0},{"$f":"+[1]A08!AJ93+[2]A08!AJ93+[3]A08!AJ93+[4]A08!AJ93+[5]A08!AJ93+[6]A08!AJ93+[7]A08!AJ93+[8]A08!AJ93+[9]A08!AJ93+[10]A08!AJ93+[10]A08!AJ93+[11]A08!AJ93+[12]A08!AJ93","v":0},{"$f":"+[1]A08!AK93+[2]A08!AK93+[3]A08!AK93+[4]A08!AK93+[5]A08!AK93+[6]A08!AK93+[7]A08!AK93+[8]A08!AK93+[9]A08!AK93+[10]A08!AK93+[10]A08!AK93+[11]A08!AK93+[12]A08!AK93","v":0},{"$f":"+[1]A08!AL93+[2]A08!AL93+[3]A08!AL93+[4]A08!AL93+[5]A08!AL93+[6]A08!AL93+[7]A08!AL93+[8]A08!AL93+[9]A08!AL93+[10]A08!AL93+[10]A08!AL93+[11]A08!AL93+[12]A08!AL93","v":0},{"$f":"+[1]A08!AM93+[2]A08!AM93+[3]A08!AM93+[4]A08!AM93+[5]A08!AM93+[6]A08!AM93+[7]A08!AM93+[8]A08!AM93+[9]A08!AM93+[10]A08!AM93+[10]A08!AM93+[11]A08!AM93+[12]A08!AM93","v":0},{"$f":"+[1]A08!AN93+[2]A08!AN93+[3]A08!AN93+[4]A08!AN93+[5]A08!AN93+[6]A08!AN93+[7]A08!AN93+[8]A08!AN93+[9]A08!AN93+[10]A08!AN93+[10]A08!AN93+[11]A08!AN93+[12]A08!AN93","v":0},{"$f":"+[1]A08!AO93+[2]A08!AO93+[3]A08!AO93+[4]A08!AO93+[5]A08!AO93+[6]A08!AO93+[7]A08!AO93+[8]A08!AO93+[9]A08!AO93+[10]A08!AO93+[10]A08!AO93+[11]A08!AO93+[12]A08!AO93","v":0},null,null,null,null,null,null,null,null,null,null,null,null,null,null,null,null,null,null,null,null,null,null,null,null,null,null,null,null,null,null,null,null,null,null,null,null,null,null,null,null,null,null,null,0,0,0,0]
[null,"MAYOR A 24 HORAS",0,0,0,{"$f":"+[1]A08!F94+[2]A08!F94+[3]A08!F94+[4]A08!F94+[5]A08!F94+[6]A08!F94+[7]A08!F94+[8]A08!F94+[9]A08!F94+[10]A08!F94+[10]A08!F94+[11]A08!F94+[12]A08!F94","v":0},{"$f":"+[1]A08!G94+[2]A08!G94+[3]A08!G94+[4]A08!G94+[5]A08!G94+[6]A08!G94+[7]A08!G94+[8]A08!G94+[9]A08!G94+[10]A08!G94+[10]A08!G94+[11]A08!G94+[12]A08!G94","v":0},{"$f":"+[1]A08!H94+[2]A08!H94+[3]A08!H94+[4]A08!H94+[5]A08!H94+[6]A08!H94+[7]A08!H94+[8]A08!H94+[9]A08!H94+[10]A08!H94+[10]A08!H94+[11]A08!H94+[12]A08!H94","v":0},{"$f":"+[1]A08!I94+[2]A08!I94+[3]A08!I94+[4]A08!I94+[5]A08!I94+[6]A08!I94+[7]A08!I94+[8]A08!I94+[9]A08!I94+[10]A08!I94+[10]A08!I94+[11]A08!I94+[12]A08!I94","v":0},{"$f":"+[1]A08!J94+[2]A08!J94+[3]A08!J94+[4]A08!J94+[5]A08!J94+[6]A08!J94+[7]A08!J94+[8]A08!J94+[9]A08!J94+[10]A08!J94+[10]A08!J94+[11]A08!J94+[12]A08!J94","v":0},{"$f":"+[1]A08!K94+[2]A08!K94+[3]A08!K94+[4]A08!K94+[5]A08!K94+[6]A08!K94+[7]A08!K94+[8]A08!K94+[9]A08!K94+[10]A08!K94+[10]A08!K94+[11]A08!K94+[12]A08!K94","v":0},{"$f":"+[1]A08!L94+[2]A08!L94+[3]A08!L94+[4]A08!L94+[5]A08!L94+[6]A08!L94+[7]A08!L94+[8]A08!L94+[9]A08!L94+[10]A08!L94+[10]A08!L94+[11]A08!L94+[12]A08!L94","v":0},{"$f":"+[1]A08!M94+[2]A08!M94+[3]A08!M94+[4]A08!M94+[5]A08!M94+[6]A08!M94+[7]A08!M94+[8]A08!M94+[9]A08!M94+[10]A08!M94+[10]A08!M94+[11]A08!M94+[12]A08!M94","v":0},{"$f":"+[1]A08!N94+[2]A08!N94+[3]A08!N94+[4]A08!N94+[5]A08!N94+[6]A08!N94+[7]A08!N94+[8]A08!N94+[9]A08!N94+[10]A08!N94+[10]A08!N94+[11]A08!N94+[12]A08!N94","v":0},{"$f":"+[1]A08!O94+[2]A08!O94+[3]A08!O94+[4]A08!O94+[5]A08!O94+[6]A08!O94+[7]A08!O94+[8]A08!O94+[9]A08!O94+[10]A08!O94+[10]A08!O94+[11]A08!O94+[12]A08!O94","v":0},{"$f":"+[1]A08!P94+[2]A08!P94+[3]A08!P94+[4]A08!P94+[5]A08!P94+[6]A08!P94+[7]A08!P94+[8]A08!P94+[9]A08!P94+[10]A08!P94+[10]A08!P94+[11]A08!P94+[12]A08!P94","v":0},{"$f":"+[1]A08!Q94+[2]A08!Q94+[3]A08!Q94+[4]A08!Q94+[5]A08!Q94+[6]A08!Q94+[7]A08!Q94+[8]A08!Q94+[9]A08!Q94+[10]A08!Q94+[10]A08!Q94+[11]A08!Q94+[12]A08!Q94","v":0},{"$f":"+[1]A08!R94+[2]A08!R94+[3]A08!R94+[4]A08!R94+[5]A08!R94+[6]A08!R94+[7]A08!R94+[8]A08!R94+[9]A08!R94+[10]A08!R94+[10]A08!R94+[11]A08!R94+[12]A08!R94","v":0},{"$f":"+[1]A08!S94+[2]A08!S94+[3]A08!S94+[4]A08!S94+[5]A08!S94+[6]A08!S94+[7]A08!S94+[8]A08!S94+[9]A08!S94+[10]A08!S94+[10]A08!S94+[11]A08!S94+[12]A08!S94","v":0},{"$f":"+[1]A08!T94+[2]A08!T94+[3]A08!T94+[4]A08!T94+[5]A08!T94+[6]A08!T94+[7]A08!T94+[8]A08!T94+[9]A08!T94+[10]A08!T94+[10]A08!T94+[11]A08!T94+[12]A08!T94","v":0},{"$f":"+[1]A08!U94+[2]A08!U94+[3]A08!U94+[4]A08!U94+[5]A08!U94+[6]A08!U94+[7]A08!U94+[8]A08!U94+[9]A08!U94+[10]A08!U94+[10]A08!U94+[11]A08!U94+[12]A08!U94","v":0},{"$f":"+[1]A08!V94+[2]A08!V94+[3]A08!V94+[4]A08!V94+[5]A08!V94+[6]A08!V94+[7]A08!V94+[8]A08!V94+[9]A08!V94+[10]A08!V94+[10]A08!V94+[11]A08!V94+[12]A08!V94","v":0},{"$f":"+[1]A08!W94+[2]A08!W94+[3]A08!W94+[4]A08!W94+[5]A08!W94+[6]A08!W94+[7]A08!W94+[8]A08!W94+[9]A08!W94+[10]A08!W94+[10]A08!W94+[11]A08!W94+[12]A08!W94","v":0},{"$f":"+[1]A08!X94+[2]A08!X94+[3]A08!X94+[4]A08!X94+[5]A08!X94+[6]A08!X94+[7]A08!X94+[8]A08!X94+[9]A08!X94+[10]A08!X94+[10]A08!X94+[11]A08!X94+[12]A08!X94","v":0},{"$f":"+[1]A08!Y94+[2]A08!Y94+[3]A08!Y94+[4]A08!Y94+[5]A08!Y94+[6]A08!Y94+[7]A08!Y94+[8]A08!Y94+[9]A08!Y94+[10]A08!Y94+[10]A08!Y94+[11]A08!Y94+[12]A08!Y94","v":0},{"$f":"+[1]A08!Z94+[2]A08!Z94+[3]A08!Z94+[4]A08!Z94+[5]A08!Z94+[6]A08!Z94+[7]A08!Z94+[8]A08!Z94+[9]A08!Z94+[10]A08!Z94+[10]A08!Z94+[11]A08!Z94+[12]A08!Z94","v":0},{"$f":"+[1]A08!AA94+[2]A08!AA94+[3]A08!AA94+[4]A08!AA94+[5]A08!AA94+[6]A08!AA94+[7]A08!AA94+[8]A08!AA94+[9]A08!AA94+[10]A08!AA94+[10]A08!AA94+[11]A08!AA94+[12]A08!AA94","v":0},{"$f":"+[1]A08!AB94+[2]A08!AB94+[3]A08!AB94+[4]A08!AB94+[5]A08!AB94+[6]A08!AB94+[7]A08!AB94+[8]A08!AB94+[9]A08!AB94+[10]A08!AB94+[10]A08!AB94+[11]A08!AB94+[12]A08!AB94","v":0},{"$f":"+[1]A08!AC94+[2]A08!AC94+[3]A08!AC94+[4]A08!AC94+[5]A08!AC94+[6]A08!AC94+[7]A08!AC94+[8]A08!AC94+[9]A08!AC94+[10]A08!AC94+[10]A08!AC94+[11]A08!AC94+[12]A08!AC94","v":0},{"$f":"+[1]A08!AD94+[2]A08!AD94+[3]A08!AD94+[4]A08!AD94+[5]A08!AD94+[6]A08!AD94+[7]A08!AD94+[8]A08!AD94+[9]A08!AD94+[10]A08!AD94+[10]A08!AD94+[11]A08!AD94+[12]A08!AD94","v":0},{"$f":"+[1]A08!AE94+[2]A08!AE94+[3]A08!AE94+[4]A08!AE94+[5]A08!AE94+[6]A08!AE94+[7]A08!AE94+[8]A08!AE94+[9]A08!AE94+[10]A08!AE94+[10]A08!AE94+[11]A08!AE94+[12]A08!AE94","v":0},{"$f":"+[1]A08!AF94+[2]A08!AF94+[3]A08!AF94+[4]A08!AF94+[5]A08!AF94+[6]A08!AF94+[7]A08!AF94+[8]A08!AF94+[9]A08!AF94+[10]A08!AF94+[10]A08!AF94+[11]A08!AF94+[12]A08!AF94","v":0},{"$f":"+[1]A08!AG94+[2]A08!AG94+[3]A08!AG94+[4]A08!AG94+[5]A08!AG94+[6]A08!AG94+[7]A08!AG94+[8]A08!AG94+[9]A08!AG94+[10]A08!AG94+[10]A08!AG94+[11]A08!AG94+[12]A08!AG94","v":0},{"$f":"+[1]A08!AH94+[2]A08!AH94+[3]A08!AH94+[4]A08!AH94+[5]A08!AH94+[6]A08!AH94+[7]A08!AH94+[8]A08!AH94+[9]A08!AH94+[10]A08!AH94+[10]A08!AH94+[11]A08!AH94+[12]A08!AH94","v":0},{"$f":"+[1]A08!AI94+[2]A08!AI94+[3]A08!AI94+[4]A08!AI94+[5]A08!AI94+[6]A08!AI94+[7]A08!AI94+[8]A08!AI94+[9]A08!AI94+[10]A08!AI94+[10]A08!AI94+[11]A08!AI94+[12]A08!AI94","v":0},{"$f":"+[1]A08!AJ94+[2]A08!AJ94+[3]A08!AJ94+[4]A08!AJ94+[5]A08!AJ94+[6]A08!AJ94+[7]A08!AJ94+[8]A08!AJ94+[9]A08!AJ94+[10]A08!AJ94+[10]A08!AJ94+[11]A08!AJ94+[12]A08!AJ94","v":0},{"$f":"+[1]A08!AK94+[2]A08!AK94+[3]A08!AK94+[4]A08!AK94+[5]A08!AK94+[6]A08!AK94+[7]A08!AK94+[8]A08!AK94+[9]A08!AK94+[10]A08!AK94+[10]A08!AK94+[11]A08!AK94+[12]A08!AK94","v":0},{"$f":"+[1]A08!AL94+[2]A08!AL94+[3]A08!AL94+[4]A08!AL94+[5]A08!AL94+[6]A08!AL94+[7]A08!AL94+[8]A08!AL94+[9]A08!AL94+[10]A08!AL94+[10]A08!AL94+[11]A08!AL94+[12]A08!AL94","v":0},{"$f":"+[1]A08!AM94+[2]A08!AM94+[3]A08!AM94+[4]A08!AM94+[5]A08!AM94+[6]A08!AM94+[7]A08!AM94+[8]A08!AM94+[9]A08!AM94+[10]A08!AM94+[10]A08!AM94+[11]A08!AM94+[12]A08!AM94","v":0},{"$f":"+[1]A08!AN94+[2]A08!AN94+[3]A08!AN94+[4]A08!AN94+[5]A08!AN94+[6]A08!AN94+[7]A08!AN94+[8]A08!AN94+[9]A08!AN94+[10]A08!AN94+[10]A08!AN94+[11]A08!AN94+[12]A08!AN94","v":0},{"$f":"+[1]A08!AO94+[2]A08!AO94+[3]A08!AO94+[4]A08!AO94+[5]A08!AO94+[6]A08!AO94+[7]A08!AO94+[8]A08!AO94+[9]A08!AO94+[10]A08!AO94+[10]A08!AO94+[11]A08!AO94+[12]A08!AO94","v":0},null,null,null,null,null,null,null,null,null,null,null,null,null,null,null,null,null,null,null,null,null,null,null,null,null,null,null,null,null,null,null,null,null,null,null,null,null,null,null,null,null,null,null,0,0,0,0]
["PACIENTES QUE RECHAZAN HOSPITALIZACIÓN ",null,0,0,0,{"$f":"+[1]A08!F95+[2]A08!F95+[3]A08!F95+[4]A08!F95+[5]A08!F95+[6]A08!F95+[7]A08!F95+[8]A08!F95+[9]A08!F95+[10]A08!F95+[10]A08!F95+[11]A08!F95+[12]A08!F95","v":0},{"$f":"+[1]A08!G95+[2]A08!G95+[3]A08!G95+[4]A08!G95+[5]A08!G95+[6]A08!G95+[7]A08!G95+[8]A08!G95+[9]A08!G95+[10]A08!G95+[10]A08!G95+[11]A08!G95+[12]A08!G95","v":0},{"$f":"+[1]A08!H95+[2]A08!H95+[3]A08!H95+[4]A08!H95+[5]A08!H95+[6]A08!H95+[7]A08!H95+[8]A08!H95+[9]A08!H95+[10]A08!H95+[10]A08!H95+[11]A08!H95+[12]A08!H95","v":0},{"$f":"+[1]A08!I95+[2]A08!I95+[3]A08!I95+[4]A08!I95+[5]A08!I95+[6]A08!I95+[7]A08!I95+[8]A08!I95+[9]A08!I95+[10]A08!I95+[10]A08!I95+[11]A08!I95+[12]A08!I95","v":0},{"$f":"+[1]A08!J95+[2]A08!J95+[3]A08!J95+[4]A08!J95+[5]A08!J95+[6]A08!J95+[7]A08!J95+[8]A08!J95+[9]A08!J95+[10]A08!J95+[10]A08!J95+[11]A08!J95+[12]A08!J95","v":0},{"$f":"+[1]A08!K95+[2]A08!K95+[3]A08!K95+[4]A08!K95+[5]A08!K95+[6]A08!K95+[7]A08!K95+[8]A08!K95+[9]A08!K95+[10]A08!K95+[10]A08!K95+[11]A08!K95+[12]A08!K95","v":0},{"$f":"+[1]A08!L95+[2]A08!L95+[3]A08!L95+[4]A08!L95+[5]A08!L95+[6]A08!L95+[7]A08!L95+[8]A08!L95+[9]A08!L95+[10]A08!L95+[10]A08!L95+[11]A08!L95+[12]A08!L95","v":0},{"$f":"+[1]A08!M95+[2]A08!M95+[3]A08!M95+[4]A08!M95+[5]A08!M95+[6]A08!M95+[7]A08!M95+[8]A08!M95+[9]A08!M95+[10]A08!M95+[10]A08!M95+[11]A08!M95+[12]A08!M95","v":0},{"$f":"+[1]A08!N95+[2]A08!N95+[3]A08!N95+[4]A08!N95+[5]A08!N95+[6]A08!N95+[7]A08!N95+[8]A08!N95+[9]A08!N95+[10]A08!N95+[10]A08!N95+[11]A08!N95+[12]A08!N95","v":0},{"$f":"+[1]A08!O95+[2]A08!O95+[3]A08!O95+[4]A08!O95+[5]A08!O95+[6]A08!O95+[7]A08!O95+[8]A08!O95+[9]A08!O95+[10]A08!O95+[10]A08!O95+[11]A08!O95+[12]A08!O95","v":0},{"$f":"+[1]A08!P95+[2]A08!P95+[3]A08!P95+[4]A08!P95+[5]A08!P95+[6]A08!P95+[7]A08!P95+[8]A08!P95+[9]A08!P95+[10]A08!P95+[10]A08!P95+[11]A08!P95+[12]A08!P95","v":0},{"$f":"+[1]A08!Q95+[2]A08!Q95+[3]A08!Q95+[4]A08!Q95+[5]A08!Q95+[6]A08!Q95+[7]A08!Q95+[8]A08!Q95+[9]A08!Q95+[10]A08!Q95+[10]A08!Q95+[11]A08!Q95+[12]A08!Q95","v":0},{"$f":"+[1]A08!R95+[2]A08!R95+[3]A08!R95+[4]A08!R95+[5]A08!R95+[6]A08!R95+[7]A08!R95+[8]A08!R95+[9]A08!R95+[10]A08!R95+[10]A08!R95+[11]A08!R95+[12]A08!R95","v":0},{"$f":"+[1]A08!S95+[2]A08!S95+[3]A08!S95+[4]A08!S95+[5]A08!S95+[6]A08!S95+[7]A08!S95+[8]A08!S95+[9]A08!S95+[10]A08!S95+[10]A08!S95+[11]A08!S95+[12]A08!S95","v":0},{"$f":"+[1]A08!T95+[2]A08!T95+[3]A08!T95+[4]A08!T95+[5]A08!T95+[6]A08!T95+[7]A08!T95+[8]A08!T95+[9]A08!T95+[10]A08!T95+[10]A08!T95+[11]A08!T95+[12]A08!T95","v":0},{"$f":"+[1]A08!U95+[2]A08!U95+[3]A08!U95+[4]A08!U95+[5]A08!U95+[6]A08!U95+[7]A08!U95+[8]A08!U95+[9]A08!U95+[10]A08!U95+[10]A08!U95+[11]A08!U95+[12]A08!U95","v":0},{"$f":"+[1]A08!V95+[2]A08!V95+[3]A08!V95+[4]A08!V95+[5]A08!V95+[6]A08!V95+[7]A08!V95+[8]A08!V95+[9]A08!V95+[10]A08!V95+[10]A08!V95+[11]A08!V95+[12]A08!V95","v":0},{"$f":"+[1]A08!W95+[2]A08!W95+[3]A08!W95+[4]A08!W95+[5]A08!W95+[6]A08!W95+[7]A08!W95+[8]A08!W95+[9]A08!W95+[10]A08!W95+[10]A08!W95+[11]A08!W95+[12]A08!W95","v":0},{"$f":"+[1]A08!X95+[2]A08!X95+[3]A08!X95+[4]A08!X95+[5]A08!X95+[6]A08!X95+[7]A08!X95+[8]A08!X95+[9]A08!X95+[10]A08!X95+[10]A08!X95+[11]A08!X95+[12]A08!X95","v":0},{"$f":"+[1]A08!Y95+[2]A08!Y95+[3]A08!Y95+[4]A08!Y95+[5]A08!Y95+[6]A08!Y95+[7]A08!Y95+[8]A08!Y95+[9]A08!Y95+[10]A08!Y95+[10]A08!Y95+[11]A08!Y95+[12]A08!Y95","v":0},{"$f":"+[1]A08!Z95+[2]A08!Z95+[3]A08!Z95+[4]A08!Z95+[5]A08!Z95+[6]A08!Z95+[7]A08!Z95+[8]A08!Z95+[9]A08!Z95+[10]A08!Z95+[10]A08!Z95+[11]A08!Z95+[12]A08!Z95","v":0},{"$f":"+[1]A08!AA95+[2]A08!AA95+[3]A08!AA95+[4]A08!AA95+[5]A08!AA95+[6]A08!AA95+[7]A08!AA95+[8]A08!AA95+[9]A08!AA95+[10]A08!AA95+[10]A08!AA95+[11]A08!AA95+[12]A08!AA95","v":0},{"$f":"+[1]A08!AB95+[2]A08!AB95+[3]A08!AB95+[4]A08!AB95+[5]A08!AB95+[6]A08!AB95+[7]A08!AB95+[8]A08!AB95+[9]A08!AB95+[10]A08!AB95+[10]A08!AB95+[11]A08!AB95+[12]A08!AB95","v":0},{"$f":"+[1]A08!AC95+[2]A08!AC95+[3]A08!AC95+[4]A08!AC95+[5]A08!AC95+[6]A08!AC95+[7]A08!AC95+[8]A08!AC95+[9]A08!AC95+[10]A08!AC95+[10]A08!AC95+[11]A08!AC95+[12]A08!AC95","v":0},{"$f":"+[1]A08!AD95+[2]A08!AD95+[3]A08!AD95+[4]A08!AD95+[5]A08!AD95+[6]A08!AD95+[7]A08!AD95+[8]A08!AD95+[9]A08!AD95+[10]A08!AD95+[10]A08!AD95+[11]A08!AD95+[12]A08!AD95","v":0},{"$f":"+[1]A08!AE95+[2]A08!AE95+[3]A08!AE95+[4]A08!AE95+[5]A08!AE95+[6]A08!AE95+[7]A08!AE95+[8]A08!AE95+[9]A08!AE95+[10]A08!AE95+[10]A08!AE95+[11]A08!AE95+[12]A08!AE95","v":0},{"$f":"+[1]A08!AF95+[2]A08!AF95+[3]A08!AF95+[4]A08!AF95+[5]A08!AF95+[6]A08!AF95+[7]A08!AF95+[8]A08!AF95+[9]A08!AF95+[10]A08!AF95+[10]A08!AF95+[11]A08!AF95+[12]A08!AF95","v":0},{"$f":"+[1]A08!AG95+[2]A08!AG95+[3]A08!AG95+[4]A08!AG95+[5]A08!AG95+[6]A08!AG95+[7]A08!AG95+[8]A08!AG95+[9]A08!AG95+[10]A08!AG95+[10]A08!AG95+[11]A08!AG95+[12]A08!AG95","v":0},{"$f":"+[1]A08!AH95+[2]A08!AH95+[3]A08!AH95+[4]A08!AH95+[5]A08!AH95+[6]A08!AH95+[7]A08!AH95+[8]A08!AH95+[9]A08!AH95+[10]A08!AH95+[10]A08!AH95+[11]A08!AH95+[12]A08!AH95","v":0},{"$f":"+[1]A08!AI95+[2]A08!AI95+[3]A08!AI95+[4]A08!AI95+[5]A08!AI95+[6]A08!AI95+[7]A08!AI95+[8]A08!AI95+[9]A08!AI95+[10]A08!AI95+[10]A08!AI95+[11]A08!AI95+[12]A08!AI95","v":0},{"$f":"+[1]A08!AJ95+[2]A08!AJ95+[3]A08!AJ95+[4]A08!AJ95+[5]A08!AJ95+[6]A08!AJ95+[7]A08!AJ95+[8]A08!AJ95+[9]A08!AJ95+[10]A08!AJ95+[10]A08!AJ95+[11]A08!AJ95+[12]A08!AJ95","v":0},{"$f":"+[1]A08!AK95+[2]A08!AK95+[3]A08!AK95+[4]A08!AK95+[5]A08!AK95+[6]A08!AK95+[7]A08!AK95+[8]A08!AK95+[9]A08!AK95+[10]A08!AK95+[10]A08!AK95+[11]A08!AK95+[12]A08!AK95","v":0},{"$f":"+[1]A08!AL95+[2]A08!AL95+[3]A08!AL95+[4]A08!AL95+[5]A08!AL95+[6]A08!AL95+[7]A08!AL95+[8]A08!AL95+[9]A08!AL95+[10]A08!AL95+[10]A08!AL95+[11]A08!AL95+[12]A08!AL95","v":0},{"$f":"+[1]A08!AM95+[2]A08!AM95+[3]A08!AM95+[4]A08!AM95+[5]A08!AM95+[6]A08!AM95+[7]A08!AM95+[8]A08!AM95+[9]A08!AM95+[10]A08!AM95+[10]A08!AM95+[11]A08!AM95+[12]A08!AM95","v":0},{"$f":"+[1]A08!AN95+[2]A08!AN95+[3]A08!AN95+[4]A08!AN95+[5]A08!AN95+[6]A08!AN95+[7]A08!AN95+[8]A08!AN95+[9]A08!AN95+[10]A08!AN95+[10]A08!AN95+[11]A08!AN95+[12]A08!AN95","v":0},null,null,null,null,null,null,null,null,null,null,null,null,null,null,null,null,null,null,null,null,null,null,null,null,null,null,null,null,null,null,null,null,null,null,null,null,null,null,null,null,null,null,null,null,0,0]
["PACIENTES DERIVADOS  A OTRO ESTABLECIMIENTO",null,0,0,0,{"$f":"+[1]A08!F96+[2]A08!F96+[3]A08!F96+[4]A08!F96+[5]A08!F96+[6]A08!F96+[7]A08!F96+[8]A08!F96+[9]A08!F96+[10]A08!F96+[10]A08!F96+[11]A08!F96+[12]A08!F96","v":0},{"$f":"+[1]A08!G96+[2]A08!G96+[3]A08!G96+[4]A08!G96+[5]A08!G96+[6]A08!G96+[7]A08!G96+[8]A08!G96+[9]A08!G96+[10]A08!G96+[10]A08!G96+[11]A08!G96+[12]A08!G96","v":0},{"$f":"+[1]A08!H96+[2]A08!H96+[3]A08!H96+[4]A08!H96+[5]A08!H96+[6]A08!H96+[7]A08!H96+[8]A08!H96+[9]A08!H96+[10]A08!H96+[10]A08!H96+[11]A08!H96+[12]A08!H96","v":0},{"$f":"+[1]A08!I96+[2]A08!I96+[3]A08!I96+[4]A08!I96+[5]A08!I96+[6]A08!I96+[7]A08!I96+[8]A08!I96+[9]A08!I96+[10]A08!I96+[10]A08!I96+[11]A08!I96+[12]A08!I96","v":0},{"$f":"+[1]A08!J96+[2]A08!J96+[3]A08!J96+[4]A08!J96+[5]A08!J96+[6]A08!J96+[7]A08!J96+[8]A08!J96+[9]A08!J96+[10]A08!J96+[10]A08!J96+[11]A08!J96+[12]A08!J96","v":0},{"$f":"+[1]A08!K96+[2]A08!K96+[3]A08!K96+[4]A08!K96+[5]A08!K96+[6]A08!K96+[7]A08!K96+[8]A08!K96+[9]A08!K96+[10]A08!K96+[10]A08!K96+[11]A08!K96+[12]A08!K96","v":0},{"$f":"+[1]A08!L96+[2]A08!L96+[3]A08!L96+[4]A08!L96+[5]A08!L96+[6]A08!L96+[7]A08!L96+[8]A08!L96+[9]A08!L96+[10]A08!L96+[10]A08!L96+[11]A08!L96+[12]A08!L96","v":0},{"$f":"+[1]A08!M96+[2]A08!M96+[3]A08!M96+[4]A08!M96+[5]A08!M96+[6]A08!M96+[7]A08!M96+[8]A08!M96+[9]A08!M96+[10]A08!M96+[10]A08!M96+[11]A08!M96+[12]A08!M96","v":0},{"$f":"+[1]A08!N96+[2]A08!N96+[3]A08!N96+[4]A08!N96+[5]A08!N96+[6]A08!N96+[7]A08!N96+[8]A08!N96+[9]A08!N96+[10]A08!N96+[10]A08!N96+[11]A08!N96+[12]A08!N96","v":0},{"$f":"+[1]A08!O96+[2]A08!O96+[3]A08!O96+[4]A08!O96+[5]A08!O96+[6]A08!O96+[7]A08!O96+[8]A08!O96+[9]A08!O96+[10]A08!O96+[10]A08!O96+[11]A08!O96+[12]A08!O96","v":0},{"$f":"+[1]A08!P96+[2]A08!P96+[3]A08!P96+[4]A08!P96+[5]A08!P96+[6]A08!P96+[7]A08!P96+[8]A08!P96+[9]A08!P96+[10]A08!P96+[10]A08!P96+[11]A08!P96+[12]A08!P96","v":0},{"$f":"+[1]A08!Q96+[2]A08!Q96+[3]A08!Q96+[4]A08!Q96+[5]A08!Q96+[6]A08!Q96+[7]A08!Q96+[8]A08!Q96+[9]A08!Q96+[10]A08!Q96+[10]A08!Q96+[11]A08!Q96+[12]A08!Q96","v":0},{"$f":"+[1]A08!R96+[2]A08!R96+[3]A08!R96+[4]A08!R96+[5]A08!R96+[6]A08!R96+[7]A08!R96+[8]A08!R96+[9]A08!R96+[10]A08!R96+[10]A08!R96+[11]A08!R96+[12]A08!R96","v":0},{"$f":"+[1]A08!S96+[2]A08!S96+[3]A08!S96+[4]A08!S96+[5]A08!S96+[6]A08!S96+[7]A08!S96+[8]A08!S96+[9]A08!S96+[10]A08!S96+[10]A08!S96+[11]A08!S96+[12]A08!S96","v":0},{"$f":"+[1]A08!T96+[2]A08!T96+[3]A08!T96+[4]A08!T96+[5]A08!T96+[6]A08!T96+[7]A08!T96+[8]A08!T96+[9]A08!T96+[10]A08!T96+[10]A08!T96+[11]A08!T96+[12]A08!T96","v":0},{"$f":"+[1]A08!U96+[2]A08!U96+[3]A08!U96+[4]A08!U96+[5]A08!U96+[6]A08!U96+[7]A08!U96+[8]A08!U96+[9]A08!U96+[10]A08!U96+[10]A08!U96+[11]A08!U96+[12]A08!U96","v":0},{"$f":"+[1]A08!V96+[2]A08!V96+[3]A08!V96+[4]A08!V96+[5]A08!V96+[6]A08!V96+[7]A08!V96+[8]A08!V96+[9]A08!V96+[10]A08!V96+[10]A08!V96+[11]A08!V96+[12]A08!V96","v":0},{"$f":"+[1]A08!W96+[2]A08!W96+[3]A08!W96+[4]A08!W96+[5]A08!W96+[6]A08!W96+[7]A08!W96+[8]A08!W96+[9]A08!W96+[10]A08!W96+[10]A08!W96+[11]A08!W96+[12]A08!W96","v":0},{"$f":"+[1]A08!X96+[2]A08!X96+[3]A08!X96+[4]A08!X96+[5]A08!X96+[6]A08!X96+[7]A08!X96+[8]A08!X96+[9]A08!X96+[10]A08!X96+[10]A08!X96+[11]A08!X96+[12]A08!X96","v":0},{"$f":"+[1]A08!Y96+[2]A08!Y96+[3]A08!Y96+[4]A08!Y96+[5]A08!Y96+[6]A08!Y96+[7]A08!Y96+[8]A08!Y96+[9]A08!Y96+[10]A08!Y96+[10]A08!Y96+[11]A08!Y96+[12]A08!Y96","v":0},{"$f":"+[1]A08!Z96+[2]A08!Z96+[3]A08!Z96+[4]A08!Z96+[5]A08!Z96+[6]A08!Z96+[7]A08!Z96+[8]A08!Z96+[9]A08!Z96+[10]A08!Z96+[10]A08!Z96+[11]A08!Z96+[12]A08!Z96","v":0},{"$f":"+[1]A08!AA96+[2]A08!AA96+[3]A08!AA96+[4]A08!AA96+[5]A08!AA96+[6]A08!AA96+[7]A08!AA96+[8]A08!AA96+[9]A08!AA96+[10]A08!AA96+[10]A08!AA96+[11]A08!AA96+[12]A08!AA96","v":0},{"$f":"+[1]A08!AB96+[2]A08!AB96+[3]A08!AB96+[4]A08!AB96+[5]A08!AB96+[6]A08!AB96+[7]A08!AB96+[8]A08!AB96+[9]A08!AB96+[10]A08!AB96+[10]A08!AB96+[11]A08!AB96+[12]A08!AB96","v":0},{"$f":"+[1]A08!AC96+[2]A08!AC96+[3]A08!AC96+[4]A08!AC96+[5]A08!AC96+[6]A08!AC96+[7]A08!AC96+[8]A08!AC96+[9]A08!AC96+[10]A08!AC96+[10]A08!AC96+[11]A08!AC96+[12]A08!AC96","v":0},{"$f":"+[1]A08!AD96+[2]A08!AD96+[3]A08!AD96+[4]A08!AD96+[5]A08!AD96+[6]A08!AD96+[7]A08!AD96+[8]A08!AD96+[9]A08!AD96+[10]A08!AD96+[10]A08!AD96+[11]A08!AD96+[12]A08!AD96","v":0},{"$f":"+[1]A08!AE96+[2]A08!AE96+[3]A08!AE96+[4]A08!AE96+[5]A08!AE96+[6]A08!AE96+[7]A08!AE96+[8]A08!AE96+[9]A08!AE96+[10]A08!AE96+[10]A08!AE96+[11]A08!AE96+[12]A08!AE96","v":0},{"$f":"+[1]A08!AF96+[2]A08!AF96+[3]A08!AF96+[4]A08!AF96+[5]A08!AF96+[6]A08!AF96+[7]A08!AF96+[8]A08!AF96+[9]A08!AF96+[10]A08!AF96+[10]A08!AF96+[11]A08!AF96+[12]A08!AF96","v":0},{"$f":"+[1]A08!AG96+[2]A08!AG96+[3]A08!AG96+[4]A08!AG96+[5]A08!AG96+[6]A08!AG96+[7]A08!AG96+[8]A08!AG96+[9]A08!AG96+[10]A08!AG96+[10]A08!AG96+[11]A08!AG96+[12]A08!AG96","v":0},{"$f":"+[1]A08!AH96+[2]A08!AH96+[3]A08!AH96+[4]A08!AH96+[5]A08!AH96+[6]A08!AH96+[7]A08!AH96+[8]A08!AH96+[9]A08!AH96+[10]A08!AH96+[10]A08!AH96+[11]A08!AH96+[12]A08!AH96","v":0},{"$f":"+[1]A08!AI96+[2]A08!AI96+[3]A08!AI96+[4]A08!AI96+[5]A08!AI96+[6]A08!AI96+[7]A08!AI96+[8]A08!AI96+[9]A08!AI96+[10]A08!AI96+[10]A08!AI96+[11]A08!AI96+[12]A08!AI96","v":0},{"$f":"+[1]A08!AJ96+[2]A08!AJ96+[3]A08!AJ96+[4]A08!AJ96+[5]A08!AJ96+[6]A08!AJ96+[7]A08!AJ96+[8]A08!AJ96+[9]A08!AJ96+[10]A08!AJ96+[10]A08!AJ96+[11]A08!AJ96+[12]A08!AJ96","v":0},{"$f":"+[1]A08!AK96+[2]A08!AK96+[3]A08!AK96+[4]A08!AK96+[5]A08!AK96+[6]A08!AK96+[7]A08!AK96+[8]A08!AK96+[9]A08!AK96+[10]A08!AK96+[10]A08!AK96+[11]A08!AK96+[12]A08!AK96","v":0},{"$f":"+[1]A08!AL96+[2]A08!AL96+[3]A08!AL96+[4]A08!AL96+[5]A08!AL96+[6]A08!AL96+[7]A08!AL96+[8]A08!AL96+[9]A08!AL96+[10]A08!AL96+[10]A08!AL96+[11]A08!AL96+[12]A08!AL96","v":0},{"$f":"+[1]A08!AM96+[2]A08!AM96+[3]A08!AM96+[4]A08!AM96+[5]A08!AM96+[6]A08!AM96+[7]A08!AM96+[8]A08!AM96+[9]A08!AM96+[10]A08!AM96+[10]A08!AM96+[11]A08!AM96+[12]A08!AM96","v":0},{"$f":"+[1]A08!AN96+[2]A08!AN96+[3]A08!AN96+[4]A08!AN96+[5]A08!AN96+[6]A08!AN96+[7]A08!AN96+[8]A08!AN96+[9]A08!AN96+[10]A08!AN96+[10]A08!AN96+[11]A08!AN96+[12]A08!AN96","v":0},null,null,null,null,null,null,null,null,null,null,null,null,null,null,null,null,null,null,null,null,null,null,null,null,null,null,null,null,null,null,null,null,null,null,null,null,null,null,{"$f":"IF(C96=0,\"\",IF(AN96=\"\",IF(C96=\"\",\"\",\"* No olvide digitar la columna Beneficiarios. \"),\"\"))","v":""},{"$f":"IF(C96<AN96,\"* El número de Beneficiarios NO DEBE ser mayor que el total. \",\"\")","v":""},null,null,null,null,{"$f":"IF(C96<AN96,1,0)","v":0},{"$f":"IF(C96=0,\"\",IF(AN96=\"\",IF(C96=\"\",\"\",1),0))","v":""}]
["PACIENTES QUE PERMANECEN EN UEH",null,0,0,0,{"$f":"+[1]A08!F97+[2]A08!F97+[3]A08!F97+[4]A08!F97+[5]A08!F97+[6]A08!F97+[7]A08!F97+[8]A08!F97+[9]A08!F97+[10]A08!F97+[10]A08!F97+[11]A08!F97+[12]A08!F97","v":0},{"$f":"+[1]A08!G97+[2]A08!G97+[3]A08!G97+[4]A08!G97+[5]A08!G97+[6]A08!G97+[7]A08!G97+[8]A08!G97+[9]A08!G97+[10]A08!G97+[10]A08!G97+[11]A08!G97+[12]A08!G97","v":0},{"$f":"+[1]A08!H97+[2]A08!H97+[3]A08!H97+[4]A08!H97+[5]A08!H97+[6]A08!H97+[7]A08!H97+[8]A08!H97+[9]A08!H97+[10]A08!H97+[10]A08!H97+[11]A08!H97+[12]A08!H97","v":0},{"$f":"+[1]A08!I97+[2]A08!I97+[3]A08!I97+[4]A08!I97+[5]A08!I97+[6]A08!I97+[7]A08!I97+[8]A08!I97+[9]A08!I97+[10]A08!I97+[10]A08!I97+[11]A08!I97+[12]A08!I97","v":0},{"$f":"+[1]A08!J97+[2]A08!J97+[3]A08!J97+[4]A08!J97+[5]A08!J97+[6]A08!J97+[7]A08!J97+[8]A08!J97+[9]A08!J97+[10]A08!J97+[10]A08!J97+[11]A08!J97+[12]A08!J97","v":0},{"$f":"+[1]A08!K97+[2]A08!K97+[3]A08!K97+[4]A08!K97+[5]A08!K97+[6]A08!K97+[7]A08!K97+[8]A08!K97+[9]A08!K97+[10]A08!K97+[10]A08!K97+[11]A08!K97+[12]A08!K97","v":0},{"$f":"+[1]A08!L97+[2]A08!L97+[3]A08!L97+[4]A08!L97+[5]A08!L97+[6]A08!L97+[7]A08!L97+[8]A08!L97+[9]A08!L97+[10]A08!L97+[10]A08!L97+[11]A08!L97+[12]A08!L97","v":0},{"$f":"+[1]A08!M97+[2]A08!M97+[3]A08!M97+[4]A08!M97+[5]A08!M97+[6]A08!M97+[7]A08!M97+[8]A08!M97+[9]A08!M97+[10]A08!M97+[10]A08!M97+[11]A08!M97+[12]A08!M97","v":0},{"$f":"+[1]A08!N97+[2]A08!N97+[3]A08!N97+[4]A08!N97+[5]A08!N97+[6]A08!N97+[7]A08!N97+[8]A08!N97+[9]A08!N97+[10]A08!N97+[10]A08!N97+[11]A08!N97+[12]A08!N97","v":0},{"$f":"+[1]A08!O97+[2]A08!O97+[3]A08!O97+[4]A08!O97+[5]A08!O97+[6]A08!O97+[7]A08!O97+[8]A08!O97+[9]A08!O97+[10]A08!O97+[10]A08!O97+[11]A08!O97+[12]A08!O97","v":0},{"$f":"+[1]A08!P97+[2]A08!P97+[3]A08!P97+[4]A08!P97+[5]A08!P97+[6]A08!P97+[7]A08!P97+[8]A08!P97+[9]A08!P97+[10]A08!P97+[10]A08!P97+[11]A08!P97+[12]A08!P97","v":0},{"$f":"+[1]A08!Q97+[2]A08!Q97+[3]A08!Q97+[4]A08!Q97+[5]A08!Q97+[6]A08!Q97+[7]A08!Q97+[8]A08!Q97+[9]A08!Q97+[10]A08!Q97+[10]A08!Q97+[11]A08!Q97+[12]A08!Q97","v":0},{"$f":"+[1]A08!R97+[2]A08!R97+[3]A08!R97+[4]A08!R97+[5]A08!R97+[6]A08!R97+[7]A08!R97+[8]A08!R97+[9]A08!R97+[10]A08!R97+[10]A08!R97+[11]A08!R97+[12]A08!R97","v":0},{"$f":"+[1]A08!S97+[2]A08!S97+[3]A08!S97+[4]A08!S97+[5]A08!S97+[6]A08!S97+[7]A08!S97+[8]A08!S97+[9]A08!S97+[10]A08!S97+[10]A08!S97+[11]A08!S97+[12]A08!S97","v":0},{"$f":"+[1]A08!T97+[2]A08!T97+[3]A08!T97+[4]A08!T97+[5]A08!T97+[6]A08!T97+[7]A08!T97+[8]A08!T97+[9]A08!T97+[10]A08!T97+[10]A08!T97+[11]A08!T97+[12]A08!T97","v":0},{"$f":"+[1]A08!U97+[2]A08!U97+[3]A08!U97+[4]A08!U97+[5]A08!U97+[6]A08!U97+[7]A08!U97+[8]A08!U97+[9]A08!U97+[10]A08!U97+[10]A08!U97+[11]A08!U97+[12]A08!U97","v":0},{"$f":"+[1]A08!V97+[2]A08!V97+[3]A08!V97+[4]A08!V97+[5]A08!V97+[6]A08!V97+[7]A08!V97+[8]A08!V97+[9]A08!V97+[10]A08!V97+[10]A08!V97+[11]A08!V97+[12]A08!V97","v":0},{"$f":"+[1]A08!W97+[2]A08!W97+[3]A08!W97+[4]A08!W97+[5]A08!W97+[6]A08!W97+[7]A08!W97+[8]A08!W97+[9]A08!W97+[10]A08!W97+[10]A08!W97+[11]A08!W97+[12]A08!W97","v":0},{"$f":"+[1]A08!X97+[2]A08!X97+[3]A08!X97+[4]A08!X97+[5]A08!X97+[6]A08!X97+[7]A08!X97+[8]A08!X97+[9]A08!X97+[10]A08!X97+[10]A08!X97+[11]A08!X97+[12]A08!X97","v":0},{"$f":"+[1]A08!Y97+[2]A08!Y97+[3]A08!Y97+[4]A08!Y97+[5]A08!Y97+[6]A08!Y97+[7]A08!Y97+[8]A08!Y97+[9]A08!Y97+[10]A08!Y97+[10]A08!Y97+[11]A08!Y97+[12]A08!Y97","v":0},{"$f":"+[1]A08!Z97+[2]A08!Z97+[3]A08!Z97+[4]A08!Z97+[5]A08!Z97+[6]A08!Z97+[7]A08!Z97+[8]A08!Z97+[9]A08!Z97+[10]A08!Z97+[10]A08!Z97+[11]A08!Z97+[12]A08!Z97","v":0},{"$f":"+[1]A08!AA97+[2]A08!AA97+[3]A08!AA97+[4]A08!AA97+[5]A08!AA97+[6]A08!AA97+[7]A08!AA97+[8]A08!AA97+[9]A08!AA97+[10]A08!AA97+[10]A08!AA97+[11]A08!AA97+[12]A08!AA97","v":0},{"$f":"+[1]A08!AB97+[2]A08!AB97+[3]A08!AB97+[4]A08!AB97+[5]A08!AB97+[6]A08!AB97+[7]A08!AB97+[8]A08!AB97+[9]A08!AB97+[10]A08!AB97+[10]A08!AB97+[11]A08!AB97+[12]A08!AB97","v":0},{"$f":"+[1]A08!AC97+[2]A08!AC97+[3]A08!AC97+[4]A08!AC97+[5]A08!AC97+[6]A08!AC97+[7]A08!AC97+[8]A08!AC97+[9]A08!AC97+[10]A08!AC97+[10]A08!AC97+[11]A08!AC97+[12]A08!AC97","v":0},{"$f":"+[1]A08!AD97+[2]A08!AD97+[3]A08!AD97+[4]A08!AD97+[5]A08!AD97+[6]A08!AD97+[7]A08!AD97+[8]A08!AD97+[9]A08!AD97+[10]A08!AD97+[10]A08!AD97+[11]A08!AD97+[12]A08!AD97","v":0},{"$f":"+[1]A08!AE97+[2]A08!AE97+[3]A08!AE97+[4]A08!AE97+[5]A08!AE97+[6]A08!AE97+[7]A08!AE97+[8]A08!AE97+[9]A08!AE97+[10]A08!AE97+[10]A08!AE97+[11]A08!AE97+[12]A08!AE97","v":0},{"$f":"+[1]A08!AF97+[2]A08!AF97+[3]A08!AF97+[4]A08!AF97+[5]A08!AF97+[6]A08!AF97+[7]A08!AF97+[8]A08!AF97+[9]A08!AF97+[10]A08!AF97+[10]A08!AF97+[11]A08!AF97+[12]A08!AF97","v":0},{"$f":"+[1]A08!AG97+[2]A08!AG97+[3]A08!AG97+[4]A08!AG97+[5]A08!AG97+[6]A08!AG97+[7]A08!AG97+[8]A08!AG97+[9]A08!AG97+[10]A08!AG97+[10]A08!AG97+[11]A08!AG97+[12]A08!AG97","v":0},{"$f":"+[1]A08!AH97+[2]A08!AH97+[3]A08!AH97+[4]A08!AH97+[5]A08!AH97+[6]A08!AH97+[7]A08!AH97+[8]A08!AH97+[9]A08!AH97+[10]A08!AH97+[10]A08!AH97+[11]A08!AH97+[12]A08!AH97","v":0},{"$f":"+[1]A08!AI97+[2]A08!AI97+[3]A08!AI97+[4]A08!AI97+[5]A08!AI97+[6]A08!AI97+[7]A08!AI97+[8]A08!AI97+[9]A08!AI97+[10]A08!AI97+[10]A08!AI97+[11]A08!AI97+[12]A08!AI97","v":0},{"$f":"+[1]A08!AJ97+[2]A08!AJ97+[3]A08!AJ97+[4]A08!AJ97+[5]A08!AJ97+[6]A08!AJ97+[7]A08!AJ97+[8]A08!AJ97+[9]A08!AJ97+[10]A08!AJ97+[10]A08!AJ97+[11]A08!AJ97+[12]A08!AJ97","v":0},{"$f":"+[1]A08!AK97+[2]A08!AK97+[3]A08!AK97+[4]A08!AK97+[5]A08!AK97+[6]A08!AK97+[7]A08!AK97+[8]A08!AK97+[9]A08!AK97+[10]A08!AK97+[10]A08!AK97+[11]A08!AK97+[12]A08!AK97","v":0},{"$f":"+[1]A08!AL97+[2]A08!AL97+[3]A08!AL97+[4]A08!AL97+[5]A08!AL97+[6]A08!AL97+[7]A08!AL97+[8]A08!AL97+[9]A08!AL97+[10]A08!AL97+[10]A08!AL97+[11]A08!AL97+[12]A08!AL97","v":0},{"$f":"+[1]A08!AM97+[2]A08!AM97+[3]A08!AM97+[4]A08!AM97+[5]A08!AM97+[6]A08!AM97+[7]A08!AM97+[8]A08!AM97+[9]A08!AM97+[10]A08!AM97+[10]A08!AM97+[11]A08!AM97+[12]A08!AM97","v":0},{"$f":"+[1]A08!AN97+[2]A08!AN97+[3]A08!AN97+[4]A08!AN97+[5]A08!AN97+[6]A08!AN97+[7]A08!AN97+[8]A08!AN97+[9]A08!AN97+[10]A08!AN97+[10]A08!AN97+[11]A08!AN97+[12]A08!AN97","v":0},null,null,null,null,null,null,null,null,null,null,null,null,null,null,null,null,null,null,null,null,null,null,null,null,null,null,null,null,null,null,null,null,null,null,null,null,null,null,{"$f":"IF(C97=0,\"\",IF(AN97=\"\",IF(C97=\"\",\"\",\"* No olvide digitar la columna Beneficiarios. \"),\"\"))","v":""},{"$f":"IF(C97<AN97,\"* El número de Beneficiarios NO DEBE ser mayor que el total. \",\"\")","v":""},null,null,null,null,{"$f":"IF(C97<AN97,1,0)","v":0},{"$f":"IF(C97=0,\"\",IF(AN97=\"\",IF(C97=\"\",\"\",1),0))","v":""}]
["PACIENTES QUE INGRESAN DIRECTAMENTE A PROCESO QUIRÚRGICO",null,0,0,0,{"$f":"+[1]A08!F98+[2]A08!F98+[3]A08!F98+[4]A08!F98+[5]A08!F98+[6]A08!F98+[7]A08!F98+[8]A08!F98+[9]A08!F98+[10]A08!F98+[10]A08!F98+[11]A08!F98+[12]A08!F98","v":0},{"$f":"+[1]A08!G98+[2]A08!G98+[3]A08!G98+[4]A08!G98+[5]A08!G98+[6]A08!G98+[7]A08!G98+[8]A08!G98+[9]A08!G98+[10]A08!G98+[10]A08!G98+[11]A08!G98+[12]A08!G98","v":0},{"$f":"+[1]A08!H98+[2]A08!H98+[3]A08!H98+[4]A08!H98+[5]A08!H98+[6]A08!H98+[7]A08!H98+[8]A08!H98+[9]A08!H98+[10]A08!H98+[10]A08!H98+[11]A08!H98+[12]A08!H98","v":0},{"$f":"+[1]A08!I98+[2]A08!I98+[3]A08!I98+[4]A08!I98+[5]A08!I98+[6]A08!I98+[7]A08!I98+[8]A08!I98+[9]A08!I98+[10]A08!I98+[10]A08!I98+[11]A08!I98+[12]A08!I98","v":0},{"$f":"+[1]A08!J98+[2]A08!J98+[3]A08!J98+[4]A08!J98+[5]A08!J98+[6]A08!J98+[7]A08!J98+[8]A08!J98+[9]A08!J98+[10]A08!J98+[10]A08!J98+[11]A08!J98+[12]A08!J98","v":0},{"$f":"+[1]A08!K98+[2]A08!K98+[3]A08!K98+[4]A08!K98+[5]A08!K98+[6]A08!K98+[7]A08!K98+[8]A08!K98+[9]A08!K98+[10]A08!K98+[10]A08!K98+[11]A08!K98+[12]A08!K98","v":0},{"$f":"+[1]A08!L98+[2]A08!L98+[3]A08!L98+[4]A08!L98+[5]A08!L98+[6]A08!L98+[7]A08!L98+[8]A08!L98+[9]A08!L98+[10]A08!L98+[10]A08!L98+[11]A08!L98+[12]A08!L98","v":0},{"$f":"+[1]A08!M98+[2]A08!M98+[3]A08!M98+[4]A08!M98+[5]A08!M98+[6]A08!M98+[7]A08!M98+[8]A08!M98+[9]A08!M98+[10]A08!M98+[10]A08!M98+[11]A08!M98+[12]A08!M98","v":0},{"$f":"+[1]A08!N98+[2]A08!N98+[3]A08!N98+[4]A08!N98+[5]A08!N98+[6]A08!N98+[7]A08!N98+[8]A08!N98+[9]A08!N98+[10]A08!N98+[10]A08!N98+[11]A08!N98+[12]A08!N98","v":0},{"$f":"+[1]A08!O98+[2]A08!O98+[3]A08!O98+[4]A08!O98+[5]A08!O98+[6]A08!O98+[7]A08!O98+[8]A08!O98+[9]A08!O98+[10]A08!O98+[10]A08!O98+[11]A08!O98+[12]A08!O98","v":0},{"$f":"+[1]A08!P98+[2]A08!P98+[3]A08!P98+[4]A08!P98+[5]A08!P98+[6]A08!P98+[7]A08!P98+[8]A08!P98+[9]A08!P98+[10]A08!P98+[10]A08!P98+[11]A08!P98+[12]A08!P98","v":0},{"$f":"+[1]A08!Q98+[2]A08!Q98+[3]A08!Q98+[4]A08!Q98+[5]A08!Q98+[6]A08!Q98+[7]A08!Q98+[8]A08!Q98+[9]A08!Q98+[10]A08!Q98+[10]A08!Q98+[11]A08!Q98+[12]A08!Q98","v":0},{"$f":"+[1]A08!R98+[2]A08!R98+[3]A08!R98+[4]A08!R98+[5]A08!R98+[6]A08!R98+[7]A08!R98+[8]A08!R98+[9]A08!R98+[10]A08!R98+[10]A08!R98+[11]A08!R98+[12]A08!R98","v":0},{"$f":"+[1]A08!S98+[2]A08!S98+[3]A08!S98+[4]A08!S98+[5]A08!S98+[6]A08!S98+[7]A08!S98+[8]A08!S98+[9]A08!S98+[10]A08!S98+[10]A08!S98+[11]A08!S98+[12]A08!S98","v":0},{"$f":"+[1]A08!T98+[2]A08!T98+[3]A08!T98+[4]A08!T98+[5]A08!T98+[6]A08!T98+[7]A08!T98+[8]A08!T98+[9]A08!T98+[10]A08!T98+[10]A08!T98+[11]A08!T98+[12]A08!T98","v":0},{"$f":"+[1]A08!U98+[2]A08!U98+[3]A08!U98+[4]A08!U98+[5]A08!U98+[6]A08!U98+[7]A08!U98+[8]A08!U98+[9]A08!U98+[10]A08!U98+[10]A08!U98+[11]A08!U98+[12]A08!U98","v":0},{"$f":"+[1]A08!V98+[2]A08!V98+[3]A08!V98+[4]A08!V98+[5]A08!V98+[6]A08!V98+[7]A08!V98+[8]A08!V98+[9]A08!V98+[10]A08!V98+[10]A08!V98+[11]A08!V98+[12]A08!V98","v":0},{"$f":"+[1]A08!W98+[2]A08!W98+[3]A08!W98+[4]A08!W98+[5]A08!W98+[6]A08!W98+[7]A08!W98+[8]A08!W98+[9]A08!W98+[10]A08!W98+[10]A08!W98+[11]A08!W98+[12]A08!W98","v":0},{"$f":"+[1]A08!X98+[2]A08!X98+[3]A08!X98+[4]A08!X98+[5]A08!X98+[6]A08!X98+[7]A08!X98+[8]A08!X98+[9]A08!X98+[10]A08!X98+[10]A08!X98+[11]A08!X98+[12]A08!X98","v":0},{"$f":"+[1]A08!Y98+[2]A08!Y98+[3]A08!Y98+[4]A08!Y98+[5]A08!Y98+[6]A08!Y98+[7]A08!Y98+[8]A08!Y98+[9]A08!Y98+[10]A08!Y98+[10]A08!Y98+[11]A08!Y98+[12]A08!Y98","v":0},{"$f":"+[1]A08!Z98+[2]A08!Z98+[3]A08!Z98+[4]A08!Z98+[5]A08!Z98+[6]A08!Z98+[7]A08!Z98+[8]A08!Z98+[9]A08!Z98+[10]A08!Z98+[10]A08!Z98+[11]A08!Z98+[12]A08!Z98","v":0},{"$f":"+[1]A08!AA98+[2]A08!AA98+[3]A08!AA98+[4]A08!AA98+[5]A08!AA98+[6]A08!AA98+[7]A08!AA98+[8]A08!AA98+[9]A08!AA98+[10]A08!AA98+[10]A08!AA98+[11]A08!AA98+[12]A08!AA98","v":0},{"$f":"+[1]A08!AB98+[2]A08!AB98+[3]A08!AB98+[4]A08!AB98+[5]A08!AB98+[6]A08!AB98+[7]A08!AB98+[8]A08!AB98+[9]A08!AB98+[10]A08!AB98+[10]A08!AB98+[11]A08!AB98+[12]A08!AB98","v":0},{"$f":"+[1]A08!AC98+[2]A08!AC98+[3]A08!AC98+[4]A08!AC98+[5]A08!AC98+[6]A08!AC98+[7]A08!AC98+[8]A08!AC98+[9]A08!AC98+[10]A08!AC98+[10]A08!AC98+[11]A08!AC98+[12]A08!AC98","v":0},{"$f":"+[1]A08!AD98+[2]A08!AD98+[3]A08!AD98+[4]A08!AD98+[5]A08!AD98+[6]A08!AD98+[7]A08!AD98+[8]A08!AD98+[9]A08!AD98+[10]A08!AD98+[10]A08!AD98+[11]A08!AD98+[12]A08!AD98","v":0},{"$f":"+[1]A08!AE98+[2]A08!AE98+[3]A08!AE98+[4]A08!AE98+[5]A08!AE98+[6]A08!AE98+[7]A08!AE98+[8]A08!AE98+[9]A08!AE98+[10]A08!AE98+[10]A08!AE98+[11]A08!AE98+[12]A08!AE98","v":0},{"$f":"+[1]A08!AF98+[2]A08!AF98+[3]A08!AF98+[4]A08!AF98+[5]A08!AF98+[6]A08!AF98+[7]A08!AF98+[8]A08!AF98+[9]A08!AF98+[10]A08!AF98+[10]A08!AF98+[11]A08!AF98+[12]A08!AF98","v":0},{"$f":"+[1]A08!AG98+[2]A08!AG98+[3]A08!AG98+[4]A08!AG98+[5]A08!AG98+[6]A08!AG98+[7]A08!AG98+[8]A08!AG98+[9]A08!AG98+[10]A08!AG98+[10]A08!AG98+[11]A08!AG98+[12]A08!AG98","v":0},{"$f":"+[1]A08!AH98+[2]A08!AH98+[3]A08!AH98+[4]A08!AH98+[5]A08!AH98+[6]A08!AH98+[7]A08!AH98+[8]A08!AH98+[9]A08!AH98+[10]A08!AH98+[10]A08!AH98+[11]A08!AH98+[12]A08!AH98","v":0},{"$f":"+[1]A08!AI98+[2]A08!AI98+[3]A08!AI98+[4]A08!AI98+[5]A08!AI98+[6]A08!AI98+[7]A08!AI98+[8]A08!AI98+[9]A08!AI98+[10]A08!AI98+[10]A08!AI98+[11]A08!AI98+[12]A08!AI98","v":0},{"$f":"+[1]A08!AJ98+[2]A08!AJ98+[3]A08!AJ98+[4]A08!AJ98+[5]A08!AJ98+[6]A08!AJ98+[7]A08!AJ98+[8]A08!AJ98+[9]A08!AJ98+[10]A08!AJ98+[10]A08!AJ98+[11]A08!AJ98+[12]A08!AJ98","v":0},{"$f":"+[1]A08!AK98+[2]A08!AK98+[3]A08!AK98+[4]A08!AK98+[5]A08!AK98+[6]A08!AK98+[7]A08!AK98+[8]A08!AK98+[9]A08!AK98+[10]A08!AK98+[10]A08!AK98+[11]A08!AK98+[12]A08!AK98","v":0},{"$f":"+[1]A08!AL98+[2]A08!AL98+[3]A08!AL98+[4]A08!AL98+[5]A08!AL98+[6]A08!AL98+[7]A08!AL98+[8]A08!AL98+[9]A08!AL98+[10]A08!AL98+[10]A08!AL98+[11]A08!AL98+[12]A08!AL98","v":0},{"$f":"+[1]A08!AM98+[2]A08!AM98+[3]A08!AM98+[4]A08!AM98+[5]A08!AM98+[6]A08!AM98+[7]A08!AM98+[8]A08!AM98+[9]A08!AM98+[10]A08!AM98+[10]A08!AM98+[11]A08!AM98+[12]A08!AM98","v":0},{"$f":"+[1]A08!AN98+[2]A08!AN98+[3]A08!AN98+[4]A08!AN98+[5]A08!AN98+[6]A08!AN98+[7]A08!AN98+[8]A08!AN98+[9]A08!AN98+[10]A08!AN98+[10]A08!AN98+[11]A08!AN98+[12]A08!AN98","v":0},null,null,null,null,null,null,null,null,null,null,null,null,null,null,null,null,null,null,null,null,null,null,null,null,null,null,null,null,null,null,null,null,null,null,null,null,null,null,{"$f":"IF(C98=0,\"\",IF(AN98=\"\",IF(C98=\"\",\"\",\"* No olvide digitar la columna Beneficiarios. \"),\"\"))","v":""},{"$f":"IF(C98<AN98,\"* El número de Beneficiarios NO DEBE ser mayor que el total. \",\"\")","v":""},null,null,null,null,{"$f":"IF(C98<AN98,1,0)","v":0},{"$f":"IF(C98=0,\"\",IF(AN98=\"\",IF(C98=\"\",\"\",1),0))","v":""}]
["SECCIÓN E: PACIENTES CON INDICACIÓN DE OBSERVACIÓN EN SAR"]
["PACIENTES CON INDICACIÓN DE OBSERVACIÓN",null,null,"TOTAL"]
["PACIENTES QUE PERMANECEN EN OBSERVACIÓN     ",null,"MENOS DE 2 HORAS",{"$f":"+[1]A08!D101+[2]A08!D101+[3]A08!D101+[4]A08!D101+[5]A08!D101+[6]A08!D101+[7]A08!D101+[8]A08!D101+[9]A08!D101+[10]A08!D101+[10]A08!D101+[11]A08!D101+[12]A08!D101","v":0}]
[null,null,"2 A 6 HORAS",{"$f":"+[1]A08!D102+[2]A08!D102+[3]A08!D102+[4]A08!D102+[5]A08!D102+[6]A08!D102+[7]A08!D102+[8]A08!D102+[9]A08!D102+[10]A08!D102+[10]A08!D102+[11]A08!D102+[12]A08!D102","v":0}]
[null,null,"MAYOR A 6 HORAS",{"$f":"+[1]A08!D103+[2]A08!D103+[3]A08!D103+[4]A08!D103+[5]A08!D103+[6]A08!D103+[7]A08!D103+[8]A08!D103+[9]A08!D103+[10]A08!D103+[10]A08!D103+[11]A08!D103+[12]A08!D103","v":0}]
["SECCIÓN F: PACIENTES FALLECIDOS EN UEH (Establecimientos Alta, Mediana o Baja Complejidad, SAR, SAPU y SUR) "]
["TIPO DE PACIENTES",null,"TOTAL        ",null,null,"GRUPOS DE EDAD (en años)",null,null,null,null,null,null,null,null,null,null,null,null,null,null,null,null,null,null,null,null,null,null,null,null,null,null,null,null,null,null,null,null,null,"Beneficiarios"]
[null,null,null,null,null,"0 - 4",null,"5 - 9",null,"10 - 14",null,"15 - 19",null,"20 - 24",null,"25 - 29",null,"30 - 34",null,"35 - 39",null,"40 - 44",null,"45 - 49",null,"50 - 54",null,"55 - 59",null,"60 - 64",null,"65 - 69",null,"70 - 74",null,"75 - 79",null,"80 y mas"]
[null,null,"Ambos Sexos","Hombres ","Mujeres","Hombres ","Mujeres","Hombres ","Mujeres","Hombres ","Mujeres","Hombres ","Mujeres","Hombres ","Mujeres","Hombres ","Mujeres","Hombres ","Mujeres","Hombres ","Mujeres","Hombres ","Mujeres","Hombres ","Mujeres","Hombres ","Mujeres","Hombres ","Mujeres","Hombres ","Mujeres","Hombres ","Mujeres","Hombres ","Mujeres","Hombres ","Mujeres","Hombres ","Mujeres"]
["PACIENTES FALLECIDOS EN ESPERA DE ATENCIÓN MÉDICA",null,{"$f":"SUM(D108+E108)","v":0},{"$f":"SUM(F108+H108+J108+L108+N108+P108+R108+T108+V108+X108+Z108+AB108+AD108+AF108+AH108+AJ108+AL108)","v":0},0,{"$f":"+[1]A08!F108+[2]A08!F108+[3]A08!F108+[4]A08!F108+[5]A08!F108+[6]A08!F108+[7]A08!F108+[8]A08!F108+[9]A08!F108+[10]A08!F108+[10]A08!F108+[11]A08!F108+[12]A08!F108","v":0},{"$f":"+[1]A08!G108+[2]A08!G108+[3]A08!G108+[4]A08!G108+[5]A08!G108+[6]A08!G108+[7]A08!G108+[8]A08!G108+[9]A08!G108+[10]A08!G108+[10]A08!G108+[11]A08!G108+[12]A08!G108","v":0},{"$f":"+[1]A08!H108+[2]A08!H108+[3]A08!H108+[4]A08!H108+[5]A08!H108+[6]A08!H108+[7]A08!H108+[8]A08!H108+[9]A08!H108+[10]A08!H108+[10]A08!H108+[11]A08!H108+[12]A08!H108","v":0},{"$f":"+[1]A08!I108+[2]A08!I108+[3]A08!I108+[4]A08!I108+[5]A08!I108+[6]A08!I108+[7]A08!I108+[8]A08!I108+[9]A08!I108+[10]A08!I108+[10]A08!I108+[11]A08!I108+[12]A08!I108","v":0},{"$f":"+[1]A08!J108+[2]A08!J108+[3]A08!J108+[4]A08!J108+[5]A08!J108+[6]A08!J108+[7]A08!J108+[8]A08!J108+[9]A08!J108+[10]A08!J108+[10]A08!J108+[11]A08!J108+[12]A08!J108","v":0},{"$f":"+[1]A08!K108+[2]A08!K108+[3]A08!K108+[4]A08!K108+[5]A08!K108+[6]A08!K108+[7]A08!K108+[8]A08!K108+[9]A08!K108+[10]A08!K108+[10]A08!K108+[11]A08!K108+[12]A08!K108","v":0},{"$f":"+[1]A08!L108+[2]A08!L108+[3]A08!L108+[4]A08!L108+[5]A08!L108+[6]A08!L108+[7]A08!L108+[8]A08!L108+[9]A08!L108+[10]A08!L108+[10]A08!L108+[11]A08!L108+[12]A08!L108","v":0},{"$f":"+[1]A08!M108+[2]A08!M108+[3]A08!M108+[4]A08!M108+[5]A08!M108+[6]A08!M108+[7]A08!M108+[8]A08!M108+[9]A08!M108+[10]A08!M108+[10]A08!M108+[11]A08!M108+[12]A08!M108","v":0},{"$f":"+[1]A08!N108+[2]A08!N108+[3]A08!N108+[4]A08!N108+[5]A08!N108+[6]A08!N108+[7]A08!N108+[8]A08!N108+[9]A08!N108+[10]A08!N108+[10]A08!N108+[11]A08!N108+[12]A08!N108","v":0},{"$f":"+[1]A08!O108+[2]A08!O108+[3]A08!O108+[4]A08!O108+[5]A08!O108+[6]A08!O108+[7]A08!O108+[8]A08!O108+[9]A08!O108+[10]A08!O108+[10]A08!O108+[11]A08!O108+[12]A08!O108","v":0},{"$f":"+[1]A08!P108+[2]A08!P108+[3]A08!P108+[4]A08!P108+[5]A08!P108+[6]A08!P108+[7]A08!P108+[8]A08!P108+[9]A08!P108+[10]A08!P108+[10]A08!P108+[11]A08!P108+[12]A08!P108","v":0},{"$f":"+[1]A08!Q108+[2]A08!Q108+[3]A08!Q108+[4]A08!Q108+[5]A08!Q108+[6]A08!Q108+[7]A08!Q108+[8]A08!Q108+[9]A08!Q108+[10]A08!Q108+[10]A08!Q108+[11]A08!Q108+[12]A08!Q108","v":0},{"$f":"+[1]A08!R108+[2]A08!R108+[3]A08!R108+[4]A08!R108+[5]A08!R108+[6]A08!R108+[7]A08!R108+[8]A08!R108+[9]A08!R108+[10]A08!R108+[10]A08!R108+[11]A08!R108+[12]A08!R108","v":0},{"$f":"+[1]A08!S108+[2]A08!S108+[3]A08!S108+[4]A08!S108+[5]A08!S108+[6]A08!S108+[7]A08!S108+[8]A08!S108+[9]A08!S108+[10]A08!S108+[10]A08!S108+[11]A08!S108+[12]A08!S108","v":0},{"$f":"+[1]A08!T108+[2]A08!T108+[3]A08!T108+[4]A08!T108+[5]A08!T108+[6]A08!T108+[7]A08!T108+[8]A08!T108+[9]A08!T108+[10]A08!T108+[10]A08!T108+[11]A08!T108+[12]A08!T108","v":0},{"$f":"+[1]A08!U108+[2]A08!U108+[3]A08!U108+[4]A08!U108+[5]A08!U108+[6]A08!U108+[7]A08!U108+[8]A08!U108+[9]A08!U108+[10]A08!U108+[10]A08!U108+[11]A08!U108+[12]A08!U108","v":0},{"$f":"+[1]A08!V108+[2]A08!V108+[3]A08!V108+[4]A08!V108+[5]A08!V108+[6]A08!V108+[7]A08!V108+[8]A08!V108+[9]A08!V108+[10]A08!V108+[10]A08!V108+[11]A08!V108+[12]A08!V108","v":0},{"$f":"+[1]A08!W108+[2]A08!W108+[3]A08!W108+[4]A08!W108+[5]A08!W108+[6]A08!W108+[7]A08!W108+[8]A08!W108+[9]A08!W108+[10]A08!W108+[10]A08!W108+[11]A08!W108+[12]A08!W108","v":0},{"$f":"+[1]A08!X108+[2]A08!X108+[3]A08!X108+[4]A08!X108+[5]A08!X108+[6]A08!X108+[7]A08!X108+[8]A08!X108+[9]A08!X108+[10]A08!X108+[10]A08!X108+[11]A08!X108+[12]A08!X108","v":0},{"$f":"+[1]A08!Y108+[2]A08!Y108+[3]A08!Y108+[4]A08!Y108+[5]A08!Y108+[6]A08!Y108+[7]A08!Y108+[8]A08!Y108+[9]A08!Y108+[10]A08!Y108+[10]A08!Y108+[11]A08!Y108+[12]A08!Y108","v":0},{"$f":"+[1]A08!Z108+[2]A08!Z108+[3]A08!Z108+[4]A08!Z108+[5]A08!Z108+[6]A08!Z108+[7]A08!Z108+[8]A08!Z108+[9]A08!Z108+[10]A08!Z108+[10]A08!Z108+[11]A08!Z108+[12]A08!Z108","v":0},{"$f":"+[1]A08!AA108+[2]A08!AA108+[3]A08!AA108+[4]A08!AA108+[5]A08!AA108+[6]A08!AA108+[7]A08!AA108+[8]A08!AA108+[9]A08!AA108+[10]A08!AA108+[10]A08!AA108+[11]A08!AA108+[12]A08!AA108","v":0},{"$f":"+[1]A08!AB108+[2]A08!AB108+[3]A08!AB108+[4]A08!AB108+[5]A08!AB108+[6]A08!AB108+[7]A08!AB108+[8]A08!AB108+[9]A08!AB108+[10]A08!AB108+[10]A08!AB108+[11]A08!AB108+[12]A08!AB108","v":0},{"$f":"+[1]A08!AC108+[2]A08!AC108+[3]A08!AC108+[4]A08!AC108+[5]A08!AC108+[6]A08!AC108+[7]A08!AC108+[8]A08!AC108+[9]A08!AC108+[10]A08!AC108+[10]A08!AC108+[11]A08!AC108+[12]A08!AC108","v":0},{"$f":"+[1]A08!AD108+[2]A08!AD108+[3]A08!AD108+[4]A08!AD108+[5]A08!AD108+[6]A08!AD108+[7]A08!AD108+[8]A08!AD108+[9]A08!AD108+[10]A08!AD108+[10]A08!AD108+[11]A08!AD108+[12]A08!AD108","v":0},{"$f":"+[1]A08!AE108+[2]A08!AE108+[3]A08!AE108+[4]A08!AE108+[5]A08!AE108+[6]A08!AE108+[7]A08!AE108+[8]A08!AE108+[9]A08!AE108+[10]A08!AE108+[10]A08!AE108+[11]A08!AE108+[12]A08!AE108","v":0},{"$f":"+[1]A08!AF108+[2]A08!AF108+[3]A08!AF108+[4]A08!AF108+[5]A08!AF108+[6]A08!AF108+[7]A08!AF108+[8]A08!AF108+[9]A08!AF108+[10]A08!AF108+[10]A08!AF108+[11]A08!AF108+[12]A08!AF108","v":0},{"$f":"+[1]A08!AG108+[2]A08!AG108+[3]A08!AG108+[4]A08!AG108+[5]A08!AG108+[6]A08!AG108+[7]A08!AG108+[8]A08!AG108+[9]A08!AG108+[10]A08!AG108+[10]A08!AG108+[11]A08!AG108+[12]A08!AG108","v":0},{"$f":"+[1]A08!AH108+[2]A08!AH108+[3]A08!AH108+[4]A08!AH108+[5]A08!AH108+[6]A08!AH108+[7]A08!AH108+[8]A08!AH108+[9]A08!AH108+[10]A08!AH108+[10]A08!AH108+[11]A08!AH108+[12]A08!AH108","v":0},{"$f":"+[1]A08!AI108+[2]A08!AI108+[3]A08!AI108+[4]A08!AI108+[5]A08!AI108+[6]A08!AI108+[7]A08!AI108+[8]A08!AI108+[9]A08!AI108+[10]A08!AI108+[10]A08!AI108+[11]A08!AI108+[12]A08!AI108","v":0},{"$f":"+[1]A08!AJ108+[2]A08!AJ108+[3]A08!AJ108+[4]A08!AJ108+[5]A08!AJ108+[6]A08!AJ108+[7]A08!AJ108+[8]A08!AJ108+[9]A08!AJ108+[10]A08!AJ108+[10]A08!AJ108+[11]A08!AJ108+[12]A08!AJ108","v":0},{"$f":"+[1]A08!AK108+[2]A08!AK108+[3]A08!AK108+[4]A08!AK108+[5]A08!AK108+[6]A08!AK108+[7]A08!AK108+[8]A08!AK108+[9]A08!AK108+[10]A08!AK108+[10]A08!AK108+[11]A08!AK108+[12]A08!AK108","v":0},{"$f":"+[1]A08!AL108+[2]A08!AL108+[3]A08!AL108+[4]A08!AL108+[5]A08!AL108+[6]A08!AL108+[7]A08!AL108+[8]A08!AL108+[9]A08!AL108+[10]A08!AL108+[10]A08!AL108+[11]A08!AL108+[12]A08!AL108","v":0},{"$f":"+[1]A08!AM108+[2]A08!AM108+[3]A08!AM108+[4]A08!AM108+[5]A08!AM108+[6]A08!AM108+[7]A08!AM108+[8]A08!AM108+[9]A08!AM108+[10]A08!AM108+[10]A08!AM108+[11]A08!AM108+[12]A08!AM108","v":0},{"$f":"+[1]A08!AN108+[2]A08!AN108+[3]A08!AN108+[4]A08!AN108+[5]A08!AN108+[6]A08!AN108+[7]A08!AN108+[8]A08!AN108+[9]A08!AN108+[10]A08!AN108+[10]A08!AN108+[11]A08!AN108+[12]A08!AN108","v":0},null,null,null,null,null,null,null,null,null,null,null,null,null,null,null,null,null,null,null,null,null,null,null,null,null,null,null,null,null,null,null,null,null,null,null,null,null,null,null,null,null,null,null,null,0,0]
["PACIENTES FALLECIDOS EN PROCESO DE ATENCIÓN",null,{"$f":"SUM(D109+E109)","v":0},0,0,{"$f":"+[1]A08!F109+[2]A08!F109+[3]A08!F109+[4]A08!F109+[5]A08!F109+[6]A08!F109+[7]A08!F109+[8]A08!F109+[9]A08!F109+[10]A08!F109+[10]A08!F109+[11]A08!F109+[12]A08!F109","v":0},{"$f":"+[1]A08!G109+[2]A08!G109+[3]A08!G109+[4]A08!G109+[5]A08!G109+[6]A08!G109+[7]A08!G109+[8]A08!G109+[9]A08!G109+[10]A08!G109+[10]A08!G109+[11]A08!G109+[12]A08!G109","v":0},{"$f":"+[1]A08!H109+[2]A08!H109+[3]A08!H109+[4]A08!H109+[5]A08!H109+[6]A08!H109+[7]A08!H109+[8]A08!H109+[9]A08!H109+[10]A08!H109+[10]A08!H109+[11]A08!H109+[12]A08!H109","v":0},{"$f":"+[1]A08!I109+[2]A08!I109+[3]A08!I109+[4]A08!I109+[5]A08!I109+[6]A08!I109+[7]A08!I109+[8]A08!I109+[9]A08!I109+[10]A08!I109+[10]A08!I109+[11]A08!I109+[12]A08!I109","v":0},{"$f":"+[1]A08!J109+[2]A08!J109+[3]A08!J109+[4]A08!J109+[5]A08!J109+[6]A08!J109+[7]A08!J109+[8]A08!J109+[9]A08!J109+[10]A08!J109+[10]A08!J109+[11]A08!J109+[12]A08!J109","v":0},{"$f":"+[1]A08!K109+[2]A08!K109+[3]A08!K109+[4]A08!K109+[5]A08!K109+[6]A08!K109+[7]A08!K109+[8]A08!K109+[9]A08!K109+[10]A08!K109+[10]A08!K109+[11]A08!K109+[12]A08!K109","v":0},{"$f":"+[1]A08!L109+[2]A08!L109+[3]A08!L109+[4]A08!L109+[5]A08!L109+[6]A08!L109+[7]A08!L109+[8]A08!L109+[9]A08!L109+[10]A08!L109+[10]A08!L109+[11]A08!L109+[12]A08!L109","v":0},{"$f":"+[1]A08!M109+[2]A08!M109+[3]A08!M109+[4]A08!M109+[5]A08!M109+[6]A08!M109+[7]A08!M109+[8]A08!M109+[9]A08!M109+[10]A08!M109+[10]A08!M109+[11]A08!M109+[12]A08!M109","v":0},{"$f":"+[1]A08!N109+[2]A08!N109+[3]A08!N109+[4]A08!N109+[5]A08!N109+[6]A08!N109+[7]A08!N109+[8]A08!N109+[9]A08!N109+[10]A08!N109+[10]A08!N109+[11]A08!N109+[12]A08!N109","v":0},{"$f":"+[1]A08!O109+[2]A08!O109+[3]A08!O109+[4]A08!O109+[5]A08!O109+[6]A08!O109+[7]A08!O109+[8]A08!O109+[9]A08!O109+[10]A08!O109+[10]A08!O109+[11]A08!O109+[12]A08!O109","v":0},{"$f":"+[1]A08!P109+[2]A08!P109+[3]A08!P109+[4]A08!P109+[5]A08!P109+[6]A08!P109+[7]A08!P109+[8]A08!P109+[9]A08!P109+[10]A08!P109+[10]A08!P109+[11]A08!P109+[12]A08!P109","v":0},{"$f":"+[1]A08!Q109+[2]A08!Q109+[3]A08!Q109+[4]A08!Q109+[5]A08!Q109+[6]A08!Q109+[7]A08!Q109+[8]A08!Q109+[9]A08!Q109+[10]A08!Q109+[10]A08!Q109+[11]A08!Q109+[12]A08!Q109","v":0},{"$f":"+[1]A08!R109+[2]A08!R109+[3]A08!R109+[4]A08!R109+[5]A08!R109+[6]A08!R109+[7]A08!R109+[8]A08!R109+[9]A08!R109+[10]A08!R109+[10]A08!R109+[11]A08!R109+[12]A08!R109","v":0},{"$f":"+[1]A08!S109+[2]A08!S109+[3]A08!S109+[4]A08!S109+[5]A08!S109+[6]A08!S109+[7]A08!S109+[8]A08!S109+[9]A08!S109+[10]A08!S109+[10]A08!S109+[11]A08!S109+[12]A08!S109","v":0},{"$f":"+[1]A08!T109+[2]A08!T109+[3]A08!T109+[4]A08!T109+[5]A08!T109+[6]A08!T109+[7]A08!T109+[8]A08!T109+[9]A08!T109+[10]A08!T109+[10]A08!T109+[11]A08!T109+[12]A08!T109","v":0},{"$f":"+[1]A08!U109+[2]A08!U109+[3]A08!U109+[4]A08!U109+[5]A08!U109+[6]A08!U109+[7]A08!U109+[8]A08!U109+[9]A08!U109+[10]A08!U109+[10]A08!U109+[11]A08!U109+[12]A08!U109","v":0},{"$f":"+[1]A08!V109+[2]A08!V109+[3]A08!V109+[4]A08!V109+[5]A08!V109+[6]A08!V109+[7]A08!V109+[8]A08!V109+[9]A08!V109+[10]A08!V109+[10]A08!V109+[11]A08!V109+[12]A08!V109","v":0},{"$f":"+[1]A08!W109+[2]A08!W109+[3]A08!W109+[4]A08!W109+[5]A08!W109+[6]A08!W109+[7]A08!W109+[8]A08!W109+[9]A08!W109+[10]A08!W109+[10]A08!W109+[11]A08!W109+[12]A08!W109","v":0},{"$f":"+[1]A08!X109+[2]A08!X109+[3]A08!X109+[4]A08!X109+[5]A08!X109+[6]A08!X109+[7]A08!X109+[8]A08!X109+[9]A08!X109+[10]A08!X109+[10]A08!X109+[11]A08!X109+[12]A08!X109","v":0},{"$f":"+[1]A08!Y109+[2]A08!Y109+[3]A08!Y109+[4]A08!Y109+[5]A08!Y109+[6]A08!Y109+[7]A08!Y109+[8]A08!Y109+[9]A08!Y109+[10]A08!Y109+[10]A08!Y109+[11]A08!Y109+[12]A08!Y109","v":0},{"$f":"+[1]A08!Z109+[2]A08!Z109+[3]A08!Z109+[4]A08!Z109+[5]A08!Z109+[6]A08!Z109+[7]A08!Z109+[8]A08!Z109+[9]A08!Z109+[10]A08!Z109+[10]A08!Z109+[11]A08!Z109+[12]A08!Z109","v":0},{"$f":"+[1]A08!AA109+[2]A08!AA109+[3]A08!AA109+[4]A08!AA109+[5]A08!AA109+[6]A08!AA109+[7]A08!AA109+[8]A08!AA109+[9]A08!AA109+[10]A08!AA109+[10]A08!AA109+[11]A08!AA109+[12]A08!AA109","v":0},{"$f":"+[1]A08!AB109+[2]A08!AB109+[3]A08!AB109+[4]A08!AB109+[5]A08!AB109+[6]A08!AB109+[7]A08!AB109+[8]A08!AB109+[9]A08!AB109+[10]A08!AB109+[10]A08!AB109+[11]A08!AB109+[12]A08!AB109","v":0},{"$f":"+[1]A08!AC109+[2]A08!AC109+[3]A08!AC109+[4]A08!AC109+[5]A08!AC109+[6]A08!AC109+[7]A08!AC109+[8]A08!AC109+[9]A08!AC109+[10]A08!AC109+[10]A08!AC109+[11]A08!AC109+[12]A08!AC109","v":0},{"$f":"+[1]A08!AD109+[2]A08!AD109+[3]A08!AD109+[4]A08!AD109+[5]A08!AD109+[6]A08!AD109+[7]A08!AD109+[8]A08!AD109+[9]A08!AD109+[10]A08!AD109+[10]A08!AD109+[11]A08!AD109+[12]A08!AD109","v":0},{"$f":"+[1]A08!AE109+[2]A08!AE109+[3]A08!AE109+[4]A08!AE109+[5]A08!AE109+[6]A08!AE109+[7]A08!AE109+[8]A08!AE109+[9]A08!AE109+[10]A08!AE109+[10]A08!AE109+[11]A08!AE109+[12]A08!AE109","v":0},{"$f":"+[1]A08!AF109+[2]A08!AF109+[3]A08!AF109+[4]A08!AF109+[5]A08!AF109+[6]A08!AF109+[7]A08!AF109+[8]A08!AF109+[9]A08!AF109+[10]A08!AF109+[10]A08!AF109+[11]A08!AF109+[12]A08!AF109","v":0},{"$f":"+[1]A08!AG109+[2]A08!AG109+[3]A08!AG109+[4]A08!AG109+[5]A08!AG109+[6]A08!AG109+[7]A08!AG109+[8]A08!AG109+[9]A08!AG109+[10]A08!AG109+[10]A08!AG109+[11]A08!AG109+[12]A08!AG109","v":0},{"$f":"+[1]A08!AH109+[2]A08!AH109+[3]A08!AH109+[4]A08!AH109+[5]A08!AH109+[6]A08!AH109+[7]A08!AH109+[8]A08!AH109+[9]A08!AH109+[10]A08!AH109+[10]A08!AH109+[11]A08!AH109+[12]A08!AH109","v":0},{"$f":"+[1]A08!AI109+[2]A08!AI109+[3]A08!AI109+[4]A08!AI109+[5]A08!AI109+[6]A08!AI109+[7]A08!AI109+[8]A08!AI109+[9]A08!AI109+[10]A08!AI109+[10]A08!AI109+[11]A08!AI109+[12]A08!AI109","v":0},{"$f":"+[1]A08!AJ109+[2]A08!AJ109+[3]A08!AJ109+[4]A08!AJ109+[5]A08!AJ109+[6]A08!AJ109+[7]A08!AJ109+[8]A08!AJ109+[9]A08!AJ109+[10]A08!AJ109+[10]A08!AJ109+[11]A08!AJ109+[12]A08!AJ109","v":0},{"$f":"+[1]A08!AK109+[2]A08!AK109+[3]A08!AK109+[4]A08!AK109+[5]A08!AK109+[6]A08!AK109+[7]A08!AK109+[8]A08!AK109+[9]A08!AK109+[10]A08!AK109+[10]A08!AK109+[11]A08!AK109+[12]A08!AK109","v":0},{"$f":"+[1]A08!AL109+[2]A08!AL109+[3]A08!AL109+[4]A08!AL109+[5]A08!AL109+[6]A08!AL109+[7]A08!AL109+[8]A08!AL109+[9]A08!AL109+[10]A08!AL109+[10]A08!AL109+[11]A08!AL109+[12]A08!AL109","v":0},{"$f":"+[1]A08!AM109+[2]A08!AM109+[3]A08!AM109+[4]A08!AM109+[5]A08!AM109+[6]A08!AM109+[7]A08!AM109+[8]A08!AM109+[9]A08!AM109+[10]A08!AM109+[10]A08!AM109+[11]A08!AM109+[12]A08!AM109","v":0},{"$f":"+[1]A08!AN109+[2]A08!AN109+[3]A08!AN109+[4]A08!AN109+[5]A08!AN109+[6]A08!AN109+[7]A08!AN109+[8]A08!AN109+[9]A08!AN109+[10]A08!AN109+[10]A08!AN109+[11]A08!AN109+[12]A08!AN109","v":0},null,null,null,null,null,null,null,null,null,null,null,null,null,null,null,null,null,null,null,null,null,null,null,null,null,null,null,null,null,null,null,null,null,null,null,null,null,null,{"$f":"IF(C109=0,\"\",IF(AN109=\"\",IF(C109=\"\",\"\",\"* No olvide digitar la columna Beneficiarios. \"),\"\"))","v":""},{"$f":"IF(C109<AN109,\"* El número de Beneficiarios NO DEBE ser mayor que el total. \",\"\")","v":""},null,null,null,null,{"$f":"IF(C109<AN109,1,0)","v":0},{"$f":"IF(C109=0,\"\",IF(AN109=\"\",IF(C109=\"\",\"\",1),0))","v":""}]
["PACIENTES FALLECIDOS EN ESPERA DE CAMA HOSPITALARIA ",null,{"$f":"SUM(D110+E110)","v":0},0,0,{"$f":"+[1]A08!F110+[2]A08!F110+[3]A08!F110+[4]A08!F110+[5]A08!F110+[6]A08!F110+[7]A08!F110+[8]A08!F110+[9]A08!F110+[10]A08!F110+[10]A08!F110+[11]A08!F110+[12]A08!F110","v":0},{"$f":"+[1]A08!G110+[2]A08!G110+[3]A08!G110+[4]A08!G110+[5]A08!G110+[6]A08!G110+[7]A08!G110+[8]A08!G110+[9]A08!G110+[10]A08!G110+[10]A08!G110+[11]A08!G110+[12]A08!G110","v":0},{"$f":"+[1]A08!H110+[2]A08!H110+[3]A08!H110+[4]A08!H110+[5]A08!H110+[6]A08!H110+[7]A08!H110+[8]A08!H110+[9]A08!H110+[10]A08!H110+[10]A08!H110+[11]A08!H110+[12]A08!H110","v":0},{"$f":"+[1]A08!I110+[2]A08!I110+[3]A08!I110+[4]A08!I110+[5]A08!I110+[6]A08!I110+[7]A08!I110+[8]A08!I110+[9]A08!I110+[10]A08!I110+[10]A08!I110+[11]A08!I110+[12]A08!I110","v":0},{"$f":"+[1]A08!J110+[2]A08!J110+[3]A08!J110+[4]A08!J110+[5]A08!J110+[6]A08!J110+[7]A08!J110+[8]A08!J110+[9]A08!J110+[10]A08!J110+[10]A08!J110+[11]A08!J110+[12]A08!J110","v":0},{"$f":"+[1]A08!K110+[2]A08!K110+[3]A08!K110+[4]A08!K110+[5]A08!K110+[6]A08!K110+[7]A08!K110+[8]A08!K110+[9]A08!K110+[10]A08!K110+[10]A08!K110+[11]A08!K110+[12]A08!K110","v":0},{"$f":"+[1]A08!L110+[2]A08!L110+[3]A08!L110+[4]A08!L110+[5]A08!L110+[6]A08!L110+[7]A08!L110+[8]A08!L110+[9]A08!L110+[10]A08!L110+[10]A08!L110+[11]A08!L110+[12]A08!L110","v":0},{"$f":"+[1]A08!M110+[2]A08!M110+[3]A08!M110+[4]A08!M110+[5]A08!M110+[6]A08!M110+[7]A08!M110+[8]A08!M110+[9]A08!M110+[10]A08!M110+[10]A08!M110+[11]A08!M110+[12]A08!M110","v":0},{"$f":"+[1]A08!N110+[2]A08!N110+[3]A08!N110+[4]A08!N110+[5]A08!N110+[6]A08!N110+[7]A08!N110+[8]A08!N110+[9]A08!N110+[10]A08!N110+[10]A08!N110+[11]A08!N110+[12]A08!N110","v":0},{"$f":"+[1]A08!O110+[2]A08!O110+[3]A08!O110+[4]A08!O110+[5]A08!O110+[6]A08!O110+[7]A08!O110+[8]A08!O110+[9]A08!O110+[10]A08!O110+[10]A08!O110+[11]A08!O110+[12]A08!O110","v":0},{"$f":"+[1]A08!P110+[2]A08!P110+[3]A08!P110+[4]A08!P110+[5]A08!P110+[6]A08!P110+[7]A08!P110+[8]A08!P110+[9]A08!P110+[10]A08!P110+[10]A08!P110+[11]A08!P110+[12]A08!P110","v":0},{"$f":"+[1]A08!Q110+[2]A08!Q110+[3]A08!Q110+[4]A08!Q110+[5]A08!Q110+[6]A08!Q110+[7]A08!Q110+[8]A08!Q110+[9]A08!Q110+[10]A08!Q110+[10]A08!Q110+[11]A08!Q110+[12]A08!Q110","v":0},{"$f":"+[1]A08!R110+[2]A08!R110+[3]A08!R110+[4]A08!R110+[5]A08!R110+[6]A08!R110+[7]A08!R110+[8]A08!R110+[9]A08!R110+[10]A08!R110+[10]A08!R110+[11]A08!R110+[12]A08!R110","v":0},{"$f":"+[1]A08!S110+[2]A08!S110+[3]A08!S110+[4]A08!S110+[5]A08!S110+[6]A08!S110+[7]A08!S110+[8]A08!S110+[9]A08!S110+[10]A08!S110+[10]A08!S110+[11]A08!S110+[12]A08!S110","v":0},{"$f":"+[1]A08!T110+[2]A08!T110+[3]A08!T110+[4]A08!T110+[5]A08!T110+[6]A08!T110+[7]A08!T110+[8]A08!T110+[9]A08!T110+[10]A08!T110+[10]A08!T110+[11]A08!T110+[12]A08!T110","v":0},{"$f":"+[1]A08!U110+[2]A08!U110+[3]A08!U110+[4]A08!U110+[5]A08!U110+[6]A08!U110+[7]A08!U110+[8]A08!U110+[9]A08!U110+[10]A08!U110+[10]A08!U110+[11]A08!U110+[12]A08!U110","v":0},{"$f":"+[1]A08!V110+[2]A08!V110+[3]A08!V110+[4]A08!V110+[5]A08!V110+[6]A08!V110+[7]A08!V110+[8]A08!V110+[9]A08!V110+[10]A08!V110+[10]A08!V110+[11]A08!V110+[12]A08!V110","v":0},{"$f":"+[1]A08!W110+[2]A08!W110+[3]A08!W110+[4]A08!W110+[5]A08!W110+[6]A08!W110+[7]A08!W110+[8]A08!W110+[9]A08!W110+[10]A08!W110+[10]A08!W110+[11]A08!W110+[12]A08!W110","v":0},{"$f":"+[1]A08!X110+[2]A08!X110+[3]A08!X110+[4]A08!X110+[5]A08!X110+[6]A08!X110+[7]A08!X110+[8]A08!X110+[9]A08!X110+[10]A08!X110+[10]A08!X110+[11]A08!X110+[12]A08!X110","v":0},{"$f":"+[1]A08!Y110+[2]A08!Y110+[3]A08!Y110+[4]A08!Y110+[5]A08!Y110+[6]A08!Y110+[7]A08!Y110+[8]A08!Y110+[9]A08!Y110+[10]A08!Y110+[10]A08!Y110+[11]A08!Y110+[12]A08!Y110","v":0},{"$f":"+[1]A08!Z110+[2]A08!Z110+[3]A08!Z110+[4]A08!Z110+[5]A08!Z110+[6]A08!Z110+[7]A08!Z110+[8]A08!Z110+[9]A08!Z110+[10]A08!Z110+[10]A08!Z110+[11]A08!Z110+[12]A08!Z110","v":0},{"$f":"+[1]A08!AA110+[2]A08!AA110+[3]A08!AA110+[4]A08!AA110+[5]A08!AA110+[6]A08!AA110+[7]A08!AA110+[8]A08!AA110+[9]A08!AA110+[10]A08!AA110+[10]A08!AA110+[11]A08!AA110+[12]A08!AA110","v":0},{"$f":"+[1]A08!AB110+[2]A08!AB110+[3]A08!AB110+[4]A08!AB110+[5]A08!AB110+[6]A08!AB110+[7]A08!AB110+[8]A08!AB110+[9]A08!AB110+[10]A08!AB110+[10]A08!AB110+[11]A08!AB110+[12]A08!AB110","v":0},{"$f":"+[1]A08!AC110+[2]A08!AC110+[3]A08!AC110+[4]A08!AC110+[5]A08!AC110+[6]A08!AC110+[7]A08!AC110+[8]A08!AC110+[9]A08!AC110+[10]A08!AC110+[10]A08!AC110+[11]A08!AC110+[12]A08!AC110","v":0},{"$f":"+[1]A08!AD110+[2]A08!AD110+[3]A08!AD110+[4]A08!AD110+[5]A08!AD110+[6]A08!AD110+[7]A08!AD110+[8]A08!AD110+[9]A08!AD110+[10]A08!AD110+[10]A08!AD110+[11]A08!AD110+[12]A08!AD110","v":0},{"$f":"+[1]A08!AE110+[2]A08!AE110+[3]A08!AE110+[4]A08!AE110+[5]A08!AE110+[6]A08!AE110+[7]A08!AE110+[8]A08!AE110+[9]A08!AE110+[10]A08!AE110+[10]A08!AE110+[11]A08!AE110+[12]A08!AE110","v":0},{"$f":"+[1]A08!AF110+[2]A08!AF110+[3]A08!AF110+[4]A08!AF110+[5]A08!AF110+[6]A08!AF110+[7]A08!AF110+[8]A08!AF110+[9]A08!AF110+[10]A08!AF110+[10]A08!AF110+[11]A08!AF110+[12]A08!AF110","v":0},{"$f":"+[1]A08!AG110+[2]A08!AG110+[3]A08!AG110+[4]A08!AG110+[5]A08!AG110+[6]A08!AG110+[7]A08!AG110+[8]A08!AG110+[9]A08!AG110+[10]A08!AG110+[10]A08!AG110+[11]A08!AG110+[12]A08!AG110","v":0},{"$f":"+[1]A08!AH110+[2]A08!AH110+[3]A08!AH110+[4]A08!AH110+[5]A08!AH110+[6]A08!AH110+[7]A08!AH110+[8]A08!AH110+[9]A08!AH110+[10]A08!AH110+[10]A08!AH110+[11]A08!AH110+[12]A08!AH110","v":0},{"$f":"+[1]A08!AI110+[2]A08!AI110+[3]A08!AI110+[4]A08!AI110+[5]A08!AI110+[6]A08!AI110+[7]A08!AI110+[8]A08!AI110+[9]A08!AI110+[10]A08!AI110+[10]A08!AI110+[11]A08!AI110+[12]A08!AI110","v":0},{"$f":"+[1]A08!AJ110+[2]A08!AJ110+[3]A08!AJ110+[4]A08!AJ110+[5]A08!AJ110+[6]A08!AJ110+[7]A08!AJ110+[8]A08!AJ110+[9]A08!AJ110+[10]A08!AJ110+[10]A08!AJ110+[11]A08!AJ110+[12]A08!AJ110","v":0},{"$f":"+[1]A08!AK110+[2]A08!AK110+[3]A08!AK110+[4]A08!AK110+[5]A08!AK110+[6]A08!AK110+[7]A08!AK110+[8]A08!AK110+[9]A08!AK110+[10]A08!AK110+[10]A08!AK110+[11]A08!AK110+[12]A08!AK110","v":0},{"$f":"+[1]A08!AL110+[2]A08!AL110+[3]A08!AL110+[4]A08!AL110+[5]A08!AL110+[6]A08!AL110+[7]A08!AL110+[8]A08!AL110+[9]A08!AL110+[10]A08!AL110+[10]A08!AL110+[11]A08!AL110+[12]A08!AL110","v":0},{"$f":"+[1]A08!AM110+[2]A08!AM110+[3]A08!AM110+[4]A08!AM110+[5]A08!AM110+[6]A08!AM110+[7]A08!AM110+[8]A08!AM110+[9]A08!AM110+[10]A08!AM110+[10]A08!AM110+[11]A08!AM110+[12]A08!AM110","v":0},{"$f":"+[1]A08!AN110+[2]A08!AN110+[3]A08!AN110+[4]A08!AN110+[5]A08!AN110+[6]A08!AN110+[7]A08!AN110+[8]A08!AN110+[9]A08!AN110+[10]A08!AN110+[10]A08!AN110+[11]A08!AN110+[12]A08!AN110","v":0},null,null,null,null,null,null,null,null,null,null,null,null,null,null,null,null,null,null,null,null,null,null,null,null,null,null,null,null,null,null,null,null,null,null,null,null,null,null,{"$f":"IF(C110=0,\"\",IF(AN110=\"\",IF(C110=\"\",\"\",\"* No olvide digitar la columna Beneficiarios. \"),\"\"))","v":""},{"$f":"IF(C110<AN110,\"* El número de Beneficiarios NO DEBE ser mayor que el total. \",\"\")","v":""},null,null,null,null,{"$f":"IF(C110<AN110,1,0)","v":0},{"$f":"IF(C110=0,\"\",IF(AN110=\"\",IF(C110=\"\",\"\",1),0))","v":""}]
["SECCIÓN G: ATENCIONES MÉDICAS ASOCIADAS A  VIOLENCIA"]
["CONCEPTO",null,"TOTAL",null,null,"0 - 9",null,"10-17",null,"18 - 24",null,"25-34",null,"35-44",null,"45-54",null,"55-64",null,"65 -74",null,"75 años y más",null,"Embarazadas","AGRESOR /A",null,null,null,"Total",null,"LESIONES DE LA VÍCTIMA",null,null,null,"Sin lesiones constatables"]
[null,null,"Ambos Sexos","Hombres","Mujeres","Hombres ","Mujeres","Hombres ","Mujeres","Hombres ","Mujeres","Hombres ","Mujeres","Hombres ","Mujeres","Hombres ","Mujeres","Hombres ","Mujeres","Hombres ","Mujeres","Hombres ","Mujeres",null,"Pareja/ Ex pareja","Familiar","Conocido/a","Desconocido/a","Hombre","Mujer","Trau-\nmatológicas","Odonto-\nlógicas","Contusio-nales","Por Arma"]
["VIOLENCIA INTRAFAMILIAR",null,{"$f":"SUM(D114+E114)","v":0},{"$f":"SUM(F114+H114+J114+L114+N114+P114+R114+T114+V114)","v":0},{"$f":"SUM(G114+I114+K114+M114+O114+Q114+S114+U114+W114)","v":0},{"$f":"+[1]A08!F114+[2]A08!F114+[3]A08!F114+[4]A08!F114+[5]A08!F114+[6]A08!F114+[7]A08!F114+[8]A08!F114+[9]A08!F114+[10]A08!F114+[10]A08!F114+[11]A08!F114+[12]A08!F114","v":0},{"$f":"+[1]A08!G114+[2]A08!G114+[3]A08!G114+[4]A08!G114+[5]A08!G114+[6]A08!G114+[7]A08!G114+[8]A08!G114+[9]A08!G114+[10]A08!G114+[10]A08!G114+[11]A08!G114+[12]A08!G114","v":0},{"$f":"+[1]A08!H114+[2]A08!H114+[3]A08!H114+[4]A08!H114+[5]A08!H114+[6]A08!H114+[7]A08!H114+[8]A08!H114+[9]A08!H114+[10]A08!H114+[10]A08!H114+[11]A08!H114+[12]A08!H114","v":0},{"$f":"+[1]A08!I114+[2]A08!I114+[3]A08!I114+[4]A08!I114+[5]A08!I114+[6]A08!I114+[7]A08!I114+[8]A08!I114+[9]A08!I114+[10]A08!I114+[10]A08!I114+[11]A08!I114+[12]A08!I114","v":0},{"$f":"+[1]A08!J114+[2]A08!J114+[3]A08!J114+[4]A08!J114+[5]A08!J114+[6]A08!J114+[7]A08!J114+[8]A08!J114+[9]A08!J114+[10]A08!J114+[10]A08!J114+[11]A08!J114+[12]A08!J114","v":0},{"$f":"+[1]A08!K114+[2]A08!K114+[3]A08!K114+[4]A08!K114+[5]A08!K114+[6]A08!K114+[7]A08!K114+[8]A08!K114+[9]A08!K114+[10]A08!K114+[10]A08!K114+[11]A08!K114+[12]A08!K114","v":0},{"$f":"+[1]A08!L114+[2]A08!L114+[3]A08!L114+[4]A08!L114+[5]A08!L114+[6]A08!L114+[7]A08!L114+[8]A08!L114+[9]A08!L114+[10]A08!L114+[10]A08!L114+[11]A08!L114+[12]A08!L114","v":0},{"$f":"+[1]A08!M114+[2]A08!M114+[3]A08!M114+[4]A08!M114+[5]A08!M114+[6]A08!M114+[7]A08!M114+[8]A08!M114+[9]A08!M114+[10]A08!M114+[10]A08!M114+[11]A08!M114+[12]A08!M114","v":0},{"$f":"+[1]A08!N114+[2]A08!N114+[3]A08!N114+[4]A08!N114+[5]A08!N114+[6]A08!N114+[7]A08!N114+[8]A08!N114+[9]A08!N114+[10]A08!N114+[10]A08!N114+[11]A08!N114+[12]A08!N114","v":0},{"$f":"+[1]A08!O114+[2]A08!O114+[3]A08!O114+[4]A08!O114+[5]A08!O114+[6]A08!O114+[7]A08!O114+[8]A08!O114+[9]A08!O114+[10]A08!O114+[10]A08!O114+[11]A08!O114+[12]A08!O114","v":0},{"$f":"+[1]A08!P114+[2]A08!P114+[3]A08!P114+[4]A08!P114+[5]A08!P114+[6]A08!P114+[7]A08!P114+[8]A08!P114+[9]A08!P114+[10]A08!P114+[10]A08!P114+[11]A08!P114+[12]A08!P114","v":0},{"$f":"+[1]A08!Q114+[2]A08!Q114+[3]A08!Q114+[4]A08!Q114+[5]A08!Q114+[6]A08!Q114+[7]A08!Q114+[8]A08!Q114+[9]A08!Q114+[10]A08!Q114+[10]A08!Q114+[11]A08!Q114+[12]A08!Q114","v":0},{"$f":"+[1]A08!R114+[2]A08!R114+[3]A08!R114+[4]A08!R114+[5]A08!R114+[6]A08!R114+[7]A08!R114+[8]A08!R114+[9]A08!R114+[10]A08!R114+[10]A08!R114+[11]A08!R114+[12]A08!R114","v":0},{"$f":"+[1]A08!S114+[2]A08!S114+[3]A08!S114+[4]A08!S114+[5]A08!S114+[6]A08!S114+[7]A08!S114+[8]A08!S114+[9]A08!S114+[10]A08!S114+[10]A08!S114+[11]A08!S114+[12]A08!S114","v":0},{"$f":"+[1]A08!T114+[2]A08!T114+[3]A08!T114+[4]A08!T114+[5]A08!T114+[6]A08!T114+[7]A08!T114+[8]A08!T114+[9]A08!T114+[10]A08!T114+[10]A08!T114+[11]A08!T114+[12]A08!T114","v":0},{"$f":"+[1]A08!U114+[2]A08!U114+[3]A08!U114+[4]A08!U114+[5]A08!U114+[6]A08!U114+[7]A08!U114+[8]A08!U114+[9]A08!U114+[10]A08!U114+[10]A08!U114+[11]A08!U114+[12]A08!U114","v":0},{"$f":"+[1]A08!V114+[2]A08!V114+[3]A08!V114+[4]A08!V114+[5]A08!V114+[6]A08!V114+[7]A08!V114+[8]A08!V114+[9]A08!V114+[10]A08!V114+[10]A08!V114+[11]A08!V114+[12]A08!V114","v":0},{"$f":"+[1]A08!W114+[2]A08!W114+[3]A08!W114+[4]A08!W114+[5]A08!W114+[6]A08!W114+[7]A08!W114+[8]A08!W114+[9]A08!W114+[10]A08!W114+[10]A08!W114+[11]A08!W114+[12]A08!W114","v":0},{"$f":"+[1]A08!X114+[2]A08!X114+[3]A08!X114+[4]A08!X114+[5]A08!X114+[6]A08!X114+[7]A08!X114+[8]A08!X114+[9]A08!X114+[10]A08!X114+[10]A08!X114+[11]A08!X114+[12]A08!X114","v":0},{"$f":"+[1]A08!Y114+[2]A08!Y114+[3]A08!Y114+[4]A08!Y114+[5]A08!Y114+[6]A08!Y114+[7]A08!Y114+[8]A08!Y114+[9]A08!Y114+[10]A08!Y114+[10]A08!Y114+[11]A08!Y114+[12]A08!Y114","v":0},{"$f":"+[1]A08!Z114+[2]A08!Z114+[3]A08!Z114+[4]A08!Z114+[5]A08!Z114+[6]A08!Z114+[7]A08!Z114+[8]A08!Z114+[9]A08!Z114+[10]A08!Z114+[10]A08!Z114+[11]A08!Z114+[12]A08!Z114","v":0},null,null,{"$f":"+[1]A08!AC114+[2]A08!AC114+[3]A08!AC114+[4]A08!AC114+[5]A08!AC114+[6]A08!AC114+[7]A08!AC114+[8]A08!AC114+[9]A08!AC114+[10]A08!AC114+[10]A08!AC114+[11]A08!AC114+[12]A08!AC114","v":0},{"$f":"+[1]A08!AD114+[2]A08!AD114+[3]A08!AD114+[4]A08!AD114+[5]A08!AD114+[6]A08!AD114+[7]A08!AD114+[8]A08!AD114+[9]A08!AD114+[10]A08!AD114+[10]A08!AD114+[11]A08!AD114+[12]A08!AD114","v":0},{"$f":"+[1]A08!AE114+[2]A08!AE114+[3]A08!AE114+[4]A08!AE114+[5]A08!AE114+[6]A08!AE114+[7]A08!AE114+[8]A08!AE114+[9]A08!AE114+[10]A08!AE114+[10]A08!AE114+[11]A08!AE114+[12]A08!AE114","v":0},{"$f":"+[1]A08!AF114+[2]A08!AF114+[3]A08!AF114+[4]A08!AF114+[5]A08!AF114+[6]A08!AF114+[7]A08!AF114+[8]A08!AF114+[9]A08!AF114+[10]A08!AF114+[10]A08!AF114+[11]A08!AF114+[12]A08!AF114","v":0},{"$f":"+[1]A08!AG114+[2]A08!AG114+[3]A08!AG114+[4]A08!AG114+[5]A08!AG114+[6]A08!AG114+[7]A08!AG114+[8]A08!AG114+[9]A08!AG114+[10]A08!AG114+[10]A08!AG114+[11]A08!AG114+[12]A08!AG114","v":0},{"$f":"+[1]A08!AH114+[2]A08!AH114+[3]A08!AH114+[4]A08!AH114+[5]A08!AH114+[6]A08!AH114+[7]A08!AH114+[8]A08!AH114+[9]A08!AH114+[10]A08!AH114+[10]A08!AH114+[11]A08!AH114+[12]A08!AH114","v":0},{"$f":"+[1]A08!AI114+[2]A08!AI114+[3]A08!AI114+[4]A08!AI114+[5]A08!AI114+[6]A08!AI114+[7]A08!AI114+[8]A08!AI114+[9]A08!AI114+[10]A08!AI114+[10]A08!AI114+[11]A08!AI114+[12]A08!AI114","v":0},null,null,null,null,null,null,null,null,null,null,null,null,null,null,null,null,null,null,null,null,null,null,null,null,null,null,null,null,null,null,null,null,null,null,null,null,null,null,null,null,null,null,null,null,null,null,null,null,null,0,0,0]
["OTRAS VIOLENCIAS ",null,{"$f":"SUM(D115+E115)","v":0},{"$f":"SUM(F115+H115+J115+L115+N115+P115+R115+T115+V115)","v":0},{"$f":"SUM(G115+I115+K115+M115+O115+Q115+S115+U115+W115)","v":0},{"$f":"+[1]A08!F115+[2]A08!F115+[3]A08!F115+[4]A08!F115+[5]A08!F115+[6]A08!F115+[7]A08!F115+[8]A08!F115+[9]A08!F115+[10]A08!F115+[10]A08!F115+[11]A08!F115+[12]A08!F115","v":0},{"$f":"+[1]A08!G115+[2]A08!G115+[3]A08!G115+[4]A08!G115+[5]A08!G115+[6]A08!G115+[7]A08!G115+[8]A08!G115+[9]A08!G115+[10]A08!G115+[10]A08!G115+[11]A08!G115+[12]A08!G115","v":0},{"$f":"+[1]A08!H115+[2]A08!H115+[3]A08!H115+[4]A08!H115+[5]A08!H115+[6]A08!H115+[7]A08!H115+[8]A08!H115+[9]A08!H115+[10]A08!H115+[10]A08!H115+[11]A08!H115+[12]A08!H115","v":0},{"$f":"+[1]A08!I115+[2]A08!I115+[3]A08!I115+[4]A08!I115+[5]A08!I115+[6]A08!I115+[7]A08!I115+[8]A08!I115+[9]A08!I115+[10]A08!I115+[10]A08!I115+[11]A08!I115+[12]A08!I115","v":0},{"$f":"+[1]A08!J115+[2]A08!J115+[3]A08!J115+[4]A08!J115+[5]A08!J115+[6]A08!J115+[7]A08!J115+[8]A08!J115+[9]A08!J115+[10]A08!J115+[10]A08!J115+[11]A08!J115+[12]A08!J115","v":0},{"$f":"+[1]A08!K115+[2]A08!K115+[3]A08!K115+[4]A08!K115+[5]A08!K115+[6]A08!K115+[7]A08!K115+[8]A08!K115+[9]A08!K115+[10]A08!K115+[10]A08!K115+[11]A08!K115+[12]A08!K115","v":0},{"$f":"+[1]A08!L115+[2]A08!L115+[3]A08!L115+[4]A08!L115+[5]A08!L115+[6]A08!L115+[7]A08!L115+[8]A08!L115+[9]A08!L115+[10]A08!L115+[10]A08!L115+[11]A08!L115+[12]A08!L115","v":0},{"$f":"+[1]A08!M115+[2]A08!M115+[3]A08!M115+[4]A08!M115+[5]A08!M115+[6]A08!M115+[7]A08!M115+[8]A08!M115+[9]A08!M115+[10]A08!M115+[10]A08!M115+[11]A08!M115+[12]A08!M115","v":0},{"$f":"+[1]A08!N115+[2]A08!N115+[3]A08!N115+[4]A08!N115+[5]A08!N115+[6]A08!N115+[7]A08!N115+[8]A08!N115+[9]A08!N115+[10]A08!N115+[10]A08!N115+[11]A08!N115+[12]A08!N115","v":0},{"$f":"+[1]A08!O115+[2]A08!O115+[3]A08!O115+[4]A08!O115+[5]A08!O115+[6]A08!O115+[7]A08!O115+[8]A08!O115+[9]A08!O115+[10]A08!O115+[10]A08!O115+[11]A08!O115+[12]A08!O115","v":0},{"$f":"+[1]A08!P115+[2]A08!P115+[3]A08!P115+[4]A08!P115+[5]A08!P115+[6]A08!P115+[7]A08!P115+[8]A08!P115+[9]A08!P115+[10]A08!P115+[10]A08!P115+[11]A08!P115+[12]A08!P115","v":0},{"$f":"+[1]A08!Q115+[2]A08!Q115+[3]A08!Q115+[4]A08!Q115+[5]A08!Q115+[6]A08!Q115+[7]A08!Q115+[8]A08!Q115+[9]A08!Q115+[10]A08!Q115+[10]A08!Q115+[11]A08!Q115+[12]A08!Q115","v":0},{"$f":"+[1]A08!R115+[2]A08!R115+[3]A08!R115+[4]A08!R115+[5]A08!R115+[6]A08!R115+[7]A08!R115+[8]A08!R115+[9]A08!R115+[10]A08!R115+[10]A08!R115+[11]A08!R115+[12]A08!R115","v":0},{"$f":"+[1]A08!S115+[2]A08!S115+[3]A08!S115+[4]A08!S115+[5]A08!S115+[6]A08!S115+[7]A08!S115+[8]A08!S115+[9]A08!S115+[10]A08!S115+[10]A08!S115+[11]A08!S115+[12]A08!S115","v":0},{"$f":"+[1]A08!T115+[2]A08!T115+[3]A08!T115+[4]A08!T115+[5]A08!T115+[6]A08!T115+[7]A08!T115+[8]A08!T115+[9]A08!T115+[10]A08!T115+[10]A08!T115+[11]A08!T115+[12]A08!T115","v":0},{"$f":"+[1]A08!U115+[2]A08!U115+[3]A08!U115+[4]A08!U115+[5]A08!U115+[6]A08!U115+[7]A08!U115+[8]A08!U115+[9]A08!U115+[10]A08!U115+[10]A08!U115+[11]A08!U115+[12]A08!U115","v":0},{"$f":"+[1]A08!V115+[2]A08!V115+[3]A08!V115+[4]A08!V115+[5]A08!V115+[6]A08!V115+[7]A08!V115+[8]A08!V115+[9]A08!V115+[10]A08!V115+[10]A08!V115+[11]A08!V115+[12]A08!V115","v":0},{"$f":"+[1]A08!W115+[2]A08!W115+[3]A08!W115+[4]A08!W115+[5]A08!W115+[6]A08!W115+[7]A08!W115+[8]A08!W115+[9]A08!W115+[10]A08!W115+[10]A08!W115+[11]A08!W115+[12]A08!W115","v":0},{"$f":"+[1]A08!X115+[2]A08!X115+[3]A08!X115+[4]A08!X115+[5]A08!X115+[6]A08!X115+[7]A08!X115+[8]A08!X115+[9]A08!X115+[10]A08!X115+[10]A08!X115+[11]A08!X115+[12]A08!X115","v":0},null,null,{"$f":"+[1]A08!AA115+[2]A08!AA115+[3]A08!AA115+[4]A08!AA115+[5]A08!AA115+[6]A08!AA115+[7]A08!AA115+[8]A08!AA115+[9]A08!AA115+[10]A08!AA115+[10]A08!AA115+[11]A08!AA115+[12]A08!AA115","v":0},{"$f":"+[1]A08!AB115+[2]A08!AB115+[3]A08!AB115+[4]A08!AB115+[5]A08!AB115+[6]A08!AB115+[7]A08!AB115+[8]A08!AB115+[9]A08!AB115+[10]A08!AB115+[10]A08!AB115+[11]A08!AB115+[12]A08!AB115","v":0},{"$f":"+[1]A08!AC115+[2]A08!AC115+[3]A08!AC115+[4]A08!AC115+[5]A08!AC115+[6]A08!AC115+[7]A08!AC115+[8]A08!AC115+[9]A08!AC115+[10]A08!AC115+[10]A08!AC115+[11]A08!AC115+[12]A08!AC115","v":0},{"$f":"+[1]A08!AD115+[2]A08!AD115+[3]A08!AD115+[4]A08!AD115+[5]A08!AD115+[6]A08!AD115+[7]A08!AD115+[8]A08!AD115+[9]A08!AD115+[10]A08!AD115+[10]A08!AD115+[11]A08!AD115+[12]A08!AD115","v":0},{"$f":"+[1]A08!AE115+[2]A08!AE115+[3]A08!AE115+[4]A08!AE115+[5]A08!AE115+[6]A08!AE115+[7]A08!AE115+[8]A08!AE115+[9]A08!AE115+[10]A08!AE115+[10]A08!AE115+[11]A08!AE115+[12]A08!AE115","v":0},{"$f":"+[1]A08!AF115+[2]A08!AF115+[3]A08!AF115+[4]A08!AF115+[5]A08!AF115+[6]A08!AF115+[7]A08!AF115+[8]A08!AF115+[9]A08!AF115+[10]A08!AF115+[10]A08!AF115+[11]A08!AF115+[12]A08!AF115","v":0},{"$f":"+[1]A08!AG115+[2]A08!AG115+[3]A08!AG115+[4]A08!AG115+[5]A08!AG115+[6]A08!AG115+[7]A08!AG115+[8]A08!AG115+[9]A08!AG115+[10]A08!AG115+[10]A08!AG115+[11]A08!AG115+[12]A08!AG115","v":0},{"$f":"+[1]A08!AH115+[2]A08!AH115+[3]A08!AH115+[4]A08!AH115+[5]A08!AH115+[6]A08!AH115+[7]A08!AH115+[8]A08!AH115+[9]A08!AH115+[10]A08!AH115+[10]A08!AH115+[11]A08!AH115+[12]A08!AH115","v":0},{"$f":"+[1]A08!AI115+[2]A08!AI115+[3]A08!AI115+[4]A08!AI115+[5]A08!AI115+[6]A08!AI115+[7]A08!AI115+[8]A08!AI115+[9]A08!AI115+[10]A08!AI115+[10]A08!AI115+[11]A08!AI115+[12]A08!AI115","v":0},null,null,null,null,null,null,null,null,null,null,null,null,null,null,null,null,null,null,null,null,null,null,null,null,null,null,null,null,null,null,null,null,null,null,null,null,null,null,null,null,null,null,null,null,null,null,null,null,null,0,0,0]
["SECCIÓN H: ATENCIONES  POR ANTICONCEPCIÓN DE EMERGENCIA "]
["CONCEPTO",null,"TOTAL","GRUPOS DE EDAD (en años)",null,null,null,null,null,"Beneficiarios"]
[null,null,null,"10 - 14","15 - 19","20 - 24","25 - 34","35 - 44","45 - 54"]
["ATENCIÓN POR ANTICONCEPCIÓN DE EMERGENCIA ","CON ENTREGA DE ANTICONCEPTIVO",{"$f":"SUM(D119:I119)","v":0},{"$f":"+[1]A08!D119+[2]A08!D119+[3]A08!D119+[4]A08!D119+[5]A08!D119+[6]A08!D119+[7]A08!D119+[8]A08!D119+[9]A08!D119+[10]A08!D119+[10]A08!D119+[11]A08!D119+[12]A08!D119","v":0},{"$f":"+[1]A08!E119+[2]A08!E119+[3]A08!E119+[4]A08!E119+[5]A08!E119+[6]A08!E119+[7]A08!E119+[8]A08!E119+[9]A08!E119+[10]A08!E119+[10]A08!E119+[11]A08!E119+[12]A08!E119","v":0},{"$f":"+[1]A08!F119+[2]A08!F119+[3]A08!F119+[4]A08!F119+[5]A08!F119+[6]A08!F119+[7]A08!F119+[8]A08!F119+[9]A08!F119+[10]A08!F119+[10]A08!F119+[11]A08!F119+[12]A08!F119","v":0},{"$f":"+[1]A08!G119+[2]A08!G119+[3]A08!G119+[4]A08!G119+[5]A08!G119+[6]A08!G119+[7]A08!G119+[8]A08!G119+[9]A08!G119+[10]A08!G119+[10]A08!G119+[11]A08!G119+[12]A08!G119","v":0},{"$f":"+[1]A08!H119+[2]A08!H119+[3]A08!H119+[4]A08!H119+[5]A08!H119+[6]A08!H119+[7]A08!H119+[8]A08!H119+[9]A08!H119+[10]A08!H119+[10]A08!H119+[11]A08!H119+[12]A08!H119","v":0},{"$f":"+[1]A08!I119+[2]A08!I119+[3]A08!I119+[4]A08!I119+[5]A08!I119+[6]A08!I119+[7]A08!I119+[8]A08!I119+[9]A08!I119+[10]A08!I119+[10]A08!I119+[11]A08!I119+[12]A08!I119","v":0},{"$f":"+[1]A08!J119+[2]A08!J119+[3]A08!J119+[4]A08!J119+[5]A08!J119+[6]A08!J119+[7]A08!J119+[8]A08!J119+[9]A08!J119+[10]A08!J119+[10]A08!J119+[11]A08!J119+[12]A08!J119","v":0},null,null,null,null,null,null,null,null,null,null,null,null,null,null,null,null,null,null,null,null,null,null,null,null,null,null,null,null,null,null,null,null,null,null,null,null,null,null,null,null,null,null,null,null,null,null,null,null,null,null,null,null,null,null,null,null,null,null,null,null,null,null,null,null,null,null,null,null,null,null,null,null,null,null,null,0,0]
[null,"SIN ENTREGA DE ANTICONCEPTIVO",{"$f":"SUM(D120:I120)","v":0},{"$f":"+[1]A08!D120+[2]A08!D120+[3]A08!D120+[4]A08!D120+[5]A08!D120+[6]A08!D120+[7]A08!D120+[8]A08!D120+[9]A08!D120+[10]A08!D120+[10]A08!D120+[11]A08!D120+[12]A08!D120","v":0},{"$f":"+[1]A08!E120+[2]A08!E120+[3]A08!E120+[4]A08!E120+[5]A08!E120+[6]A08!E120+[7]A08!E120+[8]A08!E120+[9]A08!E120+[10]A08!E120+[10]A08!E120+[11]A08!E120+[12]A08!E120","v":0},{"$f":"+[1]A08!F120+[2]A08!F120+[3]A08!F120+[4]A08!F120+[5]A08!F120+[6]A08!F120+[7]A08!F120+[8]A08!F120+[9]A08!F120+[10]A08!F120+[10]A08!F120+[11]A08!F120+[12]A08!F120","v":0},{"$f":"+[1]A08!G120+[2]A08!G120+[3]A08!G120+[4]A08!G120+[5]A08!G120+[6]A08!G120+[7]A08!G120+[8]A08!G120+[9]A08!G120+[10]A08!G120+[10]A08!G120+[11]A08!G120+[12]A08!G120","v":0},{"$f":"+[1]A08!H120+[2]A08!H120+[3]A08!H120+[4]A08!H120+[5]A08!H120+[6]A08!H120+[7]A08!H120+[8]A08!H120+[9]A08!H120+[10]A08!H120+[10]A08!H120+[11]A08!H120+[12]A08!H120","v":0},{"$f":"+[1]A08!I120+[2]A08!I120+[3]A08!I120+[4]A08!I120+[5]A08!I120+[6]A08!I120+[7]A08!I120+[8]A08!I120+[9]A08!I120+[10]A08!I120+[10]A08!I120+[11]A08!I120+[12]A08!I120","v":0},{"$f":"+[1]A08!J120+[2]A08!J120+[3]A08!J120+[4]A08!J120+[5]A08!J120+[6]A08!J120+[7]A08!J120+[8]A08!J120+[9]A08!J120+[10]A08!J120+[10]A08!J120+[11]A08!J120+[12]A08!J120","v":0},null,null,null,null,null,null,null,null,null,null,null,null,null,null,null,null,null,null,null,null,null,null,null,null,null,null,null,null,null,null,null,null,null,null,null,null,null,null,null,null,null,null,null,null,null,null,null,null,null,null,null,null,null,null,null,null,null,null,null,null,null,null,null,null,null,null,null,null,null,null,null,null,null,null,null,0,0]
["SECCIÓN I: MOTIVOS DE ATENCIÓN POR EMERGENCIA OBSTÉTRICA AL SERVICIO DE  URGENCIA  (Establecimientos Alta y Mediana Complejidad)."]
["PATOLOGÍA","CANTIDAD"]
[]
["PREECLAMPSIA SEVERA",{"$f":"+[1]A08!B124+[2]A08!B124+[3]A08!B124+[4]A08!B124+[5]A08!B124+[6]A08!B124+[7]A08!B124+[8]A08!B124+[9]A08!B124+[10]A08!B124+[10]A08!B124+[11]A08!B124+[12]A08!B124","v":0}]
["ECLAMPSIA",{"$f":"+[1]A08!B125+[2]A08!B125+[3]A08!B125+[4]A08!B125+[5]A08!B125+[6]A08!B125+[7]A08!B125+[8]A08!B125+[9]A08!B125+[10]A08!B125+[10]A08!B125+[11]A08!B125+[12]A08!B125","v":0}]
["SÍNDROME HIPERTENSIVO DEL EMBARAZO (SHE)",{"$f":"+[1]A08!B126+[2]A08!B126+[3]A08!B126+[4]A08!B126+[5]A08!B126+[6]A08!B126+[7]A08!B126+[8]A08!B126+[9]A08!B126+[10]A08!B126+[10]A08!B126+[11]A08!B126+[12]A08!B126","v":0}]
["RETARDO CRECIMIENTO INTRAUTERINO (RCIU)",{"$f":"+[1]A08!B127+[2]A08!B127+[3]A08!B127+[4]A08!B127+[5]A08!B127+[6]A08!B127+[7]A08!B127+[8]A08!B127+[9]A08!B127+[10]A08!B127+[10]A08!B127+[11]A08!B127+[12]A08!B127","v":0}]
["HELLP",{"$f":"+[1]A08!B128+[2]A08!B128+[3]A08!B128+[4]A08!B128+[5]A08!B128+[6]A08!B128+[7]A08!B128+[8]A08!B128+[9]A08!B128+[10]A08!B128+[10]A08!B128+[11]A08!B128+[12]A08!B128","v":0}]
["PARTO PREMATURO",{"$f":"+[1]A08!B129+[2]A08!B129+[3]A08!B129+[4]A08!B129+[5]A08!B129+[6]A08!B129+[7]A08!B129+[8]A08!B129+[9]A08!B129+[10]A08!B129+[10]A08!B129+[11]A08!B129+[12]A08!B129","v":0}]
["HEMORRAGIA I TRIMESTRE",{"$f":"+[1]A08!B130+[2]A08!B130+[3]A08!B130+[4]A08!B130+[5]A08!B130+[6]A08!B130+[7]A08!B130+[8]A08!B130+[9]A08!B130+[10]A08!B130+[10]A08!B130+[11]A08!B130+[12]A08!B130","v":0}]
["HEMORRAGIA II TRIMESTRE",{"$f":"+[1]A08!B131+[2]A08!B131+[3]A08!B131+[4]A08!B131+[5]A08!B131+[6]A08!B131+[7]A08!B131+[8]A08!B131+[9]A08!B131+[10]A08!B131+[10]A08!B131+[11]A08!B131+[12]A08!B131","v":0}]
["HEMORRAGIA III TRIMESTRE",{"$f":"+[1]A08!B132+[2]A08!B132+[3]A08!B132+[4]A08!B132+[5]A08!B132+[6]A08!B132+[7]A08!B132+[8]A08!B132+[9]A08!B132+[10]A08!B132+[10]A08!B132+[11]A08!B132+[12]A08!B132","v":0}]
["ROTURA PREMATURA DE MEMBRANA",{"$f":"+[1]A08!B133+[2]A08!B133+[3]A08!B133+[4]A08!B133+[5]A08!B133+[6]A08!B133+[7]A08!B133+[8]A08!B133+[9]A08!B133+[10]A08!B133+[10]A08!B133+[11]A08!B133+[12]A08!B133","v":0}]
["OTRAS PATOLOGÍAS",{"$f":"+[1]A08!B134+[2]A08!B134+[3]A08!B134+[4]A08!B134+[5]A08!B134+[6]A08!B134+[7]A08!B134+[8]A08!B134+[9]A08!B134+[10]A08!B134+[10]A08!B134+[11]A08!B134+[12]A08!B134","v":0}]
["TRABAJO DE PARTO SIN PATOLOGÍA",{"$f":"+[1]A08!B135+[2]A08!B135+[3]A08!B135+[4]A08!B135+[5]A08!B135+[6]A08!B135+[7]A08!B135+[8]A08!B135+[9]A08!B135+[10]A08!B135+[10]A08!B135+[11]A08!B135+[12]A08!B135","v":0}]
["TOTAL",{"$f":"SUM(B124:B135)","v":0}]
["SECCIÓN J: LLAMADOS DE URGENCIA A CENTRO REGULADOR"]
["TIPO DE ACCIÓN",null,null,null,"TOTAL DE LLAMADAS","LLAMADAS VALIDAS"]
["CENTRO REGULADOR","Nº LLAMADOS DE URGENCIA",null,null,{"$f":"+[1]A08!E139+[2]A08!E139+[3]A08!E139+[4]A08!E139+[5]A08!E139+[6]A08!E139+[7]A08!E139+[8]A08!E139+[9]A08!E139+[10]A08!E139+[10]A08!E139+[11]A08!E139+[12]A08!E139","v":61},{"$f":"+[1]A08!F139+[2]A08!F139+[3]A08!F139+[4]A08!F139+[5]A08!F139+[6]A08!F139+[7]A08!F139+[8]A08!F139+[9]A08!F139+[10]A08!F139+[10]A08!F139+[11]A08!F139+[12]A08!F139","v":61},{"$f":"CA139","v":""},null,null,null,null,null,null,null,null,null,null,null,null,null,null,null,null,null,null,null,null,null,null,null,null,null,null,null,null,null,null,null,null,null,null,null,null,null,null,null,null,null,null,null,null,null,null,null,null,null,null,null,null,null,null,null,null,null,null,null,null,null,null,null,null,null,null,null,null,null,null,null,{"$f":"IF(E139<F139,\"* El número de llamadas válidas NO DEBE ser mayor al total de llamadas.\",\"\")","v":""},null,null,null,null,null,{"$f":"IF(E139<F139,1,0)","v":0}]
["SECCIÓN K: INTERVENCIONES PRE HOSPITALARIAS (SAMU)"]
["TIPO DE ACCIÓN",null,null,"N° INTERVENCIONES",null,null,"Beneficiarios","TIEMPO DE LLEGADA INTERVENCIONES CRITICAS",null,null,"TIEMPO DE LLEGADA INTERVENCIONES NO CRITICAS"]
[null,null,null,"TOTAL","Criticas","No Criticas",null,"0-20 Min","20-40 Min","Mas de 40 Min","0-20 Min","20-40 Min","Mas de 40 Min"]
["INTERVENCIONES CLÍNICAS PRE HOSPITALARIAS","INTERVENCIÓN DE MÓVIL BÁSICO",null,{"$f":"SUM(E143+F143)","v":0},{"$f":"+[1]A08!E143+[2]A08!E143+[3]A08!E143+[4]A08!E143+[5]A08!E143+[6]A08!E143+[7]A08!E143+[8]A08!E143+[9]A08!E143+[10]A08!E143+[10]A08!E143+[11]A08!E143+[12]A08!E143","v":0},{"$f":"+[1]A08!F143+[2]A08!F143+[3]A08!F143+[4]A08!F143+[5]A08!F143+[6]A08!F143+[7]A08!F143+[8]A08!F143+[9]A08!F143+[10]A08!F143+[10]A08!F143+[11]A08!F143+[12]A08!F143","v":0},{"$f":"+[1]A08!G143+[2]A08!G143+[3]A08!G143+[4]A08!G143+[5]A08!G143+[6]A08!G143+[7]A08!G143+[8]A08!G143+[9]A08!G143+[10]A08!G143+[10]A08!G143+[11]A08!G143+[12]A08!G143","v":0},{"$f":"+[1]A08!H143+[2]A08!H143+[3]A08!H143+[4]A08!H143+[5]A08!H143+[6]A08!H143+[7]A08!H143+[8]A08!H143+[9]A08!H143+[10]A08!H143+[10]A08!H143+[11]A08!H143+[12]A08!H143","v":0},{"$f":"+[1]A08!I143+[2]A08!I143+[3]A08!I143+[4]A08!I143+[5]A08!I143+[6]A08!I143+[7]A08!I143+[8]A08!I143+[9]A08!I143+[10]A08!I143+[10]A08!I143+[11]A08!I143+[12]A08!I143","v":0},{"$f":"+[1]A08!J143+[2]A08!J143+[3]A08!J143+[4]A08!J143+[5]A08!J143+[6]A08!J143+[7]A08!J143+[8]A08!J143+[9]A08!J143+[10]A08!J143+[10]A08!J143+[11]A08!J143+[12]A08!J143","v":0},{"$f":"+[1]A08!K143+[2]A08!K143+[3]A08!K143+[4]A08!K143+[5]A08!K143+[6]A08!K143+[7]A08!K143+[8]A08!K143+[9]A08!K143+[10]A08!K143+[10]A08!K143+[11]A08!K143+[12]A08!K143","v":0},{"$f":"+[1]A08!L143+[2]A08!L143+[3]A08!L143+[4]A08!L143+[5]A08!L143+[6]A08!L143+[7]A08!L143+[8]A08!L143+[9]A08!L143+[10]A08!L143+[10]A08!L143+[11]A08!L143+[12]A08!L143","v":0},{"$f":"+[1]A08!M143+[2]A08!M143+[3]A08!M143+[4]A08!M143+[5]A08!M143+[6]A08!M143+[7]A08!M143+[8]A08!M143+[9]A08!M143+[10]A08!M143+[10]A08!M143+[11]A08!M143+[12]A08!M143","v":0},null,null,null,null,null,null,null,null,null,null,null,null,null,null,null,null,null,null,null,null,null,null,null,null,null,null,null,null,null,null,null,null,null,null,null,null,null,null,null,null,null,null,null,null,null,null,null,null,null,null,null,null,null,null,null,null,null,null,null,null,null,null,null,null,null,null,null,null,null,null,null,null,null,0]
[null,"INTERVENCIÓN DE MÓVIL AVANZADO",null,{"$f":"SUM(E144+F144)","v":0},{"$f":"+[1]A08!E144+[2]A08!E144+[3]A08!E144+[4]A08!E144+[5]A08!E144+[6]A08!E144+[7]A08!E144+[8]A08!E144+[9]A08!E144+[10]A08!E144+[10]A08!E144+[11]A08!E144+[12]A08!E144","v":0},{"$f":"+[1]A08!F144+[2]A08!F144+[3]A08!F144+[4]A08!F144+[5]A08!F144+[6]A08!F144+[7]A08!F144+[8]A08!F144+[9]A08!F144+[10]A08!F144+[10]A08!F144+[11]A08!F144+[12]A08!F144","v":0},{"$f":"+[1]A08!G144+[2]A08!G144+[3]A08!G144+[4]A08!G144+[5]A08!G144+[6]A08!G144+[7]A08!G144+[8]A08!G144+[9]A08!G144+[10]A08!G144+[10]A08!G144+[11]A08!G144+[12]A08!G144","v":0},{"$f":"+[1]A08!H144+[2]A08!H144+[3]A08!H144+[4]A08!H144+[5]A08!H144+[6]A08!H144+[7]A08!H144+[8]A08!H144+[9]A08!H144+[10]A08!H144+[10]A08!H144+[11]A08!H144+[12]A08!H144","v":0},{"$f":"+[1]A08!I144+[2]A08!I144+[3]A08!I144+[4]A08!I144+[5]A08!I144+[6]A08!I144+[7]A08!I144+[8]A08!I144+[9]A08!I144+[10]A08!I144+[10]A08!I144+[11]A08!I144+[12]A08!I144","v":0},{"$f":"+[1]A08!J144+[2]A08!J144+[3]A08!J144+[4]A08!J144+[5]A08!J144+[6]A08!J144+[7]A08!J144+[8]A08!J144+[9]A08!J144+[10]A08!J144+[10]A08!J144+[11]A08!J144+[12]A08!J144","v":0},{"$f":"+[1]A08!K144+[2]A08!K144+[3]A08!K144+[4]A08!K144+[5]A08!K144+[6]A08!K144+[7]A08!K144+[8]A08!K144+[9]A08!K144+[10]A08!K144+[10]A08!K144+[11]A08!K144+[12]A08!K144","v":0},{"$f":"+[1]A08!L144+[2]A08!L144+[3]A08!L144+[4]A08!L144+[5]A08!L144+[6]A08!L144+[7]A08!L144+[8]A08!L144+[9]A08!L144+[10]A08!L144+[10]A08!L144+[11]A08!L144+[12]A08!L144","v":0},{"$f":"+[1]A08!M144+[2]A08!M144+[3]A08!M144+[4]A08!M144+[5]A08!M144+[6]A08!M144+[7]A08!M144+[8]A08!M144+[9]A08!M144+[10]A08!M144+[10]A08!M144+[11]A08!M144+[12]A08!M144","v":0},null,null,null,null,null,null,null,null,null,null,null,null,null,null,null,null,null,null,null,null,null,null,null,null,null,null,null,null,null,null,null,null,null,null,null,null,null,null,null,null,null,null,null,null,null,null,null,null,null,null,null,null,null,null,null,null,null,null,null,null,null,null,null,null,null,null,null,null,null,null,null,null,null,0]
["SECCIÓN L: TRASLADOS PRIMARIOS A UNIDADES DE URGENCIA (Desde el lugar del evento a unidad de Emergencia)"]
["TIPO",null,"TOTAL        ","BENEFICIARIOS","POR COMPRA \nDE SERVICIO","OTROS"]
["SAMU","BÁSICO",{"$f":"+[1]A08!C147+[2]A08!C147+[3]A08!C147+[4]A08!C147+[5]A08!C147+[6]A08!C147+[7]A08!C147+[8]A08!C147+[9]A08!C147+[10]A08!C147+[10]A08!C147+[11]A08!C147+[12]A08!C147","v":50},{"$f":"+[1]A08!D147+[2]A08!D147+[3]A08!D147+[4]A08!D147+[5]A08!D147+[6]A08!D147+[7]A08!D147+[8]A08!D147+[9]A08!D147+[10]A08!D147+[10]A08!D147+[11]A08!D147+[12]A08!D147","v":50},null,null,null,null,null,null,null,null,null,null,null,null,null,null,null,null,null,null,null,null,null,null,null,null,null,null,null,null,null,null,null,null,null,null,null,null,null,null,null,null,null,null,null,null,null,null,null,null,null,null,null,null,null,null,null,null,null,null,null,null,null,null,null,null,null,null,null,null,null,null,null,null,null,null,null,null,null,null,null,null,0]
[null,"AVANZADO",{"$f":"+[1]A08!C148+[2]A08!C148+[3]A08!C148+[4]A08!C148+[5]A08!C148+[6]A08!C148+[7]A08!C148+[8]A08!C148+[9]A08!C148+[10]A08!C148+[10]A08!C148+[11]A08!C148+[12]A08!C148","v":0},{"$f":"+[1]A08!D148+[2]A08!D148+[3]A08!D148+[4]A08!D148+[5]A08!D148+[6]A08!D148+[7]A08!D148+[8]A08!D148+[9]A08!D148+[10]A08!D148+[10]A08!D148+[11]A08!D148+[12]A08!D148","v":0},null,null,null,null,null,null,null,null,null,null,null,null,null,null,null,null,null,null,null,null,null,null,null,null,null,null,null,null,null,null,null,null,null,null,null,null,null,null,null,null,null,null,null,null,null,null,null,null,null,null,null,null,null,null,null,null,null,null,null,null,null,null,null,null,null,null,null,null,null,null,null,null,null,null,null,null,null,null,null,null,0]
["ENRUTADO","BÁSICO",{"$f":"+[1]A08!C149+[2]A08!C149+[3]A08!C149+[4]A08!C149+[5]A08!C149+[6]A08!C149+[7]A08!C149+[8]A08!C149+[9]A08!C149+[10]A08!C149+[10]A08!C149+[11]A08!C149+[12]A08!C149","v":0},{"$f":"+[1]A08!D149+[2]A08!D149+[3]A08!D149+[4]A08!D149+[5]A08!D149+[6]A08!D149+[7]A08!D149+[8]A08!D149+[9]A08!D149+[10]A08!D149+[10]A08!D149+[11]A08!D149+[12]A08!D149","v":0},{"$f":"+[1]A08!E149+[2]A08!E149+[3]A08!E149+[4]A08!E149+[5]A08!E149+[6]A08!E149+[7]A08!E149+[8]A08!E149+[9]A08!E149+[10]A08!E149+[10]A08!E149+[11]A08!E149+[12]A08!E149","v":0},null,null,null,null,null,null,null,null,null,null,null,null,null,null,null,null,null,null,null,null,null,null,null,null,null,null,null,null,null,null,null,null,null,null,null,null,null,null,null,null,null,null,null,null,null,null,null,null,null,null,null,null,null,null,null,null,null,null,null,null,null,null,null,null,null,null,null,null,null,null,null,null,null,null,null,null,null,null,null,0]
["NO SAMU","TERRESTRE",{"$f":"+[1]A08!C150+[2]A08!C150+[3]A08!C150+[4]A08!C150+[5]A08!C150+[6]A08!C150+[7]A08!C150+[8]A08!C150+[9]A08!C150+[10]A08!C150+[10]A08!C150+[11]A08!C150+[12]A08!C150","v":575},{"$f":"+[1]A08!D150+[2]A08!D150+[3]A08!D150+[4]A08!D150+[5]A08!D150+[6]A08!D150+[7]A08!D150+[8]A08!D150+[9]A08!D150+[10]A08!D150+[10]A08!D150+[11]A08!D150+[12]A08!D150","v":575},{"$f":"+[1]A08!E150+[2]A08!E150+[3]A08!E150+[4]A08!E150+[5]A08!E150+[6]A08!E150+[7]A08!E150+[8]A08!E150+[9]A08!E150+[10]A08!E150+[10]A08!E150+[11]A08!E150+[12]A08!E150","v":0},null,null,null,null,null,null,null,null,null,null,null,null,null,null,null,null,null,null,null,null,null,null,null,null,null,null,null,null,null,null,null,null,null,null,null,null,null,null,null,null,null,null,null,null,null,null,null,null,null,null,null,null,null,null,null,null,null,null,null,null,null,null,null,null,null,null,null,null,null,null,null,null,null,null,null,null,null,null,null,0]
[null,"MARÍTIMO",{"$f":"+[1]A08!C151+[2]A08!C151+[3]A08!C151+[4]A08!C151+[5]A08!C151+[6]A08!C151+[7]A08!C151+[8]A08!C151+[9]A08!C151+[10]A08!C151+[10]A08!C151+[11]A08!C151+[12]A08!C151","v":0},{"$f":"+[1]A08!D151+[2]A08!D151+[3]A08!D151+[4]A08!D151+[5]A08!D151+[6]A08!D151+[7]A08!D151+[8]A08!D151+[9]A08!D151+[10]A08!D151+[10]A08!D151+[11]A08!D151+[12]A08!D151","v":0},{"$f":"+[1]A08!E151+[2]A08!E151+[3]A08!E151+[4]A08!E151+[5]A08!E151+[6]A08!E151+[7]A08!E151+[8]A08!E151+[9]A08!E151+[10]A08!E151+[10]A08!E151+[11]A08!E151+[12]A08!E151","v":0},{"$f":"+[1]A08!F151+[2]A08!F151+[3]A08!F151+[4]A08!F151+[5]A08!F151+[6]A08!F151+[7]A08!F151+[8]A08!F151+[9]A08!F151+[10]A08!F151+[10]A08!F151+[11]A08!F151+[12]A08!F151","v":0},null,null,null,null,null,null,null,null,null,null,null,null,null,null,null,null,null,null,null,null,null,null,null,null,null,null,null,null,null,null,null,null,null,null,null,null,null,null,null,null,null,null,null,null,null,null,null,null,null,null,null,null,null,null,null,null,null,null,null,null,null,null,null,null,null,null,null,null,null,null,null,null,null,null,null,null,null,null,0]
[null,"AÉREO",{"$f":"+[1]A08!C152+[2]A08!C152+[3]A08!C152+[4]A08!C152+[5]A08!C152+[6]A08!C152+[7]A08!C152+[8]A08!C152+[9]A08!C152+[10]A08!C152+[10]A08!C152+[11]A08!C152+[12]A08!C152","v":0},{"$f":"+[1]A08!D152+[2]A08!D152+[3]A08!D152+[4]A08!D152+[5]A08!D152+[6]A08!D152+[7]A08!D152+[8]A08!D152+[9]A08!D152+[10]A08!D152+[10]A08!D152+[11]A08!D152+[12]A08!D152","v":0},{"$f":"+[1]A08!E152+[2]A08!E152+[3]A08!E152+[4]A08!E152+[5]A08!E152+[6]A08!E152+[7]A08!E152+[8]A08!E152+[9]A08!E152+[10]A08!E152+[10]A08!E152+[11]A08!E152+[12]A08!E152","v":0},{"$f":"+[1]A08!F152+[2]A08!F152+[3]A08!F152+[4]A08!F152+[5]A08!F152+[6]A08!F152+[7]A08!F152+[8]A08!F152+[9]A08!F152+[10]A08!F152+[10]A08!F152+[11]A08!F152+[12]A08!F152","v":0},null,null,null,null,null,null,null,null,null,null,null,null,null,null,null,null,null,null,null,null,null,null,null,null,null,null,null,null,null,null,null,null,null,null,null,null,null,null,null,null,null,null,null,null,null,null,null,null,null,null,null,null,null,null,null,null,null,null,null,null,null,null,null,null,null,null,null,null,null,null,null,null,null,null,null,null,null,null,0]
["SECCIÓN M: TRASLADO SECUNDARIO (Desde un Establecimiento a Otro)"]
["TIPO DE ACCIÓN",null,null,"TOTAL DE TRASLADOS",null,null,"BENEFICIARIOS","COMPRA DE SERVICIO","OTROS"]
[null,null,null,"Ambos","SAMU","NO SAMU"]
["CRÍTICO","AÉREO",null,{"$f":"SUM(E156:F156)","v":0},{"$f":"+[1]A08!E156+[2]A08!E156+[3]A08!E156+[4]A08!E156+[5]A08!E156+[6]A08!E156+[7]A08!E156+[8]A08!E156+[9]A08!E156+[10]A08!E156+[10]A08!E156+[11]A08!E156+[12]A08!E156","v":0},{"$f":"+[1]A08!F156+[2]A08!F156+[3]A08!F156+[4]A08!F156+[5]A08!F156+[6]A08!F156+[7]A08!F156+[8]A08!F156+[9]A08!F156+[10]A08!F156+[10]A08!F156+[11]A08!F156+[12]A08!F156","v":0},{"$f":"+[1]A08!G156+[2]A08!G156+[3]A08!G156+[4]A08!G156+[5]A08!G156+[6]A08!G156+[7]A08!G156+[8]A08!G156+[9]A08!G156+[10]A08!G156+[10]A08!G156+[11]A08!G156+[12]A08!G156","v":0},{"$f":"+[1]A08!H156+[2]A08!H156+[3]A08!H156+[4]A08!H156+[5]A08!H156+[6]A08!H156+[7]A08!H156+[8]A08!H156+[9]A08!H156+[10]A08!H156+[10]A08!H156+[11]A08!H156+[12]A08!H156","v":0},{"$f":"+[1]A08!I156+[2]A08!I156+[3]A08!I156+[4]A08!I156+[5]A08!I156+[6]A08!I156+[7]A08!I156+[8]A08!I156+[9]A08!I156+[10]A08!I156+[10]A08!I156+[11]A08!I156+[12]A08!I156","v":0},null,null,null,null,null,null,null,null,null,null,null,null,null,null,null,null,null,null,null,null,null,null,null,null,null,null,null,null,null,null,null,null,null,null,null,null,null,null,null,null,null,null,null,null,null,null,null,null,null,null,null,null,null,null,null,null,null,null,null,null,null,null,null,null,null,null,null,null,null,null,null,null,null,null,null,0]
[null,"TERRESTRE",null,0,{"$f":"+[1]A08!E157+[2]A08!E157+[3]A08!E157+[4]A08!E157+[5]A08!E157+[6]A08!E157+[7]A08!E157+[8]A08!E157+[9]A08!E157+[10]A08!E157+[10]A08!E157+[11]A08!E157+[12]A08!E157","v":0},{"$f":"+[1]A08!F157+[2]A08!F157+[3]A08!F157+[4]A08!F157+[5]A08!F157+[6]A08!F157+[7]A08!F157+[8]A08!F157+[9]A08!F157+[10]A08!F157+[10]A08!F157+[11]A08!F157+[12]A08!F157","v":0},{"$f":"+[1]A08!G157+[2]A08!G157+[3]A08!G157+[4]A08!G157+[5]A08!G157+[6]A08!G157+[7]A08!G157+[8]A08!G157+[9]A08!G157+[10]A08!G157+[10]A08!G157+[11]A08!G157+[12]A08!G157","v":0},{"$f":"+[1]A08!H157+[2]A08!H157+[3]A08!H157+[4]A08!H157+[5]A08!H157+[6]A08!H157+[7]A08!H157+[8]A08!H157+[9]A08!H157+[10]A08!H157+[10]A08!H157+[11]A08!H157+[12]A08!H157","v":0},{"$f":"+[1]A08!I157+[2]A08!I157+[3]A08!I157+[4]A08!I157+[5]A08!I157+[6]A08!I157+[7]A08!I157+[8]A08!I157+[9]A08!I157+[10]A08!I157+[10]A08!I157+[11]A08!I157+[12]A08!I157","v":0},null,null,null,null,null,null,null,null,null,null,null,null,null,null,null,null,null,null,null,null,null,null,null,null,null,null,null,null,null,null,null,null,null,null,null,null,null,null,null,null,null,null,null,null,null,null,null,null,null,null,null,null,null,null,null,null,null,null,null,null,null,null,null,null,null,null,null,null,null,null,null,null,null,null,null,0]
[null,"MARÍTIMO",null,0,{"$f":"+[1]A08!E158+[2]A08!E158+[3]A08!E158+[4]A08!E158+[5]A08!E158+[6]A08!E158+[7]A08!E158+[8]A08!E158+[9]A08!E158+[10]A08!E158+[10]A08!E158+[11]A08!E158+[12]A08!E158","v":0},{"$f":"+[1]A08!F158+[2]A08!F158+[3]A08!F158+[4]A08!F158+[5]A08!F158+[6]A08!F158+[7]A08!F158+[8]A08!F158+[9]A08!F158+[10]A08!F158+[10]A08!F158+[11]A08!F158+[12]A08!F158","v":0},{"$f":"+[1]A08!G158+[2]A08!G158+[3]A08!G158+[4]A08!G158+[5]A08!G158+[6]A08!G158+[7]A08!G158+[8]A08!G158+[9]A08!G158+[10]A08!G158+[10]A08!G158+[11]A08!G158+[12]A08!G158","v":0},{"$f":"+[1]A08!H158+[2]A08!H158+[3]A08!H158+[4]A08!H158+[5]A08!H158+[6]A08!H158+[7]A08!H158+[8]A08!H158+[9]A08!H158+[10]A08!H158+[10]A08!H158+[11]A08!H158+[12]A08!H158","v":0},{"$f":"+[1]A08!I158+[2]A08!I158+[3]A08!I158+[4]A08!I158+[5]A08!I158+[6]A08!I158+[7]A08!I158+[8]A08!I158+[9]A08!I158+[10]A08!I158+[10]A08!I158+[11]A08!I158+[12]A08!I158","v":0},null,null,null,null,null,null,null,null,null,null,null,null,null,null,null,null,null,null,null,null,null,null,null,null,null,null,null,null,null,null,null,null,null,null,null,null,null,null,null,null,null,null,null,null,null,null,null,null,null,null,null,null,null,null,null,null,null,null,null,null,null,null,null,null,null,null,null,null,null,null,null,null,null,null,null,0]
["NO CRÍTICO","AÉREO",null,0,{"$f":"+[1]A08!E159+[2]A08!E159+[3]A08!E159+[4]A08!E159+[5]A08!E159+[6]A08!E159+[7]A08!E159+[8]A08!E159+[9]A08!E159+[10]A08!E159+[10]A08!E159+[11]A08!E159+[12]A08!E159","v":0},{"$f":"+[1]A08!F159+[2]A08!F159+[3]A08!F159+[4]A08!F159+[5]A08!F159+[6]A08!F159+[7]A08!F159+[8]A08!F159+[9]A08!F159+[10]A08!F159+[10]A08!F159+[11]A08!F159+[12]A08!F159","v":0},{"$f":"+[1]A08!G159+[2]A08!G159+[3]A08!G159+[4]A08!G159+[5]A08!G159+[6]A08!G159+[7]A08!G159+[8]A08!G159+[9]A08!G159+[10]A08!G159+[10]A08!G159+[11]A08!G159+[12]A08!G159","v":0},{"$f":"+[1]A08!H159+[2]A08!H159+[3]A08!H159+[4]A08!H159+[5]A08!H159+[6]A08!H159+[7]A08!H159+[8]A08!H159+[9]A08!H159+[10]A08!H159+[10]A08!H159+[11]A08!H159+[12]A08!H159","v":0},{"$f":"+[1]A08!I159+[2]A08!I159+[3]A08!I159+[4]A08!I159+[5]A08!I159+[6]A08!I159+[7]A08!I159+[8]A08!I159+[9]A08!I159+[10]A08!I159+[10]A08!I159+[11]A08!I159+[12]A08!I159","v":0},null,null,null,null,null,null,null,null,null,null,null,null,null,null,null,null,null,null,null,null,null,null,null,null,null,null,null,null,null,null,null,null,null,null,null,null,null,null,null,null,null,null,null,null,null,null,null,null,null,null,null,null,null,null,null,null,null,null,null,null,null,null,null,null,null,null,null,null,null,null,null,null,null,null,null,0]
[null,"TERRESTRE",null,190,{"$f":"+[1]A08!E160+[2]A08!E160+[3]A08!E160+[4]A08!E160+[5]A08!E160+[6]A08!E160+[7]A08!E160+[8]A08!E160+[9]A08!E160+[10]A08!E160+[10]A08!E160+[11]A08!E160+[12]A08!E160","v":0},{"$f":"+[1]A08!F160+[2]A08!F160+[3]A08!F160+[4]A08!F160+[5]A08!F160+[6]A08!F160+[7]A08!F160+[8]A08!F160+[9]A08!F160+[10]A08!F160+[10]A08!F160+[11]A08!F160+[12]A08!F160","v":190},{"$f":"+[1]A08!G160+[2]A08!G160+[3]A08!G160+[4]A08!G160+[5]A08!G160+[6]A08!G160+[7]A08!G160+[8]A08!G160+[9]A08!G160+[10]A08!G160+[10]A08!G160+[11]A08!G160+[12]A08!G160","v":190},{"$f":"+[1]A08!H160+[2]A08!H160+[3]A08!H160+[4]A08!H160+[5]A08!H160+[6]A08!H160+[7]A08!H160+[8]A08!H160+[9]A08!H160+[10]A08!H160+[10]A08!H160+[11]A08!H160+[12]A08!H160","v":0},{"$f":"+[1]A08!I160+[2]A08!I160+[3]A08!I160+[4]A08!I160+[5]A08!I160+[6]A08!I160+[7]A08!I160+[8]A08!I160+[9]A08!I160+[10]A08!I160+[10]A08!I160+[11]A08!I160+[12]A08!I160","v":0},null,null,null,null,null,null,null,null,null,null,null,null,null,null,null,null,null,null,null,null,null,null,null,null,null,null,null,null,null,null,null,null,null,null,null,null,null,null,null,null,null,null,null,null,null,null,null,null,null,null,null,null,null,null,null,null,null,null,null,null,null,null,null,null,null,null,null,null,null,null,null,null,null,null,null,0]
[null,"MARÍTIMO",null,0,{"$f":"+[1]A08!E161+[2]A08!E161+[3]A08!E161+[4]A08!E161+[5]A08!E161+[6]A08!E161+[7]A08!E161+[8]A08!E161+[9]A08!E161+[10]A08!E161+[10]A08!E161+[11]A08!E161+[12]A08!E161","v":0},{"$f":"+[1]A08!F161+[2]A08!F161+[3]A08!F161+[4]A08!F161+[5]A08!F161+[6]A08!F161+[7]A08!F161+[8]A08!F161+[9]A08!F161+[10]A08!F161+[10]A08!F161+[11]A08!F161+[12]A08!F161","v":0},{"$f":"+[1]A08!G161+[2]A08!G161+[3]A08!G161+[4]A08!G161+[5]A08!G161+[6]A08!G161+[7]A08!G161+[8]A08!G161+[9]A08!G161+[10]A08!G161+[10]A08!G161+[11]A08!G161+[12]A08!G161","v":0},{"$f":"+[1]A08!H161+[2]A08!H161+[3]A08!H161+[4]A08!H161+[5]A08!H161+[6]A08!H161+[7]A08!H161+[8]A08!H161+[9]A08!H161+[10]A08!H161+[10]A08!H161+[11]A08!H161+[12]A08!H161","v":0},{"$f":"+[1]A08!I161+[2]A08!I161+[3]A08!I161+[4]A08!I161+[5]A08!I161+[6]A08!I161+[7]A08!I161+[8]A08!I161+[9]A08!I161+[10]A08!I161+[10]A08!I161+[11]A08!I161+[12]A08!I161","v":0},null,null,null,null,null,null,null,null,null,null,null,null,null,null,null,null,null,null,null,null,null,null,null,null,null,null,null,null,null,null,null,null,null,null,null,null,null,null,null,null,null,null,null,null,null,null,null,null,null,null,null,null,null,null,null,null,null,null,null,null,null,null,null,null,null,null,null,null,null,null,null,null,null,null,null,0]
["SECCIÓN N: CLASIFICACIÓN DE LAS INTERVENCIONES POR GRANDES GRUPOS DE DIAGNÓSTICOS (SAMU)"]
["CAUSAS DE LA INTERVENCIÓN",null,"TOTALES",null,null,"GRUPOS DE EDAD (en años)"]
[null,null,null,null,null,"0 - 4",null,"5 - 9",null,"10 - 14",null,"15 - 19",null,"20 - 24",null,"25 - 29",null,"30 - 34",null,"35 - 39",null,"40 - 44",null,"45 - 49",null,"50 - 54",null,"55 - 59",null,"60 - 64",null,"65 - 69",null,"70 - 74",null,"75 - 79",null,"80 y mas"]
[null,null,"Ambos Sexos","Hombres","Mujeres","Hombres ","Mujeres","Hombres ","Mujeres","Hombres ","Mujeres","Hombres ","Mujeres","Hombres ","Mujeres","Hombres ","Mujeres","Hombres ","Mujeres","Hombres ","Mujeres","Hombres ","Mujeres","Hombres ","Mujeres","Hombres ","Mujeres","Hombres ","Mujeres","Hombres ","Mujeres","Hombres ","Mujeres","Hombres ","Mujeres","Hombres ","Mujeres","Hombres ","Mujeres"]
["SÍNDROME CORONARIO AGUDO",null,{"$f":"SUM(D166+E166)","v":0},{"$f":"SUM(P166+R166+T166+V166+X166+Z166+AB166+AD166+AF166+AH166+AJ166+AL166)","v":0},{"$f":"SUM(Q166+S166+U166+W166+Y166+AA166+AC166+AE166+AG166+AI166+AK166+AM166)","v":0},null,null,null,null,null,null,null,null,null,null,{"$f":"+[1]A08!P166+[2]A08!P166+[3]A08!P166+[4]A08!P166+[5]A08!P166+[6]A08!P166+[7]A08!P166+[8]A08!P166+[9]A08!P166+[10]A08!P166+[10]A08!P166+[11]A08!P166+[12]A08!P166","v":0},{"$f":"+[1]A08!Q166+[2]A08!Q166+[3]A08!Q166+[4]A08!Q166+[5]A08!Q166+[6]A08!Q166+[7]A08!Q166+[8]A08!Q166+[9]A08!Q166+[10]A08!Q166+[10]A08!Q166+[11]A08!Q166+[12]A08!Q166","v":0},{"$f":"+[1]A08!R166+[2]A08!R166+[3]A08!R166+[4]A08!R166+[5]A08!R166+[6]A08!R166+[7]A08!R166+[8]A08!R166+[9]A08!R166+[10]A08!R166+[10]A08!R166+[11]A08!R166+[12]A08!R166","v":0},{"$f":"+[1]A08!S166+[2]A08!S166+[3]A08!S166+[4]A08!S166+[5]A08!S166+[6]A08!S166+[7]A08!S166+[8]A08!S166+[9]A08!S166+[10]A08!S166+[10]A08!S166+[11]A08!S166+[12]A08!S166","v":0},{"$f":"+[1]A08!T166+[2]A08!T166+[3]A08!T166+[4]A08!T166+[5]A08!T166+[6]A08!T166+[7]A08!T166+[8]A08!T166+[9]A08!T166+[10]A08!T166+[10]A08!T166+[11]A08!T166+[12]A08!T166","v":0},{"$f":"+[1]A08!U166+[2]A08!U166+[3]A08!U166+[4]A08!U166+[5]A08!U166+[6]A08!U166+[7]A08!U166+[8]A08!U166+[9]A08!U166+[10]A08!U166+[10]A08!U166+[11]A08!U166+[12]A08!U166","v":0},{"$f":"+[1]A08!V166+[2]A08!V166+[3]A08!V166+[4]A08!V166+[5]A08!V166+[6]A08!V166+[7]A08!V166+[8]A08!V166+[9]A08!V166+[10]A08!V166+[10]A08!V166+[11]A08!V166+[12]A08!V166","v":0},{"$f":"+[1]A08!W166+[2]A08!W166+[3]A08!W166+[4]A08!W166+[5]A08!W166+[6]A08!W166+[7]A08!W166+[8]A08!W166+[9]A08!W166+[10]A08!W166+[10]A08!W166+[11]A08!W166+[12]A08!W166","v":0},{"$f":"+[1]A08!X166+[2]A08!X166+[3]A08!X166+[4]A08!X166+[5]A08!X166+[6]A08!X166+[7]A08!X166+[8]A08!X166+[9]A08!X166+[10]A08!X166+[10]A08!X166+[11]A08!X166+[12]A08!X166","v":0},{"$f":"+[1]A08!Y166+[2]A08!Y166+[3]A08!Y166+[4]A08!Y166+[5]A08!Y166+[6]A08!Y166+[7]A08!Y166+[8]A08!Y166+[9]A08!Y166+[10]A08!Y166+[10]A08!Y166+[11]A08!Y166+[12]A08!Y166","v":0},{"$f":"+[1]A08!Z166+[2]A08!Z166+[3]A08!Z166+[4]A08!Z166+[5]A08!Z166+[6]A08!Z166+[7]A08!Z166+[8]A08!Z166+[9]A08!Z166+[10]A08!Z166+[10]A08!Z166+[11]A08!Z166+[12]A08!Z166","v":0},{"$f":"+[1]A08!AA166+[2]A08!AA166+[3]A08!AA166+[4]A08!AA166+[5]A08!AA166+[6]A08!AA166+[7]A08!AA166+[8]A08!AA166+[9]A08!AA166+[10]A08!AA166+[10]A08!AA166+[11]A08!AA166+[12]A08!AA166","v":0},{"$f":"+[1]A08!AB166+[2]A08!AB166+[3]A08!AB166+[4]A08!AB166+[5]A08!AB166+[6]A08!AB166+[7]A08!AB166+[8]A08!AB166+[9]A08!AB166+[10]A08!AB166+[10]A08!AB166+[11]A08!AB166+[12]A08!AB166","v":0},{"$f":"+[1]A08!AC166+[2]A08!AC166+[3]A08!AC166+[4]A08!AC166+[5]A08!AC166+[6]A08!AC166+[7]A08!AC166+[8]A08!AC166+[9]A08!AC166+[10]A08!AC166+[10]A08!AC166+[11]A08!AC166+[12]A08!AC166","v":0},{"$f":"+[1]A08!AD166+[2]A08!AD166+[3]A08!AD166+[4]A08!AD166+[5]A08!AD166+[6]A08!AD166+[7]A08!AD166+[8]A08!AD166+[9]A08!AD166+[10]A08!AD166+[10]A08!AD166+[11]A08!AD166+[12]A08!AD166","v":0},{"$f":"+[1]A08!AE166+[2]A08!AE166+[3]A08!AE166+[4]A08!AE166+[5]A08!AE166+[6]A08!AE166+[7]A08!AE166+[8]A08!AE166+[9]A08!AE166+[10]A08!AE166+[10]A08!AE166+[11]A08!AE166+[12]A08!AE166","v":0},{"$f":"+[1]A08!AF166+[2]A08!AF166+[3]A08!AF166+[4]A08!AF166+[5]A08!AF166+[6]A08!AF166+[7]A08!AF166+[8]A08!AF166+[9]A08!AF166+[10]A08!AF166+[10]A08!AF166+[11]A08!AF166+[12]A08!AF166","v":0},{"$f":"+[1]A08!AG166+[2]A08!AG166+[3]A08!AG166+[4]A08!AG166+[5]A08!AG166+[6]A08!AG166+[7]A08!AG166+[8]A08!AG166+[9]A08!AG166+[10]A08!AG166+[10]A08!AG166+[11]A08!AG166+[12]A08!AG166","v":0},{"$f":"+[1]A08!AH166+[2]A08!AH166+[3]A08!AH166+[4]A08!AH166+[5]A08!AH166+[6]A08!AH166+[7]A08!AH166+[8]A08!AH166+[9]A08!AH166+[10]A08!AH166+[10]A08!AH166+[11]A08!AH166+[12]A08!AH166","v":0},{"$f":"+[1]A08!AI166+[2]A08!AI166+[3]A08!AI166+[4]A08!AI166+[5]A08!AI166+[6]A08!AI166+[7]A08!AI166+[8]A08!AI166+[9]A08!AI166+[10]A08!AI166+[10]A08!AI166+[11]A08!AI166+[12]A08!AI166","v":0},{"$f":"+[1]A08!AJ166+[2]A08!AJ166+[3]A08!AJ166+[4]A08!AJ166+[5]A08!AJ166+[6]A08!AJ166+[7]A08!AJ166+[8]A08!AJ166+[9]A08!AJ166+[10]A08!AJ166+[10]A08!AJ166+[11]A08!AJ166+[12]A08!AJ166","v":0},{"$f":"+[1]A08!AK166+[2]A08!AK166+[3]A08!AK166+[4]A08!AK166+[5]A08!AK166+[6]A08!AK166+[7]A08!AK166+[8]A08!AK166+[9]A08!AK166+[10]A08!AK166+[10]A08!AK166+[11]A08!AK166+[12]A08!AK166","v":0},{"$f":"+[1]A08!AL166+[2]A08!AL166+[3]A08!AL166+[4]A08!AL166+[5]A08!AL166+[6]A08!AL166+[7]A08!AL166+[8]A08!AL166+[9]A08!AL166+[10]A08!AL166+[10]A08!AL166+[11]A08!AL166+[12]A08!AL166","v":0},{"$f":"+[1]A08!AM166+[2]A08!AM166+[3]A08!AM166+[4]A08!AM166+[5]A08!AM166+[6]A08!AM166+[7]A08!AM166+[8]A08!AM166+[9]A08!AM166+[10]A08!AM166+[10]A08!AM166+[11]A08!AM166+[12]A08!AM166","v":0}]
["PARO CARDIORESPIRATORIO",null,{"$f":"SUM(D167+E167)","v":0},{"$f":"SUM(F167+H167+J167+L167+N167+P167+R167+T167+V167+X167+Z167+AB167+AD167+AF167+AH167+AJ167+AL167)","v":0},0,{"$f":"+[1]A08!F167+[2]A08!F167+[3]A08!F167+[4]A08!F167+[5]A08!F167+[6]A08!F167+[7]A08!F167+[8]A08!F167+[9]A08!F167+[10]A08!F167+[10]A08!F167+[11]A08!F167+[12]A08!F167","v":0},{"$f":"+[1]A08!G167+[2]A08!G167+[3]A08!G167+[4]A08!G167+[5]A08!G167+[6]A08!G167+[7]A08!G167+[8]A08!G167+[9]A08!G167+[10]A08!G167+[10]A08!G167+[11]A08!G167+[12]A08!G167","v":0},{"$f":"+[1]A08!H167+[2]A08!H167+[3]A08!H167+[4]A08!H167+[5]A08!H167+[6]A08!H167+[7]A08!H167+[8]A08!H167+[9]A08!H167+[10]A08!H167+[10]A08!H167+[11]A08!H167+[12]A08!H167","v":0},{"$f":"+[1]A08!I167+[2]A08!I167+[3]A08!I167+[4]A08!I167+[5]A08!I167+[6]A08!I167+[7]A08!I167+[8]A08!I167+[9]A08!I167+[10]A08!I167+[10]A08!I167+[11]A08!I167+[12]A08!I167","v":0},{"$f":"+[1]A08!J167+[2]A08!J167+[3]A08!J167+[4]A08!J167+[5]A08!J167+[6]A08!J167+[7]A08!J167+[8]A08!J167+[9]A08!J167+[10]A08!J167+[10]A08!J167+[11]A08!J167+[12]A08!J167","v":0},{"$f":"+[1]A08!K167+[2]A08!K167+[3]A08!K167+[4]A08!K167+[5]A08!K167+[6]A08!K167+[7]A08!K167+[8]A08!K167+[9]A08!K167+[10]A08!K167+[10]A08!K167+[11]A08!K167+[12]A08!K167","v":0},{"$f":"+[1]A08!L167+[2]A08!L167+[3]A08!L167+[4]A08!L167+[5]A08!L167+[6]A08!L167+[7]A08!L167+[8]A08!L167+[9]A08!L167+[10]A08!L167+[10]A08!L167+[11]A08!L167+[12]A08!L167","v":0},{"$f":"+[1]A08!M167+[2]A08!M167+[3]A08!M167+[4]A08!M167+[5]A08!M167+[6]A08!M167+[7]A08!M167+[8]A08!M167+[9]A08!M167+[10]A08!M167+[10]A08!M167+[11]A08!M167+[12]A08!M167","v":0},{"$f":"+[1]A08!N167+[2]A08!N167+[3]A08!N167+[4]A08!N167+[5]A08!N167+[6]A08!N167+[7]A08!N167+[8]A08!N167+[9]A08!N167+[10]A08!N167+[10]A08!N167+[11]A08!N167+[12]A08!N167","v":0},{"$f":"+[1]A08!O167+[2]A08!O167+[3]A08!O167+[4]A08!O167+[5]A08!O167+[6]A08!O167+[7]A08!O167+[8]A08!O167+[9]A08!O167+[10]A08!O167+[10]A08!O167+[11]A08!O167+[12]A08!O167","v":0},{"$f":"+[1]A08!P167+[2]A08!P167+[3]A08!P167+[4]A08!P167+[5]A08!P167+[6]A08!P167+[7]A08!P167+[8]A08!P167+[9]A08!P167+[10]A08!P167+[10]A08!P167+[11]A08!P167+[12]A08!P167","v":0},{"$f":"+[1]A08!Q167+[2]A08!Q167+[3]A08!Q167+[4]A08!Q167+[5]A08!Q167+[6]A08!Q167+[7]A08!Q167+[8]A08!Q167+[9]A08!Q167+[10]A08!Q167+[10]A08!Q167+[11]A08!Q167+[12]A08!Q167","v":0},{"$f":"+[1]A08!R167+[2]A08!R167+[3]A08!R167+[4]A08!R167+[5]A08!R167+[6]A08!R167+[7]A08!R167+[8]A08!R167+[9]A08!R167+[10]A08!R167+[10]A08!R167+[11]A08!R167+[12]A08!R167","v":0},{"$f":"+[1]A08!S167+[2]A08!S167+[3]A08!S167+[4]A08!S167+[5]A08!S167+[6]A08!S167+[7]A08!S167+[8]A08!S167+[9]A08!S167+[10]A08!S167+[10]A08!S167+[11]A08!S167+[12]A08!S167","v":0},{"$f":"+[1]A08!T167+[2]A08!T167+[3]A08!T167+[4]A08!T167+[5]A08!T167+[6]A08!T167+[7]A08!T167+[8]A08!T167+[9]A08!T167+[10]A08!T167+[10]A08!T167+[11]A08!T167+[12]A08!T167","v":0},{"$f":"+[1]A08!U167+[2]A08!U167+[3]A08!U167+[4]A08!U167+[5]A08!U167+[6]A08!U167+[7]A08!U167+[8]A08!U167+[9]A08!U167+[10]A08!U167+[10]A08!U167+[11]A08!U167+[12]A08!U167","v":0},{"$f":"+[1]A08!V167+[2]A08!V167+[3]A08!V167+[4]A08!V167+[5]A08!V167+[6]A08!V167+[7]A08!V167+[8]A08!V167+[9]A08!V167+[10]A08!V167+[10]A08!V167+[11]A08!V167+[12]A08!V167","v":0},{"$f":"+[1]A08!W167+[2]A08!W167+[3]A08!W167+[4]A08!W167+[5]A08!W167+[6]A08!W167+[7]A08!W167+[8]A08!W167+[9]A08!W167+[10]A08!W167+[10]A08!W167+[11]A08!W167+[12]A08!W167","v":0},{"$f":"+[1]A08!X167+[2]A08!X167+[3]A08!X167+[4]A08!X167+[5]A08!X167+[6]A08!X167+[7]A08!X167+[8]A08!X167+[9]A08!X167+[10]A08!X167+[10]A08!X167+[11]A08!X167+[12]A08!X167","v":0},{"$f":"+[1]A08!Y167+[2]A08!Y167+[3]A08!Y167+[4]A08!Y167+[5]A08!Y167+[6]A08!Y167+[7]A08!Y167+[8]A08!Y167+[9]A08!Y167+[10]A08!Y167+[10]A08!Y167+[11]A08!Y167+[12]A08!Y167","v":0},{"$f":"+[1]A08!Z167+[2]A08!Z167+[3]A08!Z167+[4]A08!Z167+[5]A08!Z167+[6]A08!Z167+[7]A08!Z167+[8]A08!Z167+[9]A08!Z167+[10]A08!Z167+[10]A08!Z167+[11]A08!Z167+[12]A08!Z167","v":0},{"$f":"+[1]A08!AA167+[2]A08!AA167+[3]A08!AA167+[4]A08!AA167+[5]A08!AA167+[6]A08!AA167+[7]A08!AA167+[8]A08!AA167+[9]A08!AA167+[10]A08!AA167+[10]A08!AA167+[11]A08!AA167+[12]A08!AA167","v":0},{"$f":"+[1]A08!AB167+[2]A08!AB167+[3]A08!AB167+[4]A08!AB167+[5]A08!AB167+[6]A08!AB167+[7]A08!AB167+[8]A08!AB167+[9]A08!AB167+[10]A08!AB167+[10]A08!AB167+[11]A08!AB167+[12]A08!AB167","v":0},{"$f":"+[1]A08!AC167+[2]A08!AC167+[3]A08!AC167+[4]A08!AC167+[5]A08!AC167+[6]A08!AC167+[7]A08!AC167+[8]A08!AC167+[9]A08!AC167+[10]A08!AC167+[10]A08!AC167+[11]A08!AC167+[12]A08!AC167","v":0},{"$f":"+[1]A08!AD167+[2]A08!AD167+[3]A08!AD167+[4]A08!AD167+[5]A08!AD167+[6]A08!AD167+[7]A08!AD167+[8]A08!AD167+[9]A08!AD167+[10]A08!AD167+[10]A08!AD167+[11]A08!AD167+[12]A08!AD167","v":0},{"$f":"+[1]A08!AE167+[2]A08!AE167+[3]A08!AE167+[4]A08!AE167+[5]A08!AE167+[6]A08!AE167+[7]A08!AE167+[8]A08!AE167+[9]A08!AE167+[10]A08!AE167+[10]A08!AE167+[11]A08!AE167+[12]A08!AE167","v":0},{"$f":"+[1]A08!AF167+[2]A08!AF167+[3]A08!AF167+[4]A08!AF167+[5]A08!AF167+[6]A08!AF167+[7]A08!AF167+[8]A08!AF167+[9]A08!AF167+[10]A08!AF167+[10]A08!AF167+[11]A08!AF167+[12]A08!AF167","v":0},{"$f":"+[1]A08!AG167+[2]A08!AG167+[3]A08!AG167+[4]A08!AG167+[5]A08!AG167+[6]A08!AG167+[7]A08!AG167+[8]A08!AG167+[9]A08!AG167+[10]A08!AG167+[10]A08!AG167+[11]A08!AG167+[12]A08!AG167","v":0},{"$f":"+[1]A08!AH167+[2]A08!AH167+[3]A08!AH167+[4]A08!AH167+[5]A08!AH167+[6]A08!AH167+[7]A08!AH167+[8]A08!AH167+[9]A08!AH167+[10]A08!AH167+[10]A08!AH167+[11]A08!AH167+[12]A08!AH167","v":0},{"$f":"+[1]A08!AI167+[2]A08!AI167+[3]A08!AI167+[4]A08!AI167+[5]A08!AI167+[6]A08!AI167+[7]A08!AI167+[8]A08!AI167+[9]A08!AI167+[10]A08!AI167+[10]A08!AI167+[11]A08!AI167+[12]A08!AI167","v":0},{"$f":"+[1]A08!AJ167+[2]A08!AJ167+[3]A08!AJ167+[4]A08!AJ167+[5]A08!AJ167+[6]A08!AJ167+[7]A08!AJ167+[8]A08!AJ167+[9]A08!AJ167+[10]A08!AJ167+[10]A08!AJ167+[11]A08!AJ167+[12]A08!AJ167","v":0},{"$f":"+[1]A08!AK167+[2]A08!AK167+[3]A08!AK167+[4]A08!AK167+[5]A08!AK167+[6]A08!AK167+[7]A08!AK167+[8]A08!AK167+[9]A08!AK167+[10]A08!AK167+[10]A08!AK167+[11]A08!AK167+[12]A08!AK167","v":0},{"$f":"+[1]A08!AL167+[2]A08!AL167+[3]A08!AL167+[4]A08!AL167+[5]A08!AL167+[6]A08!AL167+[7]A08!AL167+[8]A08!AL167+[9]A08!AL167+[10]A08!AL167+[10]A08!AL167+[11]A08!AL167+[12]A08!AL167","v":0},{"$f":"+[1]A08!AM167+[2]A08!AM167+[3]A08!AM167+[4]A08!AM167+[5]A08!AM167+[6]A08!AM167+[7]A08!AM167+[8]A08!AM167+[9]A08!AM167+[10]A08!AM167+[10]A08!AM167+[11]A08!AM167+[12]A08!AM167","v":0}]
["POLITRAUMATISMO",null,{"$f":"SUM(D168+E168)","v":0},0,0,{"$f":"+[1]A08!F168+[2]A08!F168+[3]A08!F168+[4]A08!F168+[5]A08!F168+[6]A08!F168+[7]A08!F168+[8]A08!F168+[9]A08!F168+[10]A08!F168+[10]A08!F168+[11]A08!F168+[12]A08!F168","v":0},{"$f":"+[1]A08!G168+[2]A08!G168+[3]A08!G168+[4]A08!G168+[5]A08!G168+[6]A08!G168+[7]A08!G168+[8]A08!G168+[9]A08!G168+[10]A08!G168+[10]A08!G168+[11]A08!G168+[12]A08!G168","v":0},{"$f":"+[1]A08!H168+[2]A08!H168+[3]A08!H168+[4]A08!H168+[5]A08!H168+[6]A08!H168+[7]A08!H168+[8]A08!H168+[9]A08!H168+[10]A08!H168+[10]A08!H168+[11]A08!H168+[12]A08!H168","v":0},{"$f":"+[1]A08!I168+[2]A08!I168+[3]A08!I168+[4]A08!I168+[5]A08!I168+[6]A08!I168+[7]A08!I168+[8]A08!I168+[9]A08!I168+[10]A08!I168+[10]A08!I168+[11]A08!I168+[12]A08!I168","v":0},{"$f":"+[1]A08!J168+[2]A08!J168+[3]A08!J168+[4]A08!J168+[5]A08!J168+[6]A08!J168+[7]A08!J168+[8]A08!J168+[9]A08!J168+[10]A08!J168+[10]A08!J168+[11]A08!J168+[12]A08!J168","v":0},{"$f":"+[1]A08!K168+[2]A08!K168+[3]A08!K168+[4]A08!K168+[5]A08!K168+[6]A08!K168+[7]A08!K168+[8]A08!K168+[9]A08!K168+[10]A08!K168+[10]A08!K168+[11]A08!K168+[12]A08!K168","v":0},{"$f":"+[1]A08!L168+[2]A08!L168+[3]A08!L168+[4]A08!L168+[5]A08!L168+[6]A08!L168+[7]A08!L168+[8]A08!L168+[9]A08!L168+[10]A08!L168+[10]A08!L168+[11]A08!L168+[12]A08!L168","v":0},{"$f":"+[1]A08!M168+[2]A08!M168+[3]A08!M168+[4]A08!M168+[5]A08!M168+[6]A08!M168+[7]A08!M168+[8]A08!M168+[9]A08!M168+[10]A08!M168+[10]A08!M168+[11]A08!M168+[12]A08!M168","v":0},{"$f":"+[1]A08!N168+[2]A08!N168+[3]A08!N168+[4]A08!N168+[5]A08!N168+[6]A08!N168+[7]A08!N168+[8]A08!N168+[9]A08!N168+[10]A08!N168+[10]A08!N168+[11]A08!N168+[12]A08!N168","v":0},{"$f":"+[1]A08!O168+[2]A08!O168+[3]A08!O168+[4]A08!O168+[5]A08!O168+[6]A08!O168+[7]A08!O168+[8]A08!O168+[9]A08!O168+[10]A08!O168+[10]A08!O168+[11]A08!O168+[12]A08!O168","v":0},{"$f":"+[1]A08!P168+[2]A08!P168+[3]A08!P168+[4]A08!P168+[5]A08!P168+[6]A08!P168+[7]A08!P168+[8]A08!P168+[9]A08!P168+[10]A08!P168+[10]A08!P168+[11]A08!P168+[12]A08!P168","v":0},{"$f":"+[1]A08!Q168+[2]A08!Q168+[3]A08!Q168+[4]A08!Q168+[5]A08!Q168+[6]A08!Q168+[7]A08!Q168+[8]A08!Q168+[9]A08!Q168+[10]A08!Q168+[10]A08!Q168+[11]A08!Q168+[12]A08!Q168","v":0},{"$f":"+[1]A08!R168+[2]A08!R168+[3]A08!R168+[4]A08!R168+[5]A08!R168+[6]A08!R168+[7]A08!R168+[8]A08!R168+[9]A08!R168+[10]A08!R168+[10]A08!R168+[11]A08!R168+[12]A08!R168","v":0},{"$f":"+[1]A08!S168+[2]A08!S168+[3]A08!S168+[4]A08!S168+[5]A08!S168+[6]A08!S168+[7]A08!S168+[8]A08!S168+[9]A08!S168+[10]A08!S168+[10]A08!S168+[11]A08!S168+[12]A08!S168","v":0},{"$f":"+[1]A08!T168+[2]A08!T168+[3]A08!T168+[4]A08!T168+[5]A08!T168+[6]A08!T168+[7]A08!T168+[8]A08!T168+[9]A08!T168+[10]A08!T168+[10]A08!T168+[11]A08!T168+[12]A08!T168","v":0},{"$f":"+[1]A08!U168+[2]A08!U168+[3]A08!U168+[4]A08!U168+[5]A08!U168+[6]A08!U168+[7]A08!U168+[8]A08!U168+[9]A08!U168+[10]A08!U168+[10]A08!U168+[11]A08!U168+[12]A08!U168","v":0},{"$f":"+[1]A08!V168+[2]A08!V168+[3]A08!V168+[4]A08!V168+[5]A08!V168+[6]A08!V168+[7]A08!V168+[8]A08!V168+[9]A08!V168+[10]A08!V168+[10]A08!V168+[11]A08!V168+[12]A08!V168","v":0},{"$f":"+[1]A08!W168+[2]A08!W168+[3]A08!W168+[4]A08!W168+[5]A08!W168+[6]A08!W168+[7]A08!W168+[8]A08!W168+[9]A08!W168+[10]A08!W168+[10]A08!W168+[11]A08!W168+[12]A08!W168","v":0},{"$f":"+[1]A08!X168+[2]A08!X168+[3]A08!X168+[4]A08!X168+[5]A08!X168+[6]A08!X168+[7]A08!X168+[8]A08!X168+[9]A08!X168+[10]A08!X168+[10]A08!X168+[11]A08!X168+[12]A08!X168","v":0},{"$f":"+[1]A08!Y168+[2]A08!Y168+[3]A08!Y168+[4]A08!Y168+[5]A08!Y168+[6]A08!Y168+[7]A08!Y168+[8]A08!Y168+[9]A08!Y168+[10]A08!Y168+[10]A08!Y168+[11]A08!Y168+[12]A08!Y168","v":0},{"$f":"+[1]A08!Z168+[2]A08!Z168+[3]A08!Z168+[4]A08!Z168+[5]A08!Z168+[6]A08!Z168+[7]A08!Z168+[8]A08!Z168+[9]A08!Z168+[10]A08!Z168+[10]A08!Z168+[11]A08!Z168+[12]A08!Z168","v":0},{"$f":"+[1]A08!AA168+[2]A08!AA168+[3]A08!AA168+[4]A08!AA168+[5]A08!AA168+[6]A08!AA168+[7]A08!AA168+[8]A08!AA168+[9]A08!AA168+[10]A08!AA168+[10]A08!AA168+[11]A08!AA168+[12]A08!AA168","v":0},{"$f":"+[1]A08!AB168+[2]A08!AB168+[3]A08!AB168+[4]A08!AB168+[5]A08!AB168+[6]A08!AB168+[7]A08!AB168+[8]A08!AB168+[9]A08!AB168+[10]A08!AB168+[10]A08!AB168+[11]A08!AB168+[12]A08!AB168","v":0},{"$f":"+[1]A08!AC168+[2]A08!AC168+[3]A08!AC168+[4]A08!AC168+[5]A08!AC168+[6]A08!AC168+[7]A08!AC168+[8]A08!AC168+[9]A08!AC168+[10]A08!AC168+[10]A08!AC168+[11]A08!AC168+[12]A08!AC168","v":0},{"$f":"+[1]A08!AD168+[2]A08!AD168+[3]A08!AD168+[4]A08!AD168+[5]A08!AD168+[6]A08!AD168+[7]A08!AD168+[8]A08!AD168+[9]A08!AD168+[10]A08!AD168+[10]A08!AD168+[11]A08!AD168+[12]A08!AD168","v":0},{"$f":"+[1]A08!AE168+[2]A08!AE168+[3]A08!AE168+[4]A08!AE168+[5]A08!AE168+[6]A08!AE168+[7]A08!AE168+[8]A08!AE168+[9]A08!AE168+[10]A08!AE168+[10]A08!AE168+[11]A08!AE168+[12]A08!AE168","v":0},{"$f":"+[1]A08!AF168+[2]A08!AF168+[3]A08!AF168+[4]A08!AF168+[5]A08!AF168+[6]A08!AF168+[7]A08!AF168+[8]A08!AF168+[9]A08!AF168+[10]A08!AF168+[10]A08!AF168+[11]A08!AF168+[12]A08!AF168","v":0},{"$f":"+[1]A08!AG168+[2]A08!AG168+[3]A08!AG168+[4]A08!AG168+[5]A08!AG168+[6]A08!AG168+[7]A08!AG168+[8]A08!AG168+[9]A08!AG168+[10]A08!AG168+[10]A08!AG168+[11]A08!AG168+[12]A08!AG168","v":0},{"$f":"+[1]A08!AH168+[2]A08!AH168+[3]A08!AH168+[4]A08!AH168+[5]A08!AH168+[6]A08!AH168+[7]A08!AH168+[8]A08!AH168+[9]A08!AH168+[10]A08!AH168+[10]A08!AH168+[11]A08!AH168+[12]A08!AH168","v":0},{"$f":"+[1]A08!AI168+[2]A08!AI168+[3]A08!AI168+[4]A08!AI168+[5]A08!AI168+[6]A08!AI168+[7]A08!AI168+[8]A08!AI168+[9]A08!AI168+[10]A08!AI168+[10]A08!AI168+[11]A08!AI168+[12]A08!AI168","v":0},{"$f":"+[1]A08!AJ168+[2]A08!AJ168+[3]A08!AJ168+[4]A08!AJ168+[5]A08!AJ168+[6]A08!AJ168+[7]A08!AJ168+[8]A08!AJ168+[9]A08!AJ168+[10]A08!AJ168+[10]A08!AJ168+[11]A08!AJ168+[12]A08!AJ168","v":0},{"$f":"+[1]A08!AK168+[2]A08!AK168+[3]A08!AK168+[4]A08!AK168+[5]A08!AK168+[6]A08!AK168+[7]A08!AK168+[8]A08!AK168+[9]A08!AK168+[10]A08!AK168+[10]A08!AK168+[11]A08!AK168+[12]A08!AK168","v":0},{"$f":"+[1]A08!AL168+[2]A08!AL168+[3]A08!AL168+[4]A08!AL168+[5]A08!AL168+[6]A08!AL168+[7]A08!AL168+[8]A08!AL168+[9]A08!AL168+[10]A08!AL168+[10]A08!AL168+[11]A08!AL168+[12]A08!AL168","v":0},{"$f":"+[1]A08!AM168+[2]A08!AM168+[3]A08!AM168+[4]A08!AM168+[5]A08!AM168+[6]A08!AM168+[7]A08!AM168+[8]A08!AM168+[9]A08!AM168+[10]A08!AM168+[10]A08!AM168+[11]A08!AM168+[12]A08!AM168","v":0}]
["OTROS",null,{"$f":"SUM(D169+E169)","v":0},0,0,{"$f":"+[1]A08!F169+[2]A08!F169+[3]A08!F169+[4]A08!F169+[5]A08!F169+[6]A08!F169+[7]A08!F169+[8]A08!F169+[9]A08!F169+[10]A08!F169+[10]A08!F169+[11]A08!F169+[12]A08!F169","v":0},{"$f":"+[1]A08!G169+[2]A08!G169+[3]A08!G169+[4]A08!G169+[5]A08!G169+[6]A08!G169+[7]A08!G169+[8]A08!G169+[9]A08!G169+[10]A08!G169+[10]A08!G169+[11]A08!G169+[12]A08!G169","v":0},{"$f":"+[1]A08!H169+[2]A08!H169+[3]A08!H169+[4]A08!H169+[5]A08!H169+[6]A08!H169+[7]A08!H169+[8]A08!H169+[9]A08!H169+[10]A08!H169+[10]A08!H169+[11]A08!H169+[12]A08!H169","v":0},{"$f":"+[1]A08!I169+[2]A08!I169+[3]A08!I169+[4]A08!I169+[5]A08!I169+[6]A08!I169+[7]A08!I169+[8]A08!I169+[9]A08!I169+[10]A08!I169+[10]A08!I169+[11]A08!I169+[12]A08!I169","v":0},{"$f":"+[1]A08!J169+[2]A08!J169+[3]A08!J169+[4]A08!J169+[5]A08!J169+[6]A08!J169+[7]A08!J169+[8]A08!J169+[9]A08!J169+[10]A08!J169+[10]A08!J169+[11]A08!J169+[12]A08!J169","v":0},{"$f":"+[1]A08!K169+[2]A08!K169+[3]A08!K169+[4]A08!K169+[5]A08!K169+[6]A08!K169+[7]A08!K169+[8]A08!K169+[9]A08!K169+[10]A08!K169+[10]A08!K169+[11]A08!K169+[12]A08!K169","v":0},{"$f":"+[1]A08!L169+[2]A08!L169+[3]A08!L169+[4]A08!L169+[5]A08!L169+[6]A08!L169+[7]A08!L169+[8]A08!L169+[9]A08!L169+[10]A08!L169+[10]A08!L169+[11]A08!L169+[12]A08!L169","v":0},{"$f":"+[1]A08!M169+[2]A08!M169+[3]A08!M169+[4]A08!M169+[5]A08!M169+[6]A08!M169+[7]A08!M169+[8]A08!M169+[9]A08!M169+[10]A08!M169+[10]A08!M169+[11]A08!M169+[12]A08!M169","v":0},{"$f":"+[1]A08!N169+[2]A08!N169+[3]A08!N169+[4]A08!N169+[5]A08!N169+[6]A08!N169+[7]A08!N169+[8]A08!N169+[9]A08!N169+[10]A08!N169+[10]A08!N169+[11]A08!N169+[12]A08!N169","v":0},{"$f":"+[1]A08!O169+[2]A08!O169+[3]A08!O169+[4]A08!O169+[5]A08!O169+[6]A08!O169+[7]A08!O169+[8]A08!O169+[9]A08!O169+[10]A08!O169+[10]A08!O169+[11]A08!O169+[12]A08!O169","v":0},{"$f":"+[1]A08!P169+[2]A08!P169+[3]A08!P169+[4]A08!P169+[5]A08!P169+[6]A08!P169+[7]A08!P169+[8]A08!P169+[9]A08!P169+[10]A08!P169+[10]A08!P169+[11]A08!P169+[12]A08!P169","v":0},{"$f":"+[1]A08!Q169+[2]A08!Q169+[3]A08!Q169+[4]A08!Q169+[5]A08!Q169+[6]A08!Q169+[7]A08!Q169+[8]A08!Q169+[9]A08!Q169+[10]A08!Q169+[10]A08!Q169+[11]A08!Q169+[12]A08!Q169","v":0},{"$f":"+[1]A08!R169+[2]A08!R169+[3]A08!R169+[4]A08!R169+[5]A08!R169+[6]A08!R169+[7]A08!R169+[8]A08!R169+[9]A08!R169+[10]A08!R169+[10]A08!R169+[11]A08!R169+[12]A08!R169","v":0},{"$f":"+[1]A08!S169+[2]A08!S169+[3]A08!S169+[4]A08!S169+[5]A08!S169+[6]A08!S169+[7]A08!S169+[8]A08!S169+[9]A08!S169+[10]A08!S169+[10]A08!S169+[11]A08!S169+[12]A08!S169","v":0},{"$f":"+[1]A08!T169+[2]A08!T169+[3]A08!T169+[4]A08!T169+[5]A08!T169+[6]A08!T169+[7]A08!T169+[8]A08!T169+[9]A08!T169+[10]A08!T169+[10]A08!T169+[11]A08!T169+[12]A08!T169","v":0},{"$f":"+[1]A08!U169+[2]A08!U169+[3]A08!U169+[4]A08!U169+[5]A08!U169+[6]A08!U169+[7]A08!U169+[8]A08!U169+[9]A08!U169+[10]A08!U169+[10]A08!U169+[11]A08!U169+[12]A08!U169","v":0},{"$f":"+[1]A08!V169+[2]A08!V169+[3]A08!V169+[4]A08!V169+[5]A08!V169+[6]A08!V169+[7]A08!V169+[8]A08!V169+[9]A08!V169+[10]A08!V169+[10]A08!V169+[11]A08!V169+[12]A08!V169","v":0},{"$f":"+[1]A08!W169+[2]A08!W169+[3]A08!W169+[4]A08!W169+[5]A08!W169+[6]A08!W169+[7]A08!W169+[8]A08!W169+[9]A08!W169+[10]A08!W169+[10]A08!W169+[11]A08!W169+[12]A08!W169","v":0},{"$f":"+[1]A08!X169+[2]A08!X169+[3]A08!X169+[4]A08!X169+[5]A08!X169+[6]A08!X169+[7]A08!X169+[8]A08!X169+[9]A08!X169+[10]A08!X169+[10]A08!X169+[11]A08!X169+[12]A08!X169","v":0},{"$f":"+[1]A08!Y169+[2]A08!Y169+[3]A08!Y169+[4]A08!Y169+[5]A08!Y169+[6]A08!Y169+[7]A08!Y169+[8]A08!Y169+[9]A08!Y169+[10]A08!Y169+[10]A08!Y169+[11]A08!Y169+[12]A08!Y169","v":0},{"$f":"+[1]A08!Z169+[2]A08!Z169+[3]A08!Z169+[4]A08!Z169+[5]A08!Z169+[6]A08!Z169+[7]A08!Z169+[8]A08!Z169+[9]A08!Z169+[10]A08!Z169+[10]A08!Z169+[11]A08!Z169+[12]A08!Z169","v":0},{"$f":"+[1]A08!AA169+[2]A08!AA169+[3]A08!AA169+[4]A08!AA169+[5]A08!AA169+[6]A08!AA169+[7]A08!AA169+[8]A08!AA169+[9]A08!AA169+[10]A08!AA169+[10]A08!AA169+[11]A08!AA169+[12]A08!AA169","v":0},{"$f":"+[1]A08!AB169+[2]A08!AB169+[3]A08!AB169+[4]A08!AB169+[5]A08!AB169+[6]A08!AB169+[7]A08!AB169+[8]A08!AB169+[9]A08!AB169+[10]A08!AB169+[10]A08!AB169+[11]A08!AB169+[12]A08!AB169","v":0},{"$f":"+[1]A08!AC169+[2]A08!AC169+[3]A08!AC169+[4]A08!AC169+[5]A08!AC169+[6]A08!AC169+[7]A08!AC169+[8]A08!AC169+[9]A08!AC169+[10]A08!AC169+[10]A08!AC169+[11]A08!AC169+[12]A08!AC169","v":0},{"$f":"+[1]A08!AD169+[2]A08!AD169+[3]A08!AD169+[4]A08!AD169+[5]A08!AD169+[6]A08!AD169+[7]A08!AD169+[8]A08!AD169+[9]A08!AD169+[10]A08!AD169+[10]A08!AD169+[11]A08!AD169+[12]A08!AD169","v":0},{"$f":"+[1]A08!AE169+[2]A08!AE169+[3]A08!AE169+[4]A08!AE169+[5]A08!AE169+[6]A08!AE169+[7]A08!AE169+[8]A08!AE169+[9]A08!AE169+[10]A08!AE169+[10]A08!AE169+[11]A08!AE169+[12]A08!AE169","v":0},{"$f":"+[1]A08!AF169+[2]A08!AF169+[3]A08!AF169+[4]A08!AF169+[5]A08!AF169+[6]A08!AF169+[7]A08!AF169+[8]A08!AF169+[9]A08!AF169+[10]A08!AF169+[10]A08!AF169+[11]A08!AF169+[12]A08!AF169","v":0},{"$f":"+[1]A08!AG169+[2]A08!AG169+[3]A08!AG169+[4]A08!AG169+[5]A08!AG169+[6]A08!AG169+[7]A08!AG169+[8]A08!AG169+[9]A08!AG169+[10]A08!AG169+[10]A08!AG169+[11]A08!AG169+[12]A08!AG169","v":0},{"$f":"+[1]A08!AH169+[2]A08!AH169+[3]A08!AH169+[4]A08!AH169+[5]A08!AH169+[6]A08!AH169+[7]A08!AH169+[8]A08!AH169+[9]A08!AH169+[10]A08!AH169+[10]A08!AH169+[11]A08!AH169+[12]A08!AH169","v":0},{"$f":"+[1]A08!AI169+[2]A08!AI169+[3]A08!AI169+[4]A08!AI169+[5]A08!AI169+[6]A08!AI169+[7]A08!AI169+[8]A08!AI169+[9]A08!AI169+[10]A08!AI169+[10]A08!AI169+[11]A08!AI169+[12]A08!AI169","v":0},{"$f":"+[1]A08!AJ169+[2]A08!AJ169+[3]A08!AJ169+[4]A08!AJ169+[5]A08!AJ169+[6]A08!AJ169+[7]A08!AJ169+[8]A08!AJ169+[9]A08!AJ169+[10]A08!AJ169+[10]A08!AJ169+[11]A08!AJ169+[12]A08!AJ169","v":0},{"$f":"+[1]A08!AK169+[2]A08!AK169+[3]A08!AK169+[4]A08!AK169+[5]A08!AK169+[6]A08!AK169+[7]A08!AK169+[8]A08!AK169+[9]A08!AK169+[10]A08!AK169+[10]A08!AK169+[11]A08!AK169+[12]A08!AK169","v":0},{"$f":"+[1]A08!AL169+[2]A08!AL169+[3]A08!AL169+[4]A08!AL169+[5]A08!AL169+[6]A08!AL169+[7]A08!AL169+[8]A08!AL169+[9]A08!AL169+[10]A08!AL169+[10]A08!AL169+[11]A08!AL169+[12]A08!AL169","v":0},{"$f":"+[1]A08!AM169+[2]A08!AM169+[3]A08!AM169+[4]A08!AM169+[5]A08!AM169+[6]A08!AM169+[7]A08!AM169+[8]A08!AM169+[9]A08!AM169+[10]A08!AM169+[10]A08!AM169+[11]A08!AM169+[12]A08!AM169","v":0}]
["SECCIÓN O: ATENCIONES  EN URGENCIA POR VIOLENCIA SEXUAL  "]
["CONCEPTO",null,"TOTAL",null,null,"GRUPOS DE EDAD (en años)  Y CONDICIÓN\n \n",null,null,null,null,null,null,null,null,null,null,null,null,null,null,null,"Gestantes","Con entrega de anticoncepción de emergencia","Sin entrega de anticoncepción de emergencia","Con profilaxis VIH ","Con profilaxis ITS","Con profilaxis Hepatitis B","VICTIMARIO/A",null,null,null,"Total"]
[null,null,null,null,null,"0 - 4",null,"5 - 9",null,"10 - 14",null,"15 - 17",null,"18 - 24",null,"25 - 44",null,"45-64",null,"65 años y más",null,null,null,null,null,null,null,"Pareja/ Ex pareja","Familiar","Conocido/a","Desconocido/a","Hombre","Mujer"]
[null,null,"Ambos Sexos","Hombres ","Mujeres","Hombres ","Mujeres","Hombres ","Mujeres","Hombres ","Mujeres","Hombres ","Mujeres","Hombres ","Mujeres","Hombres ","Mujeres","Hombres ","Mujeres","Hombres ","Mujeres"]
["VIOLENCIA SEXUAL","72 horas o menos",{"$f":"SUM(D174:E174)","v":0},{"$f":"SUM(F174+H174+J174+L174+N174+P174+R174+T174)","v":0},{"$f":"G174+I174+K174+M174+O174+Q174+S174+U174","v":0},{"$f":"+[1]A08!F174+[2]A08!F174+[3]A08!F174+[4]A08!F174+[5]A08!F174+[6]A08!F174+[7]A08!F174+[8]A08!F174+[9]A08!F174+[10]A08!F174+[10]A08!F174+[11]A08!F174+[12]A08!F174","v":0},{"$f":"+[1]A08!G174+[2]A08!G174+[3]A08!G174+[4]A08!G174+[5]A08!G174+[6]A08!G174+[7]A08!G174+[8]A08!G174+[9]A08!G174+[10]A08!G174+[10]A08!G174+[11]A08!G174+[12]A08!G174","v":0},{"$f":"+[1]A08!H174+[2]A08!H174+[3]A08!H174+[4]A08!H174+[5]A08!H174+[6]A08!H174+[7]A08!H174+[8]A08!H174+[9]A08!H174+[10]A08!H174+[10]A08!H174+[11]A08!H174+[12]A08!H174","v":0},{"$f":"+[1]A08!I174+[2]A08!I174+[3]A08!I174+[4]A08!I174+[5]A08!I174+[6]A08!I174+[7]A08!I174+[8]A08!I174+[9]A08!I174+[10]A08!I174+[10]A08!I174+[11]A08!I174+[12]A08!I174","v":0},{"$f":"+[1]A08!J174+[2]A08!J174+[3]A08!J174+[4]A08!J174+[5]A08!J174+[6]A08!J174+[7]A08!J174+[8]A08!J174+[9]A08!J174+[10]A08!J174+[10]A08!J174+[11]A08!J174+[12]A08!J174","v":0},{"$f":"+[1]A08!K174+[2]A08!K174+[3]A08!K174+[4]A08!K174+[5]A08!K174+[6]A08!K174+[7]A08!K174+[8]A08!K174+[9]A08!K174+[10]A08!K174+[10]A08!K174+[11]A08!K174+[12]A08!K174","v":0},{"$f":"+[1]A08!L174+[2]A08!L174+[3]A08!L174+[4]A08!L174+[5]A08!L174+[6]A08!L174+[7]A08!L174+[8]A08!L174+[9]A08!L174+[10]A08!L174+[10]A08!L174+[11]A08!L174+[12]A08!L174","v":0},{"$f":"+[1]A08!M174+[2]A08!M174+[3]A08!M174+[4]A08!M174+[5]A08!M174+[6]A08!M174+[7]A08!M174+[8]A08!M174+[9]A08!M174+[10]A08!M174+[10]A08!M174+[11]A08!M174+[12]A08!M174","v":0},{"$f":"+[1]A08!N174+[2]A08!N174+[3]A08!N174+[4]A08!N174+[5]A08!N174+[6]A08!N174+[7]A08!N174+[8]A08!N174+[9]A08!N174+[10]A08!N174+[10]A08!N174+[11]A08!N174+[12]A08!N174","v":0},{"$f":"+[1]A08!O174+[2]A08!O174+[3]A08!O174+[4]A08!O174+[5]A08!O174+[6]A08!O174+[7]A08!O174+[8]A08!O174+[9]A08!O174+[10]A08!O174+[10]A08!O174+[11]A08!O174+[12]A08!O174","v":0},{"$f":"+[1]A08!P174+[2]A08!P174+[3]A08!P174+[4]A08!P174+[5]A08!P174+[6]A08!P174+[7]A08!P174+[8]A08!P174+[9]A08!P174+[10]A08!P174+[10]A08!P174+[11]A08!P174+[12]A08!P174","v":0},{"$f":"+[1]A08!Q174+[2]A08!Q174+[3]A08!Q174+[4]A08!Q174+[5]A08!Q174+[6]A08!Q174+[7]A08!Q174+[8]A08!Q174+[9]A08!Q174+[10]A08!Q174+[10]A08!Q174+[11]A08!Q174+[12]A08!Q174","v":0},{"$f":"+[1]A08!R174+[2]A08!R174+[3]A08!R174+[4]A08!R174+[5]A08!R174+[6]A08!R174+[7]A08!R174+[8]A08!R174+[9]A08!R174+[10]A08!R174+[10]A08!R174+[11]A08!R174+[12]A08!R174","v":0},{"$f":"+[1]A08!S174+[2]A08!S174+[3]A08!S174+[4]A08!S174+[5]A08!S174+[6]A08!S174+[7]A08!S174+[8]A08!S174+[9]A08!S174+[10]A08!S174+[10]A08!S174+[11]A08!S174+[12]A08!S174","v":0},{"$f":"+[1]A08!T174+[2]A08!T174+[3]A08!T174+[4]A08!T174+[5]A08!T174+[6]A08!T174+[7]A08!T174+[8]A08!T174+[9]A08!T174+[10]A08!T174+[10]A08!T174+[11]A08!T174+[12]A08!T174","v":0},{"$f":"+[1]A08!U174+[2]A08!U174+[3]A08!U174+[4]A08!U174+[5]A08!U174+[6]A08!U174+[7]A08!U174+[8]A08!U174+[9]A08!U174+[10]A08!U174+[10]A08!U174+[11]A08!U174+[12]A08!U174","v":0},{"$f":"+[1]A08!V174+[2]A08!V174+[3]A08!V174+[4]A08!V174+[5]A08!V174+[6]A08!V174+[7]A08!V174+[8]A08!V174+[9]A08!V174+[10]A08!V174+[10]A08!V174+[11]A08!V174+[12]A08!V174","v":0},{"$f":"+[1]A08!W174+[2]A08!W174+[3]A08!W174+[4]A08!W174+[5]A08!W174+[6]A08!W174+[7]A08!W174+[8]A08!W174+[9]A08!W174+[10]A08!W174+[10]A08!W174+[11]A08!W174+[12]A08!W174","v":0},{"$f":"+[1]A08!X174+[2]A08!X174+[3]A08!X174+[4]A08!X174+[5]A08!X174+[6]A08!X174+[7]A08!X174+[8]A08!X174+[9]A08!X174+[10]A08!X174+[10]A08!X174+[11]A08!X174+[12]A08!X174","v":0},{"$f":"+[1]A08!Y174+[2]A08!Y174+[3]A08!Y174+[4]A08!Y174+[5]A08!Y174+[6]A08!Y174+[7]A08!Y174+[8]A08!Y174+[9]A08!Y174+[10]A08!Y174+[10]A08!Y174+[11]A08!Y174+[12]A08!Y174","v":0},{"$f":"+[1]A08!Z174+[2]A08!Z174+[3]A08!Z174+[4]A08!Z174+[5]A08!Z174+[6]A08!Z174+[7]A08!Z174+[8]A08!Z174+[9]A08!Z174+[10]A08!Z174+[10]A08!Z174+[11]A08!Z174+[12]A08!Z174","v":0},{"$f":"+[1]A08!AA174+[2]A08!AA174+[3]A08!AA174+[4]A08!AA174+[5]A08!AA174+[6]A08!AA174+[7]A08!AA174+[8]A08!AA174+[9]A08!AA174+[10]A08!AA174+[10]A08!AA174+[11]A08!AA174+[12]A08!AA174","v":0},{"$f":"+[1]A08!AB174+[2]A08!AB174+[3]A08!AB174+[4]A08!AB174+[5]A08!AB174+[6]A08!AB174+[7]A08!AB174+[8]A08!AB174+[9]A08!AB174+[10]A08!AB174+[10]A08!AB174+[11]A08!AB174+[12]A08!AB174","v":0},{"$f":"+[1]A08!AC174+[2]A08!AC174+[3]A08!AC174+[4]A08!AC174+[5]A08!AC174+[6]A08!AC174+[7]A08!AC174+[8]A08!AC174+[9]A08!AC174+[10]A08!AC174+[10]A08!AC174+[11]A08!AC174+[12]A08!AC174","v":0},{"$f":"+[1]A08!AD174+[2]A08!AD174+[3]A08!AD174+[4]A08!AD174+[5]A08!AD174+[6]A08!AD174+[7]A08!AD174+[8]A08!AD174+[9]A08!AD174+[10]A08!AD174+[10]A08!AD174+[11]A08!AD174+[12]A08!AD174","v":0},{"$f":"+[1]A08!AE174+[2]A08!AE174+[3]A08!AE174+[4]A08!AE174+[5]A08!AE174+[6]A08!AE174+[7]A08!AE174+[8]A08!AE174+[9]A08!AE174+[10]A08!AE174+[10]A08!AE174+[11]A08!AE174+[12]A08!AE174","v":0},{"$f":"+[1]A08!AF174+[2]A08!AF174+[3]A08!AF174+[4]A08!AF174+[5]A08!AF174+[6]A08!AF174+[7]A08!AF174+[8]A08!AF174+[9]A08!AF174+[10]A08!AF174+[10]A08!AF174+[11]A08!AF174+[12]A08!AF174","v":0},{"$f":"+[1]A08!AG174+[2]A08!AG174+[3]A08!AG174+[4]A08!AG174+[5]A08!AG174+[6]A08!AG174+[7]A08!AG174+[8]A08!AG174+[9]A08!AG174+[10]A08!AG174+[10]A08!AG174+[11]A08!AG174+[12]A08!AG174","v":0},null,null,null,null,null,null,null,null,null,null,null,null,null,null,null,null,null,null,null,null,null,null,null,null,null,null,null,null,null,null,null,null,null,null,null,null,null,null,null,null,null,null,null,null,null,null,null,null,null,null,null,0,0,0,0]
[null,"después de 72 horas",{"$f":"SUM(D175:E175)","v":0},{"$f":"SUM(F175+H175+J175+L175+N175+P175+R175+T175)","v":0},{"$f":"G175+I175+K175+M175+O175+Q175+S175+U175","v":0},{"$f":"+[1]A08!F175+[2]A08!F175+[3]A08!F175+[4]A08!F175+[5]A08!F175+[6]A08!F175+[7]A08!F175+[8]A08!F175+[9]A08!F175+[10]A08!F175+[10]A08!F175+[11]A08!F175+[12]A08!F175","v":0},{"$f":"+[1]A08!G175+[2]A08!G175+[3]A08!G175+[4]A08!G175+[5]A08!G175+[6]A08!G175+[7]A08!G175+[8]A08!G175+[9]A08!G175+[10]A08!G175+[10]A08!G175+[11]A08!G175+[12]A08!G175","v":0},{"$f":"+[1]A08!H175+[2]A08!H175+[3]A08!H175+[4]A08!H175+[5]A08!H175+[6]A08!H175+[7]A08!H175+[8]A08!H175+[9]A08!H175+[10]A08!H175+[10]A08!H175+[11]A08!H175+[12]A08!H175","v":0},{"$f":"+[1]A08!I175+[2]A08!I175+[3]A08!I175+[4]A08!I175+[5]A08!I175+[6]A08!I175+[7]A08!I175+[8]A08!I175+[9]A08!I175+[10]A08!I175+[10]A08!I175+[11]A08!I175+[12]A08!I175","v":0},{"$f":"+[1]A08!J175+[2]A08!J175+[3]A08!J175+[4]A08!J175+[5]A08!J175+[6]A08!J175+[7]A08!J175+[8]A08!J175+[9]A08!J175+[10]A08!J175+[10]A08!J175+[11]A08!J175+[12]A08!J175","v":0},{"$f":"+[1]A08!K175+[2]A08!K175+[3]A08!K175+[4]A08!K175+[5]A08!K175+[6]A08!K175+[7]A08!K175+[8]A08!K175+[9]A08!K175+[10]A08!K175+[10]A08!K175+[11]A08!K175+[12]A08!K175","v":0},{"$f":"+[1]A08!L175+[2]A08!L175+[3]A08!L175+[4]A08!L175+[5]A08!L175+[6]A08!L175+[7]A08!L175+[8]A08!L175+[9]A08!L175+[10]A08!L175+[10]A08!L175+[11]A08!L175+[12]A08!L175","v":0},{"$f":"+[1]A08!M175+[2]A08!M175+[3]A08!M175+[4]A08!M175+[5]A08!M175+[6]A08!M175+[7]A08!M175+[8]A08!M175+[9]A08!M175+[10]A08!M175+[10]A08!M175+[11]A08!M175+[12]A08!M175","v":0},{"$f":"+[1]A08!N175+[2]A08!N175+[3]A08!N175+[4]A08!N175+[5]A08!N175+[6]A08!N175+[7]A08!N175+[8]A08!N175+[9]A08!N175+[10]A08!N175+[10]A08!N175+[11]A08!N175+[12]A08!N175","v":0},{"$f":"+[1]A08!O175+[2]A08!O175+[3]A08!O175+[4]A08!O175+[5]A08!O175+[6]A08!O175+[7]A08!O175+[8]A08!O175+[9]A08!O175+[10]A08!O175+[10]A08!O175+[11]A08!O175+[12]A08!O175","v":0},{"$f":"+[1]A08!P175+[2]A08!P175+[3]A08!P175+[4]A08!P175+[5]A08!P175+[6]A08!P175+[7]A08!P175+[8]A08!P175+[9]A08!P175+[10]A08!P175+[10]A08!P175+[11]A08!P175+[12]A08!P175","v":0},{"$f":"+[1]A08!Q175+[2]A08!Q175+[3]A08!Q175+[4]A08!Q175+[5]A08!Q175+[6]A08!Q175+[7]A08!Q175+[8]A08!Q175+[9]A08!Q175+[10]A08!Q175+[10]A08!Q175+[11]A08!Q175+[12]A08!Q175","v":0},{"$f":"+[1]A08!R175+[2]A08!R175+[3]A08!R175+[4]A08!R175+[5]A08!R175+[6]A08!R175+[7]A08!R175+[8]A08!R175+[9]A08!R175+[10]A08!R175+[10]A08!R175+[11]A08!R175+[12]A08!R175","v":0},{"$f":"+[1]A08!S175+[2]A08!S175+[3]A08!S175+[4]A08!S175+[5]A08!S175+[6]A08!S175+[7]A08!S175+[8]A08!S175+[9]A08!S175+[10]A08!S175+[10]A08!S175+[11]A08!S175+[12]A08!S175","v":0},{"$f":"+[1]A08!T175+[2]A08!T175+[3]A08!T175+[4]A08!T175+[5]A08!T175+[6]A08!T175+[7]A08!T175+[8]A08!T175+[9]A08!T175+[10]A08!T175+[10]A08!T175+[11]A08!T175+[12]A08!T175","v":0},{"$f":"+[1]A08!U175+[2]A08!U175+[3]A08!U175+[4]A08!U175+[5]A08!U175+[6]A08!U175+[7]A08!U175+[8]A08!U175+[9]A08!U175+[10]A08!U175+[10]A08!U175+[11]A08!U175+[12]A08!U175","v":0},{"$f":"+[1]A08!V175+[2]A08!V175+[3]A08!V175+[4]A08!V175+[5]A08!V175+[6]A08!V175+[7]A08!V175+[8]A08!V175+[9]A08!V175+[10]A08!V175+[10]A08!V175+[11]A08!V175+[12]A08!V175","v":0},{"$f":"+[1]A08!W175+[2]A08!W175+[3]A08!W175+[4]A08!W175+[5]A08!W175+[6]A08!W175+[7]A08!W175+[8]A08!W175+[9]A08!W175+[10]A08!W175+[10]A08!W175+[11]A08!W175+[12]A08!W175","v":0},{"$f":"+[1]A08!X175+[2]A08!X175+[3]A08!X175+[4]A08!X175+[5]A08!X175+[6]A08!X175+[7]A08!X175+[8]A08!X175+[9]A08!X175+[10]A08!X175+[10]A08!X175+[11]A08!X175+[12]A08!X175","v":0},{"$f":"+[1]A08!Y175+[2]A08!Y175+[3]A08!Y175+[4]A08!Y175+[5]A08!Y175+[6]A08!Y175+[7]A08!Y175+[8]A08!Y175+[9]A08!Y175+[10]A08!Y175+[10]A08!Y175+[11]A08!Y175+[12]A08!Y175","v":0},{"$f":"+[1]A08!Z175+[2]A08!Z175+[3]A08!Z175+[4]A08!Z175+[5]A08!Z175+[6]A08!Z175+[7]A08!Z175+[8]A08!Z175+[9]A08!Z175+[10]A08!Z175+[10]A08!Z175+[11]A08!Z175+[12]A08!Z175","v":0},{"$f":"+[1]A08!AA175+[2]A08!AA175+[3]A08!AA175+[4]A08!AA175+[5]A08!AA175+[6]A08!AA175+[7]A08!AA175+[8]A08!AA175+[9]A08!AA175+[10]A08!AA175+[10]A08!AA175+[11]A08!AA175+[12]A08!AA175","v":0},{"$f":"+[1]A08!AB175+[2]A08!AB175+[3]A08!AB175+[4]A08!AB175+[5]A08!AB175+[6]A08!AB175+[7]A08!AB175+[8]A08!AB175+[9]A08!AB175+[10]A08!AB175+[10]A08!AB175+[11]A08!AB175+[12]A08!AB175","v":0},{"$f":"+[1]A08!AC175+[2]A08!AC175+[3]A08!AC175+[4]A08!AC175+[5]A08!AC175+[6]A08!AC175+[7]A08!AC175+[8]A08!AC175+[9]A08!AC175+[10]A08!AC175+[10]A08!AC175+[11]A08!AC175+[12]A08!AC175","v":0},{"$f":"+[1]A08!AD175+[2]A08!AD175+[3]A08!AD175+[4]A08!AD175+[5]A08!AD175+[6]A08!AD175+[7]A08!AD175+[8]A08!AD175+[9]A08!AD175+[10]A08!AD175+[10]A08!AD175+[11]A08!AD175+[12]A08!AD175","v":0},{"$f":"+[1]A08!AE175+[2]A08!AE175+[3]A08!AE175+[4]A08!AE175+[5]A08!AE175+[6]A08!AE175+[7]A08!AE175+[8]A08!AE175+[9]A08!AE175+[10]A08!AE175+[10]A08!AE175+[11]A08!AE175+[12]A08!AE175","v":0},{"$f":"+[1]A08!AF175+[2]A08!AF175+[3]A08!AF175+[4]A08!AF175+[5]A08!AF175+[6]A08!AF175+[7]A08!AF175+[8]A08!AF175+[9]A08!AF175+[10]A08!AF175+[10]A08!AF175+[11]A08!AF175+[12]A08!AF175","v":0},{"$f":"+[1]A08!AG175+[2]A08!AG175+[3]A08!AG175+[4]A08!AG175+[5]A08!AG175+[6]A08!AG175+[7]A08!AG175+[8]A08!AG175+[9]A08!AG175+[10]A08!AG175+[10]A08!AG175+[11]A08!AG175+[12]A08!AG175","v":0},null,null,null,null,null,null,null,null,null,null,null,null,null,null,null,null,null,null,null,null,null,null,null,null,null,null,null,null,null,null,null,null,null,null,null,null,null,null,null,null,null,null,null,null,null,null,null,null,null,null,null,0,0,0,0]
["SECCIÓN P: ATENCIONES MÉDICAS POR VIOLENCIA SEXUAL CON REALIZACIÓN O INDICACIÓN DE PERITAJE "]
["TIPO DE ATENCIÓN","TOTAL","DE TURNO","DE LLAMADA"]
[]
["ATENCIÓN POR  MÉDICO PERITO",{"$f":"SUM(C179:D179)","v":0},{"$f":"+[1]A08!C179+[2]A08!C179+[3]A08!C179+[4]A08!C179+[5]A08!C179+[6]A08!C179+[7]A08!C179+[8]A08!C179+[9]A08!C179+[10]A08!C179+[10]A08!C179+[11]A08!C179+[12]A08!C179","v":0},{"$f":"+[1]A08!D179+[2]A08!D179+[3]A08!D179+[4]A08!D179+[5]A08!D179+[6]A08!D179+[7]A08!D179+[8]A08!D179+[9]A08!D179+[10]A08!D179+[10]A08!D179+[11]A08!D179+[12]A08!D179","v":0}]
["ATENCIÓN OTROS MÉDICOS",{"$f":"SUM(C180)","v":0},{"$f":"+[1]A08!C180+[2]A08!C180+[3]A08!C180+[4]A08!C180+[5]A08!C180+[6]A08!C180+[7]A08!C180+[8]A08!C180+[9]A08!C180+[10]A08!C180+[10]A08!C180+[11]A08!C180+[12]A08!C180","v":0}]
["SECCIÓN Q: ATENCIONES DE URGENCIA ASOCIADAS A LESIONES AUTOINFLIGIDAS"]
["CONCEPTO","TOTAL",null,null,"GRUPOS DE EDAD (en años)"]
[null,null,null,null,"0 - 9",null,"10 - 19",null,"20 - 24",null,"25-44",null,"45-54",null,"55-64",null,"65-74",null,"75-84",null,"85 y más"]
[null,"Ambos Sexos","Hombres","Mujeres","Hombres ","Mujeres","Hombres ","Mujeres","Hombres ","Mujeres","Hombres ","Mujeres","Hombres ","Mujeres","Hombres ","Mujeres","Hombres ","Mujeres","Hombres ","Mujeres","Hombres ","Mujeres"]
["Nº DE ATENCIONES ",{"$f":"SUM(C185+D185)","v":0},{"$f":"SUM(E185+G185+I185+K185+M185+O185+Q185+S185+U185)","v":0},{"$f":"SUM(F185+H185+J185+L185+N185+P185+R185+T185+V185)","v":0},{"$f":"+[1]A08!E185+[2]A08!E185+[3]A08!E185+[4]A08!E185+[5]A08!E185+[6]A08!E185+[7]A08!E185+[8]A08!E185+[9]A08!E185+[10]A08!E185+[10]A08!E185+[11]A08!E185+[12]A08!E185","v":0},{"$f":"+[1]A08!F185+[2]A08!F185+[3]A08!F185+[4]A08!F185+[5]A08!F185+[6]A08!F185+[7]A08!F185+[8]A08!F185+[9]A08!F185+[10]A08!F185+[10]A08!F185+[11]A08!F185+[12]A08!F185","v":0},{"$f":"+[1]A08!G185+[2]A08!G185+[3]A08!G185+[4]A08!G185+[5]A08!G185+[6]A08!G185+[7]A08!G185+[8]A08!G185+[9]A08!G185+[10]A08!G185+[10]A08!G185+[11]A08!G185+[12]A08!G185","v":0},{"$f":"+[1]A08!H185+[2]A08!H185+[3]A08!H185+[4]A08!H185+[5]A08!H185+[6]A08!H185+[7]A08!H185+[8]A08!H185+[9]A08!H185+[10]A08!H185+[10]A08!H185+[11]A08!H185+[12]A08!H185","v":0},{"$f":"+[1]A08!I185+[2]A08!I185+[3]A08!I185+[4]A08!I185+[5]A08!I185+[6]A08!I185+[7]A08!I185+[8]A08!I185+[9]A08!I185+[10]A08!I185+[10]A08!I185+[11]A08!I185+[12]A08!I185","v":0},{"$f":"+[1]A08!J185+[2]A08!J185+[3]A08!J185+[4]A08!J185+[5]A08!J185+[6]A08!J185+[7]A08!J185+[8]A08!J185+[9]A08!J185+[10]A08!J185+[10]A08!J185+[11]A08!J185+[12]A08!J185","v":0},{"$f":"+[1]A08!K185+[2]A08!K185+[3]A08!K185+[4]A08!K185+[5]A08!K185+[6]A08!K185+[7]A08!K185+[8]A08!K185+[9]A08!K185+[10]A08!K185+[10]A08!K185+[11]A08!K185+[12]A08!K185","v":0},{"$f":"+[1]A08!L185+[2]A08!L185+[3]A08!L185+[4]A08!L185+[5]A08!L185+[6]A08!L185+[7]A08!L185+[8]A08!L185+[9]A08!L185+[10]A08!L185+[10]A08!L185+[11]A08!L185+[12]A08!L185","v":0},{"$f":"+[1]A08!M185+[2]A08!M185+[3]A08!M185+[4]A08!M185+[5]A08!M185+[6]A08!M185+[7]A08!M185+[8]A08!M185+[9]A08!M185+[10]A08!M185+[10]A08!M185+[11]A08!M185+[12]A08!M185","v":0},{"$f":"+[1]A08!N185+[2]A08!N185+[3]A08!N185+[4]A08!N185+[5]A08!N185+[6]A08!N185+[7]A08!N185+[8]A08!N185+[9]A08!N185+[10]A08!N185+[10]A08!N185+[11]A08!N185+[12]A08!N185","v":0},{"$f":"+[1]A08!O185+[2]A08!O185+[3]A08!O185+[4]A08!O185+[5]A08!O185+[6]A08!O185+[7]A08!O185+[8]A08!O185+[9]A08!O185+[10]A08!O185+[10]A08!O185+[11]A08!O185+[12]A08!O185","v":0},{"$f":"+[1]A08!P185+[2]A08!P185+[3]A08!P185+[4]A08!P185+[5]A08!P185+[6]A08!P185+[7]A08!P185+[8]A08!P185+[9]A08!P185+[10]A08!P185+[10]A08!P185+[11]A08!P185+[12]A08!P185","v":0},{"$f":"+[1]A08!Q185+[2]A08!Q185+[3]A08!Q185+[4]A08!Q185+[5]A08!Q185+[6]A08!Q185+[7]A08!Q185+[8]A08!Q185+[9]A08!Q185+[10]A08!Q185+[10]A08!Q185+[11]A08!Q185+[12]A08!Q185","v":0},{"$f":"+[1]A08!R185+[2]A08!R185+[3]A08!R185+[4]A08!R185+[5]A08!R185+[6]A08!R185+[7]A08!R185+[8]A08!R185+[9]A08!R185+[10]A08!R185+[10]A08!R185+[11]A08!R185+[12]A08!R185","v":0},{"$f":"+[1]A08!S185+[2]A08!S185+[3]A08!S185+[4]A08!S185+[5]A08!S185+[6]A08!S185+[7]A08!S185+[8]A08!S185+[9]A08!S185+[10]A08!S185+[10]A08!S185+[11]A08!S185+[12]A08!S185","v":0},{"$f":"+[1]A08!T185+[2]A08!T185+[3]A08!T185+[4]A08!T185+[5]A08!T185+[6]A08!T185+[7]A08!T185+[8]A08!T185+[9]A08!T185+[10]A08!T185+[10]A08!T185+[11]A08!T185+[12]A08!T185","v":0},{"$f":"+[1]A08!U185+[2]A08!U185+[3]A08!U185+[4]A08!U185+[5]A08!U185+[6]A08!U185+[7]A08!U185+[8]A08!U185+[9]A08!U185+[10]A08!U185+[10]A08!U185+[11]A08!U185+[12]A08!U185","v":0},{"$f":"+[1]A08!V185+[2]A08!V185+[3]A08!V185+[4]A08!V185+[5]A08!V185+[6]A08!V185+[7]A08!V185+[8]A08!V185+[9]A08!V185+[10]A08!V185+[10]A08!V185+[11]A08!V185+[12]A08!V185","v":0}]
["SECCIÓN R: ATENCIONES POR MORDEDURA EN SERVICIO DE  URGENCIA DE LA RED"]
["IDENTIFICACIÓN DEL ANIMAL MORDEDOR","TOTAL",null,null,"GRUPOS DE EDAD (en años)",null,null,null,null,null,null,null,"TIPO DE MORDEDURA",null,"INDICACIÓN  DE VACUNA  "]
[null,null,null,null,"0 - 4",null,"5 - 9",null,"10 - 14",null,"Mayor 15 años"]
[null,"Ambos Sexos","Hombres","Mujeres","Hombres ","Mujeres","Hombres ","Mujeres","Hombres ","Mujeres","Hombres ","Mujeres","Única","Múltiple"]
[null,{"$f":"+C190+D190","v":255},{"$f":"+E190+G190+I190+K190","v":136},119,{"$f":"SUM(E191:E195)","v":9},7,10,9,8,3,109,100,43,0,0]
["PERRO",255,136,119,{"$f":"+[1]A08!E191+[2]A08!E191+[3]A08!E191+[4]A08!E191+[5]A08!E191+[6]A08!E191+[7]A08!E191+[8]A08!E191+[9]A08!E191+[10]A08!E191+[10]A08!E191+[11]A08!E191+[12]A08!E191","v":9},{"$f":"+[1]A08!F191+[2]A08!F191+[3]A08!F191+[4]A08!F191+[5]A08!F191+[6]A08!F191+[7]A08!F191+[8]A08!F191+[9]A08!F191+[10]A08!F191+[10]A08!F191+[11]A08!F191+[12]A08!F191","v":7},{"$f":"+[1]A08!G191+[2]A08!G191+[3]A08!G191+[4]A08!G191+[5]A08!G191+[6]A08!G191+[7]A08!G191+[8]A08!G191+[9]A08!G191+[10]A08!G191+[10]A08!G191+[11]A08!G191+[12]A08!G191","v":10},{"$f":"+[1]A08!H191+[2]A08!H191+[3]A08!H191+[4]A08!H191+[5]A08!H191+[6]A08!H191+[7]A08!H191+[8]A08!H191+[9]A08!H191+[10]A08!H191+[10]A08!H191+[11]A08!H191+[12]A08!H191","v":9},{"$f":"+[1]A08!I191+[2]A08!I191+[3]A08!I191+[4]A08!I191+[5]A08!I191+[6]A08!I191+[7]A08!I191+[8]A08!I191+[9]A08!I191+[10]A08!I191+[10]A08!I191+[11]A08!I191+[12]A08!I191","v":8},{"$f":"+[1]A08!J191+[2]A08!J191+[3]A08!J191+[4]A08!J191+[5]A08!J191+[6]A08!J191+[7]A08!J191+[8]A08!J191+[9]A08!J191+[10]A08!J191+[10]A08!J191+[11]A08!J191+[12]A08!J191","v":3},{"$f":"+[1]A08!K191+[2]A08!K191+[3]A08!K191+[4]A08!K191+[5]A08!K191+[6]A08!K191+[7]A08!K191+[8]A08!K191+[9]A08!K191+[10]A08!K191+[10]A08!K191+[11]A08!K191+[12]A08!K191","v":109},{"$f":"+[1]A08!L191+[2]A08!L191+[3]A08!L191+[4]A08!L191+[5]A08!L191+[6]A08!L191+[7]A08!L191+[8]A08!L191+[9]A08!L191+[10]A08!L191+[10]A08!L191+[11]A08!L191+[12]A08!L191","v":100},{"$f":"+[1]A08!M191+[2]A08!M191+[3]A08!M191+[4]A08!M191+[5]A08!M191+[6]A08!M191+[7]A08!M191+[8]A08!M191+[9]A08!M191+[10]A08!M191+[10]A08!M191+[11]A08!M191+[12]A08!M191","v":43},{"$f":"+[1]A08!N191+[2]A08!N191+[3]A08!N191+[4]A08!N191+[5]A08!N191+[6]A08!N191+[7]A08!N191+[8]A08!N191+[9]A08!N191+[10]A08!N191+[10]A08!N191+[11]A08!N191+[12]A08!N191","v":0},{"$f":"+[1]A08!O191+[2]A08!O191+[3]A08!O191+[4]A08!O191+[5]A08!O191+[6]A08!O191+[7]A08!O191+[8]A08!O191+[9]A08!O191+[10]A08!O191+[10]A08!O191+[11]A08!O191+[12]A08!O191","v":0},null,null,null,null,null,null,null,null,null,null,null,null,null,null,null,null,null,null,null,null,null,null,null,null,null,null,null,null,null,null,null,null,null,null,null,null,null,null,null,null,null,null,null,null,null,null,null,null,null,null,null,null,null,null,null,null,null,null,null,null,null,null,null,null,null,null,null,null,null,0,0]
["GATO",0,0,0,{"$f":"+[1]A08!E192+[2]A08!E192+[3]A08!E192+[4]A08!E192+[5]A08!E192+[6]A08!E192+[7]A08!E192+[8]A08!E192+[9]A08!E192+[10]A08!E192+[10]A08!E192+[11]A08!E192+[12]A08!E192","v":0},{"$f":"+[1]A08!F192+[2]A08!F192+[3]A08!F192+[4]A08!F192+[5]A08!F192+[6]A08!F192+[7]A08!F192+[8]A08!F192+[9]A08!F192+[10]A08!F192+[10]A08!F192+[11]A08!F192+[12]A08!F192","v":0},{"$f":"+[1]A08!G192+[2]A08!G192+[3]A08!G192+[4]A08!G192+[5]A08!G192+[6]A08!G192+[7]A08!G192+[8]A08!G192+[9]A08!G192+[10]A08!G192+[10]A08!G192+[11]A08!G192+[12]A08!G192","v":0},{"$f":"+[1]A08!H192+[2]A08!H192+[3]A08!H192+[4]A08!H192+[5]A08!H192+[6]A08!H192+[7]A08!H192+[8]A08!H192+[9]A08!H192+[10]A08!H192+[10]A08!H192+[11]A08!H192+[12]A08!H192","v":0},{"$f":"+[1]A08!I192+[2]A08!I192+[3]A08!I192+[4]A08!I192+[5]A08!I192+[6]A08!I192+[7]A08!I192+[8]A08!I192+[9]A08!I192+[10]A08!I192+[10]A08!I192+[11]A08!I192+[12]A08!I192","v":0},{"$f":"+[1]A08!J192+[2]A08!J192+[3]A08!J192+[4]A08!J192+[5]A08!J192+[6]A08!J192+[7]A08!J192+[8]A08!J192+[9]A08!J192+[10]A08!J192+[10]A08!J192+[11]A08!J192+[12]A08!J192","v":0},{"$f":"+[1]A08!K192+[2]A08!K192+[3]A08!K192+[4]A08!K192+[5]A08!K192+[6]A08!K192+[7]A08!K192+[8]A08!K192+[9]A08!K192+[10]A08!K192+[10]A08!K192+[11]A08!K192+[12]A08!K192","v":0},{"$f":"+[1]A08!L192+[2]A08!L192+[3]A08!L192+[4]A08!L192+[5]A08!L192+[6]A08!L192+[7]A08!L192+[8]A08!L192+[9]A08!L192+[10]A08!L192+[10]A08!L192+[11]A08!L192+[12]A08!L192","v":0},{"$f":"+[1]A08!M192+[2]A08!M192+[3]A08!M192+[4]A08!M192+[5]A08!M192+[6]A08!M192+[7]A08!M192+[8]A08!M192+[9]A08!M192+[10]A08!M192+[10]A08!M192+[11]A08!M192+[12]A08!M192","v":0},{"$f":"+[1]A08!N192+[2]A08!N192+[3]A08!N192+[4]A08!N192+[5]A08!N192+[6]A08!N192+[7]A08!N192+[8]A08!N192+[9]A08!N192+[10]A08!N192+[10]A08!N192+[11]A08!N192+[12]A08!N192","v":0},{"$f":"+[1]A08!O192+[2]A08!O192+[3]A08!O192+[4]A08!O192+[5]A08!O192+[6]A08!O192+[7]A08!O192+[8]A08!O192+[9]A08!O192+[10]A08!O192+[10]A08!O192+[11]A08!O192+[12]A08!O192","v":0},null,null,null,null,null,null,null,null,null,null,null,null,null,null,null,null,null,null,null,null,null,null,null,null,null,null,null,null,null,null,null,null,null,null,null,null,null,null,null,null,null,null,null,null,null,null,null,null,null,null,null,null,null,null,null,null,null,null,null,null,null,null,null,null,null,null,null,null,null,0,0]
["ANIMAL SILVESTRE ",0,0,0,{"$f":"+[1]A08!E193+[2]A08!E193+[3]A08!E193+[4]A08!E193+[5]A08!E193+[6]A08!E193+[7]A08!E193+[8]A08!E193+[9]A08!E193+[10]A08!E193+[10]A08!E193+[11]A08!E193+[12]A08!E193","v":0},{"$f":"+[1]A08!F193+[2]A08!F193+[3]A08!F193+[4]A08!F193+[5]A08!F193+[6]A08!F193+[7]A08!F193+[8]A08!F193+[9]A08!F193+[10]A08!F193+[10]A08!F193+[11]A08!F193+[12]A08!F193","v":0},{"$f":"+[1]A08!G193+[2]A08!G193+[3]A08!G193+[4]A08!G193+[5]A08!G193+[6]A08!G193+[7]A08!G193+[8]A08!G193+[9]A08!G193+[10]A08!G193+[10]A08!G193+[11]A08!G193+[12]A08!G193","v":0},{"$f":"+[1]A08!H193+[2]A08!H193+[3]A08!H193+[4]A08!H193+[5]A08!H193+[6]A08!H193+[7]A08!H193+[8]A08!H193+[9]A08!H193+[10]A08!H193+[10]A08!H193+[11]A08!H193+[12]A08!H193","v":0},{"$f":"+[1]A08!I193+[2]A08!I193+[3]A08!I193+[4]A08!I193+[5]A08!I193+[6]A08!I193+[7]A08!I193+[8]A08!I193+[9]A08!I193+[10]A08!I193+[10]A08!I193+[11]A08!I193+[12]A08!I193","v":0},{"$f":"+[1]A08!J193+[2]A08!J193+[3]A08!J193+[4]A08!J193+[5]A08!J193+[6]A08!J193+[7]A08!J193+[8]A08!J193+[9]A08!J193+[10]A08!J193+[10]A08!J193+[11]A08!J193+[12]A08!J193","v":0},{"$f":"+[1]A08!K193+[2]A08!K193+[3]A08!K193+[4]A08!K193+[5]A08!K193+[6]A08!K193+[7]A08!K193+[8]A08!K193+[9]A08!K193+[10]A08!K193+[10]A08!K193+[11]A08!K193+[12]A08!K193","v":0},{"$f":"+[1]A08!L193+[2]A08!L193+[3]A08!L193+[4]A08!L193+[5]A08!L193+[6]A08!L193+[7]A08!L193+[8]A08!L193+[9]A08!L193+[10]A08!L193+[10]A08!L193+[11]A08!L193+[12]A08!L193","v":0},{"$f":"+[1]A08!M193+[2]A08!M193+[3]A08!M193+[4]A08!M193+[5]A08!M193+[6]A08!M193+[7]A08!M193+[8]A08!M193+[9]A08!M193+[10]A08!M193+[10]A08!M193+[11]A08!M193+[12]A08!M193","v":0},{"$f":"+[1]A08!N193+[2]A08!N193+[3]A08!N193+[4]A08!N193+[5]A08!N193+[6]A08!N193+[7]A08!N193+[8]A08!N193+[9]A08!N193+[10]A08!N193+[10]A08!N193+[11]A08!N193+[12]A08!N193","v":0},{"$f":"+[1]A08!O193+[2]A08!O193+[3]A08!O193+[4]A08!O193+[5]A08!O193+[6]A08!O193+[7]A08!O193+[8]A08!O193+[9]A08!O193+[10]A08!O193+[10]A08!O193+[11]A08!O193+[12]A08!O193","v":0},null,null,null,null,null,null,null,null,null,null,null,null,null,null,null,null,null,null,null,null,null,null,null,null,null,null,null,null,null,null,null,null,null,null,null,null,null,null,null,null,null,null,null,null,null,null,null,null,null,null,null,null,null,null,null,null,null,null,null,null,null,null,null,null,null,null,null,null,null,0,0]
["EXPOSICIÓN A MURCIÉLAGO",0,0,0,{"$f":"+[1]A08!E194+[2]A08!E194+[3]A08!E194+[4]A08!E194+[5]A08!E194+[6]A08!E194+[7]A08!E194+[8]A08!E194+[9]A08!E194+[10]A08!E194+[10]A08!E194+[11]A08!E194+[12]A08!E194","v":0},{"$f":"+[1]A08!F194+[2]A08!F194+[3]A08!F194+[4]A08!F194+[5]A08!F194+[6]A08!F194+[7]A08!F194+[8]A08!F194+[9]A08!F194+[10]A08!F194+[10]A08!F194+[11]A08!F194+[12]A08!F194","v":0},{"$f":"+[1]A08!G194+[2]A08!G194+[3]A08!G194+[4]A08!G194+[5]A08!G194+[6]A08!G194+[7]A08!G194+[8]A08!G194+[9]A08!G194+[10]A08!G194+[10]A08!G194+[11]A08!G194+[12]A08!G194","v":0},{"$f":"+[1]A08!H194+[2]A08!H194+[3]A08!H194+[4]A08!H194+[5]A08!H194+[6]A08!H194+[7]A08!H194+[8]A08!H194+[9]A08!H194+[10]A08!H194+[10]A08!H194+[11]A08!H194+[12]A08!H194","v":0},{"$f":"+[1]A08!I194+[2]A08!I194+[3]A08!I194+[4]A08!I194+[5]A08!I194+[6]A08!I194+[7]A08!I194+[8]A08!I194+[9]A08!I194+[10]A08!I194+[10]A08!I194+[11]A08!I194+[12]A08!I194","v":0},{"$f":"+[1]A08!J194+[2]A08!J194+[3]A08!J194+[4]A08!J194+[5]A08!J194+[6]A08!J194+[7]A08!J194+[8]A08!J194+[9]A08!J194+[10]A08!J194+[10]A08!J194+[11]A08!J194+[12]A08!J194","v":0},{"$f":"+[1]A08!K194+[2]A08!K194+[3]A08!K194+[4]A08!K194+[5]A08!K194+[6]A08!K194+[7]A08!K194+[8]A08!K194+[9]A08!K194+[10]A08!K194+[10]A08!K194+[11]A08!K194+[12]A08!K194","v":0},{"$f":"+[1]A08!L194+[2]A08!L194+[3]A08!L194+[4]A08!L194+[5]A08!L194+[6]A08!L194+[7]A08!L194+[8]A08!L194+[9]A08!L194+[10]A08!L194+[10]A08!L194+[11]A08!L194+[12]A08!L194","v":0},{"$f":"+[1]A08!M194+[2]A08!M194+[3]A08!M194+[4]A08!M194+[5]A08!M194+[6]A08!M194+[7]A08!M194+[8]A08!M194+[9]A08!M194+[10]A08!M194+[10]A08!M194+[11]A08!M194+[12]A08!M194","v":0},{"$f":"+[1]A08!N194+[2]A08!N194+[3]A08!N194+[4]A08!N194+[5]A08!N194+[6]A08!N194+[7]A08!N194+[8]A08!N194+[9]A08!N194+[10]A08!N194+[10]A08!N194+[11]A08!N194+[12]A08!N194","v":0},{"$f":"+[1]A08!O194+[2]A08!O194+[3]A08!O194+[4]A08!O194+[5]A08!O194+[6]A08!O194+[7]A08!O194+[8]A08!O194+[9]A08!O194+[10]A08!O194+[10]A08!O194+[11]A08!O194+[12]A08!O194","v":0},null,null,null,null,null,null,null,null,null,null,null,null,null,null,null,null,null,null,null,null,null,null,null,null,null,null,null,null,null,null,null,null,null,null,null,null,null,null,null,null,null,null,null,null,null,null,null,null,null,null,null,null,null,null,null,null,null,null,null,null,null,null,null,null,null,null,null,null,null,0,0]
["ROEDOR O ANIMAL DE ABASTO",0,0,0,{"$f":"+[1]A08!E195+[2]A08!E195+[3]A08!E195+[4]A08!E195+[5]A08!E195+[6]A08!E195+[7]A08!E195+[8]A08!E195+[9]A08!E195+[10]A08!E195+[10]A08!E195+[11]A08!E195+[12]A08!E195","v":0},{"$f":"+[1]A08!F195+[2]A08!F195+[3]A08!F195+[4]A08!F195+[5]A08!F195+[6]A08!F195+[7]A08!F195+[8]A08!F195+[9]A08!F195+[10]A08!F195+[10]A08!F195+[11]A08!F195+[12]A08!F195","v":0},{"$f":"+[1]A08!G195+[2]A08!G195+[3]A08!G195+[4]A08!G195+[5]A08!G195+[6]A08!G195+[7]A08!G195+[8]A08!G195+[9]A08!G195+[10]A08!G195+[10]A08!G195+[11]A08!G195+[12]A08!G195","v":0},{"$f":"+[1]A08!H195+[2]A08!H195+[3]A08!H195+[4]A08!H195+[5]A08!H195+[6]A08!H195+[7]A08!H195+[8]A08!H195+[9]A08!H195+[10]A08!H195+[10]A08!H195+[11]A08!H195+[12]A08!H195","v":0},{"$f":"+[1]A08!I195+[2]A08!I195+[3]A08!I195+[4]A08!I195+[5]A08!I195+[6]A08!I195+[7]A08!I195+[8]A08!I195+[9]A08!I195+[10]A08!I195+[10]A08!I195+[11]A08!I195+[12]A08!I195","v":0},{"$f":"+[1]A08!J195+[2]A08!J195+[3]A08!J195+[4]A08!J195+[5]A08!J195+[6]A08!J195+[7]A08!J195+[8]A08!J195+[9]A08!J195+[10]A08!J195+[10]A08!J195+[11]A08!J195+[12]A08!J195","v":0},{"$f":"+[1]A08!K195+[2]A08!K195+[3]A08!K195+[4]A08!K195+[5]A08!K195+[6]A08!K195+[7]A08!K195+[8]A08!K195+[9]A08!K195+[10]A08!K195+[10]A08!K195+[11]A08!K195+[12]A08!K195","v":0},{"$f":"+[1]A08!L195+[2]A08!L195+[3]A08!L195+[4]A08!L195+[5]A08!L195+[6]A08!L195+[7]A08!L195+[8]A08!L195+[9]A08!L195+[10]A08!L195+[10]A08!L195+[11]A08!L195+[12]A08!L195","v":0},{"$f":"+[1]A08!M195+[2]A08!M195+[3]A08!M195+[4]A08!M195+[5]A08!M195+[6]A08!M195+[7]A08!M195+[8]A08!M195+[9]A08!M195+[10]A08!M195+[10]A08!M195+[11]A08!M195+[12]A08!M195","v":0},{"$f":"+[1]A08!N195+[2]A08!N195+[3]A08!N195+[4]A08!N195+[5]A08!N195+[6]A08!N195+[7]A08!N195+[8]A08!N195+[9]A08!N195+[10]A08!N195+[10]A08!N195+[11]A08!N195+[12]A08!N195","v":0},{"$f":"+[1]A08!O195+[2]A08!O195+[3]A08!O195+[4]A08!O195+[5]A08!O195+[6]A08!O195+[7]A08!O195+[8]A08!O195+[9]A08!O195+[10]A08!O195+[10]A08!O195+[11]A08!O195+[12]A08!O195","v":0},null,null,null,null,null,null,null,null,null,null,null,null,null,null,null,null,null,null,null,null,null,null,null,null,null,null,null,null,null,null,null,null,null,null,null,null,null,null,null,null,null,null,null,null,null,null,null,null,null,null,null,null,null,null,null,null,null,null,null,null,null,null,null,null,null,null,null,null,null,0,0]
[]
[]
[]
[]
[{"$f":"SUM(B12:B14,B20:B23,B28:B33,B64,B86,C91,D101:D103,C108:C110,C114:C115,C119:C120,B136,D143:D144,C147:C152,D156:D161,C166:C169,B179:B180,B185,B38:B43,B48:B53,E139:F139,C92:C98,C174:C175,B190)","v":28835}]

{"sheet":"A09","index":9,"n_rows":378,"n_cols":92,"rows_kept":378,"cut":false,"hidden":true,"merged":[[313,43,315,43],[314,6,314,7],[314,8,314,9],[314,22,314,23],[314,24,314,25],[314,26,314,27],[87,46,89,46],[87,47,89,47],[340,0,340,1],[314,38,314,39],[314,40,314,41],[294,0,299,0],[300,0,305,0],[306,0,311,0],[309,1,309,2],[310,1,310,2],[311,1,311,2],[313,0,315,2],[313,3,314,5],[313,6,313,41],[295,1,295,2],[314,10,314,11],[314,12,314,13],[314,14,314,15],[341,0,341,1],[87,6,87,39],[87,40,89,40],[87,41,89,41],[87,42,89,42],[87,43,89,43],[87,44,89,44],[87,45,89,45],[318,0,318,2],[319,0,319,2],[320,0,320,2],[322,0,325,0],[322,1,325,1],[322,2,325,2],[322,3,325,3],[322,4,325,4],[339,0,339,1],[313,42,315,42],[264,0,269,0],[314,28,314,29],[314,30,314,31],[314,32,314,33],[314,34,314,35],[314,36,314,37],[314,16,314,17],[314,18,314,19],[314,20,314,21],[218,43,219,43],[220,0,221,0],[222,0,227,0],[228,0,233,0],[234,0,239,0],[240,0,245,0],[246,0,251,0],[252,0,257,0],[258,0,263,0],[241,1,241,2],[240,1,240,2],[293,1,293,2],[294,1,294,2],[278,1,278,2],[272,1,272,2],[268,1,268,2],[263,1,263,2],[270,1,270,2],[264,1,264,2],[285,1,285,2],[286,1,286,2],[217,48,219,48],[218,6,218,7],[218,8,218,9],[218,10,218,11],[218,12,218,13],[218,14,218,15],[218,16,218,17],[218,18,218,19],[218,20,218,21],[218,22,218,23],[218,24,218,25],[218,26,218,27],[218,28,218,29],[218,30,218,31],[218,32,218,33],[218,34,218,35],[218,36,218,37],[218,38,218,39],[218,42,219,42],[217,3,218,5],[217,6,217,39],[217,40,219,40],[217,41,219,41],[217,42,217,43],[217,44,219,44],[217,45,219,45],[217,46,219,46],[217,47,219,47],[199,46,201,46],[200,6,200,7],[200,8,200,9],[200,10,200,11],[200,12,200,13],[200,14,200,15],[200,16,200,17],[200,18,200,19],[200,20,200,21],[200,22,200,23],[200,24,200,25],[200,26,200,27],[200,28,200,29],[200,30,200,31],[200,32,200,33],[200,34,200,35],[200,36,200,37],[200,38,200,39],[200,40,200,41],[193,0,195,0],[193,1,195,1],[196,0,197,0],[196,1,197,1],[199,0,201,2],[199,42,201,42],[199,43,201,43],[199,44,201,44],[199,45,201,45],[199,3,200,5],[199,6,199,41],[160,6,160,41],[177,0,179,0],[180,0,187,0],[180,1,182,1],[183,1,184,1],[185,1,187,1],[188,0,192,0],[188,1,188,2],[189,1,190,1],[191,1,192,1],[163,0,172,0],[163,1,163,2],[164,1,164,2],[165,1,165,2],[166,1,172,1],[173,0,176,0],[173,1,176,1],[160,0,162,2],[160,3,161,5],[160,42,162,42],[160,43,162,43],[160,44,162,44],[160,45,162,45],[160,46,162,46],[160,47,162,47],[161,6,161,7],[161,8,161,9],[161,10,161,11],[161,12,161,13],[161,14,161,15],[161,16,161,17],[161,18,161,19],[161,20,161,21],[161,22,161,23],[161,24,161,25],[161,26,161,27],[161,28,161,29],[161,30,161,31],[161,32,161,33],[161,34,161,35],[161,36,161,37],[161,38,161,39],[161,40,161,41],[146,43,148,43],[146,44,148,44],[146,45,148,45],[146,46,148,46],[146,47,148,47],[146,48,148,48],[146,49,148,49],[147,6,147,7],[147,8,147,9],[147,10,147,11],[147,12,147,13],[147,14,147,15],[147,16,147,17],[147,18,147,19],[147,20,147,21],[147,22,147,23],[147,24,147,25],[147,26,147,27],[147,28,147,29],[147,30,147,31],[147,32,147,33],[147,34,147,35],[147,36,147,37],[147,38,147,39],[91,0,91,2],[90,0,90,2],[96,0,96,2],[97,0,97,2],[98,0,98,2],[101,0,101,2],[88,14,88,15],[88,16,88,17],[88,18,88,19],[88,12,88,13],[146,3,147,5],[146,6,146,41],[146,42,148,42],[147,40,147,41],[131,0,131,2],[132,0,132,2],[141,0,141,2],[95,0,95,2],[111,0,111,2],[103,0,103,2],[152,0,152,2],[133,0,133,2],[150,0,150,2],[153,0,153,2],[106,0,106,2],[110,0,110,2],[108,0,108,2],[109,0,109,2],[112,0,112,2],[139,0,139,2],[143,0,143,2],[144,0,144,2],[146,0,148,2],[125,0,125,2],[126,0,126,2],[107,0,107,2],[113,0,113,2],[85,1,85,2],[60,0,63,1],[65,0,65,2],[66,0,66,2],[8,42,10,42],[8,43,10,43],[9,28,9,29],[70,0,70,2],[21,0,21,2],[16,12,16,13],[16,14,16,15],[18,0,18,2],[67,1,67,2],[68,1,68,2],[42,0,42,2],[45,0,45,2],[46,0,46,2],[34,0,34,2],[44,0,44,2],[16,26,16,27],[8,0,10,2],[11,0,11,2],[16,0,17,2],[73,1,73,2],[156,0,156,2],[157,0,157,2],[158,0,158,2],[80,0,80,2],[92,0,92,2],[93,0,93,2],[94,0,94,2],[5,80,5,97],[8,44,10,44],[16,28,16,29],[16,22,16,23],[121,0,121,2],[122,0,122,2],[123,0,123,2],[9,22,9,23],[138,0,138,2],[134,0,134,2],[135,0,135,2],[136,0,136,2],[137,0,137,2],[8,46,10,46],[8,47,10,47],[5,48,5,63],[5,64,5,79],[155,0,155,2],[149,0,149,2],[129,0,129,2],[130,0,130,2],[114,0,114,2],[117,0,117,2],[115,0,115,2],[127,0,127,2],[336,0,336,1],[316,0,316,2],[296,1,296,2],[298,1,298,2],[304,1,304,2],[299,1,299,2],[302,1,302,2],[331,0,331,1],[317,0,317,2],[332,0,332,1],[308,1,308,2],[335,0,335,1],[297,1,297,2],[303,1,303,2],[305,1,305,2],[306,1,306,2],[301,1,301,2],[307,1,307,2],[333,0,333,1],[334,0,334,1],[300,1,300,2],[9,30,9,31],[9,6,9,7],[9,8,9,9],[23,0,23,2],[16,3,16,5],[140,0,140,2],[99,0,99,2],[100,0,100,2],[102,0,102,2],[82,0,83,2],[82,3,82,5],[84,0,85,0],[84,1,84,2],[22,0,22,2],[87,0,89,2],[87,3,88,5],[88,6,88,7],[88,8,88,9],[88,10,88,11],[74,1,74,2],[77,0,77,2],[78,0,78,2],[79,0,79,2],[38,22,38,23],[38,24,38,25],[20,0,20,2],[16,16,16,17],[59,0,59,2],[54,0,58,1],[53,0,53,2],[76,0,76,2],[19,0,19,2],[30,0,30,2],[16,6,16,7],[16,10,16,11],[43,0,43,2],[35,0,35,2],[33,0,33,2],[38,14,38,15],[40,0,40,2],[41,0,41,2],[8,3,9,5],[13,0,13,2],[9,20,9,21],[67,0,69,0],[69,1,69,2],[73,0,74,0],[287,1,287,2],[288,1,288,2],[116,0,116,2],[266,1,266,2],[239,1,239,2],[245,1,245,2],[247,1,247,2],[142,0,142,2],[203,0,203,2],[154,0,154,2],[124,0,124,2],[242,1,242,2],[244,1,244,2],[237,1,237,2],[104,0,104,2],[105,0,105,2],[202,0,202,2],[236,1,236,2],[292,1,292,2],[255,1,255,2],[257,1,257,2],[256,1,256,2],[291,1,291,2],[281,1,281,2],[282,1,282,2],[284,1,284,2],[269,1,269,2],[274,1,274,2],[290,1,290,2],[279,1,279,2],[280,1,280,2],[277,1,277,2],[283,1,283,2],[289,1,289,2],[338,0,338,1],[118,0,118,2],[119,0,119,2],[120,0,120,2],[151,0,151,2],[229,1,229,2],[235,1,235,2],[217,0,219,2],[225,1,225,2],[231,1,231,2],[249,1,249,2],[233,1,233,2],[230,1,230,2],[251,1,251,2],[248,1,248,2],[238,1,238,2],[250,1,250,2],[246,1,246,2],[254,1,254,2],[128,0,128,2],[275,1,275,2],[337,0,337,1],[177,1,179,1],[204,0,204,2],[234,1,234,2],[232,1,232,2],[224,1,224,2],[220,1,220,2],[222,1,222,2],[227,1,227,2],[228,1,228,2],[226,1,226,2],[221,1,221,2],[223,1,223,2],[205,0,205,2],[206,0,206,2],[207,0,207,2],[212,0,212,2],[213,0,213,2],[214,0,214,2],[215,0,215,2],[5,0,5,15],[37,0,39,2],[37,3,38,5],[14,0,14,2],[24,0,24,2],[25,0,25,2],[26,0,26,2],[12,0,12,2],[75,0,75,2],[71,0,71,2],[72,0,72,2],[28,0,28,2],[38,6,38,7],[38,8,38,9],[38,10,38,11],[38,12,38,13],[29,0,29,2],[209,0,211,2],[209,3,210,5],[209,6,209,41],[210,6,210,7],[210,8,210,9],[210,10,210,11],[210,12,210,13],[210,14,210,15],[210,16,210,17],[210,18,210,19],[210,20,210,21],[210,22,210,23],[210,24,210,25],[210,26,210,27],[210,28,210,29],[210,30,210,31],[210,32,210,33],[210,34,210,35],[210,36,210,37],[210,38,210,39],[210,40,210,41],[243,1,243,2],[276,1,276,2],[258,1,258,2],[260,1,260,2],[261,1,261,2],[273,1,273,2],[259,1,259,2],[265,1,265,2],[271,1,271,2],[253,1,253,2],[262,1,262,2],[267,1,267,2],[252,1,252,2],[270,0,275,0],[276,0,281,0],[282,0,287,0],[288,0,293,0],[16,49,17,49],[16,30,16,31],[16,32,16,33],[16,34,16,35],[16,36,16,37],[16,38,16,39],[16,40,16,41],[16,42,17,42],[47,0,52,1],[27,0,27,2],[32,0,32,2],[31,0,31,2],[38,26,38,27],[38,28,38,29],[38,16,38,17],[38,18,38,19],[38,20,38,21],[16,48,17,48],[88,20,88,21],[37,45,39,45],[9,32,9,33],[9,34,9,35],[9,36,9,37],[16,8,16,9],[8,48,10,48],[9,18,9,19],[16,24,16,25],[16,18,16,19],[9,12,9,13],[9,14,9,15],[9,16,9,17],[9,24,9,25],[9,38,9,39],[9,40,9,41],[8,45,10,45],[8,6,8,41],[16,43,17,43],[16,44,17,44],[16,45,17,45],[16,46,17,46],[16,47,17,47],[9,26,9,27],[16,20,16,21],[9,10,9,11],[37,46,39,46],[37,47,39,47],[37,48,39,48],[37,6,37,41],[38,30,38,31],[38,32,38,33],[38,34,38,35],[38,36,38,37],[38,38,38,39],[38,40,38,41],[37,42,39,42],[37,43,39,43],[37,44,39,44],[88,22,88,23],[88,24,88,25],[88,26,88,27],[88,28,88,29],[88,30,88,31],[88,32,88,33],[88,34,88,35],[88,36,88,37],[88,38,88,39]]}
["SERVICIO DE SALUD"]
[{"$f":"CONCATENATE(\"COMUNA: \",NOMBRE!B2,\" - \",\"( \",NOMBRE!C2,NOMBRE!D2,NOMBRE!E2,NOMBRE!F2,NOMBRE!G2,\" )\")","v":"COMUNA: QUILPUE  - ( 05106 )"}]
[{"$f":"CONCATENATE(\"ESTABLECIMIENTO/ESTRATEGIA: \",NOMBRE!B3,\" - \",\"( \",NOMBRE!C3,NOMBRE!D3,NOMBRE!E3,NOMBRE!F3,NOMBRE!G3,NOMBRE!H3,\" )\")","v":"ESTABLECIMIENTO/ESTRATEGIA: CESFAM AVIADOR ACEVEDO - ( 201085 )"}]
[{"$f":"CONCATENATE(\"MES: \",NOMBRE!B6,\" - \",\"( \",NOMBRE!C6,NOMBRE!D6,\" )\")","v":"MES: ENERO - ( 01 )"}]
[{"$f":"CONCATENATE(\"AÑO: \",NOMBRE!B7)","v":"AÑO: 2022"}]
[" REM-A9. ATENCIÓN DE SALUD BUCAL EN LA RED ASISTENCIAL "]
[]
["SECCIÓN A: CONSULTAS Y CONTROLES ODONTOLÓGICOS REALIZADOS EN APS. "]
["ACTIVIDAD ",null,null,"TOTAL",null,null,"SEGÚN GRUPOS DE EDAD O DE RIESGO",null,null,null,null,null,null,null,null,null,null,null,null,null,null,null,null,null,null,null,null,null,null,null,null,null,null,null,null,null,null,null,null,null,null,null,"12 años (incluido en el grupo de 10-14 años)","Embarazadas","60 años (incluido en grupos de 60-64 años)","Usuarios con Discapacidad","Niños, niñas, adolescentes y jóvenes población SENAME","Migrantes","Paciente en Control Programa Salud Cardiovascular"]
[null,null,null,null,null,null,"Menos de 1 año",null,"1 año",null,"2 años",null,"3 años",null,"4 años",null,"5 años",null,"6 años",null,"7 años",null,"8-9 años",null,"10-14 años",null,"15-19 años",null,"20-24 años ",null,"25-34 años",null,"35-44 años",null,"45-59 años",null,"60-64 años",null,"65-74 años",null,"75 y más años"]
[null,null,null,"Ambos Sexos","Hombres","Mujeres","Hombres","Mujeres","Hombres","Mujeres","Hombres","Mujeres","Hombres","Mujeres","Hombres","Mujeres","Hombres","Mujeres","Hombres","Mujeres","Hombres","Mujeres","Hombres","Mujeres","Hombres","Mujeres","Hombres","Mujeres","Hombres","Mujeres","Hombres","Mujeres","Hombres","Mujeres","Hombres","Mujeres","Hombres","Mujeres","Hombres","Mujeres","Hombres","Mujeres"]
["CONSULTA DE MORBILIDAD",null,null,{"$f":"SUM(E12+F12)","v":0},{"$f":"SUM(G12+I12+K12+M12+O12+Q12+S12+U12+W12+Y12+AA12+AC12+AE12+AG12+AI12+AK12+AM12+AO12)","v":0},{"$f":"SUM(H12+J12+L12+N12+P12+R12+T12+V12+X12+Z12+AB12+AD12+AF12+AH12+AJ12+AL12+AN12+AP12)","v":0},null,null,null,null,null,null,null,null,null,null,null,null,null,null,null,null,null,null,null,null,null,null,null,null,null,null,null,null,null,null,null,null,null,null,null,null,null,null,null,null,null,null,null,{"$f":"$CA12&$CB12&$CC12&$CD12&$CE12&$CF12&$CG12","v":""},null,null,null,null,null,null,null,null,null,null,null,null,null,null,null,null,null,null,null,null,null,null,null,null,null,null,null,null,{"$f":"IF(CH12=1,\"* Las consultas de 60 años NO DEBEN ser mayor que el total de Consultas entre 60-64 Años. \",\"\")","v":""},{"$f":"IF(CI12=1,\"* Las actividades de usuarios en situación de discapacidad NO DEBEN superar el total. \",\"\")","v":""},{"$f":"IF(CJ12=1,\"* Las consultas de 12 años NO DEBEN ser mayor que el total de Consultas entre 10-14 Años. \",\"\")","v":""},{"$f":"IF(CK12=1,\"* Las consultas de Pacientes en control PSCV NO DEBEN ser mayor que el total de Consultas. \",\"\")","v":""},{"$f":"IF(AND(AR12=\"\",D12<>0),\"* Recuerde que las Embarazadas deben ser incluídas en el ingreso por rango Etario (Digite CEROS si no tiene). \",IF(F12<AR12,\"* Las Embarazadas NO DEBEN ser mayor al total de mujeres. \",\"\"))","v":""},{"$f":"IF(AND(AU12=\"\",D12<>0),\"* No olvide digitar la población SENAME (Digite CEROS si no tiene). \",IF(D12<AU12,\"* La Población SENAME NO DEBE ser mayor al Total. \",\"\"))","v":""},{"$f":"IF(AND(AV12=\"\",D12<>0),\"* No olvide digitar la población Migrante (Digite CEROS si no tiene). \",IF(D12<AV12,\"* La Población Migrante NO DEBE ser mayor al Total. \",\"\"))","v":""},{"$f":"IF(AS12>(AK12+AL12),1,0)","v":0},{"$f":"IF(D12<AT12,1,0)","v":0},{"$f":"IF((Y12+Z12)<AQ12,1,0)","v":0},{"$f":"IF(D12<AW12,1,0)","v":0},{"$f":"IF(AND(AR12=\"\",D12<>0),1,IF(F12<AR12,1,0))","v":0},{"$f":"IF(AND(AU12=\"\",D12<>0),1,IF(D12<AU12,1,0))","v":0},{"$f":"IF(AND(AV12=\"\",D12<>0),1,IF(D12<AV12,1,0))","v":0}]
["CONTROL ODONTOLÓGICO",null,null,{"$f":"SUM(E13+F13)","v":0},0,{"$f":"SUM(H13+J13+L13+N13+P13+R13+T13+V13+X13+Z13+AB13+AD13+AF13+AH13+AJ13+AL13+AN13+AP13)","v":0},null,null,null,null,null,null,null,null,null,null,null,null,null,null,null,null,null,null,null,null,null,null,null,null,null,null,null,null,null,null,null,null,null,null,null,null,null,null,null,null,null,null,null,{"$f":"$CA13&$CB13&$CC13&$CD13&$CE13&$CF13&$CG13","v":""},null,null,null,null,null,null,null,null,null,null,null,null,null,null,null,null,null,null,null,null,null,null,null,null,null,null,null,null,{"$f":"IF(CH13=1,\"* Las consultas de 60 años NO DEBEN ser mayor que el total de Consultas entre 60-64 Años. \",\"\")","v":""},"",{"$f":"IF(CJ13=1,\"* Las consultas de 12 años NO DEBEN ser mayor que el total de Consultas entre 10-14 Años. \",\"\")","v":""},{"$f":"IF(CK13=1,\"* Las consultas de Pacientes en control PSCV NO DEBEN ser mayor que el total de Consultas. \",\"\")","v":""},{"$f":"IF(AND(AR13=\"\",D13<>0),\"* Recuerde que las Embarazadas deben ser incluídas en el ingreso por rango Etario (Digite CEROS si no tiene). \",IF(F13<AR13,\"* Las Embarazadas NO DEBEN ser mayor al total de mujeres. \",\"\"))","v":""},{"$f":"IF(AND(AU13=\"\",D13<>0),\"* No olvide digitar la población SENAME (Digite CEROS si no tiene). \",IF(D13<AU13,\"* La Población SENAME NO DEBE ser mayor al Total. \",\"\"))","v":""},{"$f":"IF(AND(AV13=\"\",D13<>0),\"* No olvide digitar la población Migrante (Digite CEROS si no tiene). \",IF(D13<AV13,\"* La Población Migrante NO DEBE ser mayor al Total. \",\"\"))","v":""},{"$f":"IF(AS13>(AK13+AL13),1,0)","v":0},{"$f":"IF(D13<AT13,1,0)","v":0},{"$f":"IF((Y13+Z13)<AQ13,1,0)","v":0},{"$f":"IF(D13<AW13,1,0)","v":0},{"$f":"IF(AND(AR13=\"\",D13<>0),1,IF(F13<AR13,1,0))","v":0},{"$f":"IF(AND(AH13=\"\",D13<>0),1,IF(D13<AH13,1,0))","v":0},{"$f":"IF(AND(AV13=\"\",D13<>0),1,IF(D13<AV13,1,0))","v":0}]
["CONSULTA DE URGENCIA (GES)",null,null,{"$f":"SUM(E14+F14)","v":0},0,0,null,null,null,null,null,null,null,null,null,null,null,null,null,null,null,null,null,null,null,null,null,null,null,null,null,null,null,null,null,null,null,null,null,null,null,null,null,null,null,null,null,null,null,"",null,null,null,null,null,null,null,null,null,null,null,null,null,null,null,null,null,null,null,null,null,null,null,null,null,null,null,null,"","","","","","","",0,0,0,0,0,{"$f":"IF(AND(AH14=\"\",D14<>0),1,IF(D14<AH14,1,0))","v":0},0]
["INASISTENCIA A CONSULTA",null,null,{"$f":"SUM(E15+F15)","v":0},{"$f":"SUM(G15+I15+K15+M15+O15+Q15+S15+U15+W15+Y15+AA15+AC15+AE15+AG15+AI15+AK15+AM15+AO15)","v":0},0,null,null,null,null,null,null,null,null,null,null,null,null,null,null,null,null,null,null,null,null,null,null,null,null,null,null,null,null,null,null,null,null,null,null,null,null,null,null,null,null,null,null,null,"",null,null,null,null,null,null,null,null,null,null,null,null,null,null,null,null,null,null,null,null,null,null,null,null,null,null,null,null,"","","","","","","",0,0,0,0,0,{"$f":"IF(AND(AH15=\"\",D15<>0),1,IF(D15<AH15,1,0))","v":0},0]
["SECCIÓN B: ACTIVIDADES DE ODONTOLOGÍA GENERAL  REALIZADOS EN NIVEL PRIMARIO Y SECUNDARIO DE SALUD."]
["TIPO DE ACTIVIDAD",null,null,"TOTAL ",null,null,"Menos de 1 año",null,"1 año",null,"2 años",null,"3 años",null,"4 años",null,"5 años",null,"6 años",null,"7 años",null,"8-9 años",null,"10-14 años",null,"15-19 años",null,"20-24 años ",null,"25-34 años",null,"35-44 años",null,"45-59 años",null,"60-64 años",null,"65-74 años",null,"75 y más años",null,"12 años (incluido en el grupo de 10-14 años)","Embarazadas","Beneficiarios","60 años (incluido en grupos de 60-64 años)","Compra de Servicio","Usuarios con Discapacidad","Niños, niñas, adolescentes y jóvenes población SENAME","Migrantes"]
[null,null,null,"Ambos Sexos","Hombres","Mujeres","Hombres","Mujeres","Hombres","Mujeres","Hombres","Mujeres","Hombres","Mujeres","Hombres","Mujeres","Hombres","Mujeres","Hombres","Mujeres","Hombres","Mujeres","Hombres","Mujeres","Hombres","Mujeres","Hombres","Mujeres","Hombres","Mujeres","Hombres","Mujeres","Hombres","Mujeres","Hombres","Mujeres","Hombres","Mujeres","Hombres","Mujeres","Hombres","Mujeres"]
["EDUCACIÓN INDIVIDUAL CON INSTRUCCIÓN DE TÉCNICA DE CEPILLADO",null,null,{"$f":"SUM(E19+F19)","v":0},{"$f":"SUM(G19+I19+K19+M19+O19+Q19+S19+U19+W19+Y19+AA19+AC19+AE19+AG19+AI19+AK19+AM19+AO19)","v":0},{"$f":"SUM(H19+J19+L19+N19+P19+R19+T19+V19+X19+Z19+AB19+AD19+AF19+AH19+AJ19+AL19+AN19+AP19)","v":0},null,null,null,null,null,null,null,null,null,null,null,null,null,null,null,null,null,null,null,null,null,null,null,null,null,null,null,null,null,null,null,null,null,null,null,null,null,null,null,null,null,null,null,null,{"$f":"$CA19&$CB19&$CC19&$CD19&$CE19&$CF19&$CG19","v":""},null,null,null,null,null,null,null,null,null,null,null,null,null,null,null,null,null,null,null,null,null,null,null,null,null,null,null,{"$f":"IF(CH19=1,\"* Las consultas de 12 años NO DEBEN ser mayor que el total de Consultas entre 10-14 Años. \",\"\")","v":""},{"$f":"IF(CI19=1,\"* Las consultas de 60 años NO DEBEN ser mayor que el total de Consultas entre 60-64 Años. \",\"\")","v":""},{"$f":"IF(CJ19=1,\"* Las actividades de usuarios en situación de discapacidad NO DEBEN superar el total. \",\"\")","v":""},{"$f":"IF(AND(AR19=\"\",D19<>0),\"* Recuerde que las Embarazadas deben ser incluídas en el ingreso por rango Etario (Digite CEROS si no tiene). \",IF(F19<AR19,\"* Las Embarazadas NO DEBEN ser mayor al total de mujeres. \",\"\"))","v":""},{"$f":"IF(AND(AS19=\"\",D19<>0),\"* No olvide digitar la columna Beneficiarios (Digite CEROS si no tiene). \",IF(D19<AS19,\"* El número de Beneficiarios NO DEBE ser mayor que el Total. \",\"\"))","v":""},{"$f":"IF(AND(AW19=\"\",D19<>0),\"* No olvide digitar la Población SENAME (Digite CEROS si no tiene). \",IF(D19<AW19,\"* La Población SENAME NO DEBE ser mayor al Total. \",\"\"))","v":""},{"$f":"IF(AND(AX19=\"\",D19<>0),\"* No olvide digitar la Población Migrante (Digite CEROS si no tiene). \",IF(D19<AX19,\"* La Población Migrante NO DEBE superar el Total. \",\"\"))","v":""},{"$f":"IF(AQ19>(Y19+Z19),1,0)","v":0},{"$f":"IF(AT19>(AK19+AL19),1,0)","v":0},{"$f":"IF(D19<AV19,1,0)","v":0},{"$f":"IF(AND(AR19=\"\",D19<>0),1,IF(F19<AR19,1,0))","v":0},{"$f":"IF(AND(AS19=\"\",D19<>0),1,IF(D19<AS19,1,0))","v":0},{"$f":"IF(AND(AW19=\"\",D19<>0),1,IF(D19<AW19,1,0))","v":0},{"$f":"IF(AND(AX19=\"\",D19<>0),1,IF(D19<AX19,1,0))","v":0}]
["CONSEJERÍA BREVE EN TABACO",null,null,{"$f":"SUM(E20+F20)","v":0},{"$f":"SUM(U20+W20+Y20+AA20+AC20+AE20+AG20+AI20+AK20+AM20+AO20)","v":0},{"$f":"SUM(V20+X20+Z20+AB20+AD20+AF20+AH20+AJ20+AL20+AN20+AP20)","v":0},null,null,null,null,null,null,null,null,null,null,null,null,null,null,null,null,null,null,null,null,null,null,null,null,null,null,null,null,null,null,null,null,null,null,null,null,null,null,null,null,null,null,null,null,{"$f":"$CA20&$CB20&$CC20&$CD20&$CE20&$CF20&$CG20","v":""},null,null,null,null,null,null,null,null,null,null,null,null,null,null,null,null,null,null,null,null,null,null,null,null,null,null,null,{"$f":"IF(CH20=1,\"* Las consultas de 12 años NO DEBEN ser mayor que el total de Consultas entre 10-14 Años. \",\"\")","v":""},{"$f":"IF(CI20=1,\"* Las consultas de 60 años NO DEBEN ser mayor que el total de Consultas entre 60-64 Años. \",\"\")","v":""},{"$f":"IF(CJ20=1,\"* Las actividades de usuarios en situación de discapacidad NO DEBEN superar el total. \",\"\")","v":""},{"$f":"IF(AND(AR20=\"\",D20<>0),\"* Recuerde que las Embarazadas deben ser incluídas en el ingreso por rango Etario (Digite CEROS si no tiene). \",IF(F20<AR20,\"* Las Embarazadas NO DEBEN ser mayor al total de mujeres. \",\"\"))","v":""},{"$f":"IF(AND(AS20=\"\",D20<>0),\"* No olvide digitar la columna Beneficiarios (Digite CEROS si no tiene). \",IF(D20<AS20,\"* El número de Beneficiarios NO DEBE ser mayor que el Total. \",\"\"))","v":""},{"$f":"IF(AND(AW20=\"\",D20<>0),\"* No olvide digitar la Población SENAME (Digite CEROS si no tiene). \",IF(D20<AW20,\"* La Población SENAME NO DEBE ser mayor al Total. \",\"\"))","v":""},{"$f":"IF(AND(AX20=\"\",D20<>0),\"* No olvide digitar la Población Migrante (Digite CEROS si no tiene). \",IF(D20<AX20,\"* La Población Migrante NO DEBE superar el Total. \",\"\"))","v":""},{"$f":"IF(AQ20>(Y20+Z20),1,0)","v":0},{"$f":"IF(AT20>(AK20+AL20),1,0)","v":0},{"$f":"IF(D20<AV20,1,0)","v":0},{"$f":"IF(AND(AR20=\"\",D20<>0),1,IF(F20<AR20,1,0))","v":0},{"$f":"IF(AND(AS20=\"\",D20<>0),1,IF(D20<AS20,1,0))","v":0},{"$f":"IF(AND(AW20=\"\",D20<>0),1,IF(D20<AW20,1,0))","v":0},{"$f":"IF(AND(AX20=\"\",D20<>0),1,IF(D20<AX20,1,0))","v":0}]
["EXAMEN DE SALUD ORAL",null,null,0,{"$f":"SUM(G21+I21+K21+M21+O21+Q21+S21+U21+W21+Y21+AA21+AC21+AE21+AG21+AI21+AK21+AM21+AO21)","v":0},0,null,null,null,null,null,null,null,null,null,null,null,null,null,null,null,null,null,null,null,null,null,null,null,null,null,null,null,null,null,null,null,null,null,null,null,null,null,null,null,null,null,null,null,null,"",null,null,null,null,null,null,null,null,null,null,null,null,null,null,null,null,null,null,null,null,null,null,null,null,null,null,null,"","","","","","","",0,0,0,0,0,0,0]
["APLICACIÓN DE SELLANTES",null,null,0,0,0,null,null,null,null,null,null,null,null,null,null,null,null,null,null,null,null,null,null,null,null,null,null,null,null,null,null,null,null,null,null,null,null,null,null,null,null,null,null,null,null,null,null,null,null,"",null,null,null,null,null,null,null,null,null,null,null,null,null,null,null,null,null,null,null,null,null,null,null,null,null,null,null,"","","","","","","",0,0,0,0,0,0,0]
["FLUORURACIÓN TÓPICA BARNIZ",null,null,0,0,0,null,null,null,null,null,null,null,null,null,null,null,null,null,null,null,null,null,null,null,null,null,null,null,null,null,null,null,null,null,null,null,null,null,null,null,null,null,null,null,null,null,null,null,null,"",null,null,null,null,null,null,null,null,null,null,null,null,null,null,null,null,null,null,null,null,null,null,null,null,null,null,null,"","","","","","","",0,0,0,0,0,0,0]
["ACTIVIDAD INTERCEPTIVA DE ANOMALÍAS DENTO MAXILARES (OPI)",null,null,0,{"$f":"SUM(G24+I24+K24+M24+O24+Q24+S24+U24+W24+Y24+AA24+AC24+AE24+AG24+AI24+AK24+AM24+AO24)","v":0},{"$f":"SUM(H24+J24+L24+N24+P24+R24+T24+V24+X24+Z24+AB24+AD24+AF24+AH24+AJ24+AL24+AN24+AP24)","v":0},null,null,null,null,null,null,null,null,null,null,null,null,null,null,null,null,null,null,null,null,null,null,null,null,null,null,null,null,null,null,null,null,null,null,null,null,null,null,null,null,null,null,null,null,"",null,null,null,null,null,null,null,null,null,null,null,null,null,null,null,null,null,null,null,null,null,null,null,null,null,null,null,"","","","","","","",0,0,0,0,0,0,0]
["DESTARTRAJE SUPRAGINGIVAL Y PULIDO CORONARIO",null,null,0,0,0,null,null,null,null,null,null,null,null,null,null,null,null,null,null,null,null,null,null,null,null,null,null,null,null,null,null,null,null,null,null,null,null,null,null,null,null,null,null,null,null,null,null,null,null,"",null,null,null,null,null,null,null,null,null,null,null,null,null,null,null,null,null,null,null,null,null,null,null,null,null,null,null,"","","","","","","",0,0,0,0,0,0,0]
["EXODONCIA",null,null,0,0,0,null,null,null,null,null,null,null,null,null,null,null,null,null,null,null,null,null,null,null,null,null,null,null,null,null,null,null,null,null,null,null,null,null,null,null,null,null,null,null,null,null,null,null,null,"",null,null,null,null,null,null,null,null,null,null,null,null,null,null,null,null,null,null,null,null,null,null,null,null,null,null,null,"","","","","","","",0,0,0,0,0,0,0]
["PROCEDIMIENTO PULPAR",null,null,0,0,0,null,null,null,null,null,null,null,null,null,null,null,null,null,null,null,null,null,null,null,null,null,null,null,null,null,null,null,null,null,null,null,null,null,null,null,null,null,null,null,null,null,null,null,null,"",null,null,null,null,null,null,null,null,null,null,null,null,null,null,null,null,null,null,null,null,null,null,null,null,null,null,null,"","","","","","","",0,0,0,0,0,0,0]
["ACCESO CAVITARIO",null,null,{"$f":"SUM(E28+F28)","v":0},0,0,null,null,null,null,null,null,null,null,null,null,null,null,null,null,null,null,null,null,null,null,null,null,null,null,null,null,null,null,null,null,null,null,null,null,null,null,null,null,null,null,null,null,null,null,"",null,null,null,null,null,null,null,null,null,null,null,null,null,null,null,null,null,null,null,null,null,null,null,null,null,null,null,"","","","","","","",0,0,0,0,0,0,0]
["RESTAURACIÓN ESTÉTICA",null,null,0,0,0,null,null,null,null,null,null,null,null,null,null,null,null,null,null,null,null,null,null,null,null,null,null,null,null,null,null,null,null,null,null,null,null,null,null,null,null,null,null,null,null,null,null,null,null,"",null,null,null,null,null,null,null,null,null,null,null,null,null,null,null,null,null,null,null,null,null,null,null,null,null,null,null,"","","","","","","",0,0,0,0,0,0,0]
["RESTAURACIÓN DE AMALGAMAS",null,null,0,0,0,null,null,null,null,null,null,null,null,null,null,null,null,null,null,null,null,null,null,null,null,null,null,null,null,null,null,null,null,null,null,null,null,null,null,null,null,null,null,null,null,null,null,null,null,"",null,null,null,null,null,null,null,null,null,null,null,null,null,null,null,null,null,null,null,null,null,null,null,null,null,null,null,"","","","","","","",0,0,0,0,0,0,0]
["OBTURACIÓN DE VIDRIO IONÓMERO ",null,null,0,0,0,null,null,null,null,null,null,null,null,null,null,null,null,null,null,null,null,null,null,null,null,null,null,null,null,null,null,null,null,null,null,null,null,null,null,null,null,null,null,null,null,null,null,null,null,"",null,null,null,null,null,null,null,null,null,null,null,null,null,null,null,null,null,null,null,null,null,null,null,null,null,null,null,"","","","","","","",0,0,0,0,0,0,0]
["DESTARTRAJE SUBGINGIVAL Y PULIDO RADICULAR POR SEXTANTE",null,null,0,{"$f":"SUM(U32+W32+Y32+AA32+AC32+AE32+AG32+AI32+AK32+AM32+AO32)","v":0},{"$f":"SUM(V32+X32+Z32+AB32+AD32+AF32+AH32+AJ32+AL32+AN32+AP32)","v":0},null,null,null,null,null,null,null,null,null,null,null,null,null,null,null,null,null,null,null,null,null,null,null,null,null,null,null,null,null,null,null,null,null,null,null,null,null,null,null,null,null,null,null,null,"",null,null,null,null,null,null,null,null,null,null,null,null,null,null,null,null,null,null,null,null,null,null,null,null,null,null,null,"","","","","","","",0,0,0,0,0,0,0]
["TRATAMIENTO RESTAURADOR ATRAUMÁTICO (ART)",null,null,{"$f":"SUM(E33+F33)","v":0},{"$f":"SUM(G33+I33+K33+M33+O33+Q33+S33+U33+W33+Y33+AA33+AC33+AE33+AG33+AI33+AK33+AM33+AO33)","v":0},0,null,null,null,null,null,null,null,null,null,null,null,null,null,null,null,null,null,null,null,null,null,null,null,null,null,null,null,null,null,null,null,null,null,null,null,null,null,null,null,null,null,null,null,null,"",null,null,null,null,null,null,null,null,null,null,null,null,null,null,null,null,null,null,null,null,null,null,null,null,null,null,null,"","","","","","","",0,0,0,0,0,0,0]
["PROCEDIMIENTOS MÉDICO-QUIRÚRGICOS",null,null,0,0,0,null,null,null,null,null,null,null,null,null,null,null,null,null,null,null,null,null,null,null,null,null,null,null,null,null,null,null,null,null,null,null,null,null,null,null,null,null,null,null,null,null,null,null,null,"",null,null,null,null,null,null,null,null,null,null,null,null,null,null,null,null,null,null,null,null,null,null,null,null,null,null,null,"","","","","","","",0,0,0,0,0,0,0]
["RADIOGRAFÍA INTRAORAL (RETROALVEOLARES, BITE WING Y OCLUSALES)",null,null,0,0,0,null,null,null,null,null,null,null,null,null,null,null,null,null,null,null,null,null,null,null,null,null,null,null,null,null,null,null,null,null,null,null,null,null,null,null,null,null,null,null,null,null,null,null,null,"",null,null,null,null,null,null,null,null,null,null,null,null,null,null,null,null,null,null,null,null,null,null,null,null,null,null,null,"","","","","","","",0,0,0,0,0,0,0]
["TOTAL ACTIVIDADES",null,null,{"$f":"SUM(D19:D35)","v":0},0,0,0,0,0,0,0,0,0,0,0,0,0,0,0,0,0,0,0,0,0,0,0,0,0,0,0,0,0,0,0,0,0,0,0,0,0,0,{"$f":"SUM(AQ19:AQ35)","v":0},0,0,0,0,0,0,0]
["SECCIÓN C : INGRESOS Y EGRESOS EN APS"]
["TIPO DE INGRESO O EGRESO",null,null,"TOTAL  ",null,null,"Según grupos de edad o de riesgo",null,null,null,null,null,null,null,null,null,null,null,null,null,null,null,null,null,null,null,null,null,null,null,null,null,null,null,null,null,null,null,null,null,null,null,"12 años (incluido en el grupo de 10-14 años)","Embarazadas","60 años (incluido en grupos de 60-64 años)","Usuarios con Discapacidad","Niños, niñas, adolescentes y jóvenes población SENAME","Migrantes","Pacientes en Control Programa Salud Cardiovascular"]
[null,null,null,null,null,null,"Menos de 1 año",null,"1 año",null,"2 años",null,"3 años",null,"4 años",null,"5 años",null,"6 años",null,"7 años",null,"8-9 años",null,"10-14 años",null,"15-19 años",null,"20-24 años ",null,"25-34 años",null,"35-44 años",null,"45-59 años",null,"60-64 años",null,"65-74 años",null,"75 y más años"]
[null,null,null,"Ambos Sexos","Hombres","Mujeres","Hombres","Mujeres","Hombres","Mujeres","Hombres","Mujeres","Hombres","Mujeres","Hombres","Mujeres","Hombres","Mujeres","Hombres","Mujeres","Hombres","Mujeres","Hombres","Mujeres","Hombres","Mujeres","Hombres","Mujeres","Hombres","Mujeres","Hombres","Mujeres","Hombres","Mujeres","Hombres","Mujeres","Hombres","Mujeres","Hombres","Mujeres","Hombres","Mujeres"]
["INGRESOS A TRATAMIENTO ODONTOLOGÍA GENERAL",null,null,{"$f":"SUM(E41+F41)","v":0},{"$f":"+S41+Y41+AA41+AC41+AE41+AG41+AI41+AK41+AM41+AO41","v":0},{"$f":"+T41+Z41+AB41+AD41+AF41+AH41+AJ41+AL41+AN41+AP41","v":0},null,null,null,null,null,null,null,null,null,null,null,null,null,null,null,null,null,null,null,null,null,null,null,null,null,null,null,null,null,null,null,null,null,null,null,null,null,null,null,null,null,null,null,{"$f":"$CA41&$CB41&$CC41&$CD41&$CE41&$CF41&$CG41","v":""},null,null,null,null,null,null,null,null,null,null,null,null,null,null,null,null,null,null,null,null,null,null,null,null,null,null,null,null,{"$f":"IF(CH41=1,\"* Las consultas de 60 años NO DEBEN ser mayor que el total de Consultas entre 60-64 Años. \",\"\")","v":""},{"$f":"IF(CI41=1,\"* Las actividades de usuarios en situación de discapacidad NO DEBEN superar el total. \",\"\")","v":""},{"$f":"IF(CJ41=1,\"* Las consultas de 12 años NO DEBEN ser mayor que el total de Consultas entre 10-14 Años. \",\"\")","v":""},{"$f":"IF(CK41=1,\"* Las consultas de Pacientes en control PSCV NO DEBEN ser mayor que el total de Consultas. \",\"\")","v":""},{"$f":"IF(AND(AR41=\"\",D41<>0),\"* Recuerde que las Embarazadas deben ser incluídas en el ingreso por rango Etario (Digite CEROS si no tiene). \",IF(F41<AR41,\"* Las Embarazadas NO DEBEN ser mayor al total de mujeres. \",\"\"))","v":""},{"$f":"IF(AND(AU41=\"\",D41<>0),\"* No olvide digitar la población SENAME (Digite CEROS si no tiene). \",IF(D41<AU41,\"* La Población SENAME NO DEBE ser mayor al Total. \",\"\"))","v":""},{"$f":"IF(AND(AV41=\"\",D41<>0),\"* No olvide digitar la población Migrante (Digite CEROS si no tiene). \",IF(D41<AV41,\"* La Población Migrante NO DEBE ser mayor al Total. \",\"\"))","v":""},{"$f":"IF(AS41>(AK41+AL41),1,0)","v":0},{"$f":"IF(D41<AT41,1,0)","v":0},{"$f":"IF((Y41+Z41)<AQ41,1,0)","v":0},{"$f":"IF(D41<AW41,1,0)","v":0},{"$f":"IF(AND(AR41=\"\",D41<>0),1,IF(F41<AR41,1,0))","v":0},{"$f":"IF(AND(AU41=\"\",D41<>0),1,IF(D41<AU41,1,0))","v":0},{"$f":"IF(AND(AV41=\"\",D41<>0),1,IF(D41<AV41,1,0))","v":0}]
["INGRESO CONTROL CON ENFOQUE RIESGO ODONTOLÓGICO (CERO)",null,null,{"$f":"SUM(E42+F42)","v":0},{"$f":"+G42+I42+K42+M42+O42+Q42+S42+U42+W42+Y42+AA42","v":0},{"$f":"+H42+J42+L42+N42+P42+R42+T42+V42+X42+Z42+AB42","v":0},null,null,null,null,null,null,null,null,null,null,null,null,null,null,null,null,null,null,null,null,null,null,null,null,null,null,null,null,null,null,null,null,null,null,null,null,null,null,null,null,null,null,null,"",null,null,null,null,null,null,null,null,null,null,null,null,null,null,null,null,null,null,null,null,null,null,null,null,null,null,null,null,null,{"$f":"IF(CI42=1,\"* Las actividades de usuarios en situación de discapacidad NO DEBEN superar el total. \",\"\")","v":""},null,{"$f":"IF(CK42=1,\"* Las consultas de Pacientes en control PSCV NO DEBEN ser mayor que el total de Consultas. \",\"\")","v":""},null,{"$f":"IF(AND(AU42=\"\",D42<>0),\"* No olvide digitar la población SENAME (Digite CEROS si no tiene). \",IF(D42<AU42,\"* La Población SENAME NO DEBE ser mayor al Total. \",\"\"))","v":""},{"$f":"IF(AND(AV42=\"\",D42<>0),\"* No olvide digitar la población Migrante (Digite CEROS si no tiene). \",IF(D42<AV42,\"* La Población Migrante NO DEBE ser mayor al Total. \",\"\"))","v":""},null,{"$f":"IF(D42<AT42,1,0)","v":0},null,{"$f":"IF(D42<AW42,1,0)","v":0},null,{"$f":"IF(AND(AU42=\"\",D42<>0),1,IF(D42<AU42,1,0))","v":0},{"$f":"IF(AND(AV42=\"\",D42<>0),1,IF(D42<AV42,1,0))","v":0}]
["EGRESO CONTROL CON ENFOQUE RIESGO ODONTOLÓGICO (CERO)",null,null,{"$f":"SUM(E43+F43)","v":0},{"$f":"+G43+I43+K43+M43+O43+Q43+S43+U43+W43+Y43+AA43","v":0},{"$f":"+H43+J43+L43+N43+P43+R43+T43+V43+X43+Z43+AB43","v":0},null,null,null,null,null,null,null,null,null,null,null,null,null,null,null,null,null,null,null,null,null,null,null,null,null,null,null,null,null,null,null,null,null,null,null,null,null,null,null,null,null,null,null,"",null,null,null,null,null,null,null,null,null,null,null,null,null,null,null,null,null,null,null,null,null,null,null,null,null,null,null,null,null,"",null,"",null,"","",null,0,null,0,null,0,0]
["ALTAS ODONTOLÓGICAS PREVENTIVAS",null,null,{"$f":"SUM(E44+F44)","v":0},{"$f":"+Y44+AA44+AC44+AE44+AG44+AI44+AK44+AM44+AO44","v":0},{"$f":"+Z44+AB44+AD44+AF44+AH44+AJ44+AL44+AN44+AP44","v":0},null,null,null,null,null,null,null,null,null,null,null,null,null,null,null,null,null,null,null,null,null,null,null,null,null,null,null,null,null,null,null,null,null,null,null,null,null,null,null,null,null,null,null,"",null,null,null,null,null,null,null,null,null,null,null,null,null,null,null,null,null,null,null,null,null,null,null,null,null,null,null,null,{"$f":"IF(CH44=1,\"* Las consultas de 60 años NO DEBEN ser mayor que el total de Consultas entre 60-64 Años. \",\"\")","v":""},"",{"$f":"IF(CJ44=1,\"* Las consultas de 12 años NO DEBEN ser mayor que el total de Consultas entre 10-14 Años. \",\"\")","v":""},"",{"$f":"IF(AND(AR44=\"\",D44<>0),\"* Recuerde que las Embarazadas deben ser incluídas en el ingreso por rango Etario (Digite CEROS si no tiene). \",IF(F44<AR44,\"* Las Embarazadas NO DEBEN ser mayor al total de mujeres. \",\"\"))","v":""},"","",{"$f":"IF(AS44>(AK44+AL44),1,0)","v":0},0,{"$f":"IF((Y44+Z44)<AQ44,1,0)","v":0},0,{"$f":"IF(AND(AR44=\"\",D44<>0),1,IF(F44<AR44,1,0))","v":0},0,0]
["ALTAS ODONTOLÓGICAS INTEGRALES (EXCLUYE SECCIÓN G)",null,null,{"$f":"SUM(E45+F45)","v":0},{"$f":"Y45+AA45+AC45+AE45+AG45+AI45+AK45+AM45+AO45","v":0},{"$f":"+Z45+AB45+AD45+AF45+AH45+AJ45+AL45+AN45+AP45","v":0},null,null,null,null,null,null,null,null,null,null,null,null,null,null,null,null,null,null,null,null,null,null,null,null,null,null,null,null,null,null,null,null,null,null,null,null,null,null,null,null,null,null,null,"",null,null,null,null,null,null,null,null,null,null,null,null,null,null,null,null,null,null,null,null,null,null,null,null,null,null,null,null,null,"","","","","","",null,0,0,0,0,0,0]
["ALTAS ODONTOLÓGICAS TOTALES",null,null,{"$f":"SUM(E46+F46)","v":0},{"$f":"Y46+AA46+AC46+AE46+AG46+AI46+AK46+AM46+AO46","v":0},{"$f":"+Z46+AB46+AD46+AF46+AH46+AJ46+AL46+AN46+AP46","v":0},null,null,null,null,null,null,null,null,null,null,null,null,null,null,null,null,null,null,{"$f":"SUM(Y44:Y45)","v":0},0,0,0,0,0,{"$f":"SUM(AE44:AE45)","v":0},{"$f":"SUM(AF44:AF45)","v":0},0,0,0,0,0,0,0,0,{"$f":"SUM(AO44:AO45)","v":0},{"$f":"SUM(AP44:AP45)","v":0},{"$f":"SUM(AQ44:AQ45)","v":0},{"$f":"SUM(AR44:AR45)","v":0},{"$f":"SUM(AS44)","v":0},{"$f":"SUM(AT44:AT45)","v":0},{"$f":"SUM(AU44:AU45)","v":0},{"$f":"SUM(AV44:AV45)","v":0},{"$f":"SUM(AW44:AW45)","v":0}]
["EGRESOS POR ABANDONO",null,null,0,{"$f":"+G47+I47+K47+M47+O47+Q47+S47+U47+W47+Y47+AA47+AC47+AE47+AG47+AI47+AK47+AM47+AO47","v":0},{"$f":"+H47+J47+L47+N47+P47+R47+T47+V47+X47+Z47+AB47+AD47+AF47+AH47+AJ47+AL47+AN47+AP47","v":0},null,null,null,null,null,null,null,null,null,null,null,null,null,null,null,null,null,null,null,null,null,null,null,null,null,null,null,null,null,null,null,null,null,null,null,null,null,null,null,null,null,null,null,"",null,null,null,null,null,null,null,null,null,null,null,null,null,null,null,null,null,null,null,null,null,null,null,null,null,null,null,null,"","","","","","","",0,0,0,0,0,0,0]
["ÍNDICE ceod O COPD EN PACIENTES INGRESADOS (Índice ceod se usa en menores de 7 años, para resto se utiliza COPD) ",null,0,0,{"$f":"SUM(G48+I48+K48+M48+O48+Q48+S48+U48+W48+Y48+AA48+AC48+AE48+AG48+AI48+AK48+AM48+AO48)","v":0},{"$f":"SUM(H48+J48+L48+N48+P48+R48+T48+V48+X48+Z48+AB48+AD48+AF48+AH48+AJ48+AL48+AN48+AP48)","v":0},null,null,null,null,null,null,null,null,null,null,null,null,null,null,null,null,null,null,null,null,null,null,null,null,null,null,null,null,null,null,null,null,null,null,null,null,null,null,null,null,null,null,null,"",null,null,null,null,null,null,null,null,null,null,null,null,null,null,null,null,null,null,null,null,null,null,null,null,null,null,null,null,"","","","","","","",0,0,0,0,0,0,0]
[null,null,"1 a 2",0,{"$f":"SUM(G49+I49+K49+M49+O49+Q49+S49+U49+W49+Y49+AA49+AC49+AE49+AG49+AI49+AK49+AM49+AO49)","v":0},{"$f":"SUM(H49+J49+L49+N49+P49+R49+T49+V49+X49+Z49+AB49+AD49+AF49+AH49+AJ49+AL49+AN49+AP49)","v":0},null,null,null,null,null,null,null,null,null,null,null,null,null,null,null,null,null,null,null,null,null,null,null,null,null,null,null,null,null,null,null,null,null,null,null,null,null,null,null,null,null,null,null,"",null,null,null,null,null,null,null,null,null,null,null,null,null,null,null,null,null,null,null,null,null,null,null,null,null,null,null,null,"","","","","","","",0,0,0,0,0,0,0]
[null,null,"3 a 4",0,0,0,null,null,null,null,null,null,null,null,null,null,null,null,null,null,null,null,null,null,null,null,null,null,null,null,null,null,null,null,null,null,null,null,null,null,null,null,null,null,null,null,null,null,null,"",null,null,null,null,null,null,null,null,null,null,null,null,null,null,null,null,null,null,null,null,null,null,null,null,null,null,null,null,"","","","","","","",0,0,0,0,0,0,0]
[null,null,"5 a 6",0,0,0,null,null,null,null,null,null,null,null,null,null,null,null,null,null,null,null,null,null,null,null,null,null,null,null,null,null,null,null,null,null,null,null,null,null,null,null,null,null,null,null,null,null,null,"",null,null,null,null,null,null,null,null,null,null,null,null,null,null,null,null,null,null,null,null,null,null,null,null,null,null,null,null,"","","","","","","",0,0,0,0,0,0,0]
[null,null,"7 a 8",{"$f":"SUM(E52+F52)","v":0},0,0,null,null,null,null,null,null,null,null,null,null,null,null,null,null,null,null,null,null,null,null,null,null,null,null,null,null,null,null,null,null,null,null,null,null,null,null,null,null,null,null,null,null,null,"",null,null,null,null,null,null,null,null,null,null,null,null,null,null,null,null,null,null,null,null,null,null,null,null,null,null,null,null,"","","","","","","",0,0,0,0,0,0,0]
[null,null,"9 o más",0,0,0,null,null,null,null,null,null,null,null,null,null,null,null,null,null,null,null,null,null,null,null,null,null,null,null,null,null,null,null,null,null,null,null,null,null,null,null,null,null,null,null,null,null,null,"",null,null,null,null,null,null,null,null,null,null,null,null,null,null,null,null,null,null,null,null,null,null,null,null,null,null,null,null,"","","","","","","",0,0,0,0,0,0,0]
["TOTAL",null,null,{"$f":"SUM(D48:D53)","v":0},{"$f":"SUM(E48:E53)","v":0},{"$f":"SUM(F48:F53)","v":0},{"$f":"SUM(G48:G53)","v":0},{"$f":"SUM(H48:H53)","v":0},0,0,0,0,0,0,0,0,0,0,0,0,0,0,0,0,0,0,0,0,0,0,0,0,0,0,0,0,0,0,0,0,0,0,0,0,0,0,0,0,{"$f":"SUM(AW48:AW53)","v":0}]
[" N° de dientes (total de dientes en boca. En dentición mixta se suman los dientes primarios y permanentes)",null,0,0,0,0,null,null,null,null,null,null,null,null,null,null,null,null,null,null,null,null,null,null,null,null,null,null,null,null,null,null,null,null,null,null,null,null,null,null,null,null,null,null,null,null,null,null,null,"",null,null,null,null,null,null,null,null,null,null,null,null,null,null,null,null,null,null,null,null,null,null,null,null,null,null,null,null,"","","","","","","",0,0,0,0,0,0,0]
[null,null,"1 a 9",0,0,0,null,null,null,null,null,null,null,null,null,null,null,null,null,null,null,null,null,null,null,null,null,null,null,null,null,null,null,null,null,null,null,null,null,null,null,null,null,null,null,null,null,null,null,"",null,null,null,null,null,null,null,null,null,null,null,null,null,null,null,null,null,null,null,null,null,null,null,null,null,null,null,null,"","","","","","","",0,0,0,0,0,0,0]
[null,null,"10 a 19",0,0,0,null,null,null,null,null,null,null,null,null,null,null,null,null,null,null,null,null,null,null,null,null,null,null,null,null,null,null,null,null,null,null,null,null,null,null,null,null,null,null,null,null,null,null,"",null,null,null,null,null,null,null,null,null,null,null,null,null,null,null,null,null,null,null,null,null,null,null,null,null,null,null,null,"","","","","","","",0,0,0,0,0,0,0]
[null,null,"20 a 27",0,0,0,null,null,null,null,null,null,null,null,null,null,null,null,null,null,null,null,null,null,null,null,null,null,null,null,null,null,null,null,null,null,null,null,null,null,null,null,null,null,null,null,null,null,null,"",null,null,null,null,null,null,null,null,null,null,null,null,null,null,null,null,null,null,null,null,null,null,null,null,null,null,null,null,"","","","","","","",0,0,0,0,0,0,0]
[null,null,"28 y más",0,{"$f":"SUM(G59+I59+K59+M59+O59+Q59+S59+U59+W59+Y59+AA59+AC59+AE59+AG59+AI59+AK59+AM59+AO59)","v":0},{"$f":"SUM(H59+J59+L59+N59+P59+R59+T59+V59+X59+Z59+AB59+AD59+AF59+AH59+AJ59+AL59+AN59+AP59)","v":0},null,null,null,null,null,null,null,null,null,null,null,null,null,null,null,null,null,null,null,null,null,null,null,null,null,null,null,null,null,null,null,null,null,null,null,null,null,null,null,null,null,null,null,"",null,null,null,null,null,null,null,null,null,null,null,null,null,null,null,null,null,null,null,null,null,null,null,null,null,null,null,null,"","","","","","","",0,0,0,0,0,0,0]
["TOTAL",null,null,{"$f":"SUM(D55:D59)","v":0},{"$f":"SUM(E55:E59)","v":0},{"$f":"SUM(F55:F59)","v":0},0,0,0,0,0,0,0,0,0,0,0,0,0,0,0,0,0,0,0,0,0,0,0,0,0,0,0,0,0,0,0,0,0,0,0,0,0,0,0,0,0,0,0]
["CÓDIGO EXAMEN PERIODONTAL BASICO (EPB) EN PACIENTES INGRESADOS",null,0,{"$f":"SUM(E61:F61)","v":0},{"$f":"SUM(AA61+AC61+AE61+AG61+AI61+AK61+AM61+AO61)","v":0},0,null,null,null,null,null,null,null,null,null,null,null,null,null,null,null,null,null,null,null,null,null,null,null,null,null,null,null,null,null,null,null,null,null,null,null,null,null,null,null,null,null,null,null,"",null,null,null,null,null,null,null,null,null,null,null,null,null,null,null,null,null,null,null,null,null,null,null,null,null,null,null,null,"","","","","","","",0,0,0,0,0,0,0]
[null,null,"1,2,3",{"$f":"SUM(E62:F62)","v":0},0,0,null,null,null,null,null,null,null,null,null,null,null,null,null,null,null,null,null,null,null,null,null,null,null,null,null,null,null,null,null,null,null,null,null,null,null,null,null,null,null,null,null,null,null,"",null,null,null,null,null,null,null,null,null,null,null,null,null,null,null,null,null,null,null,null,null,null,null,null,null,null,null,null,"","","","","","","",0,0,0,0,0,0,0]
[null,null,"4 y *",{"$f":"SUM(E63:F63)","v":0},0,0,null,null,null,null,null,null,null,null,null,null,null,null,null,null,null,null,null,null,null,null,null,null,null,null,null,null,null,null,null,null,null,null,null,null,null,null,null,null,null,null,null,null,null,"",null,null,null,null,null,null,null,null,null,null,null,null,null,null,null,null,null,null,null,null,null,null,null,null,null,null,null,null,"","","","","","","",0,0,0,0,0,0,0]
[null,null,"TOTAL",{"$f":"SUM(E64:F64)","v":0},{"$f":"SUM(E61:E63)","v":0},{"$f":"SUM(F61:F63)","v":0},null,null,null,null,null,null,null,null,null,null,null,null,null,null,null,null,null,null,null,null,{"$f":"SUM(AA61:AA63)","v":0},0,0,0,0,0,0,0,0,0,0,0,0,0,0,0,0,0,0,0,0,0,0]
["SECCIÓN D : INTERCONSULTAS GENERADAS EN ESTABLECIMIENTOS DE APS"]
["ESPECIALIDAD",null,null,"TOTAL","Gestantes","60 años","Usuarios con Discapacidad","Niños. Niñas, adolescentes y jóvenes Población SENAME","Migrantes"]
["ENDODONCIA",null,null,null,null,null,null,null,null,{"$f":"CA67&CB67&CC67&CD67&CE67","v":""},null,null,null,null,null,null,null,null,null,null,null,null,null,null,null,null,null,null,null,null,null,null,null,null,null,null,null,null,null,null,null,null,null,null,null,null,null,null,null,null,null,null,null,null,null,null,null,null,null,null,null,null,null,null,null,null,null,null,null,null,null,null,null,null,null,null,null,null,{"$f":"IF(CH67=1,\"* Las Interconsultas de Gestantes NO DEBEN ser mayor al Total de Interconsultas. \",\"\")","v":""},{"$f":"IF(CI67=1,\"* Las Interconsultas de Pacientes de 60 años NO DEBEN ser mayor al Total de Interconsultas. \",\"\")","v":""},{"$f":"IF(CJ67=1,\"* Las Interconsultas de Usuarios en situación de Discapacidad NO DEBEN ser mayor al Total de Interconsultas. \",\"\")","v":""},{"$f":"IF(CK67=1,\"* Las Interconsultas de Niños, Niñas, Adolescentes y Jóvenes Red SENAME NO DEBEN ser mayor al Total de Interconsultas. \",\"\")","v":""},{"$f":"IF(CL67=1,\"* Las Interconsultas de Migrantes NO DEBEN ser mayor al Total de Interconsultas. \",\"\")","v":""},null,null,{"$f":"IF($D67<E67,1,0)","v":0},{"$f":"IF($D67<F67,1,0)","v":0},0,0,0]
["REHABILITACIÓN ORAL","PRÓTESIS REMOVIBLES",null,null,null,null,null,null,null,{"$f":"CA68&CB68&CC68&CD68&CE68","v":""},null,null,null,null,null,null,null,null,null,null,null,null,null,null,null,null,null,null,null,null,null,null,null,null,null,null,null,null,null,null,null,null,null,null,null,null,null,null,null,null,null,null,null,null,null,null,null,null,null,null,null,null,null,null,null,null,null,null,null,null,null,null,null,null,null,null,null,null,{"$f":"IF(CH68=1,\"* Las Interconsultas de Gestantes NO DEBEN ser mayor al Total de Interconsultas. \",\"\")","v":""},{"$f":"IF(CI68=1,\"* Las Interconsultas de Pacientes de 60 años NO DEBEN ser mayor al Total de Interconsultas. \",\"\")","v":""},{"$f":"IF(CJ68=1,\"* Las Interconsultas de Usuarios en situación de Discapacidad NO DEBEN ser mayor al Total de Interconsultas. \",\"\")","v":""},{"$f":"IF(CK68=1,\"* Las Interconsultas de Niños, Niñas, Adolescentes y Jóvenes Red SENAME NO DEBEN ser mayor al Total de Interconsultas. \",\"\")","v":""},{"$f":"IF(CL68=1,\"* Las Interconsultas de Migrantes NO DEBEN ser mayor al Total de Interconsultas. \",\"\")","v":""},null,null,{"$f":"IF($D68<E68,1,0)","v":0},{"$f":"IF($D68<F68,1,0)","v":0},{"$f":"IF($D68<G68,1,0)","v":0},{"$f":"IF($D68<H68,1,0)","v":0},{"$f":"IF($D68<I68,1,0)","v":0}]
[null,"PRÓTESIS FIJA",null,null,null,null,null,null,null,"",null,null,null,null,null,null,null,null,null,null,null,null,null,null,null,null,null,null,null,null,null,null,null,null,null,null,null,null,null,null,null,null,null,null,null,null,null,null,null,null,null,null,null,null,null,null,null,null,null,null,null,null,null,null,null,null,null,null,null,null,null,null,null,null,null,null,null,null,"","","","","",null,null,0,0,0,0,0]
[null,"PRÓTESIS IMPLANTOASISTIDA",null,null,null,null,null,null,null,"",null,null,null,null,null,null,null,null,null,null,null,null,null,null,null,null,null,null,null,null,null,null,null,null,null,null,null,null,null,null,null,null,null,null,null,null,null,null,null,null,null,null,null,null,null,null,null,null,null,null,null,null,null,null,null,null,null,null,null,null,null,null,null,null,null,null,null,null,"","","","","",null,null,0,0,0,0,0]
["CIRUGÍA BUCAL ",null,null,null,null,null,null,null,null,"",null,null,null,null,null,null,null,null,null,null,null,null,null,null,null,null,null,null,null,null,null,null,null,null,null,null,null,null,null,null,null,null,null,null,null,null,null,null,null,null,null,null,null,null,null,null,null,null,null,null,null,null,null,null,null,null,null,null,null,null,null,null,null,null,null,null,null,null,"","","","","",null,null,0,0,0,0,0]
["CIRUGÍA Y TRAUMATOLOGÍA MAXILOFACIAL",null,null,null,null,null,null,null,null,"",null,null,null,null,null,null,null,null,null,null,null,null,null,null,null,null,null,null,null,null,null,null,null,null,null,null,null,null,null,null,null,null,null,null,null,null,null,null,null,null,null,null,null,null,null,null,null,null,null,null,null,null,null,null,null,null,null,null,null,null,null,null,null,null,null,null,null,null,"","","","","",null,null,0,0,0,0,0]
["ODONTOPEDIATRÍA ",null,null,null,null,null,null,null,null,"",null,null,null,null,null,null,null,null,null,null,null,null,null,null,null,null,null,null,null,null,null,null,null,null,null,null,null,null,null,null,null,null,null,null,null,null,null,null,null,null,null,null,null,null,null,null,null,null,null,null,null,null,null,null,null,null,null,null,null,null,null,null,null,null,null,null,null,null,"","","","","",null,null,0,0,0,0,0]
["ORTODONCIA Y ORTOPEDIA DENTOMAXILOFACIAL","ORTODONCIA Y ORTOPEDIA DENTOMAXILOFACIAL",null,null,null,null,null,null,null,"",null,null,null,null,null,null,null,null,null,null,null,null,null,null,null,null,null,null,null,null,null,null,null,null,null,null,null,null,null,null,null,null,null,null,null,null,null,null,null,null,null,null,null,null,null,null,null,null,null,null,null,null,null,null,null,null,null,null,null,null,null,null,null,null,null,null,null,null,"","","","","",null,null,0,0,0,0,0]
[null,"APARATOLOGÍA REMOVIBLE",null,null,null,null,null,null,null,"",null,null,null,null,null,null,null,null,null,null,null,null,null,null,null,null,null,null,null,null,null,null,null,null,null,null,null,null,null,null,null,null,null,null,null,null,null,null,null,null,null,null,null,null,null,null,null,null,null,null,null,null,null,null,null,null,null,null,null,null,null,null,null,null,null,null,null,null,"","","","","",null,null,0,0,0,0,0]
["PERIODONCIA",null,null,null,null,null,null,null,null,"",null,null,null,null,null,null,null,null,null,null,null,null,null,null,null,null,null,null,null,null,null,null,null,null,null,null,null,null,null,null,null,null,null,null,null,null,null,null,null,null,null,null,null,null,null,null,null,null,null,null,null,null,null,null,null,null,null,null,null,null,null,null,null,null,null,null,null,null,"","","","","",null,null,0,0,0,0,0]
["IMAGENOLOGÍA ORAL Y MAXILOFACIAL ",null,null,null,null,null,null,null,null,"",null,null,null,null,null,null,null,null,null,null,null,null,null,null,null,null,null,null,null,null,null,null,null,null,null,null,null,null,null,null,null,null,null,null,null,null,null,null,null,null,null,null,null,null,null,null,null,null,null,null,null,null,null,null,null,null,null,null,null,null,null,null,null,null,null,null,null,null,"","","","","",null,null,0,0,0,0,0]
["PATOLOGÍA ORAL",null,null,null,null,null,null,null,null,"",null,null,null,null,null,null,null,null,null,null,null,null,null,null,null,null,null,null,null,null,null,null,null,null,null,null,null,null,null,null,null,null,null,null,null,null,null,null,null,null,null,null,null,null,null,null,null,null,null,null,null,null,null,null,null,null,null,null,null,null,null,null,null,null,null,null,null,null,"","","","","",null,null,0,0,0,0,0]
["IMPLANTOLOGÍA BUCO MAXILOFACIAL",null,null,null,null,null,null,null,null,"",null,null,null,null,null,null,null,null,null,null,null,null,null,null,null,null,null,null,null,null,null,null,null,null,null,null,null,null,null,null,null,null,null,null,null,null,null,null,null,null,null,null,null,null,null,null,null,null,null,null,null,null,null,null,null,null,null,null,null,null,null,null,null,null,null,null,null,null,"","","","","",null,null,0,0,0,0,0]
["TRASTORNOS TEMPOROMANDIBULARES Y DOLOR OROFACIAL",null,null,null,null,null,null,null,null,"",null,null,null,null,null,null,null,null,null,null,null,null,null,null,null,null,null,null,null,null,null,null,null,null,null,null,null,null,null,null,null,null,null,null,null,null,null,null,null,null,null,null,null,null,null,null,null,null,null,null,null,null,null,null,null,null,null,null,null,null,null,null,null,null,null,null,null,null,{"$f":"IF(CH80=1,\"* Las Interconsultas de Gestantes NO DEBEN ser mayor al Total de Interconsultas. \",\"\")","v":""},{"$f":"IF(CI80=1,\"* Las Interconsultas de Pacientes de 60 años NO DEBEN ser mayor al Total de Interconsultas. \",\"\")","v":""},{"$f":"IF(CJ80=1,\"* Las Interconsultas de Usuarios en situación de Discapacidad NO DEBEN ser mayor al Total de Interconsultas. \",\"\")","v":""},{"$f":"IF(CK80=1,\"* Las Interconsultas de Niños, Niñas, Adolescentes y Jóvenes Red SENAME NO DEBEN ser mayor al Total de Interconsultas. \",\"\")","v":""},{"$f":"IF(CL80=1,\"* Las Interconsultas de Migrantes NO DEBEN ser mayor al Total de Interconsultas. \",\"\")","v":""},null,null,{"$f":"IF($D80<E80,1,0)","v":0},0,0,0,0]
["SOMATOPRÓTESIS",null,null,null,null,null,null,null,null,"",null,null,null,null,null,null,null,null,null,null,null,null,null,null,null,null,null,null,null,null,null,null,null,null,null,null,null,null,null,null,null,null,null,null,null,null,null,null,null,null,null,null,null,null,null,null,null,null,null,null,null,null,null,null,null,null,null,null,null,null,null,null,null,null,null,null,null,null,{"$f":"IF(CH81=1,\"* Las Interconsultas de Gestantes NO DEBEN ser mayor al Total de Interconsultas. \",\"\")","v":""},{"$f":"IF(CI81=1,\"* Las Interconsultas de Pacientes de 60 años NO DEBEN ser mayor al Total de Interconsultas. \",\"\")","v":""},{"$f":"IF(CJ81=1,\"* Las Interconsultas de Usuarios en situación de Discapacidad NO DEBEN ser mayor al Total de Interconsultas. \",\"\")","v":""},{"$f":"IF(CK81=1,\"* Las Interconsultas de Niños, Niñas, Adolescentes y Jóvenes Red SENAME NO DEBEN ser mayor al Total de Interconsultas. \",\"\")","v":""},{"$f":"IF(CL81=1,\"* Las Interconsultas de Migrantes NO DEBEN ser mayor al Total de Interconsultas. \",\"\")","v":""},null,null,{"$f":"IF($D81<E81,1,0)","v":0},{"$f":"IF($D81<F81,1,0)","v":0},{"$f":"IF($D81<G81,1,0)","v":0},{"$f":"IF($D81<H81,1,0)","v":0},{"$f":"IF($D81<I81,1,0)","v":0}]
["SECCIÓN E: CONSULTAS ODONTOLÓGICAS  EN HORARIO CONTINUADO (incluidas en  Secciones A y B. Excluye extensiones horarias de Sección G )"]
["JORNADA",null,null,"CONSULTAS  "]
[null,null,null,"TOTAL","Hombres","Mujeres"]
[" HORARIO CONTINUADO","VESPERTINA (LUNES-VIERNES)",null,{"$f":"SUM(E85+F85)","v":0}]
[null,"SÁBADO, DOMINGO o FESTIVO",null,{"$f":"SUM(E86+F86)","v":0}]
["SECCIÓN F:  ACTIVIDADES DE ATENCIÓN EN ESPECIALIDADES ODONTOLÓGICAS. "]
["ACTIVIDADES DE ESPECIALIDADES",null,null,"TOTAL",null,null,"SEGÚN GRUPOS DE EDAD O DE RIESGO",null,null,null,null,null,null,null,null,null,null,null,null,null,null,null,null,null,null,null,null,null,null,null,null,null,null,null,null,null,null,null,null,null,"12 años (incluidos en  grupo de 10-14 años)","Embarazadas","Beneficiarios","60 años incluidos en grupos de  60-64 años)","Compra de Servicios","Usuarios con Discapacidad ","Niños, niñas, adolescentes y jovenes RED SENAME","Migrantes"]
[null,null,null,null,null,null,"Menos de 1 año - 1 año",null,"2 años",null,"3 años",null,"4 años",null,"5 años",null,"6 años",null,"7 años",null,"8-9 años",null,"10-14 años",null,"15-19 años",null,"20-24 años ",null,"25-34 años",null,"35-44 años",null,"45-59 años",null,"60-64 años",null,"65-74 años",null,"75 y más años"]
[null,null,null,"Ambos Sexos","Hombres","Mujeres","Hombres","Mujeres","Hombres","Mujeres","Hombres","Mujeres","Hombres","Mujeres","Hombres","Mujeres","Hombres","Mujeres","Hombres","Mujeres","Hombres","Mujeres","Hombres","Mujeres","Hombres","Mujeres","Hombres","Mujeres","Hombres","Mujeres","Hombres","Mujeres","Hombres","Mujeres","Hombres","Mujeres","Hombres","Mujeres","Hombres","Mujeres"]
["EXAMEN Y DIAGNÓSTICO DE ESPECIALIDAD",null,null,{"$f":"SUM(E91:F91)","v":0},{"$f":"SUM(G91+I91+K91+M91+O91+Q91+S91+U91+W91+Y91+AA91+AC91+AE91+AG91+AI91+AK91+AM91)","v":0},{"$f":"SUM(H91+J91+L91+N91+P91+R91+T91+V91+X91+Z91+AB91+AD91+AF91+AH91+AJ91+AL91+AN91)","v":0},null,null,null,null,null,null,null,null,null,null,null,null,null,null,null,null,null,null,null,null,null,null,null,null,null,null,null,null,null,null,null,null,null,null,null,null,null,null,null,null,null,null,{"$f":"$CA91&$CB91&$CC91&$CD91&$CE91&$CF91&$CG91","v":""},null,null,null,null,null,null,null,null,null,null,null,null,null,null,null,null,null,null,null,null,null,null,null,null,null,null,null,null,null,{"$f":"IF(CH91=1,\"* Las consultas de 12 años NO DEBEN ser mayor que el total de Consultas entre 10-14 Años. \",\"\")","v":""},{"$f":"IF(CI91=1,\"* Las consultas de 60 años NO DEBEN ser mayor que el total de Consultas entre 60-64 Años. \",\"\")","v":""},{"$f":"IF(CJ91=1,\"* Las actividades de usuarios en situación de discapacidad NO DEBEN superar el total. \",\"\")","v":""},{"$f":"IF(AND(AP91=\"\",D91<>0),\"* Recuerde que las Embarazadas deben ser incluídas en el ingreso por rango Etario (Digite CEROS si no tiene). \",IF(F91<AP91,\"* Las Embarazadas NO DEBEN ser mayor al total de mujeres. \",\"\"))","v":""},{"$f":"IF(AND(AQ91=\"\",D91<>0),\"* No olvide digitar la columna Beneficiarios (Digite CEROS si no tiene). \",IF(D91<AQ91,\"* El número de Beneficiarios NO DEBE ser mayor que el Total. \",\"\"))","v":""},{"$f":"IF(AND(AU91=\"\",D91<>0),\"* No olvide digitar la Población SENAME (Digite CEROS si no tiene). \",IF(D91<AU91,\"* La Población SENAME NO DEBE ser mayor al Total. \",\"\"))","v":""},{"$f":"IF(AND(AV91=\"\",D91<>0),\"* No olvide digitar la Población Migrante (Digite CEROS si no tiene). \",IF(D91<AV91,\"* La Población Migrante NO DEBE superar el Total. \",\"\"))","v":""},{"$f":"IF(AO91>(W91+X91),1,0)","v":0},{"$f":"IF(AR91>(AI91+AJ91),1,0)","v":0},{"$f":"IF(D91<AT91,1,0)","v":0},{"$f":"IF(AND(AP91=\"\",D91<>0),1,IF(F91<AP91,1,0))","v":0},{"$f":"IF(AND(AQ91=\"\",D91<>0),1,IF(D91<AQ91,1,0))","v":0},{"$f":"IF(AND(AU91=\"\",D91<>0),1,IF(D91<AU91,1,0))","v":0},{"$f":"IF(AND(AV91=\"\",D91<>0),1,IF(D91<AV91,1,0))","v":0}]
["EDUCACIÓN EN SALUD BUCAL",null,null,{"$f":"SUM(E92:F92)","v":0},{"$f":"SUM(G92+I92+K92+M92+O92+Q92+S92+U92+W92+Y92+AA92+AC92+AE92+AG92+AI92+AK92+AM92)","v":0},{"$f":"SUM(H92+J92+L92+N92+P92+R92+T92+V92+X92+Z92+AB92+AD92+AF92+AH92+AJ92+AL92+AN92)","v":0},null,null,null,null,null,null,null,null,null,null,null,null,null,null,null,null,null,null,null,null,null,null,null,null,null,null,null,null,null,null,null,null,null,null,null,null,null,null,null,null,null,null,"",null,null,null,null,null,null,null,null,null,null,null,null,null,null,null,null,null,null,null,null,null,null,null,null,null,null,null,null,null,{"$f":"IF(CH92=1,\"* Las consultas de 12 años NO DEBEN ser mayor que el total de Consultas entre 10-14 Años. \",\"\")","v":""},{"$f":"IF(CI92=1,\"* Las consultas de 60 años NO DEBEN ser mayor que el total de Consultas entre 60-64 Años. \",\"\")","v":""},{"$f":"IF(CJ92=1,\"* Las actividades de usuarios en situación de discapacidad NO DEBEN superar el total. \",\"\")","v":""},{"$f":"IF(AND(AP92=\"\",D92<>0),\"* Recuerde que las Embarazadas deben ser incluídas en el ingreso por rango Etario (Digite CEROS si no tiene). \",IF(F92<AP92,\"* Las Embarazadas NO DEBEN ser mayor al total de mujeres. \",\"\"))","v":""},{"$f":"IF(AND(AQ92=\"\",D92<>0),\"* No olvide digitar la columna Beneficiarios (Digite CEROS si no tiene). \",IF(D92<AQ92,\"* El número de Beneficiarios NO DEBE ser mayor que el Total. \",\"\"))","v":""},{"$f":"IF(AND(AU92=\"\",D92<>0),\"* No olvide digitar la Población SENAME (Digite CEROS si no tiene). \",IF(D92<AU92,\"* La Población SENAME NO DEBE ser mayor al Total. \",\"\"))","v":""},{"$f":"IF(AND(AV92=\"\",D92<>0),\"* No olvide digitar la Población Migrante (Digite CEROS si no tiene). \",IF(D92<AV92,\"* La Población Migrante NO DEBE superar el Total. \",\"\"))","v":""},{"$f":"IF(AO92>(W92+X92),1,0)","v":0},{"$f":"IF(AR92>(AI92+AJ92),1,0)","v":0},{"$f":"IF(D92<AT92,1,0)","v":0},{"$f":"IF(AND(AP92=\"\",D92<>0),1,IF(F92<AP92,1,0))","v":0},{"$f":"IF(AND(AQ92=\"\",D92<>0),1,IF(D92<AQ92,1,0))","v":0},{"$f":"IF(AND(AU92=\"\",D92<>0),1,IF(D92<AU92,1,0))","v":0},{"$f":"IF(AND(AV92=\"\",D92<>0),1,IF(D92<AV92,1,0))","v":0}]
["RESPUESTA A INTERCONSULTA PERSONAS HOSPITALIZADOS",null,null,0,0,0,null,null,null,null,null,null,null,null,null,null,null,null,null,null,null,null,null,null,null,null,null,null,null,null,null,null,null,null,null,null,null,null,null,null,null,null,null,null,null,null,null,null,"",null,null,null,null,null,null,null,null,null,null,null,null,null,null,null,null,null,null,null,null,null,null,null,null,null,null,null,null,null,"","","","","","","",0,0,0,0,0,0,0]
["VISITA A SALA",null,null,0,0,0,null,null,null,null,null,null,null,null,null,null,null,null,null,null,null,null,null,null,null,null,null,null,null,null,null,null,null,null,null,null,null,null,null,null,null,null,null,null,null,null,null,null,"",null,null,null,null,null,null,null,null,null,null,null,null,null,null,null,null,null,null,null,null,null,null,null,null,null,null,null,null,null,"","","","","","","",0,0,0,0,0,0,0]
["CONTRALORÍA CLÍNICA",null,null,0,0,0,null,null,null,null,null,null,null,null,null,null,null,null,null,null,null,null,null,null,null,null,null,null,null,null,null,null,null,null,null,null,null,null,null,null,null,null,null,null,null,null,null,null,"",null,null,null,null,null,null,null,null,null,null,null,null,null,null,null,null,null,null,null,null,null,null,null,null,null,null,null,null,null,"","","","","","","",0,0,0,0,0,0,0]
["CIRUGÍA TERCER MOLAR",null,null,0,{"$f":"SUM(Y96+AA96+AC96+AE96+AG96+AI96+AK96+AM96)","v":0},{"$f":"SUM(Z96+AB96+AD96+AF96+AH96+AJ96+AL96+AN96)","v":0},null,null,null,null,null,null,null,null,null,null,null,null,null,null,null,null,null,null,null,null,null,null,null,null,null,null,null,null,null,null,null,null,null,null,null,null,null,null,null,null,null,null,"",null,null,null,null,null,null,null,null,null,null,null,null,null,null,null,null,null,null,null,null,null,null,null,null,null,null,null,null,null,null,"","","","","","",null,0,0,0,0,0,0]
["CIRUGÍA MENOR AMBULATORIA",null,null,0,0,0,null,null,null,null,null,null,null,null,null,null,null,null,null,null,null,null,null,null,null,null,null,null,null,null,null,null,null,null,null,null,null,null,null,null,null,null,null,null,null,null,null,null,"",null,null,null,null,null,null,null,null,null,null,null,null,null,null,null,null,null,null,null,null,null,null,null,null,null,null,null,null,null,"","","","","","","",0,0,0,0,0,0,0]
["CIRUGÍA MAYOR AMBULATORIA",null,null,0,0,0,null,null,null,null,null,null,null,null,null,null,null,null,null,null,null,null,null,null,null,null,null,null,null,null,null,null,null,null,null,null,null,null,null,null,null,null,null,null,null,null,null,null,"",null,null,null,null,null,null,null,null,null,null,null,null,null,null,null,null,null,null,null,null,null,null,null,null,null,null,null,null,null,"","","","","","","",0,0,0,0,0,0,0]
["TRATAMIENTO TRAUMATISMO DENTOALVEOLAR",null,null,0,0,0,null,null,null,null,null,null,null,null,null,null,null,null,null,null,null,null,null,null,null,null,null,null,null,null,null,null,null,null,null,null,null,null,null,null,null,null,null,null,null,null,null,null,"",null,null,null,null,null,null,null,null,null,null,null,null,null,null,null,null,null,null,null,null,null,null,null,null,null,null,null,null,null,"","","","","","","",0,0,0,0,0,0,0]
["OBTURACIÓN DIRECTA",null,null,0,0,0,null,null,null,null,null,null,null,null,null,null,null,null,null,null,null,null,null,null,null,null,null,null,null,null,null,null,null,null,null,null,null,null,null,null,null,null,null,null,null,null,null,null,"",null,null,null,null,null,null,null,null,null,null,null,null,null,null,null,null,null,null,null,null,null,null,null,null,null,null,null,null,null,"","","","","","","",0,0,0,0,0,0,0]
["OBTURACIÓN INDIRECTA (INLAYS U ONLAYS)",null,null,0,{"$f":"SUM(Y101+AA101+AC101+AE101+AG101+AI101+AK101+AM101)","v":0},{"$f":"SUM(Z101+AB101+AD101+AF101+AH101+AJ101+AL101+AN101)","v":0},null,null,null,null,null,null,null,null,null,null,null,null,null,null,null,null,null,null,null,null,null,null,null,null,null,null,null,null,null,null,null,null,null,null,null,null,null,null,null,null,null,null,"",null,null,null,null,null,null,null,null,null,null,null,null,null,null,null,null,null,null,null,null,null,null,null,null,null,null,null,null,null,null,"","","","","","",null,0,0,0,0,0,0]
["INSTALACIÓN APARATO REMOVIBLE ORTODÓNCICO",null,null,0,{"$f":"SUM(G102+I102+K102+M102+O102+Q102+S102+U102+W102+Y102)","v":0},{"$f":"SUM(H102+J102+L102+N102+P102+R102+T102+V102+X102+Z102)","v":0},null,null,null,null,null,null,null,null,null,null,null,null,null,null,null,null,null,null,null,null,null,null,null,null,null,null,null,null,null,null,null,null,null,null,null,null,null,null,null,null,null,null,"",null,null,null,null,null,null,null,null,null,null,null,null,null,null,null,null,null,null,null,null,null,null,null,null,null,null,null,null,null,"",null,"","","","","",0,null,0,0,0,0,0]
["INSTALACIÓN APARATO FIJO ORTODÓNCICO",null,null,0,0,0,null,null,null,null,null,null,null,null,null,null,null,null,null,null,null,null,null,null,null,null,null,null,null,null,null,null,null,null,null,null,null,null,null,null,null,null,null,null,null,null,null,null,"",null,null,null,null,null,null,null,null,null,null,null,null,null,null,null,null,null,null,null,null,null,null,null,null,null,null,null,null,null,"","","","","","","",0,0,0,0,0,0,0]
["INSTALACIÓN APARATO DE CONTENCIÓN ORTODÓNCICO",null,null,0,0,0,null,null,null,null,null,null,null,null,null,null,null,null,null,null,null,null,null,null,null,null,null,null,null,null,null,null,null,null,null,null,null,null,null,null,null,null,null,null,null,null,null,null,"",null,null,null,null,null,null,null,null,null,null,null,null,null,null,null,null,null,null,null,null,null,null,null,null,null,null,null,null,null,"","","","","","","",0,0,0,0,0,0,0]
["RETIRO APARATOLOGÍA DE ORTODONCIA",null,null,0,0,0,null,null,null,null,null,null,null,null,null,null,null,null,null,null,null,null,null,null,null,null,null,null,null,null,null,null,null,null,null,null,null,null,null,null,null,null,null,null,null,null,null,null,"",null,null,null,null,null,null,null,null,null,null,null,null,null,null,null,null,null,null,null,null,null,null,null,null,null,null,null,null,null,"","","","","","","",0,0,0,0,0,0,0]
["ORTOPEDIA PREQUIRÚRGICA",null,null,0,0,0,null,null,null,null,null,null,null,null,null,null,null,null,null,null,null,null,null,null,null,null,null,null,null,null,null,null,null,null,null,null,null,null,null,null,null,null,null,null,null,null,null,null,"",null,null,null,null,null,null,null,null,null,null,null,null,null,null,null,null,null,null,null,null,null,null,null,null,null,null,null,null,null,"","","","","","","",0,0,0,0,0,0,0]
["ORTODONCIA PREVENTIVA E INTERCEPTIVA (OPI)",null,null,0,{"$f":"SUM(G107+I107+K107+M107+O107+Q107+S107+U107+W107)","v":0},{"$f":"SUM(H107+J107+L107+N107+P107+R107+T107+V107+X107)","v":0},null,null,null,null,null,null,null,null,null,null,null,null,null,null,null,null,null,null,null,null,null,null,null,null,null,null,null,null,null,null,null,null,null,null,null,null,null,null,null,null,null,null,"",null,null,null,null,null,null,null,null,null,null,null,null,null,null,null,null,null,null,null,null,null,null,null,null,null,null,null,null,null,"",null,"","","","","",0,null,0,0,0,0,0]
["TRATAMIENTO ENDODONCIA UNIRRADICULAR",null,null,0,{"$f":"SUM(Q108+S108+U108+W108+Y108+AA108+AC108+AE108+AG108+AI108+AK108+AM108)","v":0},{"$f":"SUM(R108+T108+V108+X108+Z108+AB108+AD108+AF108+AH108+AJ108+AL108+AN108)","v":0},null,null,null,null,null,null,null,null,null,null,null,null,null,null,null,null,null,null,null,null,null,null,null,null,null,null,null,null,null,null,null,null,null,null,null,null,null,null,null,null,null,null,"",null,null,null,null,null,null,null,null,null,null,null,null,null,null,null,null,null,null,null,null,null,null,null,null,null,null,null,null,null,"","","","","","","",0,0,0,0,0,0,0]
["TRATAMIENTO ENDODONCIA BIRRADICULAR",null,null,0,{"$f":"SUM(Q109+S109+U109+W109+Y109+AA109+AC109+AE109+AG109+AI109+AK109+AM109)","v":0},{"$f":"SUM(R109+T109+V109+X109+Z109+AB109+AD109+AF109+AH109+AJ109+AL109+AN109)","v":0},null,null,null,null,null,null,null,null,null,null,null,null,null,null,null,null,null,null,null,null,null,null,null,null,null,null,null,null,null,null,null,null,null,null,null,null,null,null,null,null,null,null,"",null,null,null,null,null,null,null,null,null,null,null,null,null,null,null,null,null,null,null,null,null,null,null,null,null,null,null,null,null,"","","","","","","",0,0,0,0,0,0,0]
["TRATAMIENTO ENDODONCIA MULTIRRADICULAR",null,null,0,0,0,null,null,null,null,null,null,null,null,null,null,null,null,null,null,null,null,null,null,null,null,null,null,null,null,null,null,null,null,null,null,null,null,null,null,null,null,null,null,null,null,null,null,"",null,null,null,null,null,null,null,null,null,null,null,null,null,null,null,null,null,null,null,null,null,null,null,null,null,null,null,null,null,"","","","","","","",0,0,0,0,0,0,0]
["INDUCCIÓN AL CIERRE APICAL",null,null,0,{"$f":"SUM(Q111+S111+U111+W111+Y111)","v":0},{"$f":"SUM(R111+T111+V111+X111+Z111)","v":0},null,null,null,null,null,null,null,null,null,null,null,null,null,null,null,null,null,null,null,null,null,null,null,null,null,null,null,null,null,null,null,null,null,null,null,null,null,null,null,null,null,null,"",null,null,null,null,null,null,null,null,null,null,null,null,null,null,null,null,null,null,null,null,null,null,null,null,null,null,null,null,null,"",null,"",null,"","","",0,null,0,null,0,0,0]
["RETRATAMIENTO DE ENDODONCIA",null,null,0,{"$f":"SUM(Q112+S112+U112+W112+Y112+AA112+AC112+AE112+AG112+AI112+AK112+AM112)","v":0},{"$f":"SUM(R112+T112+V112+X112+Z112+AB112+AD112+AF112+AH112+AJ112+AL112+AN112)","v":0},null,null,null,null,null,null,null,null,null,null,null,null,null,null,null,null,null,null,null,null,null,null,null,null,null,null,null,null,null,null,null,null,null,null,null,null,null,null,null,null,null,null,"",null,null,null,null,null,null,null,null,null,null,null,null,null,null,null,null,null,null,null,null,null,null,null,null,null,null,null,null,null,"","","","","","","",0,0,0,0,0,0,0]
["CIRUGÍA APICAL",null,null,0,{"$f":"SUM(Q113+S113+U113+W113+Y113+AA113+AC113+AE113+AG113+AI113+AK113+AM113)","v":0},{"$f":"SUM(R113+T113+V113+X113+Z113+AB113+AD113+AF113+AH113+AJ113+AL113+AN113)","v":0},null,null,null,null,null,null,null,null,null,null,null,null,null,null,null,null,null,null,null,null,null,null,null,null,null,null,null,null,null,null,null,null,null,null,null,null,null,null,null,null,null,null,"",null,null,null,null,null,null,null,null,null,null,null,null,null,null,null,null,null,null,null,null,null,null,null,null,null,null,null,null,null,"","","","","","","",0,0,0,0,0,0,0]
["ADAPTACIÓN A LA ATENCIÓN ODONTOLÓGICA ",null,null,0,0,0,null,null,null,null,null,null,null,null,null,null,null,null,null,null,null,null,null,null,null,null,null,null,null,null,null,null,null,null,null,null,null,null,null,null,null,null,null,null,null,null,null,null,"",null,null,null,null,null,null,null,null,null,null,null,null,null,null,null,null,null,null,null,null,null,null,null,null,null,null,null,null,null,"","","","","","","",0,0,0,0,0,0,0]
["PROCEDIMIENTO RESTAURADOR (ODONTOPEDIATRÍA)",null,null,0,0,0,null,null,null,null,null,null,null,null,null,null,null,null,null,null,null,null,null,null,null,null,null,null,null,null,null,null,null,null,null,null,null,null,null,null,null,null,null,null,null,null,null,null,"",null,null,null,null,null,null,null,null,null,null,null,null,null,null,null,null,null,null,null,null,null,null,null,null,null,null,null,null,null,"","","","","","","",0,0,0,0,0,0,0]
["PROCEDIMIENTO PULPAR (ODONTOPEDIATRÍA)",null,null,0,0,0,null,null,null,null,null,null,null,null,null,null,null,null,null,null,null,null,null,null,null,null,null,null,null,null,null,null,null,null,null,null,null,null,null,null,null,null,null,null,null,null,null,null,"",null,null,null,null,null,null,null,null,null,null,null,null,null,null,null,null,null,null,null,null,null,null,null,null,null,null,null,null,null,"","","","","","","",0,0,0,0,0,0,0]
["CIRUGÍA AMBULATORIA (ODONTOPEDIATRÍA)",null,null,0,0,0,null,null,null,null,null,null,null,null,null,null,null,null,null,null,null,null,null,null,null,null,null,null,null,null,null,null,null,null,null,null,null,null,null,null,null,null,null,null,null,null,null,null,"",null,null,null,null,null,null,null,null,null,null,null,null,null,null,null,null,null,null,null,null,null,null,null,null,null,null,null,null,null,"","","","","","","",0,0,0,0,0,0,0]
["DESTARTRAJE SUBGINGIVAL O PULIDO RADICULAR ",null,null,0,{"$f":"SUM(S118+U118+W118+Y118+AA118+AC118+AE118+AG118+AI118+AK118+AM118)","v":0},{"$f":"SUM(T118+V118+X118+Z118+AB118+AD118+AF118+AH118+AJ118+AL118+AN118)","v":0},null,null,null,null,null,null,null,null,null,null,null,null,null,null,null,null,null,null,null,null,null,null,null,null,null,null,null,null,null,null,null,null,null,null,null,null,null,null,null,null,null,null,"",null,null,null,null,null,null,null,null,null,null,null,null,null,null,null,null,null,null,null,null,null,null,null,null,null,null,null,null,null,"","","","","","","",0,0,0,0,0,0,0]
["DESTARTRAJE SUPRAGINGIVAL O PULIDO CORONARIO",null,null,0,{"$f":"SUM(S119+U119+W119+Y119+AA119+AC119+AE119+AG119+AI119+AK119+AM119)","v":0},{"$f":"SUM(T119+V119+X119+Z119+AB119+AD119+AF119+AH119+AJ119+AL119+AN119)","v":0},null,null,null,null,null,null,null,null,null,null,null,null,null,null,null,null,null,null,null,null,null,null,null,null,null,null,null,null,null,null,null,null,null,null,null,null,null,null,null,null,null,null,"",null,null,null,null,null,null,null,null,null,null,null,null,null,null,null,null,null,null,null,null,null,null,null,null,null,null,null,null,null,"","","","","","","",0,0,0,0,0,0,0]
["PROCEDIMIENTO QUIRÚRGICO (PERIODONCIA)",null,null,0,{"$f":"SUM(U120+W120+Y120+AA120+AC120+AE120+AG120+AI120+AK120+AM120)","v":0},{"$f":"SUM(V120+X120+Z120+AB120+AD120+AF120+AH120+AJ120+AL120+AN120)","v":0},null,null,null,null,null,null,null,null,null,null,null,null,null,null,null,null,null,null,null,null,null,null,null,null,null,null,null,null,null,null,null,null,null,null,null,null,null,null,null,null,null,null,"",null,null,null,null,null,null,null,null,null,null,null,null,null,null,null,null,null,null,null,null,null,null,null,null,null,null,null,null,null,"","","","","","","",0,0,0,0,0,0,0]
["PROCEDIMIENTO QUIRÚRGICO PERIIMPLANTAR (PERIODONCIA)",null,null,0,{"$f":"SUM(Y121+AA121+AC121+AE121+AG121+AI121+AK121+AM121)","v":0},{"$f":"SUM(Z121+AB121+AD121+AF121+AH121+AJ121+AL121+AN121)","v":0},null,null,null,null,null,null,null,null,null,null,null,null,null,null,null,null,null,null,null,null,null,null,null,null,null,null,null,null,null,null,null,null,null,null,null,null,null,null,null,null,null,null,"",null,null,null,null,null,null,null,null,null,null,null,null,null,null,null,null,null,null,null,null,null,null,null,null,null,null,null,null,null,null,"","","","","","",null,0,0,0,0,0,0]
["FERULIZACIÓN",null,null,0,0,0,null,null,null,null,null,null,null,null,null,null,null,null,null,null,null,null,null,null,null,null,null,null,null,null,null,null,null,null,null,null,null,null,null,null,null,null,null,null,null,null,null,null,"",null,null,null,null,null,null,null,null,null,null,null,null,null,null,null,null,null,null,null,null,null,null,null,null,null,null,null,null,null,"","","","","","","",0,0,0,0,0,0,0]
["REHABILITACIÓN MEDIANTE PRÓTESIS REMOVIBLE ACRÍLICA PARCIAL O TOTAL",null,null,0,{"$f":"SUM(Y123+AA123+AC123+AE123+AG123+AI123+AK123+AM123)","v":0},{"$f":"SUM(Z123+AB123+AD123+AF123+AH123+AJ123+AL123+AN123)","v":0},null,null,null,null,null,null,null,null,null,null,null,null,null,null,null,null,null,null,null,null,null,null,null,null,null,null,null,null,null,null,null,null,null,null,null,null,null,null,null,null,null,null,"",null,null,null,null,null,null,null,null,null,null,null,null,null,null,null,null,null,null,null,null,null,null,null,null,null,null,null,null,null,null,"","","","","","",null,0,0,0,0,0,0]
["REHABILITACIÓN MEDIANTE PRÓTESIS REMOVIBLE METÁLICA PARCIAL",null,null,0,{"$f":"SUM(Y124+AA124+AC124+AE124+AG124+AI124+AK124+AM124)","v":0},{"$f":"SUM(Z124+AB124+AD124+AF124+AH124+AJ124+AL124+AN124)","v":0},null,null,null,null,null,null,null,null,null,null,null,null,null,null,null,null,null,null,null,null,null,null,null,null,null,null,null,null,null,null,null,null,null,null,null,null,null,null,null,null,null,null,"",null,null,null,null,null,null,null,null,null,null,null,null,null,null,null,null,null,null,null,null,null,null,null,null,null,null,null,null,null,null,"","","","","","",null,0,0,0,0,0,0]
["REHABILITACIÓN MEDIANTE PRÓTESIS FIJA UNITARIA O PLURAL",null,null,0,0,0,null,null,null,null,null,null,null,null,null,null,null,null,null,null,null,null,null,null,null,null,null,null,null,null,null,null,null,null,null,null,null,null,null,null,null,null,null,null,null,null,null,null,"",null,null,null,null,null,null,null,null,null,null,null,null,null,null,null,null,null,null,null,null,null,null,null,null,null,null,null,null,null,null,"","","","","","",null,0,0,0,0,0,0]
["REHABILITACIÓN MEDIANTE PRÓTESIS FIJA IMPLANTOASISTIDA",null,null,0,0,0,null,null,null,null,null,null,null,null,null,null,null,null,null,null,null,null,null,null,null,null,null,null,null,null,null,null,null,null,null,null,null,null,null,null,null,null,null,null,null,null,null,null,"",null,null,null,null,null,null,null,null,null,null,null,null,null,null,null,null,null,null,null,null,null,null,null,null,null,null,null,null,null,null,"","","","","","",null,0,0,0,0,0,0]
["REHABILITACIÓN MEDIANTE PRÓTESIS MUCO-  IMPLANTOASISTIDA",null,null,0,{"$f":"SUM(Y127+AA127+AC127+AE127+AG127+AI127+AK127+AM127)","v":0},0,null,null,null,null,null,null,null,null,null,null,null,null,null,null,null,null,null,null,null,null,null,null,null,null,null,null,null,null,null,null,null,null,null,null,null,null,null,null,null,null,null,null,"",null,null,null,null,null,null,null,null,null,null,null,null,null,null,null,null,null,null,null,null,null,null,null,null,null,null,null,null,null,null,"","","","","","",null,0,0,0,0,0,0]
["REPARACIÓN DE PRÓTESIS",null,null,0,0,0,null,null,null,null,null,null,null,null,null,null,null,null,null,null,null,null,null,null,null,null,null,null,null,null,null,null,null,null,null,null,null,null,null,null,null,null,null,null,null,null,null,null,"",null,null,null,null,null,null,null,null,null,null,null,null,null,null,null,null,null,null,null,null,null,null,null,null,null,null,null,null,null,null,"","","","","","",null,0,0,0,0,0,0]
["IMPLANTOLOGÍA QUIRÚRGICA",null,null,0,0,0,null,null,null,null,null,null,null,null,null,null,null,null,null,null,null,null,null,null,null,null,null,null,null,null,null,null,null,null,null,null,null,null,null,null,null,null,null,null,null,null,null,null,"",null,null,null,null,null,null,null,null,null,null,null,null,null,null,null,null,null,null,null,null,null,null,null,null,null,null,null,null,null,null,"","","","","","",null,0,0,0,0,0,0]
["TOMA DE BIOPSIA",null,null,0,0,0,null,null,null,null,null,null,null,null,null,null,null,null,null,null,null,null,null,null,null,null,null,null,null,null,null,null,null,null,null,null,null,null,null,null,null,null,null,null,null,null,null,null,"",null,null,null,null,null,null,null,null,null,null,null,null,null,null,null,null,null,null,null,null,null,null,null,null,null,null,null,null,null,"","","","","","","",0,0,0,0,0,0,0]
["ESTUDIO HISTOPATOLÓGICO",null,null,0,0,0,null,null,null,null,null,null,null,null,null,null,null,null,null,null,null,null,null,null,null,null,null,null,null,null,null,null,null,null,null,null,null,null,null,null,null,null,null,null,null,null,null,null,"",null,null,null,null,null,null,null,null,null,null,null,null,null,null,null,null,null,null,null,null,null,null,null,null,null,null,null,null,null,"","","","","","","",0,0,0,0,0,0,0]
["SIALOMETRÍA",null,null,0,0,0,null,null,null,null,null,null,null,null,null,null,null,null,null,null,null,null,null,null,null,null,null,null,null,null,null,null,null,null,null,null,null,null,null,null,null,null,null,null,null,null,null,null,"",null,null,null,null,null,null,null,null,null,null,null,null,null,null,null,null,null,null,null,null,null,null,null,null,null,null,null,null,null,"","","","","","","",0,0,0,0,0,0,0]
["TERAPIA FARMACOLÓGICA DE LESIONES DEL TERRITORIO ORAL Y MAXILOFACIAL",null,null,0,0,0,null,null,null,null,null,null,null,null,null,null,null,null,null,null,null,null,null,null,null,null,null,null,null,null,null,null,null,null,null,null,null,null,null,null,null,null,null,null,null,null,null,null,"",null,null,null,null,null,null,null,null,null,null,null,null,null,null,null,null,null,null,null,null,null,null,null,null,null,null,null,null,null,"","","","","","","",0,0,0,0,0,0,0]
["TERAPIA NO FARMACOLÓGICA DE LESIONES DEL TERRITORIO ORAL Y MAXILOFACIAL",null,null,0,0,0,null,null,null,null,null,null,null,null,null,null,null,null,null,null,null,null,null,null,null,null,null,null,null,null,null,null,null,null,null,null,null,null,null,null,null,null,null,null,null,null,null,null,"",null,null,null,null,null,null,null,null,null,null,null,null,null,null,null,null,null,null,null,null,null,null,null,null,null,null,null,null,null,"","","","","","","",0,0,0,0,0,0,0]
["ESTUDIO CLÍNICO LESIONES DEL TERRITORIO ORAL MAXILOFACIAL",null,null,0,0,0,null,null,null,null,null,null,null,null,null,null,null,null,null,null,null,null,null,null,null,null,null,null,null,null,null,null,null,null,null,null,null,null,null,null,null,null,null,null,null,null,null,null,"",null,null,null,null,null,null,null,null,null,null,null,null,null,null,null,null,null,null,null,null,null,null,null,null,null,null,null,null,null,"","","","","","","",0,0,0,0,0,0,0]
["TERAPIA FÍSICA EN TRASTORNOS TEMPOROMANDIBULARES (TTM) Y DOLOR OROFACIAL (DOF)",null,null,0,0,0,null,null,null,null,null,null,null,null,null,null,null,null,null,null,null,null,null,null,null,null,null,null,null,null,null,null,null,null,null,null,null,null,null,null,null,null,null,null,null,null,null,null,"",null,null,null,null,null,null,null,null,null,null,null,null,null,null,null,null,null,null,null,null,null,null,null,null,null,null,null,null,null,"","","","","","","",0,0,0,0,0,0,0]
["INFILTRACIÓN EN ARTICULACIÓN TEMPORO MANDIBULAR (ATM)",null,null,0,0,0,null,null,null,null,null,null,null,null,null,null,null,null,null,null,null,null,null,null,null,null,null,null,null,null,null,null,null,null,null,null,null,null,null,null,null,null,null,null,null,null,null,null,"",null,null,null,null,null,null,null,null,null,null,null,null,null,null,null,null,null,null,null,null,null,null,null,null,null,null,null,null,null,"","","","","","","",0,0,0,0,0,0,0]
["BLOQUEO ANESTÉSICO Y/O MEDICAMENTOSO EN TTM Y DOF",null,null,0,0,0,null,null,null,null,null,null,null,null,null,null,null,null,null,null,null,null,null,null,null,null,null,null,null,null,null,null,null,null,null,null,null,null,null,null,null,null,null,null,null,null,null,null,"",null,null,null,null,null,null,null,null,null,null,null,null,null,null,null,null,null,null,null,null,null,null,null,null,null,null,null,null,null,"","","","","","","",0,0,0,0,0,0,0]
["ARTROCENTESIS EN ATM",null,null,0,0,0,null,null,null,null,null,null,null,null,null,null,null,null,null,null,null,null,null,null,null,null,null,null,null,null,null,null,null,null,null,null,null,null,null,null,null,null,null,null,null,null,null,null,"",null,null,null,null,null,null,null,null,null,null,null,null,null,null,null,null,null,null,null,null,null,null,null,null,null,null,null,null,null,"","","","","","","",0,0,0,0,0,0,0]
["TERAPIA BIOCONDUCTUAL",null,null,0,0,0,null,null,null,null,null,null,null,null,null,null,null,null,null,null,null,null,null,null,null,null,null,null,null,null,null,null,null,null,null,null,null,null,null,null,null,null,null,null,null,null,null,null,"",null,null,null,null,null,null,null,null,null,null,null,null,null,null,null,null,null,null,null,null,null,null,null,null,null,null,null,null,null,"","","","","","","",0,0,0,0,0,0,0]
["DESGASTE SELECTIVO",null,null,0,0,0,null,null,null,null,null,null,null,null,null,null,null,null,null,null,null,null,null,null,null,null,null,null,null,null,null,null,null,null,null,null,null,null,null,null,null,null,null,null,null,null,null,null,"",null,null,null,null,null,null,null,null,null,null,null,null,null,null,null,null,null,null,null,null,null,null,null,null,null,null,null,null,null,"","","","","","","",0,0,0,0,0,0,0]
["INSTALACIÓN DE DISPOSITIVO ORTOPÉDICO",null,null,0,0,0,null,null,null,null,null,null,null,null,null,null,null,null,null,null,null,null,null,null,null,null,null,null,null,null,null,null,null,null,null,null,null,null,null,null,null,null,null,null,null,null,null,null,"",null,null,null,null,null,null,null,null,null,null,null,null,null,null,null,null,null,null,null,null,null,null,null,null,null,null,null,null,null,"","","","","","","",0,0,0,0,0,0,0]
["ACTIVIDADES SOMATOPRÓTESIS",null,null,0,0,0,null,null,null,null,null,null,null,null,null,null,null,null,null,null,null,null,null,null,null,null,null,null,null,null,null,null,null,null,null,null,null,null,null,null,null,null,null,null,null,null,null,null,"",null,null,null,null,null,null,null,null,null,null,null,null,null,null,null,null,null,null,null,null,null,null,null,null,null,null,null,null,null,"","","","","","","",0,0,0,0,0,0,0]
["REHABILITACIÓN DE PRÓTESIS MAXILOFACIAL",null,null,0,0,0,null,null,null,null,null,null,null,null,null,null,null,null,null,null,null,null,null,null,null,null,null,null,null,null,null,null,null,null,null,null,null,null,null,null,null,null,null,null,null,null,null,null,"",null,null,null,null,null,null,null,null,null,null,null,null,null,null,null,null,null,null,null,null,null,null,null,null,null,null,null,null,null,"","","","","","","",0,0,0,0,0,0,0]
["TOTAL",null,null,0,0,0,{"$f":"SUM(G91:G144)","v":0},0,0,0,0,0,0,0,0,0,0,0,0,0,0,0,0,0,0,0,0,0,0,0,0,0,0,0,0,0,0,0,0,0,{"$f":"SUM(AO91:AO144)","v":0},{"$f":"SUM(AP91:AP144)","v":0},{"$f":"SUM(AQ91:AQ144)","v":0},{"$f":"SUM(AR91:AR144)","v":0},{"$f":"SUM(AS91:AS144)","v":0},0,0,0]
["SECCIÓN F.1:  ACTIVIDADES DE IMAGENOLOGÍA ORAL Y MAXILOFACIAL."]
["ACTIVIDADES DE APOYO",null,null,"TOTAL",null,null,"SEGÚN GRUPOS DE EDAD O DE RIESGO",null,null,null,null,null,null,null,null,null,null,null,null,null,null,null,null,null,null,null,null,null,null,null,null,null,null,null,null,null,null,null,null,null,null,null,"12 años (incluidos en  grupo de 10-14 años)","Embarazadas","Beneficiarios","60 años (incluido en grupos de 60-64 años)","Compra de Servicio","Usuarios con Discapacidad ","Niños, niñas, adolescentes y jovenes RED SENAME","Migrantes"]
[null,null,null,null,null,null,"Menos de 1 año",null,"1 año",null,"2 años",null,"3 años",null,"4 años",null,"5 años",null,"6 años",null,"7 años",null,"8-9 años",null,"10-14 años",null,"15-19 años",null,"20-24 años ",null,"25-34 años",null,"35-44 años",null,"45-59 años",null,"60-64 años",null,"65-74 años",null,"75 y más años"]
[null,null,null,"Total ","Hombres","Mujeres","Hombres","Mujeres","Hombres","Mujeres","Hombres","Mujeres","Hombres","Mujeres","Hombres","Mujeres","Hombres","Mujeres","Hombres","Mujeres","Hombres","Mujeres","Hombres","Mujeres","Hombres","Mujeres","Hombres","Mujeres","Hombres","Mujeres","Hombres","Mujeres","Hombres","Mujeres","Hombres","Mujeres","Hombres","Mujeres","Hombres","Mujeres","Hombres","Mujeres"]
["RADIOGRAFÍA INTRAORAL MEDIANTE TÉCNICAS RETROALVEOLARES (POR PLACA)",null,null,{"$f":"SUM(G150:AP150)","v":0},{"$f":"SUM(G150+I150+K150+M150+O150+Q150+S150+U150+W150+Y150+AA150+AC150+AE150+AG150+AI150+AK150+AM150+AO150)","v":0},{"$f":"SUM(H150+J150+L150+N150+P150+R150+T150+V150+X150+Z150+AB150+AD150+AF150+AH150+AJ150+AL150+AN150+AP150)","v":0},null,null,null,null,null,null,null,null,null,null,null,null,null,null,null,null,null,null,null,null,null,null,null,null,null,null,null,null,null,null,null,null,null,null,null,null,null,null,null,null,null,null,null,null,{"$f":"$CA150&$CB150&$CC150&$CD150&$CE150&$CF150&$CG150","v":""},null,null,null,null,null,null,null,null,null,null,null,null,null,null,null,null,null,null,null,null,null,null,null,null,null,null,null,{"$f":"IF(CH150=1,\"* Las consultas de 12 años NO DEBEN ser mayor que el total de Consultas entre 10-14 Años. \",\"\")","v":""},{"$f":"IF(CI150=1,\"* Las consultas de 60 años NO DEBEN ser mayor que el total de Consultas entre 60-64 Años. \",\"\")","v":""},{"$f":"IF(CJ150=1,\"* Las actividades de usuarios en situación de discapacidad NO DEBEN superar el total. \",\"\")","v":""},{"$f":"IF(AND(AR150=\"\",D150<>0),\"* Recuerde que las Embarazadas deben ser incluídas en el ingreso por rango Etario (Digite CEROS si no tiene). \",IF(F150<AR150,\"* Las Embarazadas NO DEBEN ser mayor al total de mujeres. \",\"\"))","v":""},{"$f":"IF(AND(AS150=\"\",D150<>0),\"* No olvide digitar la columna Beneficiarios (Digite CEROS si no tiene). \",IF(D150<AS150,\"* El número de Beneficiarios NO DEBE ser mayor que el Total. \",\"\"))","v":""},{"$f":"IF(AND(AW150=\"\",D150<>0),\"* No olvide digitar la Población SENAME (Digite CEROS si no tiene). \",IF(D150<AW150,\"* La Población SENAME NO DEBE ser mayor al Total. \",\"\"))","v":""},{"$f":"IF(AND(AX150=\"\",D150<>0),\"* No olvide digitar la Población Migrante (Digite CEROS si no tiene). \",IF(D150<AX150,\"* La Población Migrante NO DEBE superar el Total. \",\"\"))","v":""},{"$f":"IF(AQ150>(Y150+Z150),1,0)","v":0},{"$f":"IF(AT150>(AK150+AL150),1,0)","v":0},{"$f":"IF(D150<AV150,1,0)","v":0},{"$f":"IF(AND(AR150=\"\",D150<>0),1,IF(F150<AR150,1,0))","v":0},{"$f":"IF(AND(AS150=\"\",D150<>0),1,IF(D150<AS150,1,0))","v":0},{"$f":"IF(AND(AW150=\"\",D150<>0),1,IF(D150<AW150,1,0))","v":0},{"$f":"IF(AND(AX150=\"\",D150<>0),1,IF(D150<AX150,1,0))","v":0}]
["RADIOGRAFÍA INTRAORAL MEDIANTE TÉCNICAS BITE WING (POR PLACA)",null,null,{"$f":"SUM(G151:AP151)","v":0},{"$f":"SUM(G151+I151+K151+M151+O151+Q151+S151+U151+W151+Y151+AA151+AC151+AE151+AG151+AI151+AK151+AM151+AO151)","v":0},{"$f":"SUM(H151+J151+L151+N151+P151+R151+T151+V151+X151+Z151+AB151+AD151+AF151+AH151+AJ151+AL151+AN151+AP151)","v":0},null,null,null,null,null,null,null,null,null,null,null,null,null,null,null,null,null,null,null,null,null,null,null,null,null,null,null,null,null,null,null,null,null,null,null,null,null,null,null,null,null,null,null,null,"",null,null,null,null,null,null,null,null,null,null,null,null,null,null,null,null,null,null,null,null,null,null,null,null,null,null,null,{"$f":"IF(CH151=1,\"* Las consultas de 12 años NO DEBEN ser mayor que el total de Consultas entre 10-14 Años. \",\"\")","v":""},{"$f":"IF(CI151=1,\"* Las consultas de 60 años NO DEBEN ser mayor que el total de Consultas entre 60-64 Años. \",\"\")","v":""},{"$f":"IF(CJ151=1,\"* Las actividades de usuarios en situación de discapacidad NO DEBEN superar el total. \",\"\")","v":""},{"$f":"IF(AND(AR151=\"\",D151<>0),\"* Recuerde que las Embarazadas deben ser incluídas en el ingreso por rango Etario (Digite CEROS si no tiene). \",IF(F151<AR151,\"* Las Embarazadas NO DEBEN ser mayor al total de mujeres. \",\"\"))","v":""},{"$f":"IF(AND(AS151=\"\",D151<>0),\"* No olvide digitar la columna Beneficiarios (Digite CEROS si no tiene). \",IF(D151<AS151,\"* El número de Beneficiarios NO DEBE ser mayor que el Total. \",\"\"))","v":""},{"$f":"IF(AND(AW151=\"\",D151<>0),\"* No olvide digitar la Población SENAME (Digite CEROS si no tiene). \",IF(D151<AW151,\"* La Población SENAME NO DEBE ser mayor al Total. \",\"\"))","v":""},{"$f":"IF(AND(AX151=\"\",D151<>0),\"* No olvide digitar la Población Migrante (Digite CEROS si no tiene). \",IF(D151<AX151,\"* La Población Migrante NO DEBE superar el Total. \",\"\"))","v":""},{"$f":"IF(AQ151>(Y151+Z151),1,0)","v":0},{"$f":"IF(AT151>(AK151+AL151),1,0)","v":0},{"$f":"IF(D151<AV151,1,0)","v":0},{"$f":"IF(AND(AR151=\"\",D151<>0),1,IF(F151<AR151,1,0))","v":0},{"$f":"IF(AND(AS151=\"\",D151<>0),1,IF(D151<AS151,1,0))","v":0},{"$f":"IF(AND(AW151=\"\",D151<>0),1,IF(D151<AW151,1,0))","v":0},{"$f":"IF(AND(AX151=\"\",D151<>0),1,IF(D151<AX151,1,0))","v":0}]
["RADIOGRAFÍA EXTRAORAL (POR PLACA)",null,null,{"$f":"SUM(G152:AP152)","v":0},0,0,null,null,null,null,null,null,null,null,null,null,null,null,null,null,null,null,null,null,null,null,null,null,null,null,null,null,null,null,null,null,null,null,null,null,null,null,null,null,null,null,null,null,null,null,"",null,null,null,null,null,null,null,null,null,null,null,null,null,null,null,null,null,null,null,null,null,null,null,null,null,null,null,"","","","","","","",0,0,0,0,0,0,0]
["RADIOGRAFÍA OCLUSAL (POR PLACA)",null,null,0,0,0,null,null,null,null,null,null,null,null,null,null,null,null,null,null,null,null,null,null,null,null,null,null,null,null,null,null,null,null,null,null,null,null,null,null,null,null,null,null,null,null,null,null,null,null,"",null,null,null,null,null,null,null,null,null,null,null,null,null,null,null,null,null,null,null,null,null,null,null,null,null,null,null,"","","","","","","",0,0,0,0,0,0,0]
["TELERRADIOGRAFÍA (POR PLACA)",null,null,0,0,0,null,null,null,null,null,null,null,null,null,null,null,null,null,null,null,null,null,null,null,null,null,null,null,null,null,null,null,null,null,null,null,null,null,null,null,null,null,null,null,null,null,null,null,null,"",null,null,null,null,null,null,null,null,null,null,null,null,null,null,null,null,null,null,null,null,null,null,null,null,null,null,null,"","","","","","","",0,0,0,0,0,0,0]
["RADIOGRAFÍA PANORÁMICA (POR PLACA)",null,null,0,0,0,null,null,null,null,null,null,null,null,null,null,null,null,null,null,null,null,null,null,null,null,null,null,null,null,null,null,null,null,null,null,null,null,null,null,null,null,null,null,null,null,null,null,null,null,"",null,null,null,null,null,null,null,null,null,null,null,null,null,null,null,null,null,null,null,null,null,null,null,null,null,null,null,"","","","","","","",0,0,0,0,0,0,0]
["TOMOGRAFÍA COMPUTACIONAL MAXILO FACIAL CONE BEAM (POR ADQUISICIÓN)",null,null,0,0,0,null,null,null,null,null,null,null,null,null,null,null,null,null,null,null,null,null,null,null,null,null,null,null,null,null,null,null,null,null,null,null,null,null,null,null,null,null,null,null,null,null,null,null,null,"",null,null,null,null,null,null,null,null,null,null,null,null,null,null,null,null,null,null,null,null,null,null,null,null,null,null,null,"","","","","","","",0,0,0,0,0,0,0]
["SIALOGRAFÍAS (POR PROCEDIMIENTO)",null,null,0,0,0,null,null,null,null,null,null,null,null,null,null,null,null,null,null,null,null,null,null,null,null,null,null,null,null,null,null,null,null,null,null,null,null,null,null,null,null,null,null,null,null,null,null,null,null,"",null,null,null,null,null,null,null,null,null,null,null,null,null,null,null,null,null,null,null,null,null,null,null,null,null,null,null,"","","","","","","",0,0,0,0,0,0,0]
["PROCEDIMIENTO IMAGENOLÓGICO COMPLEJO (POR PROCEDIMIENTO)",null,null,0,{"$f":"SUM(G158+I158+K158+M158+O158+Q158+S158+U158+W158+Y158+AA158+AC158+AE158+AG158+AI158+AK158+AM158+AO158)","v":0},0,null,null,null,null,null,null,null,null,null,null,null,null,null,null,null,null,null,null,null,null,null,null,null,null,null,null,null,null,null,null,null,null,null,null,null,null,null,null,null,null,null,null,null,null,"",null,null,null,null,null,null,null,null,null,null,null,null,null,null,null,null,null,null,null,null,null,null,null,null,null,null,null,"","","","","","","",0,0,0,0,0,0,0]
["TOTAL",null,null,{"$f":"SUM(D150:D158)","v":0},{"$f":"SUM(E150:E158)","v":0},{"$f":"SUM(F150:F158)","v":0},{"$f":"SUM(G150:G158)","v":0},0,0,0,0,0,0,0,0,0,0,0,0,0,0,0,0,0,0,0,0,0,0,0,0,0,0,0,0,0,0,0,0,0,0,0,0,0,0,0,0,{"$f":"SUM(AV150:AV158)","v":0},{"$f":"SUM(AW150:AW158)","v":0},{"$f":"SUM(AX150:AX158)","v":0}]
["SECCIÓN G: PROGRAMAS ESPECIALES Y GES (Actividades incluidas en Sección B)"]
["PROGRAMA - ACTIVIDAD",null,null,"TOTAL",null,null,"SEGÚN GRUPOS DE EDAD O DE RIESGO",null,null,null,null,null,null,null,null,null,null,null,null,null,null,null,null,null,null,null,null,null,null,null,null,null,null,null,null,null,null,null,null,null,null,null,"Compra de Servicio","Usuarios con Discapacidad","Niños, niñas, adolescentes y jovenes RED SENAME","Migrantes","Egreso por Abandono","Paciente Diabético en Control Programa Salud Cardiovascular"]
[null,null,null,null,null,null,"Menos de 1 año",null,"1 año",null,"2 años",null,"3 años",null,"4 años",null,"5 años",null,"6 años",null,"7 años",null,"8-9 años",null,"10-14 años",null,"15-19 años",null,"20-24 años ",null,"25-34 años",null,"35-44 años",null,"45-59 años",null,"60-64 años",null,"65-74 años",null,"75 y más años"]
[null,null,null,"Ambos Sexos","Hombres","Mujeres","Hombres","Mujeres","Hombres","Mujeres","Hombres","Mujeres","Hombres","Mujeres","Hombres","Mujeres","Hombres","Mujeres","Hombres","Mujeres","Hombres","Mujeres","Hombres","Mujeres","Hombres","Mujeres","Hombres","Mujeres","Hombres","Mujeres","Hombres","Mujeres","Hombres","Mujeres","Hombres","Mujeres","Hombres","Mujeres","Hombres","Mujeres","Hombres","Mujeres"]
["PROGRAMA ODONTOLÓGICO INTEGRAL, ESTRATEGIA MÁS SONRISAS PARA CHILE","N°AUDITORÍAS CLÍNICAS REALIZADAS",null,{"$f":"SUM(E164+F164)","v":0},null,{"$f":"SUM(AD164+AF164+AH164+AJ164+AL164+AN164+AP164)","v":0},null,null,null,null,null,null,null,null,null,null,null,null,null,null,null,null,null,null,null,null,null,null,null,null,null,null,null,null,null,null,null,null,null,null,null,null,null,null,null,null,null,null,{"$f":"$CA164&$CB164&$CC164&$CD164&$CE164&$CF164&$CG164","v":""},null,null,null,null,null,null,null,null,null,null,null,null,null,null,null,null,null,null,null,null,null,null,null,null,null,null,null,null,null,{"$f":"IF(CH164=1,\"* El número de actividades en usuarios en situacion de discapacidad NO DEBE ser mayor al total. \",\"\")","v":""},{"$f":"IF(CI164=1,\" * El número de actividades en Niños, Niñas, Adolescentes y Jóvenes de la red SENAME NO DEBE ser mayor al total. \",\"\")","v":""},{"$f":"IF(CJ164=1,\" * El número de actividades en Población Migrante NO DEBE ser mayor al total. \",\"\")","v":""},{"$f":"IF(CK164=1,\" * El número de actividades en Pacientes Diabéticos en Control PSCV NO DEBE superar el total. \",\"\")","v":""},null,null,null,{"$f":"IF($D164<AR164,1,0)","v":0},{"$f":"IF($D164<AS164,1,0)","v":0},{"$f":"IF($D164<AT164,1,0)","v":0},{"$f":"IF($D164<AV164,1,0)","v":0}]
[null,"PRÓTESIS REMOVIBLES",null,{"$f":"SUM(E165+F165)","v":0},null,{"$f":"SUM(AD165+AF165+AH165+AJ165+AL165+AN165+AP165)","v":0},null,null,null,null,null,null,null,null,null,null,null,null,null,null,null,null,null,null,null,null,null,null,null,null,null,null,null,null,null,null,null,null,null,null,null,null,null,null,null,null,null,null,"",null,null,null,null,null,null,null,null,null,null,null,null,null,null,null,null,null,null,null,null,null,null,null,null,null,null,null,null,null,{"$f":"IF(CH165=1,\"* El número de actividades en usuarios en situacion de discapacidad NO DEBE ser mayor al total. \",\"\")","v":""},{"$f":"IF(CI165=1,\" * El número de actividades en Niños, Niñas, Adolescentes y Jóvenes de la red SENAME NO DEBE ser mayor al total. \",\"\")","v":""},{"$f":"IF(CJ165=1,\" * El número de actividades en Población Migrante NO DEBE ser mayor al total. \",\"\")","v":""},{"$f":"IF(CK165=1,\" * El número de actividades en Pacientes Diabéticos en Control PSCV NO DEBE superar el total. \",\"\")","v":""},null,null,null,{"$f":"IF($D165<AR165,1,0)","v":0},{"$f":"IF($D165<AS165,1,0)","v":0},{"$f":"IF($D165<AT165,1,0)","v":0},{"$f":"IF($D165<AV165,1,0)","v":0}]
[null,"REPARACIÓN DE PRÓTESIS",null,0,null,0,null,null,null,null,null,null,null,null,null,null,null,null,null,null,null,null,null,null,null,null,null,null,null,null,null,null,null,null,null,null,null,null,null,null,null,null,null,null,null,null,null,null,"",null,null,null,null,null,null,null,null,null,null,null,null,null,null,null,null,null,null,null,null,null,null,null,null,null,null,null,null,null,"","","","",null,null,null,0,0,0,0]
[null,"ALTAS INTEGRALES","TOTAL",0,null,0,null,null,null,null,null,null,null,null,null,null,null,null,null,null,null,null,null,null,null,null,null,null,null,{"$f":"SUM(AD168:AD173)","v":0},null,0,null,0,null,0,null,0,null,0,null,0,{"$f":"SUM(AQ168:AQ173)","v":0},0,0,0,0,0,""]
[null,null,"JUNJI-INTEGRA-MINEDUC",0,null,{"$f":"SUM(AD168+AF168+AH168+AJ168+AL168+AN168+AP168)","v":0},null,null,null,null,null,null,null,null,null,null,null,null,null,null,null,null,null,null,null,null,null,null,null,null,null,null,null,null,null,null,null,null,null,null,null,null,null,null,null,null,null,null,"",null,null,null,null,null,null,null,null,null,null,null,null,null,null,null,null,null,null,null,null,null,null,null,null,null,null,null,null,null,"","","","",null,null,null,0,0,0,0]
[null,null,"SERNAM",0,null,0,null,null,null,null,null,null,null,null,null,null,null,null,null,null,null,null,null,null,null,null,null,null,null,null,null,null,null,null,null,null,null,null,null,null,null,null,null,null,null,null,null,null,"",null,null,null,null,null,null,null,null,null,null,null,null,null,null,null,null,null,null,null,null,null,null,null,null,null,null,null,null,null,"","","","",null,null,null,0,0,0,0]
[null,null,"PRODEMU",0,null,0,null,null,null,null,null,null,null,null,null,null,null,null,null,null,null,null,null,null,null,null,null,null,null,null,null,null,null,null,null,null,null,null,null,null,null,null,null,null,null,null,null,null,"",null,null,null,null,null,null,null,null,null,null,null,null,null,null,null,null,null,null,null,null,null,null,null,null,null,null,null,null,null,"","","","",null,null,null,0,0,0,0]
[null,null,"CHILE SOLIDARIO ",0,null,0,null,null,null,null,null,null,null,null,null,null,null,null,null,null,null,null,null,null,null,null,null,null,null,null,null,null,null,null,null,null,null,null,null,null,null,null,null,null,null,null,null,null,"",null,null,null,null,null,null,null,null,null,null,null,null,null,null,null,null,null,null,null,null,null,null,null,null,null,null,null,null,null,"","","","",null,null,null,0,0,0,0]
[null,null,"MINVU",0,null,0,null,null,null,null,null,null,null,null,null,null,null,null,null,null,null,null,null,null,null,null,null,null,null,null,null,null,null,null,null,null,null,null,null,null,null,null,null,null,null,null,null,null,"",null,null,null,null,null,null,null,null,null,null,null,null,null,null,null,null,null,null,null,null,null,null,null,null,null,null,null,null,null,"","","","",null,null,null,0,0,0,0]
[null,null,"DEMANDA LOCAL",0,null,0,null,null,null,null,null,null,null,null,null,null,null,null,null,null,null,null,null,null,null,null,null,null,null,null,null,null,null,null,null,null,null,null,null,null,null,null,null,null,null,null,null,null,"",null,null,null,null,null,null,null,null,null,null,null,null,null,null,null,null,null,null,null,null,null,null,null,null,null,null,null,null,null,"","","","",null,null,null,0,0,0,0]
["PROGRAMA ODONTOLÓGICO INTEGRAL, ESTRATEGIA HOMBRES DE ESCASOS RECURSOS ","ALTAS INTEGRALES/ACTIVIDADES","PRÓTESIS REMOVIBLES",{"$f":"SUM(E174+F174)","v":0},{"$f":"SUM(AC174+AE174+AG174+AI174+AK174+AM174+AO174)","v":0},null,null,null,null,null,null,null,null,null,null,null,null,null,null,null,null,null,null,null,null,null,null,null,null,null,null,null,null,null,null,null,null,null,null,null,null,null,null,null,null,null,null,null,"",null,null,null,null,null,null,null,null,null,null,null,null,null,null,null,null,null,null,null,null,null,null,null,null,null,null,null,null,null,"","","","",null,null,null,0,0,0,0]
[null,null,"TOTAL ALTAS INTEGRALES",0,{"$f":"SUM(AC175+AE175+AG175+AI175+AK175+AM175+AO175)","v":0},null,null,null,null,null,null,null,null,null,null,null,null,null,null,null,null,null,null,null,null,null,null,null,null,null,null,null,null,null,null,null,null,null,null,null,null,null,null,null,null,null,null,null,"",null,null,null,null,null,null,null,null,null,null,null,null,null,null,null,null,null,null,null,null,null,null,null,null,null,null,null,null,null,"","","","",null,null,null,0,0,0,0]
[null,null,"Nº DE AUDITORIAS CLÍNICAS REALIZADAS",0,0,null,null,null,null,null,null,null,null,null,null,null,null,null,null,null,null,null,null,null,null,null,null,null,null,null,null,null,null,null,null,null,null,null,null,null,null,null,null,null,null,null,null,null,"",null,null,null,null,null,null,null,null,null,null,null,null,null,null,null,null,null,null,null,null,null,null,null,null,null,null,null,null,null,"","","","",null,null,null,0,0,0,0]
[null,null,"REPARACIÓN DE PROTESIS",0,0,null,null,null,null,null,null,null,null,null,null,null,null,null,null,null,null,null,null,null,null,null,null,null,null,null,null,null,null,null,null,null,null,null,null,null,null,null,null,null,null,null,null,null,"",null,null,null,null,null,null,null,null,null,null,null,null,null,null,null,null,null,null,null,null,null,null,null,null,null,null,null,null,null,"","","","",null,null,null,0,0,0,0]
["PROGRAMA ODONTOLÓGICO INTEGRAL, ESTRATEGIA ATENCION ODONTOLOGICA EN DOMICILIO","ALTAS ODONTOLOGICAS","TOTAL ALTAS ",{"$f":"SUM(E178:F178)","v":0},{"$f":"+G178+I178+K178+M178+O178+Q178+S178+U178+W178+Y178+AA178+AC178+AE178+AG178+AI178+AK178+AM178+AO178","v":0},0,{"$f":"SUM(G179:G180)","v":0},{"$f":"SUM(H179:H180)","v":0},0,0,{"$f":"SUM(K179:K180)","v":0},0,0,0,0,0,0,0,0,0,0,0,0,0,0,0,0,0,0,0,0,0,0,0,0,0,0,0,0,0,0,0,0,0,0,0,{"$f":"SUM(AU179:AU180)","v":0},{"$f":"SUM(AV179:AV180)","v":0},""]
[null,null,"ALTAS PERSONAS CON DEPENDENCIA SEVERA",{"$f":"SUM(E179:F179)","v":0},0,0,null,null,null,null,null,null,null,null,null,null,null,null,null,null,null,null,null,null,null,null,null,null,null,null,null,null,null,null,null,null,null,null,null,null,null,null,null,null,null,null,null,null,"",null,null,null,null,null,null,null,null,null,null,null,null,null,null,null,null,null,null,null,null,null,null,null,null,null,null,null,null,null,"","","","",null,null,null,0,0,0,0]
[null,null,"ALTAS CUIDADORES PERSONAS CON DEPENDENCIA",{"$f":"SUM(E180:F180)","v":0},0,0,null,null,null,null,null,null,null,null,null,null,null,null,null,null,null,null,null,null,null,null,null,null,null,null,null,null,null,null,null,null,null,null,null,null,null,null,null,null,null,null,null,null,"",null,null,null,null,null,null,null,null,null,null,null,null,null,null,null,null,null,null,null,null,null,null,null,null,null,null,null,null,null,"","","","",null,null,null,0,0,0,0]
["PROGRAMA MEJORAMIENTO DEL ACCESO, ESTRATEGIA RESOLUCIÓN DE ESPECIALIDAD EN APS","TRATAMIENTO ENDODONCIA","N° PACIENTES",{"$f":"SUM(E181+F181)","v":0},{"$f":"SUM(AA181+AC181+AE181+AG181+AI181+AK181+AM181+AO181)","v":0},{"$f":"SUM(AB181+AD181+AF181+AH181+AJ181+AL181+AN181+AP181)","v":0},null,null,null,null,null,null,null,null,null,null,null,null,null,null,null,null,null,null,null,null,null,null,null,null,null,null,null,null,null,null,null,null,null,null,null,null,null,null,null,null,null,null,"",null,null,null,null,null,null,null,null,null,null,null,null,null,null,null,null,null,null,null,null,null,null,null,null,null,null,null,null,null,"","","","",null,null,null,0,0,0,0]
[null,null,"N° DIENTES TRATADOS POR ODONTOLOGO GRAL",{"$f":"SUM(E182+F182)","v":0},{"$f":"SUM(AA182+AC182+AE182+AG182+AI182+AK182+AM182+AO182)","v":0},0,null,null,null,null,null,null,null,null,null,null,null,null,null,null,null,null,null,null,null,null,null,null,null,null,null,null,null,null,null,null,null,null,null,null,null,null,null,null,null,null,null,null,"",null,null,null,null,null,null,null,null,null,null,null,null,null,null,null,null,null,null,null,null,null,null,null,null,null,null,null,null,null,"","","","",null,null,null,0,0,0,0]
[null,null,"N° DIENTES TRATADOS POR  ENDODONCISTA",{"$f":"SUM(E183+F183)","v":0},{"$f":"SUM(AA183+AC183+AE183+AG183+AI183+AK183+AM183+AO183)","v":0},0,null,null,null,null,null,null,null,null,null,null,null,null,null,null,null,null,null,null,null,null,null,null,null,null,null,null,null,null,null,null,null,null,null,null,null,null,null,null,null,null,null,null,"",null,null,null,null,null,null,null,null,null,null,null,null,null,null,null,null,null,null,null,null,null,null,null,null,null,null,null,null,null,"","","","",null,null,null,0,0,0,0]
[null,"TRATAMIENTO DE PERIODONCIA","N° PACIENTES",0,{"$f":"SUM(AA184+AC184+AE184+AG184+AI184+AK184+AM184+AO184)","v":0},0,null,null,null,null,null,null,null,null,null,null,null,null,null,null,null,null,null,null,null,null,null,null,null,null,null,null,null,null,null,null,null,null,null,null,null,null,null,null,null,null,null,null,"",null,null,null,null,null,null,null,null,null,null,null,null,null,null,null,null,null,null,null,null,null,null,null,null,null,null,null,null,null,"","","","",null,null,null,0,0,0,0]
[null,null,"N° DE SEXTANTES POR PERIODONCISTA",0,{"$f":"SUM(AA185+AC185+AE185+AG185+AI185+AK185+AM185+AO185)","v":0},0,null,null,null,null,null,null,null,null,null,null,null,null,null,null,null,null,null,null,null,null,null,null,null,null,null,null,null,null,null,null,null,null,null,null,null,null,null,null,null,null,null,null,"",null,null,null,null,null,null,null,null,null,null,null,null,null,null,null,null,null,null,null,null,null,null,null,null,null,null,null,null,null,"","","","",null,null,null,0,0,0,0]
[null,"PRÓTESIS REMOVIBLES","N° PACIENTES",0,{"$f":"SUM(AC186+AE186+AG186+AI186+AK186+AM186+AO186)","v":0},{"$f":"SUM(AD186+AF186+AH186+AJ186+AL186+AN186+AP186)","v":0},null,null,null,null,null,null,null,null,null,null,null,null,null,null,null,null,null,null,null,null,null,null,null,null,null,null,null,null,null,null,null,null,null,null,null,null,null,null,null,null,null,null,"",null,null,null,null,null,null,null,null,null,null,null,null,null,null,null,null,null,null,null,null,null,null,null,null,null,null,null,null,null,"","","","",null,null,null,0,0,0,0]
[null,null,"N° PRÓTESIS REALIZADAS POR ODONTOLOGO GRAL",0,{"$f":"SUM(AC187+AE187+AG187+AI187+AK187+AM187+AO187)","v":0},0,null,null,null,null,null,null,null,null,null,null,null,null,null,null,null,null,null,null,null,null,null,null,null,null,null,null,null,null,null,null,null,null,null,null,null,null,null,null,null,null,null,null,"",null,null,null,null,null,null,null,null,null,null,null,null,null,null,null,null,null,null,null,null,null,null,null,null,null,null,null,null,null,"","","","",null,null,null,0,0,0,0]
[null,null,"N° PRÓTESIS REALIZADAS POR REHABILITADORES ORALES",0,0,{"$f":"SUM(AD188+AF188+AH188+AJ188+AL188+AN188+AP188)","v":0},null,null,null,null,null,null,null,null,null,null,null,null,null,null,null,null,null,null,null,null,null,null,null,null,null,null,null,null,null,null,null,null,null,null,null,null,null,null,null,null,null,null,"",null,null,null,null,null,null,null,null,null,null,null,null,null,null,null,null,null,null,null,null,null,null,null,null,null,null,null,null,null,"","","","",null,null,null,0,0,0,0]
["PROGRAMA GES ODONTOLÓGICO ADULTO DE 60 AÑOS.","ALTAS INTEGRALES",null,{"$f":"SUM(E189+F189)","v":0},{"$f":"SUM(AC189+AE189+AG189+AI189+AK189)","v":0},{"$f":"SUM(AD189+AF189+AH189+AJ189+AL189)","v":0},null,null,null,null,null,null,null,null,null,null,null,null,null,null,null,null,null,null,null,null,null,null,null,null,null,null,null,null,null,null,null,null,null,null,null,null,null,null,null,null,null,null,"",null,null,null,null,null,null,null,null,null,null,null,null,null,null,null,null,null,null,null,null,null,null,null,null,null,null,null,null,null,"","","","",null,null,null,0,0,0,0]
[null,"TRATAMIENTO ENDODONCIA","N° PACIENTES",0,{"$f":"SUM(AC190+AE190+AG190+AI190+AK190)","v":0},{"$f":"SUM(AD190+AF190+AH190+AJ190+AL190)","v":0},null,null,null,null,null,null,null,null,null,null,null,null,null,null,null,null,null,null,null,null,null,null,null,null,null,null,null,null,null,null,null,null,null,null,null,null,null,null,null,null,null,null,"",null,null,null,null,null,null,null,null,null,null,null,null,null,null,null,null,null,null,null,null,null,null,null,null,null,null,null,null,null,"","","","",null,null,null,0,0,0,0]
[null,null,"N° DIENTES",0,0,0,null,null,null,null,null,null,null,null,null,null,null,null,null,null,null,null,null,null,null,null,null,null,null,null,null,null,null,null,null,null,null,null,null,null,null,null,null,null,null,null,null,null,"",null,null,null,null,null,null,null,null,null,null,null,null,null,null,null,null,null,null,null,null,null,null,null,null,null,null,null,null,null,"","","","",null,null,null,0,0,0,0]
[null,"PRÓTESIS REMOVIBLES","N° PACIENTES",0,0,0,null,null,null,null,null,null,null,null,null,null,null,null,null,null,null,null,null,null,null,null,null,null,null,null,null,null,null,null,null,null,null,null,null,null,null,null,null,null,null,null,null,null,"",null,null,null,null,null,null,null,null,null,null,null,null,null,null,null,null,null,null,null,null,null,null,null,null,null,null,null,null,null,"","","","",null,null,null,0,0,0,0]
[null,null,"N° PRÓTESIS",0,0,0,null,null,null,null,null,null,null,null,null,null,null,null,null,null,null,null,null,null,null,null,null,null,null,null,null,null,null,null,null,null,null,null,null,null,null,null,null,null,null,null,null,null,"",null,null,null,null,null,null,null,null,null,null,null,null,null,null,null,null,null,null,null,null,null,null,null,null,null,null,null,null,null,"","","","",null,null,null,0,0,0,0]
["PROGRAMA ODONTOLOGICO INTEGRAL, ESTRATEGIA ESTUDIANTES DE ENSEÑANZA MEDIA","ALTAS INTEGRALES ESTUDIANTES DE ENSEÑANZA MEDIA","ALTA INTEGRAL EN CENTRO DE SALUD",0,{"$f":"SUM(Y194+AA194+AC194+AE194+AG194+AI194+AK194+AM194+AO194)","v":0},{"$f":"SUM(Z194+AB194+AD194+AF194+AH194+AJ194+AL194+AN194+AP194)","v":0},null,null,null,null,null,null,null,null,null,null,null,null,null,null,null,null,null,null,null,null,null,null,null,null,null,null,null,null,null,null,null,null,null,null,null,null,null,null,null,null,null,null,"",null,null,null,null,null,null,null,null,null,null,null,null,null,null,null,null,null,null,null,null,null,null,null,null,null,null,null,null,null,"","","","",null,null,null,0,0,0,0]
[null,null,"ALTA INTEGRAL EN UNIDAD DENTAL MÓVIL O PORTÁTIL",0,{"$f":"SUM(Y195+AA195+AC195+AE195+AG195+AI195+AK195+AM195+AO195)","v":0},{"$f":"SUM(Z195+AB195+AD195+AF195+AH195+AJ195+AL195+AN195+AP195)","v":0},null,null,null,null,null,null,null,null,null,null,null,null,null,null,null,null,null,null,null,null,null,null,null,null,null,null,null,null,null,null,null,null,null,null,null,null,null,null,null,null,null,null,"",null,null,null,null,null,null,null,null,null,null,null,null,null,null,null,null,null,null,null,null,null,null,null,null,null,null,null,null,null,"","","","",null,null,null,0,0,0,0]
[null,null,"ALTA INTEGRAL EN ESTABLECIMIENTO EDUCACIONAL",0,0,0,null,null,null,null,null,null,null,null,null,null,null,null,null,null,null,null,null,null,null,null,null,null,null,null,null,null,null,null,null,null,null,null,null,null,null,null,null,null,null,null,null,null,"",null,null,null,null,null,null,null,null,null,null,null,null,null,null,null,null,null,null,null,null,null,null,null,null,null,null,null,null,null,"","","","",null,null,null,0,0,0,0]
["PROGRAMA MEJORAMIENTO DEL ACCESO, ESTRATEGIA MORBILIDAD ADULTO","MORBILIDAD ADULTO","N° TOTAL DE ACTIVIDAD RECUPERATIVA REALIZADA EN >20 AÑOS, EN EXTENSIÓN HORARIA",{"$f":"SUM(E197+F197)","v":0},{"$f":"SUM(AC197+AE197+AG197+AI197+AK197+AM197+AO197)","v":0},{"$f":"SUM(AD197+AF197+AH197+AJ197+AL197+AN197+AP197)","v":0},null,null,null,null,null,null,null,null,null,null,null,null,null,null,null,null,null,null,null,null,null,null,null,null,null,null,null,null,null,null,null,null,null,null,null,null,null,null,null,null,null,null,"",null,null,null,null,null,null,null,null,null,null,null,null,null,null,null,null,null,null,null,null,null,null,null,null,null,null,null,null,null,"","","","",null,null,null,0,0,0,0]
[null,null,"N° DE CONSULTAS DE MORBILIDAD REALIZADAS EN >20 AÑOS, EN EXTENSIÓN HORARIA",{"$f":"SUM(E198+F198)","v":0},{"$f":"SUM(AC198+AE198+AG198+AI198+AK198+AM198+AO198)","v":0},{"$f":"SUM(AD198+AF198+AH198+AJ198+AL198+AN198+AP198)","v":0},null,null,null,null,null,null,null,null,null,null,null,null,null,null,null,null,null,null,null,null,null,null,null,null,null,null,null,null,null,null,null,null,null,null,null,null,null,null,null,null,null,null,"",null,null,null,null,null,null,null,null,null,null,null,null,null,null,null,null,null,null,null,null,null,null,null,null,null,null,null,null,null,"","","",{"$f":"IF(CK198=1,\" * El número de actividades en Pacientes Diabéticos en Control PSCV NO DEBE superar el total. \",\"\")","v":""},null,null,null,{"$f":"IF($D198<AR198,1,0)","v":0},{"$f":"IF($D198<AS198,1,0)","v":0},{"$f":"IF($D198<AT198,1,0)","v":0},{"$f":"IF($D198<AV198,1,0)","v":0}]
["SECCIÓN G.1: PROGRAMA SEMBRANDO SONRISAS"]
["ACTIVIDAD",null,null,"TOTAL",null,null,"SEGÚN GRUPOS DE EDAD O DE RIESGO",null,null,null,null,null,null,null,null,null,null,null,null,null,null,null,null,null,null,null,null,null,null,null,null,null,null,null,null,null,null,null,null,null,null,null,"Usuarios con Discapacidad","Total","JUNJI","INTEGRA","MINEDUC"]
[null,null,null,null,null,null,"Menos de 1 año",null,"1 año",null,"2 años",null,"3 años",null,"4 años",null,"5 años",null,"6 años",null,"7 años",null,"8-9 años",null,"10-14 años",null,"15-19 años",null,"20-24 años ",null,"25-34 años",null,"35-44 años",null,"45-59 años",null,"60-64 años",null,"65-74 años",null,"75 y más años"]
[null,null,null,"Ambos Sexos","Hombres","Mujeres","Hombres","Mujeres","Hombres","Mujeres","Hombres","Mujeres","Hombres","Mujeres","Hombres","Mujeres","Hombres","Mujeres","Hombres","Mujeres","Hombres","Mujeres","Hombres","Mujeres","Hombres","Mujeres","Hombres","Mujeres","Hombres","Mujeres","Hombres","Mujeres","Hombres","Mujeres","Hombres","Mujeres","Hombres","Mujeres","Hombres","Mujeres","Hombres","Mujeres"]
["EXAMEN DE SALUD",null,null,{"$f":"SUM(E203+F203)","v":0},{"$f":"+K203+M203+O203+Q203+S203","v":0},{"$f":"+L203+N203+P203+R203+T203","v":0},null,null,null,null,null,null,null,null,null,null,null,null,null,null,null,null,null,null,null,null,null,null,null,null,null,null,null,null,null,null,null,null,null,null,null,null,null,{"$f":"SUM(AS203:AU203)","v":0},null,null,null,{"$f":"$CA203&$CB203&$CC203&$CD203&$CE203&$CF203&$CG203","v":""},null,null,null,null,null,null,null,null,null,null,null,null,null,null,null,null,null,null,null,null,null,null,null,null,null,null,null,null,null,null,{"$f":"IF(CH203=1,\"* El número de actividades en usuarios en situacion de discapacidad NO DEBE ser mayor al total. \",\"\")","v":""},{"$f":"IF(CI203=1,\"* El número de actividades en usuarios JUNJI NO DEBE ser mayor al total. \",\"\")","v":""},{"$f":"IF(CJ203=1,\"* El número de actividades en usuarios INTEGRA NO DEBE ser mayor al total. \",\"\")","v":""},{"$f":"IF(CK203=1,\"* El número de actividades en usuarios MINEDUC NO DEBE ser mayor al total. \",\"\")","v":""},{"$f":"IF(CL203=1,\"* El total de actividades de JUNJI, Integra y MINEDUC no puede superar el Total.\",\"\")","v":""},null,null,{"$f":"IF(D203<AQ203,1,0)","v":0},{"$f":"IF(D203<AS203,1,0)","v":0},{"$f":"IF(D203<AT203,1,0)","v":0},{"$f":"IF(D203<AU203,1,0)","v":0},{"$f":"IF(D203<AR203,1,0)","v":0}]
["Nº DE NIÑOS CON ÍNDICE ceod=0 AL INGRESO",null,null,{"$f":"SUM(E204+F204)","v":0},{"$f":"+K204+M204+O204+Q204+S204","v":0},{"$f":"+L204+N204+P204+R204+T204","v":0},null,null,null,null,null,null,null,null,null,null,null,null,null,null,null,null,null,null,null,null,null,null,null,null,null,null,null,null,null,null,null,null,null,null,null,null,null,{"$f":"SUM(AS204:AU204)","v":0},null,null,null,"",null,null,null,null,null,null,null,null,null,null,null,null,null,null,null,null,null,null,null,null,null,null,null,null,null,null,null,null,null,null,{"$f":"IF(CH204=1,\"* El número de actividades en usuarios en situacion de discapacidad NO DEBE ser mayor al total. \",\"\")","v":""},{"$f":"IF(CI204=1,\"* El número de actividades en usuarios JUNJI NO DEBE ser mayor al total. \",\"\")","v":""},{"$f":"IF(CJ204=1,\"* El número de actividades en usuarios INTEGRA NO DEBE ser mayor al total. \",\"\")","v":""},{"$f":"IF(CK204=1,\"* El número de actividades en usuarios MINEDUC NO DEBE ser mayor al total. \",\"\")","v":""},{"$f":"IF(CL204=1,\"* El total de actividades de JUNJI, Integra y MINEDUC no puede superar el Total.\",\"\")","v":""},null,null,{"$f":"IF(D204<AQ204,1,0)","v":0},{"$f":"IF(D204<AS204,1,0)","v":0},{"$f":"IF(D204<AT204,1,0)","v":0},{"$f":"IF(D204<AU204,1,0)","v":0},{"$f":"IF(D204<AR204,1,0)","v":0}]
["SET DE HIGIENE ORAL ENTREGADOS",null,null,{"$f":"SUM(E205+F205)","v":0},0,0,null,null,null,null,null,null,null,null,null,null,null,null,null,null,null,null,null,null,null,null,null,null,null,null,null,null,null,null,null,null,null,null,null,null,null,null,null,0,null,null,null,"",null,null,null,null,null,null,null,null,null,null,null,null,null,null,null,null,null,null,null,null,null,null,null,null,null,null,null,null,null,null,"","","","","",null,null,0,0,0,0,0]
["Nº DE APLICACIONES FLÚOR BARNIZ",null,null,{"$f":"SUM(E206+F206)","v":0},0,0,null,null,null,null,null,null,null,null,null,null,null,null,null,null,null,null,null,null,null,null,null,null,null,null,null,null,null,null,null,null,null,null,null,null,null,null,null,0,null,null,null,"",null,null,null,null,null,null,null,null,null,null,null,null,null,null,null,null,null,null,null,null,null,null,null,null,null,null,null,null,null,null,"","","","","",null,null,0,0,0,0,0]
["EDUCACIÓN GRUPAL EN ESTABLECIMIENTO DE EDUCACIÓN",null,null,null,null,null,null,null,null,null,null,null,null,null,null,null,null,null,null,null,null,null,null,null,null,null,null,null,null,null,null,null,null,null,null,null,null,null,null,null,null,null,null,0,null,null,null,null,null,null,null,null,null,null,null,null,null,null,null,null,null,null,null,null,null,null,null,null,null,null,null,null,null,null,null,null,null,null,"","","","",""]
["N° DE ESTABLECIMIENTOS DE EDUCACIÓN CON PROGRAMA IMPLEMENTADO",null,null,null,null,null,null,null,null,null,null,null,null,null,null,null,null,null,null,null,null,null,null,null,null,null,null,null,null,null,null,null,null,null,null,null,null,null,null,null,null,null,null,{"$f":"SUM(AS208:AU208)","v":0},null,null,null,null,null,null,null,null,null,null,null,null,null,null,null,null,null,null,null,null,null,null,null,null,null,null,null,null,null,null,null,null,null,null,"","","","",""]
["SECCIÓN H: SEDACIÓN Y ANESTESIA"]
["ACTIVIDAD",null,null,"TOTAL",null,null,"SEGÚN GRUPOS DE EDAD O DE RIESGO"]
[null,null,null,null,null,null,"Menos de 1 año",null,"1 año",null,"2 años",null,"3 años",null,"4 años",null,"5 años",null,"6 años",null,"7 años",null,"8-9 años",null,"10-14 años",null,"15-19 años",null,"20-24 años ",null,"25-34 años",null,"35-44 años",null,"45-59 años",null,"60-64 años",null,"65-74 años",null,"75 y más años"]
[null,null,null,"Ambos Sexos","Hombres","Mujeres","Hombres","Mujeres","Hombres","Mujeres","Hombres","Mujeres","Hombres","Mujeres","Hombres","Mujeres","Hombres","Mujeres","Hombres","Mujeres","Hombres","Mujeres","Hombres","Mujeres","Hombres","Mujeres","Hombres","Mujeres","Hombres","Mujeres","Hombres","Mujeres","Hombres","Mujeres","Hombres","Mujeres","Hombres","Mujeres","Hombres","Mujeres","Hombres","Mujeres"]
["ATENCIÓN BAJO SEDACIÓN INHALATORIA (CON ÓXIDO NITROSO)",null,null,{"$f":"SUM(E213:F213)","v":0},{"$f":"SUM(G213+I213+K213+M213+O213+Q213+S213+U213+W213+Y213+AA213+AC213+AE213+AG213+AI213+AK213+AM213+AO213)","v":0},{"$f":"SUM(H213+J213+L213+N213+P213+R213+T213+V213+X213+Z213+AB213+AD213+AF213+AH213+AJ213+AL213+AN213+AP213)","v":0}]
["SEDACIÓN ENDOVENOSA",null,null,{"$f":"SUM(E214:F214)","v":0},{"$f":"SUM(G214+I214+K214+M214+O214+Q214+S214+U214+W214+Y214+AA214+AC214+AE214+AG214+AI214+AK214+AM214+AO214)","v":0},0]
["ATENCIÓN BAJO ANESTESIA GENERAL",null,null,0,0,0]
["ATENCIÓN BAJO SEDACIÓN ORAL",null,null,0,{"$f":"SUM(G216+I216+K216+M216+O216+Q216+S216+U216+W216+Y216+AA216+AC216+AE216+AG216+AI216+AK216+AM216+AO216)","v":0},0]
["SECCIÓN I:  CONSULTAS, INGRESOS Y EGRESOS EN ESPECIALIDADES ODONTOLÓGICAS REALIZADOS EN NIVEL PRIMARIO Y SECUNDARIO DE SALUD. "]
["ESPECIALIDAD Y TIPO DE INGRESO O EGRESO.",null,null,"TOTAL   ",null,null,"SEGÚN GRUPOS DE EDAD O DE RIESGO",null,null,null,null,null,null,null,null,null,null,null,null,null,null,null,null,null,null,null,null,null,null,null,null,null,null,null,null,null,null,null,null,null,"Embarazadas","60 años (incluido en grupos de  60-64 años)","CONSULTAS PERTINENTES",null,"Inasistente","Compra de Servicio","Usuarios con Discapacidad","Niños, niñas, adolescentes y jovenes RED SENAME","Migrantes"]
[null,null,null,null,null,null,"Menos de 1 año - 1 año",null,"2 años",null,"3 años",null,"4 años",null,"5 años",null,"6 años",null,"7 años",null,"8-9 años",null,"10-14 años",null,"15-19 años",null,"20-24 años ",null,"25-34 años",null,"35-44 años",null,"45-59 años",null,"60-64 años",null,"65-74 años",null,"75 y más años",null,null,null,"Según Protocolo de Referencia","Según condición clínica"]
[null,null,null,"Ambos Sexos","Hombres","Mujeres","Hombres","Mujeres","Hombres","Mujeres","Hombres","Mujeres","Hombres","Mujeres","Hombres","Mujeres","Hombres","Mujeres","Hombres","Mujeres","Hombres","Mujeres","Hombres","Mujeres","Hombres","Mujeres","Hombres","Mujeres","Hombres","Mujeres","Hombres","Mujeres","Hombres","Mujeres","Hombres","Mujeres","Hombres","Mujeres","Hombres","Mujeres"]
["CONSULTAS","CONSULTA DE URGENCIA GES",null,{"$f":"SUM(E221+F221)","v":0},{"$f":"SUM(G221+I221+K221+M221+O221+Q221+S221+U221+W221+Y221+AA221+AC221+AE221+AG221+AI221+AK221+AM221)","v":0},{"$f":"SUM(H221+J221+L221+N221+P221+R221+T221+V221+X221+Z221+AB221+AD221+AF221+AH221+AJ221+AL221+AN221)","v":0},null,null,null,null,null,null,null,null,null,null,null,null,null,null,null,null,null,null,null,null,null,null,null,null,null,null,null,null,null,null,null,null,null,null,null,null,null,null,null,null,null,null,null,{"$f":"$CA221&$CB221&$CC221&$CD221&$CE221&$CF221&$CG221","v":""},null,null,null,null,null,null,null,null,null,null,null,null,null,null,null,null,null,null,null,null,null,null,null,null,null,null,null,null,{"$f":"IF(CH221=1,\"* El número de pacientes de 60 años NO DEBE Ser mayor a lo registrado en el grupo Etario 60-64 años. \",\"\")","v":""},{"$f":"IF(CI221=1,\"* La consulta pertinente según Protocolo de Referencia NO DEBE ser mayor al Total registrado. \",\"\")","v":""},{"$f":"IF(CJ221=1,\"* La consulta pertinente según condición clínica NO DEBE ser mayor al Total registrado. \",\"\")","v":""},{"$f":"IF(AND(D221<>0,AO221=\"\"),\"* Recuerde que las Embarazadas deben ser incluídas en el ingreso por rango Etario (Digite CEROS si no tiene). \",IF(F221<AO221,\"* Las Embarazadas NO DEBEN ser mayor al total de Mujeres. \",\"\"))","v":""},{"$f":"IF(AND($D221<>0,AU221=\"\"),\"* No olvide digitar la columna Usuarios en Situación de Discapacidad (Digite CEROS si no tiene). \",IF($D221<AU221,\"* Los Usuarios en Situación de Discapacidad NO DEBEN ser mayor al total. \",\"\"))","v":""},{"$f":"IF(AND($D221<>0,AV221=\"\"),\"* No olvide digitar la columna Niños, Niñas, Adolescentes y Jóvenes Población SENAME (Digite CEROS si no tiene). \",IF($D221<AV221,\"* Los Niños, Niñas, Adolescentes y Jóvenes Población SENAME NO DEBEN ser mayor al total. \",\"\"))","v":""},{"$f":"IF(AND($D221<>0,AW221=\"\"),\"* No olvide digitar la columna Migrantes (Digite CEROS si no tiene). \",IF($D221<AW221,\"* Los Migrantes NO DEBEN ser mayor al total. \",\"\"))","v":""},{"$f":"IF((AI221+AJ221)<AP221,1,0)","v":0},{"$f":"IF(D221<AQ221,1,0)","v":0},{"$f":"IF(D221<AR221,1,0)","v":0},{"$f":"IF(AND(D221<>0,AO221=\"\"),1,IF(F221<AO221,1,0))","v":0},{"$f":"IF(AND($D221<>0,AU221=\"\"),1,IF($D221<AU221,1,0))","v":0},{"$f":"IF(AND($D221<>0,AV221=\"\"),1,IF($D221<AV221,1,0))","v":0},{"$f":"IF(AND($D221<>0,AW221=\"\"),1,IF($D221<AW221,1,0))","v":0}]
[null,"CONSULTA DE URGENCIA NO GES",null,{"$f":"SUM(E222+F222)","v":0},{"$f":"SUM(G222+I222+K222+M222+O222+Q222+S222+U222+W222+Y222+AA222+AC222+AE222+AG222+AI222+AK222+AM222)","v":0},{"$f":"SUM(H222+J222+L222+N222+P222+R222+T222+V222+X222+Z222+AB222+AD222+AF222+AH222+AJ222+AL222+AN222)","v":0},null,null,null,null,null,null,null,null,null,null,null,null,null,null,null,null,null,null,null,null,null,null,null,null,null,null,null,null,null,null,null,null,null,null,null,null,null,null,null,null,null,null,null,"",null,null,null,null,null,null,null,null,null,null,null,null,null,null,null,null,null,null,null,null,null,null,null,null,null,null,null,null,{"$f":"IF(CH222=1,\"* El número de pacientes de 60 años NO DEBE Ser mayor a lo registrado en el grupo Etario 60-64 años. \",\"\")","v":""},{"$f":"IF(CI222=1,\"* La consulta pertinente según Protocolo de Referencia NO DEBE ser mayor al Total registrado. \",\"\")","v":""},{"$f":"IF(CJ222=1,\"* La consulta pertinente según condición clínica NO DEBE ser mayor al Total registrado. \",\"\")","v":""},{"$f":"IF(AND(D222<>0,AO222=\"\"),\"* Recuerde que las Embarazadas deben ser incluídas en el ingreso por rango Etario (Digite CEROS si no tiene). \",IF(F222<AO222,\"* Las Embarazadas NO DEBEN ser mayor al total de Mujeres. \",\"\"))","v":""},{"$f":"IF(AND($D222<>0,AU222=\"\"),\"* No olvide digitar la columna Usuarios en Situación de Discapacidad (Digite CEROS si no tiene). \",IF($D222<AU222,\"* Los Usuarios en Situación de Discapacidad NO DEBEN ser mayor al total. \",\"\"))","v":""},{"$f":"IF(AND($D222<>0,AV222=\"\"),\"* No olvide digitar la columna Niños, Niñas, Adolescentes y Jóvenes Población SENAME (Digite CEROS si no tiene). \",IF($D222<AV222,\"* Los Niños, Niñas, Adolescentes y Jóvenes Población SENAME NO DEBEN ser mayor al total. \",\"\"))","v":""},{"$f":"IF(AND($D222<>0,AW222=\"\"),\"* No olvide digitar la columna Migrantes (Digite CEROS si no tiene). \",IF($D222<AW222,\"* Los Migrantes NO DEBEN ser mayor al total. \",\"\"))","v":""},{"$f":"IF((AI222+AJ222)<AP222,1,0)","v":0},{"$f":"IF(D222<AQ222,1,0)","v":0},{"$f":"IF(D222<AR222,1,0)","v":0},{"$f":"IF(AND(D222<>0,AO222=\"\"),1,IF(F222<AO222,1,0))","v":0},{"$f":"IF(AND($D222<>0,AU222=\"\"),1,IF($D222<AU222,1,0))","v":0},{"$f":"IF(AND($D222<>0,AV222=\"\"),1,IF($D222<AV222,1,0))","v":0},{"$f":"IF(AND($D222<>0,AW222=\"\"),1,IF($D222<AW222,1,0))","v":0}]
["CIRUGÍA BUCAL","CONSULTA NUEVA ",null,0,0,0,null,null,null,null,null,null,null,null,null,null,null,null,null,null,null,null,null,null,null,null,null,null,null,null,null,null,null,null,null,null,null,null,null,null,null,null,null,null,null,null,null,null,null,"",null,null,null,null,null,null,null,null,null,null,null,null,null,null,null,null,null,null,null,null,null,null,null,null,null,null,null,null,"","","","","","","",0,0,0,0,0,0,0]
[null,"CONTROL ",null,0,0,0,null,null,null,null,null,null,null,null,null,null,null,null,null,null,null,null,null,null,null,null,null,null,null,null,null,null,null,null,null,null,null,null,null,null,null,null,null,null,null,null,null,null,null,"",null,null,null,null,null,null,null,null,null,null,null,null,null,null,null,null,null,null,null,null,null,null,null,null,null,null,null,null,"",null,"","","","","",0,null,null,0,0,0,0]
[null,"INGRESOS A TRATAMIENTO",null,0,0,0,null,null,null,null,null,null,null,null,null,null,null,null,null,null,null,null,null,null,null,null,null,null,null,null,null,null,null,null,null,null,null,null,null,null,null,null,null,null,null,null,null,null,null,"",null,null,null,null,null,null,null,null,null,null,null,null,null,null,null,null,null,null,null,null,null,null,null,null,null,null,null,null,"",null,"","","","","",0,null,null,0,0,0,0]
[null,"ALTAS DE TRATAMIENTO",null,0,0,0,null,null,null,null,null,null,null,null,null,null,null,null,null,null,null,null,null,null,null,null,null,null,null,null,null,null,null,null,null,null,null,null,null,null,null,null,null,null,null,null,null,null,null,"",null,null,null,null,null,null,null,null,null,null,null,null,null,null,null,null,null,null,null,null,null,null,null,null,null,null,null,null,"",null,"","","","","",0,null,null,0,0,0,0]
[null,"CONTROL DE ESPECIALIDAD POST ALTA",null,0,0,0,null,null,null,null,null,null,null,null,null,null,null,null,null,null,null,null,null,null,null,null,null,null,null,null,null,null,null,null,null,null,null,null,null,null,null,null,null,null,null,null,null,null,null,"",null,null,null,null,null,null,null,null,null,null,null,null,null,null,null,null,null,null,null,null,null,null,null,null,null,null,null,null,"",null,"","","","","",0,null,null,0,0,0,0]
[null,"ALTAS ADMINISTRATIVAS",null,0,0,0,null,null,null,null,null,null,null,null,null,null,null,null,null,null,null,null,null,null,null,null,null,null,null,null,null,null,null,null,null,null,null,null,null,null,null,null,null,null,null,null,null,null,null,"",null,null,null,null,null,null,null,null,null,null,null,null,null,null,null,null,null,null,null,null,null,null,null,null,null,null,null,null,"",null,"","","","","",0,null,null,0,0,0,0]
["CIRUGÍA Y TRAUMATOLOGÍA MAXILOFACIAL","CONSULTA NUEVA ",null,0,0,0,null,null,null,null,null,null,null,null,null,null,null,null,null,null,null,null,null,null,null,null,null,null,null,null,null,null,null,null,null,null,null,null,null,null,null,null,null,null,null,null,null,null,null,"",null,null,null,null,null,null,null,null,null,null,null,null,null,null,null,null,null,null,null,null,null,null,null,null,null,null,null,null,"","","","","","","",0,0,0,0,0,0,0]
[null,"CONTROL ",null,0,0,0,null,null,null,null,null,null,null,null,null,null,null,null,null,null,null,null,null,null,null,null,null,null,null,null,null,null,null,null,null,null,null,null,null,null,null,null,null,null,null,null,null,null,null,"",null,null,null,null,null,null,null,null,null,null,null,null,null,null,null,null,null,null,null,null,null,null,null,null,null,null,null,null,"",null,"","","","","",0,null,null,0,0,0,0]
[null,"INGRESOS A TRATAMIENTO",null,0,0,0,null,null,null,null,null,null,null,null,null,null,null,null,null,null,null,null,null,null,null,null,null,null,null,null,null,null,null,null,null,null,null,null,null,null,null,null,null,null,null,null,null,null,null,"",null,null,null,null,null,null,null,null,null,null,null,null,null,null,null,null,null,null,null,null,null,null,null,null,null,null,null,null,"",null,"","","","","",0,null,null,0,0,0,0]
[null,"ALTAS DE TRATAMIENTO",null,0,0,0,null,null,null,null,null,null,null,null,null,null,null,null,null,null,null,null,null,null,null,null,null,null,null,null,null,null,null,null,null,null,null,null,null,null,null,null,null,null,null,null,null,null,null,"",null,null,null,null,null,null,null,null,null,null,null,null,null,null,null,null,null,null,null,null,null,null,null,null,null,null,null,null,"",null,"","","","","",0,null,null,0,0,0,0]
[null,"CONTROL DE ESPECIALIDAD POST ALTA",null,0,0,0,null,null,null,null,null,null,null,null,null,null,null,null,null,null,null,null,null,null,null,null,null,null,null,null,null,null,null,null,null,null,null,null,null,null,null,null,null,null,null,null,null,null,null,"",null,null,null,null,null,null,null,null,null,null,null,null,null,null,null,null,null,null,null,null,null,null,null,null,null,null,null,null,"",null,"","","","","",0,null,null,0,0,0,0]
[null,"ALTAS ADMINISTRATIVAS",null,0,0,0,null,null,null,null,null,null,null,null,null,null,null,null,null,null,null,null,null,null,null,null,null,null,null,null,null,null,null,null,null,null,null,null,null,null,null,null,null,null,null,null,null,null,null,"",null,null,null,null,null,null,null,null,null,null,null,null,null,null,null,null,null,null,null,null,null,null,null,null,null,null,null,null,"",null,"","","","","",0,null,null,0,0,0,0]
["ENDODONCIA","CONSULTA NUEVA ",null,0,{"$f":"SUM(G235+I235+K235+M235+O235+Q235+S235+U235+W235+Y235+AA235+AC235+AE235+AG235+AI235+AK235+AM235)","v":0},{"$f":"SUM(H235+J235+L235+N235+P235+R235+T235+V235+X235+Z235+AB235+AD235+AF235+AH235+AJ235+AL235+AN235)","v":0},null,null,null,null,null,null,null,null,null,null,null,null,null,null,null,null,null,null,null,null,null,null,null,null,null,null,null,null,null,null,null,null,null,null,null,null,null,null,null,null,null,null,null,"",null,null,null,null,null,null,null,null,null,null,null,null,null,null,null,null,null,null,null,null,null,null,null,null,null,null,null,null,"","","","","","","",0,0,0,0,0,0,0]
[null,"CONTROL ",null,0,0,0,null,null,null,null,null,null,null,null,null,null,null,null,null,null,null,null,null,null,null,null,null,null,null,null,null,null,null,null,null,null,null,null,null,null,null,null,null,null,null,null,null,null,null,"",null,null,null,null,null,null,null,null,null,null,null,null,null,null,null,null,null,null,null,null,null,null,null,null,null,null,null,null,"",null,"","","","","",0,null,null,0,0,0,0]
[null,"INGRESOS A TRATAMIENTO",null,0,0,0,null,null,null,null,null,null,null,null,null,null,null,null,null,null,null,null,null,null,null,null,null,null,null,null,null,null,null,null,null,null,null,null,null,null,null,null,null,null,null,null,null,null,null,"",null,null,null,null,null,null,null,null,null,null,null,null,null,null,null,null,null,null,null,null,null,null,null,null,null,null,null,null,"",null,"","","","","",0,null,null,0,0,0,0]
[null,"ALTAS DE TRATAMIENTO",null,0,0,0,null,null,null,null,null,null,null,null,null,null,null,null,null,null,null,null,null,null,null,null,null,null,null,null,null,null,null,null,null,null,null,null,null,null,null,null,null,null,null,null,null,null,null,"",null,null,null,null,null,null,null,null,null,null,null,null,null,null,null,null,null,null,null,null,null,null,null,null,null,null,null,null,"",null,"","","","","",0,null,null,0,0,0,0]
[null,"CONTROL DE ESPECIALIDAD POST ALTA",null,0,0,0,null,null,null,null,null,null,null,null,null,null,null,null,null,null,null,null,null,null,null,null,null,null,null,null,null,null,null,null,null,null,null,null,null,null,null,null,null,null,null,null,null,null,null,"",null,null,null,null,null,null,null,null,null,null,null,null,null,null,null,null,null,null,null,null,null,null,null,null,null,null,null,null,"",null,"","","","","",0,null,null,0,0,0,0]
[null,"ALTAS ADMINISTRATIVAS",null,0,0,0,null,null,null,null,null,null,null,null,null,null,null,null,null,null,null,null,null,null,null,null,null,null,null,null,null,null,null,null,null,null,null,null,null,null,null,null,null,null,null,null,null,null,null,"",null,null,null,null,null,null,null,null,null,null,null,null,null,null,null,null,null,null,null,null,null,null,null,null,null,null,null,null,"",null,"","","","","",0,null,null,0,0,0,0]
["ODONTOPEDIATRÍA","CONSULTA NUEVA ",null,{"$f":"SUM(E241+F241)","v":0},{"$f":"SUM(G241+I241+K241+M241+O241+Q241+S241+U241+W241+Y241+AA241+AC241+AE241+AG241+AI241+AK241+AM241)","v":0},{"$f":"SUM(H241+J241+L241+N241+P241+R241+T241+V241+X241+Z241+AB241+AD241+AF241+AH241+AJ241+AL241+AN241)","v":0},null,null,null,null,null,null,null,null,null,null,null,null,null,null,null,null,null,null,null,null,null,null,null,null,null,null,null,null,null,null,null,null,null,null,null,null,null,null,null,null,null,null,null,"",null,null,null,null,null,null,null,null,null,null,null,null,null,null,null,null,null,null,null,null,null,null,null,null,null,null,null,null,"","","","","","","",null,0,0,0,0,0,0]
[null,"CONTROL ",null,0,0,0,null,null,null,null,null,null,null,null,null,null,null,null,null,null,null,null,null,null,null,null,null,null,null,null,null,null,null,null,null,null,null,null,null,null,null,null,null,null,null,null,null,null,null,"",null,null,null,null,null,null,null,null,null,null,null,null,null,null,null,null,null,null,null,null,null,null,null,null,null,null,null,null,"",null,"","","","","",null,null,null,0,0,0,0]
[null,"INGRESOS A TRATAMIENTO",null,0,0,0,null,null,null,null,null,null,null,null,null,null,null,null,null,null,null,null,null,null,null,null,null,null,null,null,null,null,null,null,null,null,null,null,null,null,null,null,null,null,null,null,null,null,null,"",null,null,null,null,null,null,null,null,null,null,null,null,null,null,null,null,null,null,null,null,null,null,null,null,null,null,null,null,"",null,"","","","","",null,null,null,0,0,0,0]
[null,"ALTAS DE TRATAMIENTO",null,0,0,0,null,null,null,null,null,null,null,null,null,null,null,null,null,null,null,null,null,null,null,null,null,null,null,null,null,null,null,null,null,null,null,null,null,null,null,null,null,null,null,null,null,null,null,"",null,null,null,null,null,null,null,null,null,null,null,null,null,null,null,null,null,null,null,null,null,null,null,null,null,null,null,null,"",null,"","","","","",null,null,null,0,0,0,0]
[null,"CONTROL DE ESPECIALIDAD POST ALTA",null,0,0,0,null,null,null,null,null,null,null,null,null,null,null,null,null,null,null,null,null,null,null,null,null,null,null,null,null,null,null,null,null,null,null,null,null,null,null,null,null,null,null,null,null,null,null,"",null,null,null,null,null,null,null,null,null,null,null,null,null,null,null,null,null,null,null,null,null,null,null,null,null,null,null,null,"",null,"","","","","",null,null,null,0,0,0,0]
[null,"ALTAS ADMINISTRATIVAS",null,0,0,0,null,null,null,null,null,null,null,null,null,null,null,null,null,null,null,null,null,null,null,null,null,null,null,null,null,null,null,null,null,null,null,null,null,null,null,null,null,null,null,null,null,null,null,"",null,null,null,null,null,null,null,null,null,null,null,null,null,null,null,null,null,null,null,null,null,null,null,null,null,null,null,null,"",null,"","","","","",null,null,null,0,0,0,0]
["OPERATORIA","CONSULTA NUEVA ",null,0,0,0,null,null,null,null,null,null,null,null,null,null,null,null,null,null,null,null,null,null,null,null,null,null,null,null,null,null,null,null,null,null,null,null,null,null,null,null,null,null,null,null,null,null,null,"",null,null,null,null,null,null,null,null,null,null,null,null,null,null,null,null,null,null,null,null,null,null,null,null,null,null,null,null,"","","","","","","",0,0,0,0,0,0,0]
[null,"CONTROL ",null,0,0,0,null,null,null,null,null,null,null,null,null,null,null,null,null,null,null,null,null,null,null,null,null,null,null,null,null,null,null,null,null,null,null,null,null,null,null,null,null,null,null,null,null,null,null,"",null,null,null,null,null,null,null,null,null,null,null,null,null,null,null,null,null,null,null,null,null,null,null,null,null,null,null,null,"",null,"","","","","",0,null,null,0,0,0,0]
[null,"INGRESOS A TRATAMIENTO",null,0,0,0,null,null,null,null,null,null,null,null,null,null,null,null,null,null,null,null,null,null,null,null,null,null,null,null,null,null,null,null,null,null,null,null,null,null,null,null,null,null,null,null,null,null,null,"",null,null,null,null,null,null,null,null,null,null,null,null,null,null,null,null,null,null,null,null,null,null,null,null,null,null,null,null,"",null,"","","","","",0,null,null,0,0,0,0]
[null,"ALTAS DE TRATAMIENTO",null,0,{"$f":"SUM(G250+I250+K250+M250+O250+Q250+S250+U250+W250+Y250+AA250+AC250+AE250+AG250+AI250+AK250+AM250)","v":0},0,null,null,null,null,null,null,null,null,null,null,null,null,null,null,null,null,null,null,null,null,null,null,null,null,null,null,null,null,null,null,null,null,null,null,null,null,null,null,null,null,null,null,null,"",null,null,null,null,null,null,null,null,null,null,null,null,null,null,null,null,null,null,null,null,null,null,null,null,null,null,null,null,"",null,"","","","","",0,null,null,0,0,0,0]
[null,"CONTROL DE ESPECIALIDAD POST ALTA",null,0,0,0,null,null,null,null,null,null,null,null,null,null,null,null,null,null,null,null,null,null,null,null,null,null,null,null,null,null,null,null,null,null,null,null,null,null,null,null,null,null,null,null,null,null,null,"",null,null,null,null,null,null,null,null,null,null,null,null,null,null,null,null,null,null,null,null,null,null,null,null,null,null,null,null,"",null,"","","","","",0,null,null,0,0,0,0]
[null,"ALTAS ADMINISTRATIVAS",null,0,0,0,null,null,null,null,null,null,null,null,null,null,null,null,null,null,null,null,null,null,null,null,null,null,null,null,null,null,null,null,null,null,null,null,null,null,null,null,null,null,null,null,null,null,null,"",null,null,null,null,null,null,null,null,null,null,null,null,null,null,null,null,null,null,null,null,null,null,null,null,null,null,null,null,"",null,"","","","","",0,null,null,0,0,0,0]
["ORTODONCIA Y ORTOPEDIA DENTO MAXILOFACIAL: APARATOLOGÍA FIJA","CONSULTA NUEVA ",null,0,{"$f":"SUM(G253+I253+K253+M253+O253+Q253+S253+U253+W253+Y253+AA253+AC253+AE253+AG253+AI253+AK253+AM253)","v":0},{"$f":"SUM(H253+J253+L253+N253+P253+R253+T253+V253+X253+Z253+AB253+AD253+AF253+AH253+AJ253+AL253+AN253)","v":0},null,null,null,null,null,null,null,null,null,null,null,null,null,null,null,null,null,null,null,null,null,null,null,null,null,null,null,null,null,null,null,null,null,null,null,null,null,null,null,null,null,null,null,"",null,null,null,null,null,null,null,null,null,null,null,null,null,null,null,null,null,null,null,null,null,null,null,null,null,null,null,null,"","","",null,"","","",null,0,0,null,0,0,0]
[null,"CONTROL ",null,0,0,0,null,null,null,null,null,null,null,null,null,null,null,null,null,null,null,null,null,null,null,null,null,null,null,null,null,null,null,null,null,null,null,null,null,null,null,null,null,null,null,null,null,null,null,"",null,null,null,null,null,null,null,null,null,null,null,null,null,null,null,null,null,null,null,null,null,null,null,null,null,null,null,null,"",null,"",null,"","","",null,null,null,null,0,0,0]
[null,"INGRESOS A TRATAMIENTO",null,0,0,0,null,null,null,null,null,null,null,null,null,null,null,null,null,null,null,null,null,null,null,null,null,null,null,null,null,null,null,null,null,null,null,null,null,null,null,null,null,null,null,null,null,null,null,"",null,null,null,null,null,null,null,null,null,null,null,null,null,null,null,null,null,null,null,null,null,null,null,null,null,null,null,null,"",null,"",null,"","","",null,null,null,null,0,0,0]
[null,"ALTAS DE TRATAMIENTO",null,0,0,0,null,null,null,null,null,null,null,null,null,null,null,null,null,null,null,null,null,null,null,null,null,null,null,null,null,null,null,null,null,null,null,null,null,null,null,null,null,null,null,null,null,null,null,"",null,null,null,null,null,null,null,null,null,null,null,null,null,null,null,null,null,null,null,null,null,null,null,null,null,null,null,null,"",null,"",null,"","","",null,null,null,null,0,0,0]
[null,"CONTROL DE ESPECIALIDAD POST ALTA",null,0,0,0,null,null,null,null,null,null,null,null,null,null,null,null,null,null,null,null,null,null,null,null,null,null,null,null,null,null,null,null,null,null,null,null,null,null,null,null,null,null,null,null,null,null,null,"",null,null,null,null,null,null,null,null,null,null,null,null,null,null,null,null,null,null,null,null,null,null,null,null,null,null,null,null,"",null,"",null,"","","",null,null,null,null,0,0,0]
[null,"ALTAS ADMINISTRATIVAS",null,0,0,0,null,null,null,null,null,null,null,null,null,null,null,null,null,null,null,null,null,null,null,null,null,null,null,null,null,null,null,null,null,null,null,null,null,null,null,null,null,null,null,null,null,null,null,"",null,null,null,null,null,null,null,null,null,null,null,null,null,null,null,null,null,null,null,null,null,null,null,null,null,null,null,null,"",null,"",null,"","","",null,null,null,null,0,0,0]
["ORTODONCIA Y ORTOPEDIA DENTO MAXILOFACIAL: APARATOLOGÍA REMOVIBLE","CONSULTA NUEVA ",null,0,0,0,null,null,null,null,null,null,null,null,null,null,null,null,null,null,null,null,null,null,null,null,null,null,null,null,null,null,null,null,null,null,null,null,null,null,null,null,null,null,null,null,null,null,null,"",null,null,null,null,null,null,null,null,null,null,null,null,null,null,null,null,null,null,null,null,null,null,null,null,null,null,null,null,"","","",null,"","","",null,0,0,null,0,0,0]
[null,"CONTROL ",null,0,0,0,null,null,null,null,null,null,null,null,null,null,null,null,null,null,null,null,null,null,null,null,null,null,null,null,null,null,null,null,null,null,null,null,null,null,null,null,null,null,null,null,null,null,null,"",null,null,null,null,null,null,null,null,null,null,null,null,null,null,null,null,null,null,null,null,null,null,null,null,null,null,null,null,"",null,"",null,"","","",null,null,null,null,0,0,0]
[null,"INGRESOS A TRATAMIENTO",null,0,0,0,null,null,null,null,null,null,null,null,null,null,null,null,null,null,null,null,null,null,null,null,null,null,null,null,null,null,null,null,null,null,null,null,null,null,null,null,null,null,null,null,null,null,null,"",null,null,null,null,null,null,null,null,null,null,null,null,null,null,null,null,null,null,null,null,null,null,null,null,null,null,null,null,"",null,"",null,"","","",null,null,null,null,0,0,0]
[null,"ALTAS DE TRATAMIENTO",null,0,0,0,null,null,null,null,null,null,null,null,null,null,null,null,null,null,null,null,null,null,null,null,null,null,null,null,null,null,null,null,null,null,null,null,null,null,null,null,null,null,null,null,null,null,null,"",null,null,null,null,null,null,null,null,null,null,null,null,null,null,null,null,null,null,null,null,null,null,null,null,null,null,null,null,"",null,"",null,"","","",null,null,null,null,0,0,0]
[null,"CONTROL DE ESPECIALIDAD POST ALTA",null,0,0,0,null,null,null,null,null,null,null,null,null,null,null,null,null,null,null,null,null,null,null,null,null,null,null,null,null,null,null,null,null,null,null,null,null,null,null,null,null,null,null,null,null,null,null,"",null,null,null,null,null,null,null,null,null,null,null,null,null,null,null,null,null,null,null,null,null,null,null,null,null,null,null,null,"",null,"",null,"","","",null,null,null,null,0,0,0]
[null,"ALTAS ADMINISTRATIVAS",null,0,0,0,null,null,null,null,null,null,null,null,null,null,null,null,null,null,null,null,null,null,null,null,null,null,null,null,null,null,null,null,null,null,null,null,null,null,null,null,null,null,null,null,null,null,null,"",null,null,null,null,null,null,null,null,null,null,null,null,null,null,null,null,null,null,null,null,null,null,null,null,null,null,null,null,"",null,"",null,"","","",null,null,null,null,0,0,0]
["PERIODONCIA","CONSULTA NUEVA ",null,0,{"$f":"SUM(G265+I265+K265+M265+O265+Q265+S265+U265+W265+Y265+AA265+AC265+AE265+AG265+AI265+AK265+AM265)","v":0},{"$f":"SUM(H265+J265+L265+N265+P265+R265+T265+V265+X265+Z265+AB265+AD265+AF265+AH265+AJ265+AL265+AN265)","v":0},null,null,null,null,null,null,null,null,null,null,null,null,null,null,null,null,null,null,null,null,null,null,null,null,null,null,null,null,null,null,null,null,null,null,null,null,null,null,null,null,null,null,null,"",null,null,null,null,null,null,null,null,null,null,null,null,null,null,null,null,null,null,null,null,null,null,null,null,null,null,null,null,"","","","","","","",0,0,0,0,0,0,0]
[null,"CONTROL ",null,0,0,0,null,null,null,null,null,null,null,null,null,null,null,null,null,null,null,null,null,null,null,null,null,null,null,null,null,null,null,null,null,null,null,null,null,null,null,null,null,null,null,null,null,null,null,"",null,null,null,null,null,null,null,null,null,null,null,null,null,null,null,null,null,null,null,null,null,null,null,null,null,null,null,null,"","","","","","","",0,null,null,0,0,0,0]
[null,"INGRESOS A TRATAMIENTO",null,0,0,0,null,null,null,null,null,null,null,null,null,null,null,null,null,null,null,null,null,null,null,null,null,null,null,null,null,null,null,null,null,null,null,null,null,null,null,null,null,null,null,null,null,null,null,"",null,null,null,null,null,null,null,null,null,null,null,null,null,null,null,null,null,null,null,null,null,null,null,null,null,null,null,null,"","","","","","","",0,null,null,0,0,0,0]
[null,"ALTAS DE TRATAMIENTO",null,0,0,0,null,null,null,null,null,null,null,null,null,null,null,null,null,null,null,null,null,null,null,null,null,null,null,null,null,null,null,null,null,null,null,null,null,null,null,null,null,null,null,null,null,null,null,"",null,null,null,null,null,null,null,null,null,null,null,null,null,null,null,null,null,null,null,null,null,null,null,null,null,null,null,null,"","","","","","","",0,null,null,0,0,0,0]
[null,"CONTROL DE ESPECIALIDAD POST ALTA",null,0,0,0,null,null,null,null,null,null,null,null,null,null,null,null,null,null,null,null,null,null,null,null,null,null,null,null,null,null,null,null,null,null,null,null,null,null,null,null,null,null,null,null,null,null,null,"",null,null,null,null,null,null,null,null,null,null,null,null,null,null,null,null,null,null,null,null,null,null,null,null,null,null,null,null,"","","","","","","",0,null,null,0,0,0,0]
[null,"ALTAS ADMINISTRATIVAS",null,0,0,0,null,null,null,null,null,null,null,null,null,null,null,null,null,null,null,null,null,null,null,null,null,null,null,null,null,null,null,null,null,null,null,null,null,null,null,null,null,null,null,null,null,null,null,"",null,null,null,null,null,null,null,null,null,null,null,null,null,null,null,null,null,null,null,null,null,null,null,null,null,null,null,null,"","","","","","","",0,null,null,0,0,0,0]
["REHABILITACIÓN: PRÓTESIS FIJA","CONSULTA NUEVA ",null,0,{"$f":"+Y271+AA271+AC271+AE271+AG271+AI271+AK271+AM271","v":0},{"$f":"+Z271+AB271+AD271+AF271+AH271+AJ271+AL271+AN271","v":0},null,null,null,null,null,null,null,null,null,null,null,null,null,null,null,null,null,null,null,null,null,null,null,null,null,null,null,null,null,null,null,null,null,null,null,null,null,null,null,null,null,null,null,"",null,null,null,null,null,null,null,null,null,null,null,null,null,null,null,null,null,null,null,null,null,null,null,null,null,null,null,null,"","","","","","","",0,0,0,0,0,0,0]
[null,"CONTROL ",null,{"$f":"SUM(E272+F272)","v":0},{"$f":"+Y272+AA272+AC272+AE272+AG272+AI272+AK272+AM272","v":0},{"$f":"+Z272+AB272+AD272+AF272+AH272+AJ272+AL272+AN272","v":0},null,null,null,null,null,null,null,null,null,null,null,null,null,null,null,null,null,null,null,null,null,null,null,null,null,null,null,null,null,null,null,null,null,null,null,null,null,null,null,null,null,null,null,"",null,null,null,null,null,null,null,null,null,null,null,null,null,null,null,null,null,null,null,null,null,null,null,null,null,null,null,null,"","","","","","","",0,null,null,0,0,0,0]
[null,"INGRESOS A TRATAMIENTO",null,{"$f":"SUM(E273+F273)","v":0},0,0,null,null,null,null,null,null,null,null,null,null,null,null,null,null,null,null,null,null,null,null,null,null,null,null,null,null,null,null,null,null,null,null,null,null,null,null,null,null,null,null,null,null,null,"",null,null,null,null,null,null,null,null,null,null,null,null,null,null,null,null,null,null,null,null,null,null,null,null,null,null,null,null,"","","","","","","",0,null,null,0,0,0,0]
[null,"ALTAS DE TRATAMIENTO",null,0,0,0,null,null,null,null,null,null,null,null,null,null,null,null,null,null,null,null,null,null,null,null,null,null,null,null,null,null,null,null,null,null,null,null,null,null,null,null,null,null,null,null,null,null,null,"",null,null,null,null,null,null,null,null,null,null,null,null,null,null,null,null,null,null,null,null,null,null,null,null,null,null,null,null,"","","","","","","",0,null,null,0,0,0,0]
[null,"CONTROL DE ESPECIALIDAD POST ALTA",null,0,0,0,null,null,null,null,null,null,null,null,null,null,null,null,null,null,null,null,null,null,null,null,null,null,null,null,null,null,null,null,null,null,null,null,null,null,null,null,null,null,null,null,null,null,null,"",null,null,null,null,null,null,null,null,null,null,null,null,null,null,null,null,null,null,null,null,null,null,null,null,null,null,null,null,"","","","","","","",0,null,null,0,0,0,0]
[null,"ALTAS ADMINISTRATIVAS",null,0,0,0,null,null,null,null,null,null,null,null,null,null,null,null,null,null,null,null,null,null,null,null,null,null,null,null,null,null,null,null,null,null,null,null,null,null,null,null,null,null,null,null,null,null,null,"",null,null,null,null,null,null,null,null,null,null,null,null,null,null,null,null,null,null,null,null,null,null,null,null,null,null,null,null,"","","","","","","",0,null,null,0,0,0,0]
["REHABILITACIÓN: PRÓTESIS REMOVIBLE","CONSULTA NUEVA ",null,0,{"$f":"+Y277+AA277+AC277+AE277+AG277+AI277+AK277+AM277","v":0},{"$f":"+Z277+AB277+AD277+AF277+AH277+AJ277+AL277+AN277","v":0},null,null,null,null,null,null,null,null,null,null,null,null,null,null,null,null,null,null,null,null,null,null,null,null,null,null,null,null,null,null,null,null,null,null,null,null,null,null,null,null,null,null,null,"",null,null,null,null,null,null,null,null,null,null,null,null,null,null,null,null,null,null,null,null,null,null,null,null,null,null,null,null,"","","","","","","",0,0,0,0,0,0,0]
[null,"CONTROL ",null,0,0,0,null,null,null,null,null,null,null,null,null,null,null,null,null,null,null,null,null,null,null,null,null,null,null,null,null,null,null,null,null,null,null,null,null,null,null,null,null,null,null,null,null,null,null,"",null,null,null,null,null,null,null,null,null,null,null,null,null,null,null,null,null,null,null,null,null,null,null,null,null,null,null,null,"","","","","","","",0,null,null,0,0,0,0]
[null,"INGRESOS A TRATAMIENTO",null,0,0,0,null,null,null,null,null,null,null,null,null,null,null,null,null,null,null,null,null,null,null,null,null,null,null,null,null,null,null,null,null,null,null,null,null,null,null,null,null,null,null,null,null,null,null,"",null,null,null,null,null,null,null,null,null,null,null,null,null,null,null,null,null,null,null,null,null,null,null,null,null,null,null,null,"","","","","","","",0,null,null,0,0,0,0]
[null,"ALTAS DE TRATAMIENTO",null,0,0,0,null,null,null,null,null,null,null,null,null,null,null,null,null,null,null,null,null,null,null,null,null,null,null,null,null,null,null,null,null,null,null,null,null,null,null,null,null,null,null,null,null,null,null,"",null,null,null,null,null,null,null,null,null,null,null,null,null,null,null,null,null,null,null,null,null,null,null,null,null,null,null,null,"","","","","","","",0,null,null,0,0,0,0]
[null,"CONTROL DE ESPECIALIDAD POST ALTA",null,0,0,0,null,null,null,null,null,null,null,null,null,null,null,null,null,null,null,null,null,null,null,null,null,null,null,null,null,null,null,null,null,null,null,null,null,null,null,null,null,null,null,null,null,null,null,"",null,null,null,null,null,null,null,null,null,null,null,null,null,null,null,null,null,null,null,null,null,null,null,null,null,null,null,null,"","","","","","","",0,null,null,0,0,0,0]
[null,"ALTAS ADMINISTRATIVAS",null,0,0,0,null,null,null,null,null,null,null,null,null,null,null,null,null,null,null,null,null,null,null,null,null,null,null,null,null,null,null,null,null,null,null,null,null,null,null,null,null,null,null,null,null,null,null,"",null,null,null,null,null,null,null,null,null,null,null,null,null,null,null,null,null,null,null,null,null,null,null,null,null,null,null,null,"","","","","","","",0,null,null,0,0,0,0]
["REHABILITACIÓN: PRÓTESIS IMPLANTOASISTIDA","CONSULTA NUEVA ",null,0,0,0,null,null,null,null,null,null,null,null,null,null,null,null,null,null,null,null,null,null,null,null,null,null,null,null,null,null,null,null,null,null,null,null,null,null,null,null,null,null,null,null,null,null,null,"",null,null,null,null,null,null,null,null,null,null,null,null,null,null,null,null,null,null,null,null,null,null,null,null,null,null,null,null,"","","","","","","",0,0,0,0,0,0,0]
[null,"CONTROL ",null,0,{"$f":"+Y284+AA284+AC284+AE284+AG284+AI284+AK284+AM284","v":0},0,null,null,null,null,null,null,null,null,null,null,null,null,null,null,null,null,null,null,null,null,null,null,null,null,null,null,null,null,null,null,null,null,null,null,null,null,null,null,null,null,null,null,null,"",null,null,null,null,null,null,null,null,null,null,null,null,null,null,null,null,null,null,null,null,null,null,null,null,null,null,null,null,"","","","","","","",0,null,null,0,0,0,0]
[null,"INGRESOS A TRATAMIENTO",null,0,0,0,null,null,null,null,null,null,null,null,null,null,null,null,null,null,null,null,null,null,null,null,null,null,null,null,null,null,null,null,null,null,null,null,null,null,null,null,null,null,null,null,null,null,null,{"$f":"$CA285&$CB285&$CC285&$CD285&$CE285&$CF285&$CG285","v":""},null,null,null,null,null,null,null,null,null,null,null,null,null,null,null,null,null,null,null,null,null,null,null,null,null,null,null,null,"","","","","","","",0,null,null,0,0,0,0]
[null,"ALTAS DE TRATAMIENTO",null,0,0,0,null,null,null,null,null,null,null,null,null,null,null,null,null,null,null,null,null,null,null,null,null,null,null,null,null,null,null,null,null,null,null,null,null,null,null,null,null,null,null,null,null,null,null,"",null,null,null,null,null,null,null,null,null,null,null,null,null,null,null,null,null,null,null,null,null,null,null,null,null,null,null,null,{"$f":"IF(CH286=1,\"* El número de pacientes de 60 años NO DEBE Ser mayor a lo registrado en el grupo Etario 60-64 años. \",\"\")","v":""},{"$f":"IF(CI286=1,\"* La consulta pertinente según Protocolo de Referencia NO DEBE ser mayor al Total registrado. \",\"\")","v":""},{"$f":"IF(CJ286=1,\"* La consulta pertinente según condición clínica NO DEBE ser mayor al Total registrado. \",\"\")","v":""},{"$f":"IF(AND(D286<>0,AO286=\"\"),\"* Recuerde que las Embarazadas deben ser incluídas en el ingreso por rango Etario (Digite CEROS si no tiene). \",IF(F286<AO286,\"* Las Embarazadas NO DEBEN ser mayor al total de Mujeres. \",\"\"))","v":""},{"$f":"IF(AND($D286<>0,AU286=\"\"),\"* No olvide digitar la columna Usuarios en Situación de Discapacidad (Digite CEROS si no tiene). \",IF($D286<AU286,\"* Los Usuarios en Situación de Discapacidad NO DEBEN ser mayor al total. \",\"\"))","v":""},{"$f":"IF(AND($D286<>0,AV286=\"\"),\"* No olvide digitar la columna Niños, Niñas, Adolescentes y Jóvenes Población SENAME (Digite CEROS si no tiene). \",IF($D286<AV286,\"* Los Niños, Niñas, Adolescentes y Jóvenes Población SENAME NO DEBEN ser mayor al total. \",\"\"))","v":""},{"$f":"IF(AND($D286<>0,AW286=\"\"),\"* No olvide digitar la columna Migrantes (Digite CEROS si no tiene). \",IF($D286<AW286,\"* Los Migrantes NO DEBEN ser mayor al total. \",\"\"))","v":""},{"$f":"IF((AI286+AJ286)<AP286,1,0)","v":0},null,null,{"$f":"IF(AND(D286<>0,AO286=\"\"),1,IF(F286<AO286,1,0))","v":0},{"$f":"IF(AND($D286<>0,AU286=\"\"),1,IF($D286<AU286,1,0))","v":0},{"$f":"IF(AND($D286<>0,AV286=\"\"),1,IF($D286<AV286,1,0))","v":0},{"$f":"IF(AND($D286<>0,AW286=\"\"),1,IF($D286<AW286,1,0))","v":0}]
[null,"CONTROL DE ESPECIALIDAD POST ALTA",null,0,0,0,null,null,null,null,null,null,null,null,null,null,null,null,null,null,null,null,null,null,null,null,null,null,null,null,null,null,null,null,null,null,null,null,null,null,null,null,null,null,null,null,null,null,null,"",null,null,null,null,null,null,null,null,null,null,null,null,null,null,null,null,null,null,null,null,null,null,null,null,null,null,null,null,"","","","","","","",0,null,null,0,0,0,0]
[null,"ALTAS ADMINISTRATIVAS",null,0,0,0,null,null,null,null,null,null,null,null,null,null,null,null,null,null,null,null,null,null,null,null,null,null,null,null,null,null,null,null,null,null,null,null,null,null,null,null,null,null,null,null,null,null,null,"",null,null,null,null,null,null,null,null,null,null,null,null,null,null,null,null,null,null,null,null,null,null,null,null,null,null,null,null,"","","","","","","",0,null,null,0,0,0,0]
["IMPLANTOLOGÍA BUCO MAXILOFACIAL","CONSULTA NUEVA ",null,0,{"$f":"SUM(G289+I289+K289+M289+O289+Q289+S289+U289+W289+Y289+AA289+AC289+AE289+AG289+AI289+AK289+AM289)","v":0},{"$f":"SUM(H289+J289+L289+N289+P289+R289+T289+V289+X289+Z289+AB289+AD289+AF289+AH289+AJ289+AL289+AN289)","v":0},null,null,null,null,null,null,null,null,null,null,null,null,null,null,null,null,null,null,null,null,null,null,null,null,null,null,null,null,null,null,null,null,null,null,null,null,null,null,null,null,null,null,null,"",null,null,null,null,null,null,null,null,null,null,null,null,null,null,null,null,null,null,null,null,null,null,null,null,null,null,null,null,"","","","","","","",0,{"$f":"IF(D289<AQ289,1,0)","v":0},{"$f":"IF(D289<AR289,1,0)","v":0},0,0,0,0]
[null,"CONTROL ",null,0,0,0,null,null,null,null,null,null,null,null,null,null,null,null,null,null,null,null,null,null,null,null,null,null,null,null,null,null,null,null,null,null,null,null,null,null,null,null,null,null,null,null,null,null,null,"",null,null,null,null,null,null,null,null,null,null,null,null,null,null,null,null,null,null,null,null,null,null,null,null,null,null,null,null,"","","","","","","",0,null,null,0,0,0,0]
[null,"INGRESOS A TRATAMIENTO",null,0,0,0,null,null,null,null,null,null,null,null,null,null,null,null,null,null,null,null,null,null,null,null,null,null,null,null,null,null,null,null,null,null,null,null,null,null,null,null,null,null,null,null,null,null,null,"",null,null,null,null,null,null,null,null,null,null,null,null,null,null,null,null,null,null,null,null,null,null,null,null,null,null,null,null,"","","","","","","",0,null,null,0,0,0,0]
[null,"ALTAS DE TRATAMIENTO",null,0,0,0,null,null,null,null,null,null,null,null,null,null,null,null,null,null,null,null,null,null,null,null,null,null,null,null,null,null,null,null,null,null,null,null,null,null,null,null,null,null,null,null,null,null,null,"",null,null,null,null,null,null,null,null,null,null,null,null,null,null,null,null,null,null,null,null,null,null,null,null,null,null,null,null,"","","","","","","",0,null,null,0,0,0,0]
[null,"CONTROL DE ESPECIALIDAD POST ALTA",null,0,0,0,null,null,null,null,null,null,null,null,null,null,null,null,null,null,null,null,null,null,null,null,null,null,null,null,null,null,null,null,null,null,null,null,null,null,null,null,null,null,null,null,null,null,null,"",null,null,null,null,null,null,null,null,null,null,null,null,null,null,null,null,null,null,null,null,null,null,null,null,null,null,null,null,"","","","","","","",0,null,null,0,0,0,0]
[null,"ALTAS ADMINISTRATIVAS",null,0,0,0,null,null,null,null,null,null,null,null,null,null,null,null,null,null,null,null,null,null,null,null,null,null,null,null,null,null,null,null,null,null,null,null,null,null,null,null,null,null,null,null,null,null,null,"",null,null,null,null,null,null,null,null,null,null,null,null,null,null,null,null,null,null,null,null,null,null,null,null,null,null,null,null,"","","","","","","",0,null,null,0,0,0,0]
["PATOLOGÍA ORAL","CONSULTA NUEVA ",null,0,0,0,null,null,null,null,null,null,null,null,null,null,null,null,null,null,null,null,null,null,null,null,null,null,null,null,null,null,null,null,null,null,null,null,null,null,null,null,null,null,null,null,null,null,null,"",null,null,null,null,null,null,null,null,null,null,null,null,null,null,null,null,null,null,null,null,null,null,null,null,null,null,null,null,"","","","","","","",0,0,0,0,0,0,0]
[null,"CONTROL ",null,0,0,0,null,null,null,null,null,null,null,null,null,null,null,null,null,null,null,null,null,null,null,null,null,null,null,null,null,null,null,null,null,null,null,null,null,null,null,null,null,null,null,null,null,null,null,"",null,null,null,null,null,null,null,null,null,null,null,null,null,null,null,null,null,null,null,null,null,null,null,null,null,null,null,null,"","","","","","","",0,null,null,0,0,0,0]
[null,"INGRESOS A TRATAMIENTO",null,0,0,0,null,null,null,null,null,null,null,null,null,null,null,null,null,null,null,null,null,null,null,null,null,null,null,null,null,null,null,null,null,null,null,null,null,null,null,null,null,null,null,null,null,null,null,"",null,null,null,null,null,null,null,null,null,null,null,null,null,null,null,null,null,null,null,null,null,null,null,null,null,null,null,null,"","","","","","","",0,null,null,0,0,0,0]
[null,"ALTAS DE TRATAMIENTO",null,0,0,0,null,null,null,null,null,null,null,null,null,null,null,null,null,null,null,null,null,null,null,null,null,null,null,null,null,null,null,null,null,null,null,null,null,null,null,null,null,null,null,null,null,null,null,"",null,null,null,null,null,null,null,null,null,null,null,null,null,null,null,null,null,null,null,null,null,null,null,null,null,null,null,null,"","","","","","","",0,null,null,0,0,0,0]
[null,"CONTROL DE ESPECIALIDAD POST ALTA",null,0,0,0,null,null,null,null,null,null,null,null,null,null,null,null,null,null,null,null,null,null,null,null,null,null,null,null,null,null,null,null,null,null,null,null,null,null,null,null,null,null,null,null,null,null,null,"",null,null,null,null,null,null,null,null,null,null,null,null,null,null,null,null,null,null,null,null,null,null,null,null,null,null,null,null,"","","","","","","",0,null,null,0,0,0,0]
[null,"ALTAS ADMINISTRATIVAS",null,0,0,0,null,null,null,null,null,null,null,null,null,null,null,null,null,null,null,null,null,null,null,null,null,null,null,null,null,null,null,null,null,null,null,null,null,null,null,null,null,null,null,null,null,null,null,"",null,null,null,null,null,null,null,null,null,null,null,null,null,null,null,null,null,null,null,null,null,null,null,null,null,null,null,null,"","","","","","","",0,null,null,0,0,0,0]
["TRASTORNOS TEMPOROMANDIBULARES Y DOLOR OROFACIAL","CONSULTA NUEVA ",null,0,0,0,null,null,null,null,null,null,null,null,null,null,null,null,null,null,null,null,null,null,null,null,null,null,null,null,null,null,null,null,null,null,null,null,null,null,null,null,null,null,null,null,null,null,null,"",null,null,null,null,null,null,null,null,null,null,null,null,null,null,null,null,null,null,null,null,null,null,null,null,null,null,null,null,"","","","","","","",0,0,0,0,0,0,0]
[null,"CONTROL ",null,0,0,0,null,null,null,null,null,null,null,null,null,null,null,null,null,null,null,null,null,null,null,null,null,null,null,null,null,null,null,null,null,null,null,null,null,null,null,null,null,null,null,null,null,null,null,"",null,null,null,null,null,null,null,null,null,null,null,null,null,null,null,null,null,null,null,null,null,null,null,null,null,null,null,null,"","","","","","","",0,null,null,0,0,0,0]
[null,"INGRESOS A TRATAMIENTO",null,0,0,0,null,null,null,null,null,null,null,null,null,null,null,null,null,null,null,null,null,null,null,null,null,null,null,null,null,null,null,null,null,null,null,null,null,null,null,null,null,null,null,null,null,null,null,"",null,null,null,null,null,null,null,null,null,null,null,null,null,null,null,null,null,null,null,null,null,null,null,null,null,null,null,null,"","","","","","","",0,null,null,0,0,0,0]
[null,"ALTAS DE TRATAMIENTO",null,0,0,0,null,null,null,null,null,null,null,null,null,null,null,null,null,null,null,null,null,null,null,null,null,null,null,null,null,null,null,null,null,null,null,null,null,null,null,null,null,null,null,null,null,null,null,"",null,null,null,null,null,null,null,null,null,null,null,null,null,null,null,null,null,null,null,null,null,null,null,null,null,null,null,null,"","","","","","","",0,null,null,0,0,0,0]
[null,"CONTROL DE ESPECIALIDAD POST ALTA",null,0,0,0,null,null,null,null,null,null,null,null,null,null,null,null,null,null,null,null,null,null,null,null,null,null,null,null,null,null,null,null,null,null,null,null,null,null,null,null,null,null,null,null,null,null,null,"",null,null,null,null,null,null,null,null,null,null,null,null,null,null,null,null,null,null,null,null,null,null,null,null,null,null,null,null,"","","","","","","",0,null,null,0,0,0,0]
[null,"ALTAS ADMINISTRATIVAS",null,0,0,0,null,null,null,null,null,null,null,null,null,null,null,null,null,null,null,null,null,null,null,null,null,null,null,null,null,null,null,null,null,null,null,null,null,null,null,null,null,null,null,null,null,null,null,"",null,null,null,null,null,null,null,null,null,null,null,null,null,null,null,null,null,null,null,null,null,null,null,null,null,null,null,null,"","","","","","","",0,null,null,0,0,0,0]
["TOTAL","CONSULTA NUEVA ",null,0,{"$f":"SUM(G307+I307+K307+M307+O307+Q307+S307+U307+W307+Y307+AA307+AC307+AE307+AG307+AI307+AK307+AM307)","v":0},{"$f":"SUM(H307+J307+L307+N307+P307+R307+T307+V307+X307+Z307+AB307+AD307+AF307+AH307+AJ307+AL307+AN307)","v":0},{"$f":"+G223+G229+G235+G241+G247+G253+G259+G265+G289+G295+G301","v":0},{"$f":"+H223+H229+H235+H241+H247+H253+H259+H265+H289+H295+H301","v":0},0,0,0,0,0,0,0,0,0,0,0,0,0,0,0,0,{"$f":"+Y223+Y229+Y235+Y241+Y247+Y253+Y259+Y265+Y271+Y277+Y283+Y289+Y295+Y301","v":0},0,0,0,0,0,0,0,0,0,0,0,0,0,{"$f":"+AM223+AM229+AM235+AM241+AM247+AM253+AM259+AM265+AM271+AM277+AM283+AM289+AM295+AM301","v":0},0,{"$f":"+AO223+AO229+AO235+AO241+AO247+AO265+AO271+AO277+AO283+AO289+AO295+AO301","v":0},{"$f":"+AP223+AP229+AP235+AP247+AP265+AP271+AP277+AP283+AP289+AP295+AP301","v":0},{"$f":"SUM(AQ223+AQ229+AQ235+AQ241+AQ247+AQ253+AQ259+AQ265+AQ271+AQ277+AQ283+AQ289+AQ295+AQ301)","v":0},{"$f":"SUM(AR223+AR229+AR235+AR241+AR247+AR253+AR259+AR265+AR271+AR277+AR283+AR289+AR295+AR301)","v":0},{"$f":"+AS223+AS229+AS235+AS241+AS247+AS253+AS259+AS265+AS271+AS277+AS283+AS289+AS295+AS301","v":0},0,0,0,{"$f":"+AW223+AW229+AW235+AW241+AW247+AW253+AW259+AW265+AW271+AW277+AW283+AW289+AW295+AW301","v":0}]
[null,"CONTROL ",null,0,0,0,{"$f":"+G224+G230+G236+G242+G248+G254+G260+G266+G290+G296+G302","v":0},0,0,0,0,0,0,0,0,0,0,0,0,0,0,0,0,0,{"$f":"+Y224+Y230+Y236+Y242+Y248+Y254+Y260+Y266+Y272+Y278+Y284+Y290+Y296+Y302","v":0},0,0,0,0,0,0,0,0,0,0,0,0,0,0,0,{"$f":"+AO224+AO230+AO236+AO242+AO248+AO266+AO272+AO278+AO284+AO290+AO296+AO302","v":0},{"$f":"+AP224+AP230+AP236+AP248+AP266+AP272+AP278+AP284+AP290+AP296+AP302","v":0},null,null,{"$f":"+AS224+AS230+AS236+AS242+AS248+AS254+AS260+AS266+AS272+AS278+AS284+AS290+AS296+AS302","v":0},0,0,0,{"$f":"+AW224+AW230+AW236+AW242+AW248+AW254+AW260+AW266+AW272+AW278+AW284+AW290+AW296+AW302","v":0}]
[null,"INGRESOS A TRATAMIENTO",null,0,{"$f":"SUM(G309+I309+K309+M309+O309+Q309+S309+U309+W309+Y309+AA309+AC309+AE309+AG309+AI309+AK309+AM309)","v":0},0,0,0,0,0,0,0,0,0,0,0,0,0,0,0,0,0,0,0,{"$f":"+Y225+Y231+Y237+Y243+Y249+Y255+Y261+Y267+Y273+Y279+Y285+Y291+Y297+Y303","v":0},0,0,0,0,0,0,0,0,0,0,0,0,0,0,0,0,{"$f":"+AP225+AP231+AP237+AP249+AP267+AP273+AP279+AP285+AP291+AP297+AP303","v":0},null,null,null,{"$f":"+AT225+AT231+AT237+AT243+AT249+AT255+AT261+AT267+AT273+AT279+AT285+AT291+AT297+AT303","v":0},0,0,{"$f":"+AW225+AW231+AW237+AW243+AW249+AW255+AW261+AW267+AW273+AW279+AW285+AW291+AW297+AW303","v":0}]
[null,"ALTAS DE TRATAMIENTO",null,{"$f":"SUM(E310+F310)","v":0},0,0,0,0,0,0,0,0,0,0,0,0,0,0,0,0,0,0,0,0,{"$f":"+Y226+Y232+Y238+Y244+Y250+Y256+Y262+Y268+Y274+Y280+Y286+Y292+Y298+Y304","v":0},0,0,0,0,0,0,0,0,0,0,0,0,0,0,0,0,{"$f":"+AP226+AP232+AP238+AP250+AP268+AP274+AP280+AP286+AP292+AP298+AP304","v":0},null,null,null,{"$f":"+AT226+AT232+AT238+AT244+AT250+AT256+AT262+AT268+AT274+AT280+AT286+AT292+AT298+AT304","v":0},0,0,{"$f":"+AW226+AW232+AW238+AW244+AW250+AW256+AW262+AW268+AW274+AW280+AW286+AW292+AW298+AW304","v":0}]
[null,"CONTROL DE ESPECIALIDAD POST ALTA",null,0,0,0,0,0,0,0,0,0,0,0,0,0,0,0,0,0,0,0,0,0,{"$f":"+Y227+Y233+Y239+Y245+Y251+Y257+Y263+Y269+Y287+Y281+Y275+Y293+Y299+Y305","v":0},0,0,0,0,0,0,0,0,0,0,0,0,0,{"$f":"+AM227+AM233+AM239+AM245+AM251+AM257+AM263+AM269+AM287+AM281+AM275+AM293+AM299+AM305","v":0},{"$f":"+AN227+AN233+AN239+AN245+AN251+AN257+AN263+AN269+AN287+AN281+AN275+AN293+AN299+AN305","v":0},0,{"$f":"+AP227+AP233+AP239+AP251+AP269+AP287+AP281+AP275+AP293+AP299+AP305","v":0},null,null,null,{"$f":"+AT227+AT233+AT239+AT245+AT251+AT257+AT263+AT269+AT287+AT281+AT275+AT293+AT299+AT305","v":0},0,0,{"$f":"+AW227+AW233+AW239+AW245+AW251+AW257+AW263+AW269+AW287+AW281+AW275+AW293+AW299+AW305","v":0}]
[null,"ALTAS ADMINISTRATIVAS",null,{"$f":"SUM(E312+F312)","v":0},0,0,0,0,0,0,0,0,0,0,0,0,0,0,0,0,0,0,0,0,{"$f":"SUM(Y228+Y234+Y240+Y246+Y252+Y258+Y264+Y270+Y276+Y282+Y288+Y294+Y300+Y306)","v":0},0,0,0,0,0,0,0,0,0,0,0,0,0,{"$f":"SUM(AM228+AM234+AM240+AM246+AM252+AM258+AM264+AM270+AM276+AM282+AM288+AM294+AM300+AM306)","v":0},0,0,{"$f":"SUM(AP228+AP234+AP240+AP252+AP270+AP276+AP282+AP288+AP294+AP300+AP306)","v":0},null,null,null,{"$f":"SUM(AT228+AT234+AT240+AT246+AT252+AT258+AT264+AT270+AT276+AT282+AT288+AT294+AT300+AT306)","v":0},0,0,{"$f":"SUM(AW228+AW234+AW240+AW246+AW252+AW258+AW264+AW270+AW276+AW282+AW288+AW294+AW300+AW306)","v":0}]
["SECCIÓN J: ACTIVIDADES EFECTUADAS POR TÉCNICO PARAMÉDICO DENTAL Y/O HIGIENISTAS DENTALES  "]
["TIPO DE ACTIVIDAD",null,null,"TOTAL",null,null,"SEGÚN GRUPOS DE EDAD O DE RIESGO",null,null,null,null,null,null,null,null,null,null,null,null,null,null,null,null,null,null,null,null,null,null,null,null,null,null,null,null,null,null,null,null,null,null,null,"Embarazadas","60 años (incluidos en grupos de 20-64 años)"]
[null,null,null,null,null,null,"Menos de 1 año",null,"1 año",null,"2 años",null,"3 años",null,"4 años",null,"5 años",null,"6 años",null,"7 años",null,"8-9 años",null,"10-14 años",null,"15-19 años",null,"20-24 años ",null,"25-34 años",null,"35-44 años",null,"45-59 años",null,"60-64 años",null,"65-74 años",null,"75 y más años"]
[null,null,null,"Ambos Sexos","Hombres","Mujeres","Hombres","Mujeres","Hombres","Mujeres","Hombres","Mujeres","Hombres","Mujeres","Hombres","Mujeres","Hombres","Mujeres","Hombres","Mujeres","Hombres","Mujeres","Hombres","Mujeres","Hombres","Mujeres","Hombres","Mujeres","Hombres","Mujeres","Hombres","Mujeres","Hombres","Mujeres","Hombres","Mujeres","Hombres","Mujeres","Hombres","Mujeres","Hombres","Mujeres"]
["APLICACIÓN DE SELLANTES",null,null,{"$f":"SUM(E317:F317)","v":0},{"$f":"SUM(G317+I317+K317+M317+O317+Q317+S317+U317+W317+Y317+AA317+AC317+AE317+AG317+AI317+AK317+AM317+AO317)","v":0},{"$f":"SUM(H317+J317+L317+N317+P317+R317+T317+V317+X317+Z317+AB317+AD317+AF317+AH317+AJ317+AL317+AN317+AP317)","v":0},null,null,null,null,null,null,null,null,null,null,null,null,null,null,null,null,null,null,null,null,null,null,null,null,null,null,null,null,null,null,null,null,null,null,null,null,null,null,{"$f":"$CA317&$CB317&$CC317&$CD317&$CE317&$CF317&$CG317","v":""},null,null,null,null,null,null,null,null,null,null,null,null,null,null,null,null,null,null,null,null,null,null,null,null,null,null,null,null,null,null,null,null,null,{"$f":"IF(CH317=1,\"* Las actividades de 60 años NO DEBE ser mayor que el de 60-64 Años. \",\"\")","v":""},{"$f":"IF(AND(D317<>0,AQ317=\"\"),\"* Recuerde que las Embarazadas deben ser incluídas en el ingreso por rango Etario (Digite CEROS si no tiene). \",IF(F317<AQ317,\"* Las Embarazadas NO DEBEN ser mayor al total de Mujeres. \",\"\"))","v":""},null,null,null,null,null,{"$f":"IF((AK317+AL317)<AR317,1,0)","v":0},{"$f":"IF(AND(D317<>0,AQ317=\"\"),1,IF(F317<AQ317,1,0))","v":0}]
["PULIDO CORONARIO Y DESTARTRAJE SUPRAGINGIVAL",null,null,{"$f":"SUM(E318:F318)","v":0},{"$f":"SUM(G318+I318+K318+M318+O318+Q318+S318+U318+W318+Y318+AA318+AC318+AE318+AG318+AI318+AK318+AM318+AO318)","v":0},0,null,null,null,null,null,null,null,null,null,null,null,null,null,null,null,null,null,null,null,null,null,null,null,null,null,null,null,null,null,null,null,null,null,null,null,null,null,null,"",null,null,null,null,null,null,null,null,null,null,null,null,null,null,null,null,null,null,null,null,null,null,null,null,null,null,null,null,null,null,null,null,null,{"$f":"IF(CH318=1,\"* Las actividades de 60 años NO DEBE ser mayor que el de 60-64 Años. \",\"\")","v":""},{"$f":"IF(AND(D318<>0,AQ318=\"\"),\"* Recuerde que las Embarazadas deben ser incluídas en el ingreso por rango Etario (Digite CEROS si no tiene). \",IF(F318<AQ318,\"* Las Embarazadas NO DEBEN ser mayor al total de Mujeres. \",\"\"))","v":""},null,null,null,null,null,{"$f":"IF((AK318+AL318)<AR318,1,0)","v":0},{"$f":"IF(AND(D318<>0,AQ318=\"\"),1,IF(F318<AQ318,1,0))","v":0}]
["FLUORURACIÓN TÓPICA ",null,null,0,0,0,null,null,null,null,null,null,null,null,null,null,null,null,null,null,null,null,null,null,null,null,null,null,null,null,null,null,null,null,null,null,null,null,null,null,null,null,null,null,"",null,null,null,null,null,null,null,null,null,null,null,null,null,null,null,null,null,null,null,null,null,null,null,null,null,null,null,null,null,null,null,null,null,"","",null,null,null,null,null,0,0]
["EDUCACIÓN INDIVIDUAL CON INSTRUCCIÓN DE TÉCNICA DE CEPILLADO",null,null,0,0,0,null,null,null,null,null,null,null,null,null,null,null,null,null,null,null,null,null,null,null,null,null,null,null,null,null,null,null,null,null,null,null,null,null,null,null,null,null,null,"",null,null,null,null,null,null,null,null,null,null,null,null,null,null,null,null,null,null,null,null,null,null,null,null,null,null,null,null,null,null,null,null,null,"","",null,null,null,null,null,0,0]
["RADIOGRAFÍAS INTRAORALES (RETROALVEOLARES Y BITEWING)",null,null,{"$f":"SUM(E321:F321)","v":0},{"$f":"SUM(G321+I321+K321+M321+O321+Q321+S321+U321+W321+Y321+AA321+AC321+AE321+AG321+AI321+AK321+AM321+AO321)","v":0},{"$f":"SUM(H321+J321+L321+N321+P321+R321+T321+V321+X321+Z321+AB321+AD321+AF321+AH321+AJ321+AL321+AN321+AP321)","v":0},null,null,null,null,null,null,null,null,null,null,null,null,null,null,null,null,null,null,null,null,null,null,null,null,null,null,null,null,null,null,null,null,null,null,null,null,null,null,"",null,null,null,null,null,null,null,null,null,null,null,null,null,null,null,null,null,null,null,null,null,null,null,null,null,null,null,null,null,null,null,null,null,"","",null,null,null,null,null,0,0]
["SECCIÓN K : GESTIÓN DE AGENDA (CLÍNICAS DENTALES MÓVILES). ",null,null,null,null,null,null,null,null,null,null,null,null,null,null,null,"  "]
["CONSULTAS","HORAS ODONTOLÓGICAS MENSUALES CONTRATADAS","HORAS DISPONIBLES DE ATENCIÓN CLÍNICA","CITAS AGENDADAS","CITAS EFECTIVAS"]
[]
[]
[]
["NIVEL PRIMARIO",null,null,{"$f":"SUM(D328:D330)","v":0},{"$f":"SUM(E328:E330)","v":0}]
["ATENCIÓN MORBILIDAD"]
["ATENCIÓN TRATAMIENTO"]
["ATENCIÓN URGENCIA"]
["SECCIÓN L: CONSULTORÍAS DE ESPECIALIDADES ODONTOLÓGICAS. "]
["ESPECIALIDADES",null,"Nº CONSULTORÍAS","Nº DE CASOS REVISADOS POR EL EQUIPO","Nº DE CASOS ATENDIDOS"]
["ENDODONCIA"]
["IMAGENOLOGÍA ORAL Y MAXILOFACIAL "]
["ORTODONCIA"]
["ODONTOPEDIATRÍA"]
["PERIODONCIA"]
["REHABILITACIÓN ORAL"]
["CIRUGÍA Y TRAUMATOLOGÍA MAXILOFACIAL"]
["TRASTORNOS TEMPOROMANDIBULARES Y DOLOR OROFACIAL"]
["PATOLOGÍA ORAL"]
["IMPLANTOLOGÍA BUCO MAXILOFACIAL"]
[]
[]
[]
[]
[]
[]
[]
[]
[]
[]
[]
[]
[]
[]
[]
[]
[]
[]
[]
[]
[]
[]
[]
[]
[]
[]
[]
[]
[]
[]
[]
[]
[]
[]
[]
[{"$f":"SUM(D12:D15,D36,D64,D67:I77,D85:D86,D145,D159,D164:D198,D203:D206,D213:D216,D307:D312,D317:D321,B327:C327,D328:E330,C333:C342)","v":0},{"$f":"SUM(CH9:CN342)","v":0}]

{"sheet":"A11","index":10,"n_rows":231,"n_cols":130,"rows_kept":231,"cut":false,"hidden":true,"merged":[[5,0,5,15],[8,0,10,0],[8,1,9,2],[8,3,8,42],[8,43,8,44],[8,45,9,46],[9,19,9,20],[9,21,9,22],[9,23,9,24],[9,25,9,26],[8,47,10,47],[8,48,10,48],[9,3,9,4],[9,5,9,6],[9,7,9,8],[9,9,9,10],[9,11,9,12],[9,13,9,14],[9,15,9,16],[9,17,9,18],[9,39,9,40],[9,41,9,42],[9,43,10,43],[9,44,10,44],[30,0,32,0],[30,1,31,2],[30,3,30,42],[30,43,30,44],[31,17,31,18],[31,19,31,20],[9,27,9,28],[9,29,9,30],[9,31,9,32],[9,33,9,34],[9,35,9,36],[9,37,9,38],[30,47,32,47],[30,48,32,48],[31,3,31,4],[31,5,31,6],[31,7,31,8],[31,9,31,10],[31,11,31,12],[31,13,31,14],[31,15,31,16],[31,44,32,44],[31,33,31,34],[31,35,31,36],[31,37,31,38],[31,39,31,40],[31,41,31,42],[31,43,32,43],[31,21,31,22],[31,23,31,24],[31,25,31,26],[31,27,31,28],[31,29,31,30],[31,31,31,32],[30,45,31,46],[52,47,54,47],[52,48,54,48],[53,3,53,4],[53,5,53,6],[53,7,53,8],[53,9,53,10],[53,11,53,12],[53,13,53,14],[53,15,53,16],[53,17,53,18],[53,39,53,40],[53,41,53,42],[53,43,54,43],[53,44,54,44],[52,3,52,42],[52,43,52,44],[52,45,53,46],[53,19,53,20],[53,21,53,22],[53,23,53,24],[53,25,53,26],[74,0,76,0],[74,1,75,2],[74,3,74,42],[74,43,74,44],[75,17,75,18],[75,19,75,20],[53,27,53,28],[53,29,53,30],[53,31,53,32],[53,33,53,34],[53,35,53,36],[53,37,53,38],[52,0,54,0],[52,1,53,2],[74,47,76,47],[74,48,76,48],[75,3,75,4],[75,5,75,6],[75,7,75,8],[75,9,75,10],[75,11,75,12],[75,13,75,14],[75,15,75,16],[75,44,76,44],[75,33,75,34],[75,35,75,36],[75,37,75,38],[75,39,75,40],[75,41,75,42],[75,43,76,43],[75,21,75,22],[75,23,75,24],[75,25,75,26],[75,27,75,28],[75,29,75,30],[75,31,75,32],[74,45,75,46],[96,0,98,0],[96,1,97,2],[96,3,96,42],[96,43,96,44],[96,45,97,46],[97,19,97,20],[97,21,97,22],[97,23,97,24],[97,25,97,26],[97,27,97,28],[97,29,97,30],[97,31,97,32],[97,33,97,34],[97,35,97,36],[97,37,97,38],[96,47,98,47],[96,48,98,48],[97,3,97,4],[97,5,97,6],[97,7,97,8],[97,9,97,10],[97,11,97,12],[97,13,97,14],[97,15,97,16],[97,17,97,18],[97,39,97,40],[97,41,97,42],[97,43,98,43],[97,44,98,44],[118,45,119,46],[118,47,120,47],[118,48,120,48],[119,3,119,4],[119,5,119,6],[119,7,119,8],[119,9,119,10],[119,11,119,12],[119,13,119,14],[119,15,119,16],[119,44,120,44],[119,37,119,38],[119,39,119,40],[119,41,119,42],[119,43,120,43],[118,3,118,42],[118,43,118,44],[119,17,119,18],[119,19,119,20],[139,0,139,16],[140,0,141,1],[140,2,140,4],[140,5,140,7],[140,8,140,10],[140,11,140,13],[140,14,140,15],[119,33,119,34],[119,35,119,36],[119,21,119,22],[119,23,119,24],[119,25,119,26],[119,27,119,28],[119,29,119,30],[119,31,119,32],[118,0,120,0],[118,1,119,2],[142,0,142,1],[143,0,145,0],[146,0,146,1],[147,0,147,17],[148,0,149,1],[148,2,148,4],[148,5,148,7],[148,8,148,10],[148,11,148,13],[148,14,148,15],[150,0,150,1],[151,0,153,0],[154,0,154,1],[155,0,155,16],[156,0,158,1],[156,2,157,3],[156,4,156,35],[157,14,157,15],[157,16,157,17],[157,18,157,19],[156,36,156,39],[156,40,156,43],[156,44,157,45],[156,46,157,47],[156,48,157,49],[157,4,157,5],[157,6,157,7],[157,8,157,9],[157,10,157,11],[157,12,157,13],[157,38,157,39],[157,40,157,41],[157,42,157,43],[157,20,157,21],[157,22,157,23],[157,24,157,25],[157,26,157,27],[157,28,157,29],[157,30,157,31],[159,0,159,1],[160,0,160,1],[161,0,161,1],[162,0,162,1],[163,0,163,1],[164,0,164,1],[157,32,157,33],[157,34,157,35],[157,36,157,37],[173,0,173,1],[174,0,174,1],[175,0,175,1],[177,0,177,1],[178,0,178,1],[179,0,179,1],[165,0,165,1],[166,0,166,1],[167,0,167,1],[168,0,170,0],[171,0,171,1],[172,0,172,1],[180,0,180,1],[181,0,181,1],[182,0,182,16],[183,0,185,1],[183,2,184,3],[183,4,183,35],[184,14,184,15],[184,16,184,17],[184,18,184,19],[184,20,184,21],[183,36,183,39],[183,40,183,43],[183,44,184,45],[183,46,184,47],[183,48,184,49],[184,4,184,5],[184,6,184,7],[184,8,184,9],[184,10,184,11],[184,12,184,13],[184,40,184,41],[184,42,184,43],[189,0,189,1],[190,0,190,1],[191,0,191,1],[192,0,192,1],[184,34,184,35],[184,36,184,37],[184,38,184,39],[201,0,201,1],[202,0,202,1],[186,0,186,1],[184,22,184,23],[184,24,184,25],[184,26,184,27],[184,28,184,29],[184,30,184,31],[184,32,184,33],[187,0,187,1],[188,0,188,1],[204,0,204,1],[205,0,205,1],[206,0,206,1],[207,0,207,1],[193,0,193,1],[194,0,194,1],[195,0,197,0],[198,0,198,1],[199,0,199,1],[200,0,200,1],[208,0,208,1],[210,0,212,0],[210,1,211,2],[210,3,210,36],[210,37,210,38],[210,39,210,40],[211,19,211,20],[211,21,211,22],[211,23,211,24],[211,25,211,26],[210,41,212,41],[210,42,212,42],[211,3,211,4],[211,5,211,6],[211,7,211,8],[211,9,211,10],[211,11,211,12],[211,13,211,14],[211,15,211,16],[211,17,211,18],[211,38,212,38],[211,39,212,39],[211,40,212,40],[221,0,223,0],[221,1,222,2],[221,3,221,36],[221,37,221,38],[221,39,221,40],[222,19,222,20],[222,21,222,22],[211,27,211,28],[211,29,211,30],[211,31,211,32],[211,33,211,34],[211,35,211,36],[211,37,212,37],[222,35,222,36],[222,37,223,37],[222,38,223,38],[222,39,223,39],[222,40,223,40],[222,23,222,24],[222,25,222,26],[222,27,222,28],[222,29,222,30],[222,31,222,32],[222,33,222,34],[221,41,223,41],[221,42,223,42],[222,3,222,4],[222,5,222,6],[222,7,222,8],[222,9,222,10],[222,11,222,12],[222,13,222,14],[222,15,222,16],[222,17,222,18],[232,44,233,45],[232,46,233,47],[232,48,233,49],[233,4,233,5],[233,6,233,7],[233,8,233,9],[233,10,233,11],[233,12,233,13],[233,14,233,15],[233,16,233,17],[233,42,233,43],[232,4,232,35],[232,36,232,39],[232,40,232,43],[235,0,253,0],[254,0,257,0],[233,30,233,31],[233,32,233,33],[233,34,233,35],[233,36,233,37],[233,38,233,39],[233,40,233,41],[233,18,233,19],[233,20,233,21],[233,22,233,23],[233,24,233,25],[233,26,233,27],[233,28,233,29],[232,0,234,1],[232,2,233,3],[259,0,260,0],[259,1,260,1],[259,2,259,11],[259,12,260,12],[259,13,260,13],[267,0,268,0],[267,1,268,1],[267,2,267,17],[275,0,278,0],[275,1,276,3],[275,4,275,35],[276,4,276,5],[276,6,276,7],[276,8,276,9],[276,10,276,11],[276,12,276,13],[276,14,276,15],[276,16,276,17],[276,18,276,19],[276,20,276,21],[276,22,276,23],[276,24,276,25],[276,26,276,27],[276,28,276,29],[276,30,276,31],[276,32,276,33],[276,34,276,35],[277,1,278,1],[277,2,278,2],[277,3,278,3],[277,4,277,5],[277,6,277,7],[277,8,277,9],[277,10,277,11],[277,12,277,13],[277,14,277,15],[277,16,277,17],[277,18,277,19],[277,20,277,21],[277,22,277,23],[277,24,277,25],[277,26,277,27],[277,28,277,29],[277,30,277,31],[277,32,277,33],[277,34,277,35],[293,34,293,35],[286,0,288,0],[286,1,287,3],[286,4,286,27],[287,4,287,5],[287,6,287,7],[287,8,287,9],[287,10,287,11],[287,12,287,13],[287,14,287,15],[287,16,287,17],[287,18,287,19],[287,20,287,21],[287,22,287,23],[287,24,287,25],[287,26,287,27],[267,18,268,18],[267,19,268,19],[286,28,288,28],[286,29,288,29],[292,36,294,36],[292,37,294,37],[292,0,294,0],[292,1,293,3],[292,4,292,35],[293,4,293,5],[293,6,293,7],[293,8,293,9],[293,10,293,11],[293,12,293,13],[293,14,293,15],[293,16,293,17],[293,18,293,19],[293,20,293,21],[293,22,293,23],[293,24,293,25],[293,26,293,27],[293,28,293,29],[293,30,293,31],[293,32,293,33]]}
[]
[]
[]
[]
[]
[]
[]
[]
[]
[]
[]
[]
[]
[]
[]
[]
[]
[]
[]
[]
[]
[]
[]
[]
[]
[]
[]
[]
[]
[]
[]
[]
[]
[]
[]
[]
[]
[]
[]
[]
[]
[]
[]
[]
[]
[]
[]
[]
[null,null,null,null,null,null,null,null,null,null,null,null,null,null,null,null,null,null,null,null,null,null,null,null,null,null,null,null,null,null,null,null,null,null,null,null,null,null,null,null,null,null,null,null,null,null,null,null,null,null,null,null,null,null,null,null,null,null,null,null,null,null,null,null,null,null,null,null,null,null,null,null,null,null,null,null,null,null,null,null,null,null,null,null,0]
[null,null,null,null,null,null,null,null,null,null,null,null,null,null,null,null,null,null,null,null,null,null,null,null,null,null,null,null,null,null,null,null,null,null,null,null,null,null,null,null,null,null,null,null,null,null,null,null,null,null,null,null,null,null,null,null,null,null,null,null,null,null,null,null,null,null,null,null,null,null,null,null,null,null,null,null,null,null,null,null,null,null,null,null,0]
[null,null,null,null,null,null,null,null,null,null,null,null,null,null,null,null,null,null,null,null,null,null,null,null,null,null,null,null,null,null,null,null,null,null,null,null,null,null,null,null,null,null,null,null,null,null,null,null,null,null,null,null,null,null,null,null,null,null,null,null,null,null,null,null,null,null,null,null,null,null,null,null,null,null,null,null,null,null,null,null,null,null,null,null,0]
[null,null,null,null,null,null,null,null,null,null,null,null,null,null,null,null,null,null,null,null,null,null,null,null,null,null,null,null,null,null,null,null,null,null,null,null,null,null,null,null,null,null,null,null,null,null,null,null,null,null,null,null,null,null,null,null,null,null,null,null,null,null,null,null,null,null,null,null,null,null,null,null,null,null,null,null,null,null,null,null,null,null,null,null,0]
[null,null,null,null,null,null,null,null,null,null,null,null,null,null,null,null,null,null,null,null,null,null,null,null,null,null,null,null,null,null,null,null,null,null,null,null,null,null,null,null,null,null,null,null,null,null,null,null,null,null,null,null,null,null,null,null,null,null,null,null,null,null,null,null,null,null,null,null,null,null,null,null,null,null,null,null,null,null,null,null,null,null,null,null,0]
[null,null,null,null,null,null,null,null,null,null,null,null,null,null,null,null,null,null,null,null,null,null,null,null,null,null,null,null,null,null,null,null,null,null,null,null,null,null,null,null,null,null,null,null,null,null,null,null,null,null,null,null,null,null,null,null,null,null,null,null,null,null,null,null,null,null,null,null,null,null,null,null,null,null,null,null,null,null,null,null,null,null,null,null,0]
[null,null,null,null,null,null,null,null,null,null,null,null,null,null,null,null,null,null,null,null,null,null,null,null,null,null,null,null,null,null,null,null,null,null,null,null,null,null,null,null,null,null,null,null,null,null,null,null,null,null,null,null,null,null,null,null,null,null,null,null,null,null,null,null,null,null,null,null,null,null,null,null,null,null,null,null,null,null,null,null,null,null,null,null,0]
[null,null,null,null,null,null,null,null,null,null,null,null,null,null,null,null,null,null,null,null,null,null,null,null,null,null,null,null,null,null,null,null,null,null,null,null,null,null,null,null,null,null,null,null,null,null,null,null,null,null,null,null,null,null,null,null,null,null,null,null,null,null,null,null,null,null,null,null,null,null,null,null,null,null,null,null,null,null,null,null,null,null,null,null,0]
[]
[]
[]
[]
[]
[]
[]
[]
[]
[]
[]
[]
[]
[]
[]
[]
[]
[]
[]
[]
[]
[]
[]
[]
[]
[]
[]
[]
[]
[]
[]
[]
[]
[]
[]
[]
[]
[]
[]
[]
[]
[]
[]
[null,null,null,null,null,null,null,null,null,null,null,null,null,null,null,null,null,null,null,null,null,null,null,null,null,null,null,null,null,null,null,null,null,null,null,null,null,null,null,null,null,null,null,null,null,null,null,null,null,null,null,null,null,null,null,null,null,null,null,null,null,null,null,null,null,null,null,null,null,null,null,null,null,null,null,null,null,null,null,null,null,null,null,null,0]
[null,null,null,null,null,null,null,null,null,null,null,null,null,null,null,null,null,null,null,null,null,null,null,null,null,null,null,null,null,null,null,null,null,null,null,null,null,null,null,null,null,null,null,null,null,null,null,null,null,null,null,null,null,null,null,null,null,null,null,null,null,null,null,null,null,null,null,null,null,null,null,null,null,null,null,null,null,null,null,null,null,null,null,null,0]
[null,null,null,null,null,null,null,null,null,null,null,null,null,null,null,null,null,null,null,null,null,null,null,null,null,null,null,null,null,null,null,null,null,null,null,null,null,null,null,null,null,null,null,null,null,null,null,null,null,null,null,null,null,null,null,null,null,null,null,null,null,null,null,null,null,null,null,null,null,null,null,null,null,null,null,null,null,null,null,null,null,null,null,null,0]
[null,null,null,null,null,null,null,null,null,null,null,null,null,null,null,null,null,null,null,null,null,null,null,null,null,null,null,null,null,null,null,null,null,null,null,null,null,null,null,null,null,null,null,null,null,null,null,null,null,null,null,null,null,null,null,null,null,null,null,null,null,null,null,null,null,null,null,null,null,null,null,null,null,null,null,null,null,null,null,null,null,null,null,null,0]
[null,null,null,null,null,null,null,null,null,null,null,null,null,null,null,null,null,null,null,null,null,null,null,null,null,null,null,null,null,null,null,null,null,null,null,null,null,null,null,null,null,null,null,null,null,null,null,null,null,null,null,null,null,null,null,null,null,null,null,null,null,null,null,null,null,null,null,null,null,null,null,null,null,null,null,null,null,null,null,null,null,null,null,null,0]
[null,null,null,null,null,null,null,null,null,null,null,null,null,null,null,null,null,null,null,null,null,null,null,null,null,null,null,null,null,null,null,null,null,null,null,null,null,null,null,null,null,null,null,null,null,null,null,null,null,null,null,null,null,null,null,null,null,null,null,null,null,null,null,null,null,null,null,null,null,null,null,null,null,null,null,null,null,null,null,null,null,null,null,null,0]
[null,null,null,null,null,null,null,null,null,null,null,null,null,null,null,null,null,null,null,null,null,null,null,null,null,null,null,null,null,null,null,null,null,null,null,null,null,null,null,null,null,null,null,null,null,null,null,null,null,null,null,null,null,null,null,null,null,null,null,null,null,null,null,null,null,null,null,null,null,null,null,null,null,null,null,null,null,null,null,null,null,null,null,null,0]
[null,null,null,null,null,null,null,null,null,null,null,null,null,null,null,null,null,null,null,null,null,null,null,null,null,null,null,null,null,null,null,null,null,null,null,null,null,null,null,null,null,null,null,null,null,null,null,null,null,null,null,null,null,null,null,null,null,null,null,null,null,null,null,null,null,null,null,null,null,null,null,null,null,null,null,null,null,null,null,null,null,null,null,null,0]
[null,null,null,null,null,null,null,null,null,null,null,null,null,null,null,null,null,null,null,null,null,null,null,null,null,null,null,null,null,null,null,null,null,null,null,null,null,null,null,null,null,null,null,null,null,null,null,null,null,null,null,null,null,null,null,null,null,null,null,null,null,null,null,null,null,null,null,null,null,null,null,null,null,null,null,null,null,null,null,null,null,null,null,null,0]
[]
[]
[]
[]
[]
[]
[]
[]
[]
[]
[]
[]
[]
[]
[]
[]
[]
[]
[]
[]
[]
[]
[]
[]
[]
[]
[]
[]
[]
[]
[]
[]
[]
[]
[]
[]
[]
[]
[]
[]
[]
[]
[]
[]
[]
[]
[]
[]
[]
[]
[]
[]
[]
[]
[]
[]
[]
[]
[]
[]
[]
[]
[]
[]
[]
[]
[]
[]
[]
[]
[]
[]
[]
[]
[]
[]
[]
[]
[]
[]
[]
[]
[]
[]
[]
[]
[]
[]
[]
[]
[]
[]
[]
[]
[]
[]
[]
[]
[]
[]
[]
[]
[]
[]
[]
[null,null,null,null,null,null,null,null,null,null,null,null,null,null,null,null,null,null,null,null,null,null,null,null,null,null,null,null,null,null,null,null,null,null,null,null,null,null,null,null,null,null,null,null,null,null,null,null,null,null,null,null,null,null,null,null,null,null,null,null,null,null,null,null,null,null,null,null,null,null,null,null,null,null,null,null,null,null,{"$f":"IF(B214<   C214,\"* El total de Reactivos NO DEBE ser superior al total de Procesados. \",\"\")","v":""},{"$f":"IF(B214<> AL214+ AM214,\"* La suma de las columnas Sexo DEBE SER IGUAL a los Procesados. \",\"\")","v":""},{"$f":"IF(B214<  AN214+ AO214,\"* La suma de las columna Trans NO DEBE ser superior al total de Procesados. \",\"\")","v":""},{"$f":"IF(B214<  AP214,\"* La columna Pueblos Originarios NO DEBE ser superior al total de Procesados. \",\"\")","v":""},{"$f":"IF(B214<  AQ214,\"* La columna Migrantes NO DEBE ser superior al total de Procesados. \",\"\")","v":""},{"$f":"IF(D214<E214,\"* Los exámenes Reactivos de  años NO DEBEN ser mayor a los Exámenes Procesados de la misma edad. \",\"\")","v":""},{"$f":"IF(F214<G214,\"* Los exámenes Reactivos de  años NO DEBEN ser mayor a los Exámenes Procesados de la misma edad. \",\"\")","v":""},{"$f":"IF(H214<I214,\"* Los exámenes Reactivos de  años NO DEBEN ser mayor a los Exámenes Procesados de la misma edad. \",\"\")","v":""},{"$f":"IF(J214<K214,\"* Los exámenes Reactivos de  años NO DEBEN ser mayor a los Exámenes Procesados de la misma edad. \",\"\")","v":""},{"$f":"IF(L214<M214,\"* Los exámenes Reactivos de  años NO DEBEN ser mayor a los Exámenes Procesados de la misma edad. \",\"\")","v":""},{"$f":"IF(N214<O214,\"* Los exámenes Reactivos de  años NO DEBEN ser mayor a los Exámenes Procesados de la misma edad. \",\"\")","v":""},{"$f":"IF(P214<Q214,\"* Los exámenes Reactivos de  años NO DEBEN ser mayor a los Exámenes Procesados de la misma edad. \",\"\")","v":""},{"$f":"IF(R214<S214,\"* Los exámenes Reactivos de  años NO DEBEN ser mayor a los Exámenes Procesados de la misma edad. \",\"\")","v":""},{"$f":"IF(T214<U214,\"* Los exámenes Reactivos de  años NO DEBEN ser mayor a los Exámenes Procesados de la misma edad. \",\"\")","v":""},{"$f":"IF(V214<W214,\"* Los exámenes Reactivos de  años NO DEBEN ser mayor a los Exámenes Procesados de la misma edad. \",\"\")","v":""},{"$f":"IF(X214<Y214,\"* Los exámenes Reactivos de  años NO DEBEN ser mayor a los Exámenes Procesados de la misma edad. \",\"\")","v":""},{"$f":"IF(Z214<AA214,\"* Los exámenes Reactivos de  años NO DEBEN ser mayor a los Exámenes Procesados de la misma edad. \",\"\")","v":""},{"$f":"IF(AB214<AC214,\"* Los exámenes Reactivos de  años NO DEBEN ser mayor a los Exámenes Procesados de la misma edad. \",\"\")","v":""},{"$f":"IF(AD214<AE214,\"* Los exámenes Reactivos de  años NO DEBEN ser mayor a los Exámenes Procesados de la misma edad. \",\"\")","v":""},{"$f":"IF(AF214<AG214,\"* Los exámenes Reactivos de  años NO DEBEN ser mayor a los Exámenes Procesados de la misma edad. \",\"\")","v":""},{"$f":"IF(AH214<AI214,\"* Los exámenes Reactivos de  años NO DEBEN ser mayor a los Exámenes Procesados de la misma edad. \",\"\")","v":""},{"$f":"IF(AJ214<AK214,\"* Los exámenes Reactivos de  años NO DEBEN ser mayor a los Exámenes Procesados de la misma edad. \",\"\")","v":""},null,null,null,null,{"$f":"IF(B214<   C214,1,0)","v":0},{"$f":"IF(B214<> AL214+AM214,1,0)","v":0},{"$f":"IF(B214<  AN214+AO214,1,0)","v":0},{"$f":"IF(B214<  AP214,1,0)","v":0},{"$f":"IF(B214<  AQ214,1,0)","v":0},{"$f":"IF(D214<E214,1,0)","v":0},{"$f":"IF(F214<G214,1,0)","v":0},{"$f":"IF(H214<I214,1,0)","v":0},{"$f":"IF(J214<K214,1,0)","v":0},{"$f":"IF(L214<M214,1,0)","v":0},{"$f":"IF(N214<O214,1,0)","v":0},{"$f":"IF(P214<Q214,1,0)","v":0},{"$f":"IF(R214<S214,1,0)","v":0},{"$f":"IF(T214<U214,1,0)","v":0},{"$f":"IF(V214<W214,1,0)","v":0},{"$f":"IF(X214<Y214,1,0)","v":0},{"$f":"IF(Z214<AA214,1,0)","v":0},{"$f":"IF(AB214<AC214,1,0)","v":0},{"$f":"IF(AD214<AE214,1,0)","v":0},{"$f":"IF(AF214<AG214,1,0)","v":0},{"$f":"IF(AH214<AI214,1,0)","v":0},{"$f":"IF(AJ214<AK214,1,0)","v":0},null,null,null,0]
[null,null,null,null,null,null,null,null,null,null,null,null,null,null,null,null,null,null,null,null,null,null,null,null,null,null,null,null,null,null,null,null,null,null,null,null,null,null,null,null,null,null,null,null,null,null,null,null,null,null,null,null,null,null,null,null,null,null,null,null,null,null,null,null,null,null,null,null,null,null,null,null,null,null,null,null,null,null,"","","","","","","","","","","","","","","","","","","","","","",null,null,null,null,0,0,0,0,0,0,0,0,0,0,0,0,0,0,0,0,0,0,0,0,0,0,null,null,null,0]
[null,null,null,null,null,null,null,null,null,null,null,null,null,null,null,null,null,null,null,null,null,null,null,null,null,null,null,null,null,null,null,null,null,null,null,null,null,null,null,null,null,null,null,null,null,null,null,null,null,null,null,null,null,null,null,null,null,null,null,null,null,null,null,null,null,null,null,null,null,null,null,null,null,null,null,null,null,null,"","","","","","","","","","","","","","","","","","","","","","",null,null,null,null,0,0,0,0,0,0,0,0,0,0,0,0,0,0,0,0,0,0,0,0,0,0,null,null,null,0]
[null,null,null,null,null,null,null,null,null,null,null,null,null,null,null,null,null,null,null,null,null,null,null,null,null,null,null,null,null,null,null,null,null,null,null,null,null,null,null,null,null,null,null,null,null,null,null,null,null,null,null,null,null,null,null,null,null,null,null,null,null,null,null,null,null,null,null,null,null,null,null,null,null,null,null,null,null,null,"","","","","","","","","","","","","","","","","","","","","","",null,null,null,null,0,0,0,0,0,0,0,0,0,0,0,0,0,0,0,0,0,0,0,0,0,0,null,null,null,0]
[null,null,null,null,null,null,null,null,null,null,null,null,null,null,null,null,null,null,null,null,null,null,null,null,null,null,null,null,null,null,null,null,null,null,null,null,null,null,null,null,null,null,null,null,null,null,null,null,null,null,null,null,null,null,null,null,null,null,null,null,null,null,null,null,null,null,null,null,null,null,null,null,null,null,null,null,null,null,"","","","","","","","","","","","","","","","","","","","","","",null,null,null,null,0,0,0,0,0,0,0,0,0,0,0,0,0,0,0,0,0,0,0,0,0,0,null,null,null,0]
[null,null,null,null,null,null,null,null,null,null,null,null,null,null,null,null,null,null,null,null,null,null,null,null,null,null,null,null,null,null,null,null,null,null,null,null,null,null,null,null,null,null,null,null,null,null,null,null,null,null,null,null,null,null,null,null,null,null,null,null,null,null,null,null,null,null,null,null,null,null,null,null,null,null,null,null,null,null,"","","","","","","","","","","","","","","","","","","","","","",null,null,null,null,0,0,0,0,0,0,0,0,0,0,0,0,0,0,0,0,0,0,0,0,0,0,null,null,null,0]
[null,null,null,null,null,null,null,null,null,null,null,null,null,null,null,null,null,null,null,null,null,null,null,null,null,null,null,null,null,null,null,null,null,null,null,null,null,null,null,null,null,null,null,null,null,null,null,null,null,null,null,null,null,null,null,null,null,null,null,null,null,null,null,null,null,null,null,null,null,null,null,null,null,null,null,null,null,null,"","","","","","","","","","","","","","","","","","","","","","",null,null,null,null,0,0,0,0,0,0,0,0,0,0,0,0,0,0,0,0,0,0,0,0,0,0,null,null,null,0]
[]
[]
[]
[]
[null,null,null,null,null,null,null,null,null,null,null,null,null,null,null,null,null,null,null,null,null,null,null,null,null,null,null,null,null,null,null,null,null,null,null,null,null,null,null,null,null,null,null,null,null,null,null,null,null,null,null,null,null,null,null,null,null,null,null,null,null,null,null,null,null,null,null,null,null,null,null,null,null,null,null,null,null,null,{"$f":"IF(B225<   C225,\"* El total de Reactivos NO DEBE ser superior al total de Procesados. \",\"\")","v":""},{"$f":"IF(B225<> AL225+ AM225,\"* La suma de las columnas Sexo DEBE SER IGUAL a los Procesados. \",\"\")","v":""},{"$f":"IF(B225<  AN225+ AO225,\"* La suma de las columna Trans NO DEBE ser superior al total de Procesados. \",\"\")","v":""},{"$f":"IF(B225<  AP225,\"* La columna Pueblos Originarios NO DEBE ser superior al total de Procesados. \",\"\")","v":""},{"$f":"IF(B225<  AQ225,\"* La columna Migrantes NO DEBE ser superior al total de Procesados. \",\"\")","v":""},{"$f":"IF(D225<E225,\"* Los exámenes Reactivos de  años NO DEBEN ser mayor a los Exámenes Procesados de la misma edad. \",\"\")","v":""},{"$f":"IF(F225<G225,\"* Los exámenes Reactivos de  años NO DEBEN ser mayor a los Exámenes Procesados de la misma edad. \",\"\")","v":""},{"$f":"IF(H225<I225,\"* Los exámenes Reactivos de  años NO DEBEN ser mayor a los Exámenes Procesados de la misma edad. \",\"\")","v":""},{"$f":"IF(J225<K225,\"* Los exámenes Reactivos de  años NO DEBEN ser mayor a los Exámenes Procesados de la misma edad. \",\"\")","v":""},{"$f":"IF(L225<M225,\"* Los exámenes Reactivos de  años NO DEBEN ser mayor a los Exámenes Procesados de la misma edad. \",\"\")","v":""},{"$f":"IF(N225<O225,\"* Los exámenes Reactivos de  años NO DEBEN ser mayor a los Exámenes Procesados de la misma edad. \",\"\")","v":""},{"$f":"IF(P225<Q225,\"* Los exámenes Reactivos de  años NO DEBEN ser mayor a los Exámenes Procesados de la misma edad. \",\"\")","v":""},{"$f":"IF(R225<S225,\"* Los exámenes Reactivos de  años NO DEBEN ser mayor a los Exámenes Procesados de la misma edad. \",\"\")","v":""},{"$f":"IF(T225<U225,\"* Los exámenes Reactivos de  años NO DEBEN ser mayor a los Exámenes Procesados de la misma edad. \",\"\")","v":""},{"$f":"IF(V225<W225,\"* Los exámenes Reactivos de  años NO DEBEN ser mayor a los Exámenes Procesados de la misma edad. \",\"\")","v":""},{"$f":"IF(X225<Y225,\"* Los exámenes Reactivos de  años NO DEBEN ser mayor a los Exámenes Procesados de la misma edad. \",\"\")","v":""},{"$f":"IF(Z225<AA225,\"* Los exámenes Reactivos de  años NO DEBEN ser mayor a los Exámenes Procesados de la misma edad. \",\"\")","v":""},{"$f":"IF(AB225<AC225,\"* Los exámenes Reactivos de  años NO DEBEN ser mayor a los Exámenes Procesados de la misma edad. \",\"\")","v":""},{"$f":"IF(AD225<AE225,\"* Los exámenes Reactivos de  años NO DEBEN ser mayor a los Exámenes Procesados de la misma edad. \",\"\")","v":""},{"$f":"IF(AF225<AG225,\"* Los exámenes Reactivos de  años NO DEBEN ser mayor a los Exámenes Procesados de la misma edad. \",\"\")","v":""},{"$f":"IF(AH225<AI225,\"* Los exámenes Reactivos de  años NO DEBEN ser mayor a los Exámenes Procesados de la misma edad. \",\"\")","v":""},{"$f":"IF(AJ225<AK225,\"* Los exámenes Reactivos de  años NO DEBEN ser mayor a los Exámenes Procesados de la misma edad. \",\"\")","v":""},null,null,null,null,null,null,null,null,null,{"$f":"IF(D225<E225,1,0)","v":0},{"$f":"IF(F225<G225,1,0)","v":0},{"$f":"IF(H225<I225,1,0)","v":0},{"$f":"IF(J225<K225,1,0)","v":0},{"$f":"IF(L225<M225,1,0)","v":0},{"$f":"IF(N225<O225,1,0)","v":0},{"$f":"IF(P225<Q225,1,0)","v":0},{"$f":"IF(R225<S225,1,0)","v":0},{"$f":"IF(T225<U225,1,0)","v":0},{"$f":"IF(V225<W225,1,0)","v":0},{"$f":"IF(X225<Y225,1,0)","v":0},{"$f":"IF(Z225<AA225,1,0)","v":0},{"$f":"IF(AB225<AC225,1,0)","v":0},{"$f":"IF(AD225<AE225,1,0)","v":0},{"$f":"IF(AF225<AG225,1,0)","v":0},{"$f":"IF(AH225<AI225,1,0)","v":0},{"$f":"IF(AJ225<AK225,1,0)","v":0},null,null,null,0]
[null,null,null,null,null,null,null,null,null,null,null,null,null,null,null,null,null,null,null,null,null,null,null,null,null,null,null,null,null,null,null,null,null,null,null,null,null,null,null,null,null,null,null,null,null,null,null,null,null,null,null,null,null,null,null,null,null,null,null,null,null,null,null,null,null,null,null,null,null,null,null,null,null,null,null,null,null,null,"","","","","","","","","","","","","","","","","","","","","","",null,null,null,null,null,null,null,null,null,0,0,0,0,0,0,0,0,0,0,0,0,0,0,0,0,0,null,null,null,0]
[null,null,null,null,null,null,null,null,null,null,null,null,null,null,null,null,null,null,null,null,null,null,null,null,null,null,null,null,null,null,null,null,null,null,null,null,null,null,null,null,null,null,null,null,null,null,null,null,null,null,null,null,null,null,null,null,null,null,null,null,null,null,null,null,null,null,null,null,null,null,null,null,null,null,null,null,null,null,"","","","","","","","","","","","","","","","","","","","","","",null,null,null,null,null,null,null,null,null,0,0,0,0,0,0,0,0,0,0,0,0,0,0,0,0,0,null,null,null,0]
[null,null,null,null,null,null,null,null,null,null,null,null,null,null,null,null,null,null,null,null,null,null,null,null,null,null,null,null,null,null,null,null,null,null,null,null,null,null,null,null,null,null,null,null,null,null,null,null,null,null,null,null,null,null,null,null,null,null,null,null,null,null,null,null,null,null,null,null,null,null,null,null,null,null,null,null,null,null,"","","","","","","","","","","","","","","","","","","","","","",null,null,null,null,null,null,null,null,null,0,0,0,0,0,0,0,0,0,0,0,0,0,0,0,0,0,null,null,null,0]
[null,null,null,null,null,null,null,null,null,null,null,null,null,null,null,null,null,null,null,null,null,null,null,null,null,null,null,null,null,null,null,null,null,null,null,null,null,null,null,null,null,null,null,null,null,null,null,null,null,null,null,null,null,null,null,null,null,null,null,null,null,null,null,null,null,null,null,null,null,null,null,null,null,null,null,null,null,null,"","","","","","","","","","","","","","","","","","","","","","",null,null,null,null,null,null,null,null,null,0,0,0,0,0,0,0,0,0,0,0,0,0,0,0,0,0,null,null,null,0]
[null,null,null,null,null,null,null,null,null,null,null,null,null,null,null,null,null,null,null,null,null,null,null,null,null,null,null,null,null,null,null,null,null,null,null,null,null,null,null,null,null,null,null,null,null,null,null,null,null,null,null,null,null,null,null,null,null,null,null,null,null,null,null,null,null,null,null,null,null,null,null,null,null,null,null,null,null,null,"","","","","","","","","","","","","","","","","","","","","","",null,null,null,null,null,null,null,null,null,0,0,0,0,0,0,0,0,0,0,0,0,0,0,0,0,0,null,null,null,0]
[null,null,null,null,null,null,null,null,null,null,null,null,null,null,null,null,null,null,null,null,null,null,null,null,null,null,null,null,null,null,null,null,null,null,null,null,null,null,null,null,null,null,null,null,null,null,null,null,null,null,null,null,null,null,null,null,null,null,null,null,null,null,null,null,null,null,null,null,null,null,null,null,null,null,null,null,null,null,"","","","","","","","","","","","","","","","","","","","","","",null,null,null,null,null,null,null,null,null,0,0,0,0,0,0,0,0,0,0,0,0,0,0,0,0,0,null,null,null,0]

{"sheet":"A11a","index":11,"n_rows":0,"n_cols":0,"rows_kept":0,"cut":false,"hidden":true,"merged":[[60,0,61,0],[92,0,92,3],[24,12,25,12],[8,0,9,0],[8,1,9,1],[8,2,8,10],[8,11,9,11],[8,12,9,12],[73,0,73,6],[88,0,88,12],[19,7,19,10],[19,0,19,4],[37,0,38,0],[74,11,75,11],[74,12,75,12],[60,11,61,11],[60,12,61,12],[7,0,7,2],[36,0,36,8],[5,2,5,10],[74,0,75,0],[74,1,75,1],[74,2,74,10],[60,1,61,1],[60,2,60,10],[53,0,53,6],[53,7,53,10],[59,0,59,6],[59,7,59,10],[32,0,32,6],[37,1,38,1],[37,2,37,10],[47,0,47,7],[37,11,38,11],[37,12,38,12],[23,0,23,6],[24,0,25,0],[24,1,25,1],[24,2,24,10],[24,11,25,11]]}

{"sheet":"A19a","index":12,"n_rows":0,"n_cols":0,"rows_kept":0,"cut":false,"hidden":true,"merged":[[127,0,130,0],[118,13,118,14],[139,0,142,0],[118,35,118,36],[120,0,122,0],[125,0,126,0],[125,1,126,1],[125,2,126,2],[125,3,125,9],[125,10,126,10],[125,11,126,11],[118,23,118,24],[131,0,134,0],[135,0,138,0],[118,27,118,28],[90,1,92,1],[118,29,118,30],[118,19,118,20],[118,15,118,16],[118,17,118,18],[118,25,118,26],[118,21,118,22],[117,5,117,36],[118,5,118,6],[118,7,118,8],[118,9,118,10],[118,31,118,32],[118,33,118,34],[118,11,118,12],[93,0,98,0],[99,0,104,0],[106,0,115,0],[117,0,119,0],[117,2,118,4],[68,0,74,0],[75,0,79,0],[81,0,88,0],[90,0,92,0],[90,42,92,42],[90,2,91,4],[90,41,92,41],[91,13,91,14],[91,15,91,16],[91,17,91,18],[91,19,91,20],[91,21,91,22],[91,37,91,38],[91,27,91,28],[91,29,91,30],[91,25,91,26],[90,43,92,43],[91,5,91,6],[91,7,91,8],[91,9,91,10],[91,11,91,12],[91,35,91,36],[91,23,91,24],[90,5,90,38],[91,31,91,32],[91,33,91,34],[90,39,91,40],[64,0,67,0],[11,35,11,36],[11,13,11,14],[11,15,11,16],[11,17,11,18],[11,23,11,24],[13,0,23,0],[24,0,34,0],[35,0,45,0],[46,0,56,0],[57,0,63,0],[11,5,11,6],[11,7,11,8],[11,9,11,10],[11,11,11,12],[11,19,11,20],[9,42,12,42],[9,43,12,43],[9,44,12,44],[9,45,12,45],[9,39,12,39],[9,40,11,41],[5,0,5,19],[7,0,7,1],[9,0,12,0],[9,1,12,1],[9,2,11,4],[9,5,10,38],[11,21,11,22],[11,37,11,38],[11,25,11,26],[11,27,11,28],[11,29,11,30],[11,31,11,32],[11,33,11,34]]}

{"sheet":"A19b","index":13,"n_rows":0,"n_cols":0,"rows_kept":0,"cut":false,"hidden":true,"merged":[[5,0,5,15],[8,0,9,0],[8,1,8,3],[8,4,8,5],[8,6,9,6],[8,7,8,8],[39,0,39,1],[30,0,31,1],[30,2,30,5],[30,6,30,9],[30,10,30,12],[32,0,32,1],[33,0,33,1],[34,0,34,1],[35,0,35,1],[36,0,36,1],[37,0,37,1],[38,0,38,1],[47,0,47,1],[48,0,48,1],[40,0,40,1],[41,0,41,1],[42,0,42,1],[43,0,43,1],[44,0,44,1],[46,0,46,1]]}

{"sheet":"A21","index":14,"n_rows":0,"n_cols":0,"rows_kept":0,"cut":false,"hidden":true,"merged":[[66,0,66,1],[67,0,68,0],[69,0,70,0],[72,0,74,0],[72,1,73,2],[72,3,73,4],[89,1,89,6],[72,5,72,8],[73,5,73,6],[73,7,73,8],[88,0,88,6],[89,0,90,0],[8,25,9,27],[8,3,10,3],[8,4,10,4],[25,5,25,10],[8,15,9,19],[8,20,9,24],[8,10,9,14],[8,5,10,5],[8,6,9,9],[8,0,10,0],[8,1,10,1],[64,0,64,4],[25,0,26,1],[31,0,32,0],[25,3,25,4],[25,2,26,2],[8,2,10,2],[27,0,27,1],[28,0,28,1],[29,0,29,1],[30,0,30,1],[33,0,33,1]]}

{"sheet":"A23","index":15,"n_rows":76,"n_cols":86,"rows_kept":76,"cut":false,"hidden":true,"merged":[[138,11,138,12],[138,15,138,16],[176,6,176,37],[177,6,177,7],[177,8,177,9],[177,10,177,11],[177,12,177,13],[177,14,177,15],[177,16,177,17],[177,18,177,19],[177,20,177,21],[177,22,177,23],[177,24,177,25],[177,26,177,27],[138,17,138,18],[138,19,138,20],[138,21,138,22],[138,23,138,24],[177,32,177,33],[177,34,177,35],[177,36,177,37],[138,9,138,10],[160,13,160,14],[160,15,160,16],[183,0,184,1],[168,0,168,1],[169,0,171,0],[172,0,174,0],[167,0,167,2],[136,0,136,4],[176,0,178,1],[176,2,178,2],[176,3,177,5],[179,0,180,1],[181,0,182,1],[143,0,143,1],[162,0,162,1],[163,0,163,1],[164,0,164,1],[166,0,166,1],[165,0,165,1],[157,0,157,2],[159,2,160,4],[159,5,159,36],[160,5,160,6],[160,7,160,8],[160,9,160,10],[160,11,160,12],[110,15,110,16],[110,17,110,18],[110,19,110,20],[110,21,110,22],[116,5,116,36],[117,5,117,6],[117,25,117,26],[117,27,117,28],[117,29,117,30],[110,33,110,34],[110,35,110,36],[117,7,117,8],[117,9,117,10],[117,11,117,12],[117,13,117,14],[117,15,117,16],[117,17,117,18],[117,19,117,20],[117,21,117,22],[117,23,117,24],[112,0,112,1],[113,0,113,1],[114,0,114,1],[110,23,110,24],[110,25,110,26],[110,27,110,28],[110,29,110,30],[159,0,161,1],[177,28,177,29],[177,30,177,31],[138,13,138,14],[119,0,119,1],[120,0,120,1],[121,0,121,1],[122,0,122,1],[123,0,123,1],[134,0,134,1],[126,21,126,22],[126,23,126,24],[126,25,126,26],[126,27,126,28],[125,0,127,1],[125,2,126,4],[125,5,125,36],[5,0,5,21],[8,0,11,1],[8,2,10,4],[8,5,8,36],[8,37,11,37],[12,0,12,1],[13,0,13,1],[14,0,14,1],[15,0,15,1],[16,0,16,1],[17,0,17,1],[25,37,28,37],[26,5,27,6],[26,7,27,8],[26,9,27,10],[26,11,27,12],[26,13,27,14],[26,15,27,16],[18,0,18,1],[19,0,19,1],[20,0,20,1],[21,0,21,1],[22,0,22,1],[23,0,23,1],[26,35,27,36],[8,38,11,38],[9,5,10,6],[9,7,10,8],[9,9,10,10],[9,11,10,12],[9,31,10,32],[9,33,10,34],[9,35,10,36],[9,13,10,14],[9,15,10,16],[9,17,10,18],[9,19,10,20],[9,21,10,22],[9,23,10,24],[9,25,10,26],[9,27,10,28],[9,29,10,30],[35,0,36,0],[37,0,37,1],[38,0,38,1],[39,0,39,1],[40,0,40,1],[41,0,41,1],[26,29,27,30],[26,31,27,32],[26,33,27,34],[29,0,31,0],[32,0,34,0],[26,17,27,18],[26,19,27,20],[26,21,27,22],[26,23,27,24],[26,25,27,26],[26,27,27,28],[25,0,28,1],[25,2,27,4],[25,5,25,36],[42,0,42,1],[44,0,47,1],[44,2,46,4],[44,5,44,36],[44,37,45,38],[45,5,46,6],[45,7,46,8],[45,9,46,10],[45,11,46,12],[45,13,46,14],[46,38,47,38],[45,35,46,36],[46,37,47,37],[48,0,48,1],[49,0,49,1],[50,0,50,1],[51,0,51,1],[52,0,52,1],[45,27,46,28],[45,29,46,30],[45,31,46,32],[45,33,46,34],[45,15,46,16],[45,17,46,18],[45,19,46,20],[45,21,46,22],[45,23,46,24],[45,25,46,26],[53,0,53,1],[54,0,54,1],[55,0,55,1],[57,0,60,1],[57,2,59,4],[57,5,57,36],[58,23,59,24],[58,25,59,26],[58,27,59,28],[58,29,59,30],[57,37,60,37],[58,5,59,6],[58,7,59,8],[58,9,59,10],[58,11,59,12],[58,13,59,14],[58,15,59,16],[58,17,59,18],[58,19,59,20],[58,21,59,22],[58,31,59,32],[58,33,59,34],[58,35,59,36],[61,0,61,1],[63,0,65,1],[63,2,64,4],[63,5,63,36],[64,23,64,24],[64,25,64,26],[64,27,64,28],[64,29,64,30],[64,31,64,32],[64,33,64,34],[64,35,64,36],[66,0,66,1],[67,0,67,1],[63,37,65,37],[64,5,64,6],[64,7,64,8],[64,9,64,10],[64,11,64,12],[64,13,64,14],[64,15,64,16],[64,17,64,18],[64,19,64,20],[64,21,64,22],[68,0,68,1],[69,0,69,1],[71,0,73,1],[71,2,72,4],[71,5,71,36],[71,37,73,37],[72,23,72,24],[72,25,72,26],[72,27,72,28],[72,29,72,30],[71,38,73,38],[72,5,72,6],[72,7,72,8],[72,9,72,10],[72,11,72,12],[72,13,72,14],[72,15,72,16],[72,17,72,18],[72,19,72,20],[72,21,72,22],[79,11,79,12],[79,13,79,14],[79,15,79,16],[79,17,79,18],[72,31,72,32],[72,33,72,34],[72,35,72,36],[74,0,74,1],[75,0,75,1],[76,0,76,1],[84,0,84,1],[85,0,85,1],[86,0,86,1],[87,0,87,1],[89,0,90,1],[89,2,90,2],[79,31,79,32],[79,33,79,34],[79,35,79,36],[81,0,81,1],[82,0,82,1],[83,0,83,1],[79,19,79,20],[79,21,79,22],[79,23,79,24],[79,25,79,26],[79,27,79,28],[79,29,79,30],[78,0,80,1],[78,2,79,4],[78,5,78,36],[79,5,79,6],[79,7,79,8],[79,9,79,10],[89,10,90,10],[89,11,90,11],[89,12,90,12],[89,13,89,14],[91,0,91,1],[92,0,92,1],[89,3,90,3],[89,4,90,4],[89,5,90,5],[89,6,90,6],[89,7,90,7],[89,8,90,8],[96,2,97,4],[96,5,96,36],[96,37,98,37],[97,5,97,6],[97,7,97,8],[97,9,97,10],[97,11,97,12],[97,25,97,26],[97,27,97,28],[97,29,97,30],[97,31,97,32],[97,33,97,34],[97,35,97,36],[97,13,97,14],[97,15,97,16],[97,17,97,18],[97,19,97,20],[97,21,97,22],[97,23,97,24],[99,0,99,1],[100,0,100,1],[101,0,101,1],[102,0,102,1],[103,0,103,1],[104,0,104,1],[109,0,111,1],[106,0,106,1],[93,0,93,1],[94,0,94,1],[96,0,98,1],[105,0,105,1],[107,0,107,1],[109,5,109,36],[109,2,110,4],[110,5,110,6],[110,7,110,8],[110,9,110,10],[110,11,110,12],[110,13,110,14],[110,31,110,32],[125,37,127,37],[126,5,126,6],[126,7,126,8],[126,9,126,10],[126,11,126,12],[126,13,126,14],[126,15,126,16],[126,35,126,36],[126,29,126,30],[126,31,126,32],[126,33,126,34],[117,31,117,32],[117,33,117,34],[117,35,117,36],[126,17,126,18],[126,19,126,20],[116,0,118,1],[116,2,117,4],[137,0,139,1],[137,2,138,4],[137,5,137,36],[138,5,138,6],[153,0,156,0],[153,1,153,2],[154,1,154,2],[155,1,155,2],[156,1,156,2],[148,0,148,2],[149,0,152,0],[149,1,149,2],[150,1,150,2],[151,1,151,2],[152,1,152,2],[138,25,138,26],[138,27,138,28],[138,29,138,30],[138,31,138,32],[138,33,138,34],[138,35,138,36],[138,7,138,8],[160,29,160,30],[160,31,160,32],[160,33,160,34],[160,35,160,36],[160,17,160,18],[160,19,160,20],[160,21,160,22],[160,23,160,24],[160,25,160,26],[160,27,160,28]]}
[]
[]
[]
[]
[]
[]
[]
[]
[]
[]
[]
[]
[]
[]
[]
[]
[]
[]
[]
[]
[]
[]
[]
[]
[]
[]
[]
[]
[]
[]
[]
[]
[]
[]
[]
[]
[]
[]
[]
[]
[]
[]
[]
[]
[]
[]
[]
[]
[]
[]
[]
[]
[]
[]
[]
[]
[]
[]
[]
[]
[]
[null,null,null,null,null,null,null,null,null,null,null,null,null,null,null,null,null,null,null,null,null,null,null,null,null,null,null,null,null,null,null,null,null,null,null,null,null,null,null,null,null,null,null,null,null,null,null,null,null,null,null,null,null,null,null,null,null,null,null,null,null,null,null,null,null,null,null,null,null,null,null,null,null,null,null,null,null,null,null,null,null,null,null,null,0,0]
[]
[]
[]
[]
[null,null,null,null,null,null,null,null,null,null,null,null,null,null,null,null,null,null,null,null,null,null,null,null,null,null,null,null,null,null,null,null,null,null,null,null,null,null,null,null,null,null,null,null,null,null,null,null,null,null,null,null,null,null,null,null,null,null,null,null,null,null,null,null,null,null,null,null,null,null,null,null,null,null,null,null,null,null,null,null,null,null,null,null,0,0]
[null,null,null,null,null,null,null,null,null,null,null,null,null,null,null,null,null,null,null,null,null,null,null,null,null,null,null,null,null,null,null,null,null,null,null,null,null,null,null,null,null,null,null,null,null,null,null,null,null,null,null,null,null,null,null,null,null,null,null,null,null,null,null,null,null,null,null,null,null,null,null,null,null,null,null,null,null,null,null,null,null,null,null,null,0,0]
[null,null,null,null,null,null,null,null,null,null,null,null,null,null,null,null,null,null,null,null,null,null,null,null,null,null,null,null,null,null,null,null,null,null,null,null,null,null,null,null,null,null,null,null,null,null,null,null,null,null,null,null,null,null,null,null,null,null,null,null,null,null,null,null,null,null,null,null,null,null,null,null,null,null,null,null,null,null,null,null,null,null,null,null,0,0]
[]
[]
[]
[]
[]
[null,null,null,null,null,null,null,null,null,null,null,null,null,null,null,null,null,null,null,null,null,null,null,null,null,null,null,null,null,null,null,null,null,null,null,null,null,null,null,null,null,null,null,null,null,null,null,null,null,null,null,null,null,null,null,null,null,null,null,null,null,null,null,null,null,null,null,null,null,null,null,null,null,null,null,null,null,null,null,null,null,null,null,null,0,0]
[null,null,null,null,null,null,null,null,null,null,null,null,null,null,null,null,null,null,null,null,null,null,null,null,null,null,null,null,null,null,null,null,null,null,null,null,null,null,null,null,null,null,null,null,null,null,null,null,null,null,null,null,null,null,null,null,null,null,null,null,null,null,null,null,null,null,null,null,null,null,null,null,null,null,null,null,null,null,null,null,null,null,null,null,0,0]

{"sheet":"A24","index":16,"n_rows":32,"n_cols":86,"rows_kept":32,"cut":false,"hidden":true,"merged":[[63,0,63,1],[64,0,64,1],[57,15,59,15],[57,16,59,16],[61,0,61,1],[62,0,62,1],[60,0,60,1],[22,2,22,11],[22,17,23,17],[47,0,48,0],[47,2,47,4],[47,1,48,1],[39,1,40,1],[34,1,35,1],[22,15,22,16],[22,0,24,0],[46,5,47,5],[34,0,35,0],[39,0,40,0],[34,2,34,9],[8,23,9,23],[5,0,5,11],[8,0,9,0],[8,1,8,2],[8,7,8,11],[8,12,8,14],[8,22,9,22],[8,3,8,6],[8,15,8,21],[65,0,65,1],[57,0,59,1],[22,19,23,19],[57,2,58,4],[57,5,57,14],[58,5,58,6],[58,7,58,8],[58,9,58,10],[58,11,58,12],[58,13,58,14],[22,18,23,18],[34,10,34,11],[32,0,32,5],[33,0,33,5],[22,1,23,1],[22,12,22,14]]}
[]
[]
[]
[]
[]
[]
[]
[]
[]
[]
[]
[]
[]
[]
[]
[]
[]
[]
[]
[]
[]
[]
[]
[]
[]
[]
[]
[]
[]
[]
[null,null,null,null,null,null,null,null,null,null,null,null,null,null,null,null,null,null,null,null,null,null,null,null,null,null,null,null,null,null,null,null,null,null,null,null,null,null,null,null,null,null,null,null,null,null,null,null,null,null,null,null,null,null,null,null,null,null,null,null,null,null,null,null,null,null,null,null,null,null,null,null,null,null,null,null,null,null,{"$f":"IF(B31=0,\"\",IF(C31=\"\",IF(B31=\"\",\"\",\"* No olvide digitar la columna Beneficiarios. \"),\"\"))","v":""},{"$f":"IF(B31<C31,\"* El número de Beneficiarios NO DEBE ser mayor que el Total. \",\"\")","v":""},null,null,null,null,{"$f":"IF(B31=0,\"\",IF(C31=\"\",IF(B23=\"\",\"\",1),0))","v":""},{"$f":"IF(B31<C31,1,0)","v":0}]
[null,null,null,null,null,null,null,null,null,null,null,null,null,null,null,null,null,null,null,null,null,null,null,null,null,null,null,null,null,null,null,null,null,null,null,null,null,null,null,null,null,null,null,null,null,null,null,null,null,null,null,null,null,null,null,null,null,null,null,null,null,null,null,null,null,null,null,null,null,null,null,null,null,null,null,null,null,null,{"$f":"IF(B32=0,\"\",IF(C32=\"\",IF(B32=\"\",\"\",\"* No olvide digitar la columna Beneficiarios. \"),\"\"))","v":""},{"$f":"IF(B32<C32,\"* El número de Beneficiarios NO DEBE ser mayor que el Total. \",\"\")","v":""}]

{"sheet":"A25","index":17,"n_rows":0,"n_cols":0,"rows_kept":0,"cut":false,"hidden":true,"merged":[[9,24,9,25],[11,0,12,0],[13,0,13,1],[8,0,10,0],[8,1,10,2],[8,3,9,5],[8,6,8,25],[9,6,9,7],[9,8,9,9],[9,10,9,11],[9,12,9,13],[9,14,9,15],[9,16,9,17],[14,0,14,2],[15,0,15,2],[16,0,16,2],[18,0,20,0],[18,1,20,2],[18,3,19,5],[9,18,9,19],[9,20,9,21],[9,22,9,23],[19,24,19,25],[21,0,24,0],[21,1,22,1],[23,1,24,1],[25,0,26,1],[27,0,27,2],[18,6,18,25],[19,6,19,7],[19,8,19,9],[19,10,19,11],[19,12,19,13],[19,14,19,15],[19,16,19,17],[19,18,19,19],[19,20,19,21],[19,22,19,23],[28,0,28,9],[29,0,29,2],[30,0,38,0],[30,1,30,2],[31,1,31,2],[32,1,32,2],[33,1,33,2],[34,1,34,2],[35,1,35,2],[36,1,36,2],[44,0,45,0],[44,1,45,1],[50,0,51,0],[50,1,51,1],[50,2,51,2],[52,0,54,0],[37,1,37,2],[38,1,38,2],[39,0,42,0],[39,1,40,1],[41,1,42,1],[43,0,43,7],[55,0,58,0],[59,0,60,0],[61,0,61,1],[62,0,62,8],[63,0,64,1],[63,2,64,2],[63,3,64,3],[63,4,63,6],[63,7,64,7],[65,0,65,1],[66,0,66,1],[67,0,67,1],[68,0,68,1],[70,0,70,11],[71,0,72,1],[71,2,72,2],[71,3,72,3],[71,4,71,6],[71,7,72,7],[80,0,80,7],[81,0,81,1],[82,0,82,1],[83,0,85,0],[86,0,86,1],[87,0,87,1],[73,0,73,1],[74,0,74,1],[75,0,75,1],[76,0,76,1],[77,0,77,1],[78,0,78,1],[97,0,97,1],[99,0,99,4],[106,0,106,3],[111,3,112,3],[111,4,112,4],[114,0,114,1],[89,0,89,8],[90,0,91,1],[90,2,91,2],[92,0,92,1],[93,0,95,0],[96,0,96,1],[124,5,124,6],[126,0,126,1],[127,0,129,0],[130,0,130,1],[131,0,131,1],[115,0,115,1],[116,0,118,0],[119,0,119,1],[120,0,120,1],[124,0,125,1],[124,2,125,2],[138,3,139,3],[138,4,139,4],[132,0,132,1],[134,0,134,1],[135,0,136,0],[138,0,139,0],[138,1,139,1],[138,2,139,2],[124,3,124,4]]}

{"sheet":"A26","index":18,"n_rows":0,"n_cols":0,"rows_kept":0,"cut":false,"hidden":true,"merged":[[19,0,19,1],[20,0,20,1],[21,0,21,1],[18,0,18,1],[13,0,13,1],[14,0,14,1],[15,0,15,1],[16,0,16,1],[17,0,17,1],[8,0,8,1],[9,0,9,1],[10,0,10,1],[11,0,11,1],[12,0,12,1],[22,0,22,1],[23,0,23,1],[24,0,24,1],[25,0,25,1],[26,0,26,1],[27,0,27,1],[28,0,28,1],[29,0,29,1],[46,0,46,1],[41,0,41,1],[42,0,42,1],[43,0,45,0],[38,0,38,1],[39,0,39,1],[40,0,40,1],[30,0,30,1],[32,0,36,0],[31,0,31,1],[60,0,60,1],[47,0,47,1],[48,0,48,1],[51,0,51,1],[52,0,52,1],[53,0,53,1],[54,0,55,0],[56,0,56,1],[57,0,57,1],[58,0,58,1],[59,0,59,1],[63,7,64,8],[64,2,65,2],[64,3,64,5],[64,6,65,6],[66,0,66,1],[83,0,84,0],[83,1,84,1],[83,2,84,2],[74,0,75,0],[74,1,75,1],[74,2,74,6],[79,0,80,0],[79,1,80,1],[79,2,79,6],[71,0,71,1],[61,0,61,1],[63,0,65,1],[63,2,63,6],[67,0,67,1],[68,0,68,1],[69,0,69,1],[70,0,70,1]]}

{"sheet":"A27","index":19,"n_rows":0,"n_cols":0,"rows_kept":0,"cut":false,"hidden":true,"merged":[[59,1,59,2],[57,1,57,2],[5,0,5,14],[8,0,9,2],[8,3,9,3],[8,4,8,8],[8,9,8,23],[40,1,42,1],[19,1,22,1],[25,1,25,2],[38,1,38,2],[39,1,39,2],[8,24,8,26],[8,27,8,29],[8,30,9,30],[16,1,16,2],[17,1,17,2],[18,1,18,2],[34,1,35,1],[36,1,36,2],[37,1,37,2],[24,1,24,2],[26,1,26,2],[27,1,29,1],[30,1,32,1],[33,1,33,2],[23,1,23,2],[61,1,61,2],[62,1,64,1],[65,1,67,1],[43,1,43,2],[44,1,44,2],[45,1,45,2],[47,0,47,2],[48,0,80,0],[48,1,48,2],[49,1,52,1],[53,1,53,2],[54,1,54,2],[55,1,55,2],[75,1,77,1],[78,1,78,2],[79,1,79,2],[80,1,80,2],[10,0,45,0],[10,1,10,2],[11,1,14,1],[15,1,15,2],[58,1,58,2],[56,1,56,2],[60,1,60,2],[82,0,82,2],[83,0,83,2],[68,1,68,2],[69,1,70,1],[71,1,71,2],[72,1,72,2],[73,1,73,2],[74,1,74,2],[90,0,90,2],[90,4,90,5],[91,0,91,2],[91,4,91,5],[92,0,92,2],[94,0,95,2],[94,3,95,3],[94,4,95,4],[84,0,84,2],[85,0,85,2],[86,0,86,2],[87,0,87,2],[89,0,89,2],[89,4,89,5],[100,22,101,22],[102,0,102,2],[103,0,103,2],[96,0,96,2],[97,0,97,2],[98,0,98,2],[100,0,101,2],[100,3,101,3],[100,4,101,4],[100,5,100,6],[104,0,104,2],[106,0,107,2],[106,3,107,3],[106,4,106,9],[106,10,106,11],[108,0,110,1],[100,7,100,20],[100,21,101,21],[131,0,132,0],[131,1,132,1],[136,0,137,0],[136,1,137,1],[111,0,113,1],[114,0,116,1],[121,0,122,0],[121,1,121,8],[126,0,127,0],[131,2,131,12],[136,2,136,5],[136,6,137,6],[136,7,137,7],[126,1,127,1],[126,2,126,12]]}

{"sheet":"A28","index":20,"n_rows":0,"n_cols":0,"rows_kept":0,"cut":false,"hidden":true,"merged":[[357,43,359,43],[358,33,358,34],[358,35,358,36],[358,37,358,38],[358,39,358,40],[358,41,358,42],[325,43,327,43],[326,33,326,34],[326,35,326,36],[326,37,326,38],[326,39,326,40],[326,41,326,42],[341,5,341,42],[341,43,343,43],[342,33,342,34],[342,35,342,36],[342,37,342,38],[342,39,342,40],[342,41,342,42],[358,9,358,10],[358,11,358,12],[358,13,358,14],[358,15,358,16],[358,17,358,18],[360,0,363,0],[344,0,347,0],[348,0,351,0],[352,0,355,0],[357,0,359,0],[357,1,359,1],[357,2,358,4],[358,5,358,6],[358,7,358,8],[358,19,358,20],[358,21,358,22],[358,23,358,24],[358,25,358,26],[358,27,358,28],[358,29,358,30],[358,31,358,32],[357,5,357,42],[328,0,331,0],[332,0,335,0],[336,0,339,0],[341,0,343,0],[341,1,343,1],[341,2,342,4],[342,5,342,6],[342,7,342,8],[342,9,342,10],[342,11,342,12],[342,13,342,14],[342,15,342,16],[342,17,342,18],[342,19,342,20],[342,21,342,22],[342,23,342,24],[342,25,342,26],[342,27,342,28],[342,29,342,30],[342,31,342,32],[325,0,327,0],[325,1,327,1],[325,2,326,4],[326,5,326,6],[326,7,326,8],[326,9,326,10],[326,11,326,12],[326,13,326,14],[326,15,326,16],[326,17,326,18],[326,19,326,20],[326,21,326,22],[326,23,326,24],[326,25,326,26],[326,27,326,28],[326,29,326,30],[326,31,326,32],[325,5,325,42],[298,1,299,1],[273,1,274,1],[5,0,5,13],[9,0,11,0],[9,1,10,3],[9,4,9,41],[10,36,10,37],[10,38,10,39],[10,40,10,41],[153,0,158,0],[142,4,142,5],[142,6,142,7],[148,0,152,0],[57,0,59,0],[144,0,147,0],[142,8,142,9],[136,5,137,5],[136,7,136,11],[136,2,136,4],[136,6,137,6],[131,1,132,1],[47,1,47,2],[30,0,30,2],[27,0,29,0],[27,1,29,2],[10,26,10,27],[10,4,10,5],[10,6,10,7],[10,8,10,9],[10,10,10,11],[10,12,10,13],[10,22,10,23],[10,24,10,25],[28,4,28,5],[28,6,28,7],[28,8,28,9],[28,10,28,11],[28,12,28,13],[10,42,11,42],[10,30,10,31],[10,32,10,33],[10,16,10,17],[10,18,10,19],[10,20,10,21],[10,14,10,15],[10,34,10,35],[58,2,59,2],[52,1,52,2],[53,1,53,2],[54,0,54,2],[55,0,55,2],[42,1,42,2],[43,1,43,2],[45,1,45,2],[46,1,46,2],[33,1,33,2],[34,1,34,2],[35,1,35,2],[48,1,48,2],[49,1,49,2],[50,1,50,2],[51,1,51,2],[32,1,32,2],[36,1,36,2],[31,1,31,2],[31,0,51,0],[27,42,27,46],[28,45,29,45],[28,46,29,46],[27,3,29,3],[27,4,27,41],[37,1,37,2],[44,1,44,2],[38,1,38,2],[39,1,39,2],[40,1,40,2],[41,1,41,2],[28,16,28,17],[28,18,28,19],[28,20,28,21],[28,22,28,23],[28,24,28,25],[28,26,28,27],[28,14,28,15],[28,44,29,44],[28,42,29,42],[28,43,29,43],[28,40,28,41],[28,28,28,29],[28,30,28,31],[9,42,9,46],[10,45,11,45],[10,46,11,46],[162,42,162,44],[163,43,163,44],[163,42,164,42],[163,40,163,41],[163,34,163,35],[163,36,163,37],[163,38,163,39],[10,44,11,44],[10,28,10,29],[10,43,11,43],[28,38,28,39],[28,32,28,33],[28,34,28,35],[28,36,28,37],[163,28,163,29],[163,30,163,31],[163,32,163,33],[298,0,299,0],[298,2,298,20],[57,1,59,1],[199,0,201,0],[163,4,163,5],[163,6,163,7],[268,0,269,0],[199,1,200,3],[162,0,164,0],[162,1,163,3],[126,1,127,1],[268,2,268,20],[268,1,269,1],[58,3,59,3],[58,4,59,4],[136,1,137,1],[142,0,143,0],[142,1,143,1],[142,2,142,3],[136,0,137,0],[126,2,126,6],[58,6,59,6],[273,0,274,0],[273,2,273,20],[126,0,127,0],[131,0,132,0],[57,2,57,6],[162,4,162,41],[163,16,163,17],[58,5,59,5],[163,10,163,11],[163,12,163,13],[163,24,163,25],[163,20,163,21],[163,22,163,23],[131,2,131,6],[163,8,163,9],[163,14,163,15],[163,18,163,19],[163,26,163,27],[142,10,142,11]]}

{"sheet":"A29","index":21,"n_rows":0,"n_cols":0,"rows_kept":0,"cut":false,"hidden":true,"merged":[[101,0,103,0],[49,0,54,0],[46,0,48,0],[101,1,103,1],[55,0,58,0],[59,0,62,0],[78,1,78,2],[69,1,69,2],[70,1,70,2],[71,1,71,2],[83,1,83,2],[81,1,81,2],[66,0,67,0],[66,1,67,2],[63,0,64,0],[95,0,97,0],[88,0,93,0],[5,0,5,19],[8,1,8,3],[8,4,8,5],[8,6,8,7],[8,8,8,9],[8,10,8,11],[8,12,8,13],[8,14,8,15],[8,0,9,0],[30,12,30,14],[32,0,39,0],[43,0,45,0],[40,0,42,0],[30,0,31,1],[30,3,30,11],[30,2,31,2],[66,3,67,3],[68,0,87,0],[84,1,84,2],[85,1,85,2],[86,1,86,2],[72,1,72,2],[74,1,74,2],[73,1,73,2],[75,1,75,2],[87,1,87,2],[68,1,68,2],[76,1,76,2],[77,1,77,2],[95,4,96,5],[82,1,82,2],[79,1,79,2],[89,1,89,2],[90,1,90,2],[91,1,91,2],[92,1,92,2],[93,1,93,2],[95,1,97,1],[80,1,80,2],[88,1,88,2],[95,2,96,3]]}

{"sheet":"A30","index":22,"n_rows":0,"n_cols":0,"rows_kept":0,"cut":false,"hidden":true,"merged":[[122,8,122,9],[122,10,122,11],[130,0,132,0],[130,1,130,3],[131,2,131,3],[120,0,123,0],[120,1,120,7],[120,8,121,11],[121,1,121,2],[121,3,121,4],[121,5,121,7],[122,1,123,1],[122,2,123,2],[122,3,123,3],[122,4,123,4],[122,6,122,7],[104,16,104,19],[105,1,105,2],[105,3,105,4],[105,5,105,6],[105,7,105,8],[105,9,105,10],[105,11,105,12],[105,14,105,15],[105,16,105,17],[105,18,105,19],[87,9,88,9],[87,10,88,10],[87,11,88,11],[87,12,88,12],[87,13,87,14],[104,0,106,0],[104,1,104,4],[104,5,104,8],[104,9,104,12],[104,13,104,15],[85,0,88,0],[85,1,85,7],[85,8,85,14],[86,1,86,2],[86,3,86,4],[86,5,86,7],[86,8,86,9],[86,10,86,11],[86,12,86,14],[87,1,88,1],[87,2,88,2],[87,3,88,3],[87,4,88,4],[87,5,88,5],[87,6,87,7],[87,8,88,8],[78,0,80,0],[78,1,78,4],[78,5,78,7],[78,8,78,11],[79,1,79,2],[79,3,79,4],[79,6,79,7],[79,8,79,9],[79,10,79,11],[13,5,13,8],[13,9,13,12],[13,13,13,15],[13,20,13,22],[14,20,15,20],[14,21,14,22],[14,23,14,24],[14,25,14,26],[13,0,15,0],[14,18,14,19],[13,16,13,19],[14,16,14,17],[13,23,13,26],[14,1,14,2],[14,3,14,4],[14,5,14,6],[14,7,14,8],[14,9,14,10],[14,11,14,12],[14,13,15,13],[14,14,14,15],[13,1,13,4]]}

{"sheet":"A30AR","index":23,"n_rows":0,"n_cols":0,"rows_kept":0,"cut":false,"hidden":true,"merged":[[48,5,48,8],[49,1,49,2],[49,3,49,4],[49,5,49,6],[49,7,49,8],[39,17,39,20],[40,1,40,2],[40,3,40,4],[40,5,40,6],[40,7,40,8],[40,9,40,10],[40,11,40,12],[40,13,40,14],[40,15,40,16],[40,19,40,20],[40,17,40,18],[39,5,39,8],[39,9,39,12],[39,13,39,16],[34,0,36,0],[34,1,34,4],[34,5,34,8],[34,9,34,12],[34,13,34,16],[26,11,26,12],[35,11,35,12],[35,13,35,14],[35,15,35,16],[35,1,35,2],[35,3,35,4],[35,5,35,6],[35,7,35,8],[35,9,35,10],[26,1,26,2],[26,3,26,4],[26,5,26,6],[26,7,26,8],[26,9,26,10],[10,17,10,20],[11,1,11,2],[11,3,11,4],[11,5,11,6],[11,7,11,8],[11,9,11,10],[11,11,11,12],[11,13,11,14],[11,15,11,16],[11,17,11,18],[11,19,11,20],[10,13,10,16],[61,0,63,0],[61,1,61,4],[62,1,62,2],[62,3,62,4],[20,0,22,0],[20,1,20,4],[25,0,27,0],[25,1,25,4],[39,0,41,0],[39,1,39,4],[53,0,55,0],[53,1,53,4],[54,1,54,2],[54,3,54,4],[48,0,50,0],[48,1,48,4],[25,5,25,8],[25,9,25,12],[9,0,9,4],[10,0,12,0],[10,1,10,4],[10,5,10,8],[10,9,10,12],[20,5,20,8],[21,1,21,2],[21,3,21,4],[21,5,21,6],[21,7,21,8]]}

{"sheet":"A31","index":24,"n_rows":0,"n_cols":0,"rows_kept":0,"cut":false,"hidden":true,"merged":[[6,0,6,19],[10,0,12,1],[10,2,11,4],[10,5,10,38],[10,39,12,39],[11,21,11,22],[11,23,11,24],[11,25,11,26],[11,27,11,28],[11,29,11,30],[11,31,11,32],[11,33,11,34],[10,47,12,47],[10,48,12,48],[11,5,11,6],[11,7,11,8],[11,9,11,10],[11,11,11,12],[11,13,11,14],[11,15,11,16],[11,17,11,18],[11,19,11,20],[10,41,12,41],[10,42,12,42],[10,43,12,43],[11,37,11,38],[10,45,12,45],[10,46,12,46],[10,44,12,44],[54,0,54,1],[60,0,60,1],[16,0,28,0],[29,0,29,1],[31,0,32,0],[31,1,32,1],[11,35,11,36],[31,2,32,2],[13,0,15,0],[10,40,12,40],[69,17,71,17],[69,18,71,18],[69,19,71,19],[65,0,65,1],[31,4,32,4],[31,5,31,31],[49,0,50,1],[49,2,50,2],[49,3,50,3],[49,4,50,4],[49,5,50,5],[49,6,49,32],[31,3,32,3],[51,0,51,1],[52,0,52,1],[53,0,53,1],[77,0,77,1],[78,0,78,1],[79,0,79,1],[69,20,71,20],[67,0,67,1],[69,0,71,1],[69,2,71,2],[69,3,70,5],[69,6,69,13],[69,14,71,14],[70,6,70,7],[70,8,70,9],[70,10,70,11],[70,12,70,13],[69,15,71,15],[69,16,71,16],[72,0,72,1],[73,0,73,1],[75,0,75,1],[76,0,76,1],[74,0,74,1],[81,0,81,1],[82,0,82,1],[83,0,83,1],[84,0,84,1],[85,0,85,1]]}

{"sheet":"A32","index":25,"n_rows":0,"n_cols":0,"rows_kept":0,"cut":false,"hidden":true,"merged":[[26,89,27,90],[11,79,12,79],[11,86,12,86],[11,87,12,87],[9,0,9,8],[11,0,12,0],[11,1,12,1],[11,2,12,2],[11,3,11,19],[15,0,17,0],[21,0,22,0],[21,1,22,1],[21,2,21,18],[21,19,21,20],[21,78,22,78],[11,20,11,21],[11,22,12,22],[11,78,12,78],[26,86,28,86],[26,87,27,88],[27,2,27,18],[27,19,27,20],[27,25,27,29],[27,30,27,34],[21,86,22,86],[26,0,28,0],[26,1,28,1],[26,2,26,20],[26,21,27,22],[26,23,27,24],[26,25,26,34],[26,35,28,35],[26,36,28,36],[26,78,28,78],[26,79,27,80],[26,81,27,82],[67,15,67,16],[47,86,48,86],[66,0,68,1],[66,2,67,4],[66,5,66,38],[66,39,68,39],[66,40,68,40],[66,41,68,41],[66,42,68,42],[66,43,68,43],[66,44,68,44],[46,0,48,0],[46,1,48,1],[46,2,46,20],[47,2,47,18],[47,19,47,20],[47,78,48,78],[69,0,69,1],[81,79,82,79],[81,80,82,80],[81,81,82,81],[81,82,82,82],[81,83,82,83],[81,86,82,86],[67,29,67,30],[67,31,67,32],[67,33,67,34],[67,35,67,36],[67,37,67,38],[81,78,82,78],[67,17,67,18],[67,19,67,20],[67,21,67,22],[67,23,67,24],[67,25,67,26],[67,27,67,28],[67,5,67,6],[67,7,67,8],[67,9,67,10],[67,11,67,12],[67,13,67,14],[78,0,78,1],[92,78,93,78],[92,79,93,79],[92,80,93,80],[92,81,93,81],[92,82,93,82],[70,0,72,0],[73,0,73,1],[74,0,74,1],[75,0,75,1],[76,0,76,1],[77,0,77,1],[91,14,93,14],[91,15,93,15],[91,16,93,16],[91,17,93,17],[92,8,93,8],[92,90,93,90],[92,91,93,91],[92,92,93,92],[81,0,82,0],[81,1,81,3],[81,4,81,15],[81,16,82,16],[81,17,82,17],[81,18,82,18],[81,19,82,19],[92,83,93,83],[92,84,93,84],[92,86,93,86],[92,87,93,87],[92,88,93,88],[92,89,93,89],[81,87,82,87],[81,88,82,88],[81,89,82,89],[81,90,82,90],[81,91,82,91],[92,9,93,9],[92,10,93,10],[92,11,93,11],[103,19,104,19],[103,89,104,89],[103,90,104,90],[91,0,93,0],[91,1,91,3],[91,4,91,11],[91,12,93,12],[91,13,93,13],[81,20,82,20],[103,78,104,78],[103,79,104,79],[103,80,104,80],[103,81,104,81],[103,82,104,82],[92,1,93,1],[92,2,93,2],[92,3,93,3],[92,4,93,4],[92,5,93,5],[92,6,93,6],[103,86,104,86],[103,87,104,87],[103,88,104,88],[92,7,93,7],[110,5,110,6],[110,7,110,8],[110,9,110,10],[110,11,110,12],[110,13,110,14],[110,15,110,16],[110,17,110,18],[103,20,104,20],[109,0,111,0],[109,1,111,1],[109,2,110,4],[109,5,109,38],[110,19,110,20],[110,21,110,22],[110,23,110,24],[110,25,110,26],[102,0,104,0],[102,1,104,1],[102,2,103,18],[102,19,102,20],[102,21,104,21],[102,22,104,22],[102,23,104,23],[102,24,104,24],[138,90,139,90],[149,78,150,78],[149,86,150,86],[110,27,110,28],[110,29,110,30],[110,31,110,32],[110,33,110,34],[110,35,110,36],[110,37,110,38],[109,40,111,40],[109,41,111,41],[109,42,111,42],[109,39,111,39],[137,33,139,33],[112,0,123,0],[124,0,135,0],[138,78,139,78],[138,27,138,28],[138,29,138,30],[138,31,138,32],[138,21,138,22],[138,23,138,24],[138,25,138,26],[140,0,143,0],[144,0,147,0],[149,0,150,0],[149,1,150,1],[149,2,149,4],[149,5,149,6],[138,15,138,16],[138,17,138,18],[138,19,138,20],[137,0,139,0],[137,1,139,1],[137,2,138,4],[137,5,137,32],[138,5,138,6],[138,7,138,8],[138,9,138,10],[138,11,138,12],[138,13,138,14],[165,78,166,78],[165,90,166,90],[164,0,166,0],[164,1,165,3],[164,4,164,31],[164,32,166,32],[164,33,166,33],[165,4,165,5],[165,6,165,7],[165,8,165,9],[165,22,165,23],[165,24,165,25],[165,26,165,27],[165,28,165,29],[165,30,165,31],[165,10,165,11],[165,12,165,13],[165,14,165,15],[165,16,165,17],[165,18,165,19],[165,20,165,21],[184,93,185,93],[172,0,173,0],[172,1,172,3],[172,4,172,6],[177,0,178,0],[177,1,178,1],[177,2,177,18],[184,79,185,79],[184,80,185,80],[184,81,185,81],[184,90,185,90],[184,91,185,91],[184,92,185,92],[184,78,185,78],[182,4,182,39],[183,43,185,43],[183,0,185,0],[183,1,184,3],[190,20,191,20],[184,28,184,29],[184,30,184,31],[184,32,184,33],[184,34,184,35],[184,36,184,37],[184,38,184,39],[183,42,185,42],[183,4,183,39],[183,40,185,40],[183,41,185,41],[184,20,184,21],[184,22,184,23],[184,24,184,25],[184,26,184,27],[184,4,184,5],[184,6,184,7],[184,8,184,9],[184,10,184,11],[184,12,184,13],[184,14,184,15],[184,16,184,17],[184,18,184,19],[197,17,199,17],[198,6,199,6],[198,7,199,7],[198,8,199,8],[198,9,199,9],[190,0,191,0],[190,1,191,1],[190,2,190,3],[190,4,191,4],[190,5,190,19],[198,16,199,16],[198,13,199,13],[198,14,199,14],[198,15,199,15],[208,0,210,0],[208,1,210,1],[208,2,209,4],[208,5,210,5],[208,6,208,11],[209,6,209,11],[198,10,199,10],[198,11,199,11],[198,12,199,12],[197,0,199,0],[197,1,199,1],[197,2,198,4],[197,5,199,5],[197,6,197,16],[224,5,224,6],[224,7,224,8],[224,9,224,10],[225,1,226,1],[225,2,226,2],[225,3,226,3],[225,4,226,4],[225,5,226,5],[225,6,226,6],[225,7,226,7],[225,8,226,8],[225,9,226,9],[6,1,6,9],[7,1,7,9],[232,19,233,19],[232,20,233,20],[238,0,239,0],[238,1,239,1],[238,2,238,3],[238,4,238,9],[238,10,239,10],[238,11,239,11],[225,10,226,10],[232,0,233,0],[232,1,233,1],[232,2,233,2],[232,3,232,4],[232,5,232,18],[216,0,217,1],[216,2,217,2],[216,3,216,9],[216,10,216,13],[218,0,221,0],[223,0,226,0],[223,1,224,4],[223,5,223,10]]}

{"sheet":"Contro","index":26,"n_rows":34,"n_cols":24,"rows_kept":34,"cut":false,"hidden":false,"merged":[]}
[null,null,"NUMERO DE ERRORES  SEGÚN:"]
[null,null,"A.- DIFERENCIAS ENTRE TOTAL Y BENEFICIARIO "]
[null,null,"B.- ENTRE TOTAL Y DESGLOSE SEGÚN SEXO"]
[null,null,"C.- ENTRE EVALUACIONES Y RESULTADOS, INGRESOS A PROGRAMAS Y APLICACIÓN DE INSTRUMENTOS, ETC."]
[null,null,{"$f":"CONCATENATE(\"ESTABLECIMIENTO/ESTRATEGIA: \",NOMBRE!$B$3,\" - \",\"( \",NOMBRE!$C$3,NOMBRE!$D$3,NOMBRE!$E$3,NOMBRE!$F$3,NOMBRE!$G$3,NOMBRE!$H$3,NOMBRE!$I$3,\" )\")","v":"ESTABLECIMIENTO/ESTRATEGIA: CESFAM AVIADOR ACEVEDO - ( 201085 )"}]
[null,null,"REM","Nº ERRORES","JUSTIFICAR ERRORES (indicar)","REM\nSIN DATOS","CAUSAL","OTRA CAUSAL (indicar)"]
[null,null,"HOJA NOMBRE",{"$f":"NOMBRE!AG7","v":0},null,null,null,null,null,null,null,null,null,null,null,null,null,null,null,null,null,null,null,"Licencia médica"]
[null,null,"REMA01",{"$f":"'A01'!B193","v":0},null,{"$f":"IF('A01'!A$193>0,\"\",\"SIN DATOS\")","v":"SIN DATOS"},null,null,null,null,null,null,null,null,null,null,null,null,null,null,null,null,null,"Feriado Legal"]
[null,null,"REMA02",{"$f":"+'A02'!B195","v":0},null,{"$f":"IF('A02'!A$195>0,\"\",\"SIN DATOS\")","v":"SIN DATOS"},null,null,null,null,null,null,null,null,null,null,null,null,null,null,null,null,null,"No hubo profesional"]
[null,null,"REMA03",{"$f":"+'A03'!B256","v":0},null,{"$f":"IF('A03'!A256>0,\"\",\"SIN DATOS\")","v":"SIN DATOS"},null,null,null,null,null,null,null,null,null,null,null,null,null,null,null,null,null,"No corresponde REM"]
[null,null,"REMA04",{"$f":"+'A04'!B206","v":0},null,{"$f":"IF('A04'!A206>0,\"\",\"SIN DATOS\")","v":"SIN DATOS"},null,null,null,null,null,null,null,null,null,null,null,null,null,null,null,null,null,"Otra causa justificada"]
[null,null,"REMA05",{"$f":"+'A05'!B352","v":0},null,{"$f":"IF('A05'!A352>0,\"\",\"SIN DATOS\")","v":"SIN DATOS"}]
[null,null,"REMA06",{"$f":"+'A06'!B176","v":0},null,{"$f":"IF('A06'!A176>0,\"\",\"SIN DATOS\")","v":"SIN DATOS"}]
[null,null,"REMA07",{"$f":"+'A07'!B195","v":0},null,{"$f":"IF('A07'!A195>0,\"\",\"SIN DATOS\")","v":"SIN DATOS"}]
[null,null,"REMA08",{"$f":"'A08'!B200","v":0},null,{"$f":"IF('A08'!A200>0,\"\",\"SIN DATOS\")","v":""}]
[null,null,"REMA09",{"$f":"'A09'!B378","v":0},null,{"$f":"IF('A09'!A378>0,\"\",\"SIN DATOS\")","v":"SIN DATOS"}]
[null,null,"REMA11",{"$f":"'A11'!B308","v":0},null,{"$f":"IF('A11'!A308>0,\"\",\"SIN DATOS\")","v":"SIN DATOS"}]
[null,null,"REMA11-a",{"$f":"A11a!B101","v":0},null,{"$f":"IF(A11a!A101>0,\"\",\"SIN DATOS\")","v":"SIN DATOS"}]
[null,null,"REMA19-a",{"$f":"A19a!B194","v":0},null,{"$f":"IF(A19a!A194>0,\"\",\"SIN DATOS\")","v":"SIN DATOS"}]
[null,null,"REMA19-b",{"$f":"A19b!B195","v":0},null,{"$f":"IF(A19b!A195>0,\"\",\"SIN DATOS\")","v":"SIN DATOS"}]
[null,null,"REMA21",{"$f":"'A21'!B211","v":0},null,{"$f":"IF('A21'!A211>0,\"\",\"SIN DATOS\")","v":"SIN DATOS"}]
[null,null,"REMA23",{"$f":"'A23'!B202","v":0},null,{"$f":"IF('A23'!A202>0,\"\",\"SIN DATOS\")","v":"SIN DATOS"}]
[null,null,"REMA24",{"$f":"+'A24'!B202","v":0},null,{"$f":"IF('A24'!A202>0,\"\",\"SIN DATOS\")","v":"SIN DATOS"}]
[null,null,"REMA25",{"$f":"+'A25'!B195","v":0},null,{"$f":"IF('A25'!A195>0,\"\",\"SIN DATOS\")","v":"SIN DATOS"}]
[null,null,"REMA26",{"$f":"+'A26'!B196","v":0},null,{"$f":"IF('A26'!A196>0,\"\",\"SIN DATOS\")","v":"SIN DATOS"}]
[null,null,"REMA27",{"$f":"+'A27'!B204","v":0},null,{"$f":"IF('A27'!A$204>0,\"\",\"SIN DATOS\")","v":"SIN DATOS"}]
[null,null,"REMA28",{"$f":"+'A28'!B400","v":0},null,{"$f":"IF('A28'!A400>0,\"\",\"SIN DATOS\")","v":"SIN DATOS"}]
[null,null,"REMA29",{"$f":"+'A29'!B213","v":0},null,{"$f":"IF('A29'!A$213>0,\"\",\"SIN DATOS\")","v":"SIN DATOS"}]
[null,null,"REMA30",{"$f":"'A30'!B181","v":0},null,{"$f":"IF('A30'!A181>0,\"\",\"SIN DATOS\")","v":"SIN DATOS"}]
[null,null,"REMA30-AR",null,null,{"$f":"IF(A30AR!A100>0,\"\",\"SIN DATOS\")","v":"SIN DATOS"}]
[null,null,"REMA31",{"$f":"+'A31'!B176","v":0},null,{"$f":"IF('A31'!A$176>0,\"\",\"SIN DATOS\")","v":"SIN DATOS"}]
[null,null,"REMA32",{"$f":"+'A32'!B248","v":0},null,{"$f":"IF('A32'!B247>0,\"\",\"SIN DATOS\")","v":"SIN DATOS"}]
[]
[null,null,"TOTAL",{"$f":"SUM(D7:D31)","v":0}]

{"sheet":"MACROS","index":27,"n_rows":10,"n_cols":2,"rows_kept":10,"cut":false,"hidden":false,"merged":[[0,0,0,13],[6,1,7,7]]}
["Hoja de Macros y Utilidades"]
[]
[{"$f":"CONCATENATE(\"ESTABLECIMIENTO/ESTRATEGIA: \",NOMBRE!B3,\" - \",\"( \",NOMBRE!C3,NOMBRE!D3,NOMBRE!E3,NOMBRE!F3,NOMBRE!G3,NOMBRE!H3,\" )\")","v":"ESTABLECIMIENTO/ESTRATEGIA: CESFAM AVIADOR ACEVEDO - ( 201085 )"}]
[]
[null,"CREA UNA COPIA  DEL ARCHIVO  (TRANFORMA HOJAS A VALORES)"]
[]
[null,{"$f":"IF(Contro!D34>0,\"ANTES DE EJECUTAR SUS MACROS REVISE LA HOJA CONTROL, EXISTEN ERRORES\",\"\")","v":""}]
[]
[]
[null,"Contraseña para copia del archivo :DEIS"]